Workbook
Name Container_Size: 'Data Sheet'!$J$7:$J$44
Name Container_Volume: 'Data Sheet'!$J$7:$K$44
Name Copy_Permit: 'Data Sheet'!$H$59:$H$61
Name Division: 'Data Sheet'!$H$7:$H$8
Name EWC: 'Data Sheet'!$B$7:$E$139
Name Exemption_Desc: 'Data Sheet'!$Q$7:$Q$46
Name Exemption_Type: 'Data Sheet'!$P$7:$P$46
Name Forecast_Waste1: 'Data Sheet'!$B$144:$B$171
Name KPI: 'Data Sheet'!$N$8:$N$15
Name KPI_2: 'Waste Forecast'!$AA$455:$AG$490
Name KPI_3: 'Project Cumulative '!$O$467:$V$503
Name KPI_4: 'Project Cumulative '!$O$509:$V$532
Name KPIS_List: 'Data Sheet'!#REF!
Name Material_Stream: 'Data Sheet'!$H$27:$H$39
Name Permit_Type: 'Data Sheet'!$H$42:$H$47
Name Reporta: 'Project Cumulative '!$O$10:$O$116
Name Waste_Actions: 'Data Sheet'!$H$23:$H$24
Name Waste_Activity: 'Data Sheet'!$H$11:$H$13
Name Waste_Options: 'Data Sheet'!$H$16:$H$20
Name Waste_Report1: 'Waste Forecast'!$Y$7:$AG$110
Name Waste_Report2: 'Project Cumulative '!$O$10:$W$116
Name Waste_Type: 'Data Sheet'!$B$7:$B$140
Name WM_Facility: 'Data Sheet'!$H$50:$H$56

Sheet Cover Sheet
C9: =IF('Project Details'!D10="","",'Project Details'!D10) -> Piccadilly Gardens Redevelopment

Sheet Revision
C2: Revision History
D4: Prepared by | F4: Sam Higgins | I4: S. Higgins | L4: 46213
F5: Print Name | I5: Signed | L5: Date
D6: Reviewed by | F6: Adam Liu | I6: A. Liu | L6: 46218
F7: Print Name | I7: Signed | L7: Date
D8: Accepted by | F8: Tim Bowers | I8: T. Bowers | L8: 46220
F9: Print Name | I9: Signed | L9: Date
C11: Revision | E11: Date | F11: Details | L11: Originator | M11: Approved by
C12: 1
C13: 2
C14: 3
C15: 4
C16: 5
C17: 6
C18: 7
C19: 8
C20: 9
C21: 10
C22: 11
C23: 12
... C60: 49
D61: The SWMP should be completed in accordance with the guidance in GN-HSE-W01-101

Sheet Project Details
C1: Site Waste Management Plan (SWMP) – Project Details
C2: Full SWMP is held by the Waste Champion named below.
C3: The Client and Principal Contractor named below will take all reasonable steps to ensure that all waste from site will be dealt with in accordance with the Waste Duty of Care in section 34 of the Environmental Protection Act 1990, the Environmental Protection (Duty of Care) Regulations 1991. In addition materials will be handled efficiently and waste managed appropriately
C7: Client | D7: Manchester City Council
C8: Clients Agent / Management | D8: Anna Lucas
C9: Principal Contactor | D9: Galliford Try
C10: Project Title | D10: Piccadilly Gardens Redevelopment
C11: Project Number | D11: HLA098
C12: Project Location | D12: Piccadilly Gardens, Piccadilly, Manchester, M1 1LU
C13: Project Value | D13: 15000000
C14: Floor Space m2 | D14: 0.93ha
C16: Start Date | D16: Winter 2026 (TBC)
C17: Duration | D17: 12-18 months (TBC)
C24: Design | D24: Planit, IFDO, Civic, Hoare Lea, Arup, DFC, Irrigation Control
C25: Design Coordinator | D25: Sam Higgins
C26: Subcontractors
C28: TBC (General civils works)
C29: TBC (Hard Landscaping)
C30: TBC (Soft Landscaping)
C31: TBC (Lighting and signage)
C32: TBC (Traffic Management)
C33: TBC (Pavilion fabrication)
C34: TBC (Pavilion fit out)
C37: Contract Manager | D37: Tim Bowers
C38: Project Manager | D38: Adam Liu
B39: Person in Charge of Site Works | D39: TBC
C40: Framework (if applicable) | D40: North West Construction Hub
C41: Business Unit | D41: Construction - Local Authority
B42: Waste Management Champion | D42: TBC
C47: Divisional KPI's & Targets | F47: Target
C49: Waste diverted from landfill% (incl soils & stones) | F49: 85
C50: Waste diverted from landfill% (excl soils & stones) | F50: 90
C52: Total waste generated (incl soils & stones) tonnes per 100k project value | F52: 40
C53: Total waste generated (excl soils & stones) tonnes per 100k project value | F53: 9
C56: Optional KPI's & Targets (including CSH, BREEAM)
C57: Credits / targets for CSH, BREEAM can be found in relevant scheme manual | F57: Target
C65: Additional KPI's / Targets (if different to above) | F65: Target
C73: SWMP Waste Performance & Cost Savings
C75: Waste Forecast | E75: Waste Actual | G75: ='Project KPI''s'!E6 -> 0
C77: Cost Forecast | E77: Cost Actual
C79: Landfill Tax Costs Avoided | E79: Landfill Tax Costs
B84: Comments (insert any additional project information e.g. pre demo audit information, lessons learnt etc)
C114: Identify any lessons learnt from the implementation and the completion of the plan to be used on future projects with regard to waste produced and associated costs
B116: 1
B117: 2
B118: 3
B119: 4
B120: 5
B121: 6
B122: 7
B123: 8
C127: Explanation of any deviation and / or revision of the plan during the project - the plan must be reviewed at least every six months
B129: 1
B130: 2
B131: 3
B132: 4
B133: 5
B134: 6
B135: 7
B136: 8
C141: Confirmation that the plan has been monitored on a regular basis to ensure that work is progressing according to the plan and that the plan was updated in accordance with the SWMP Regulations
C143: Name
C144: Organisation
C145: Position
C146: Date
C148: Name
C149: Organisation
C150: Position
C151: Date
C154: The GT Group SWMP Template is a bespoke system based on WRAP SWMP Template v2.0. GT Group thanks WRAP for their feedback and assistance during the development of this system. The use of this system by other third parties is subject to the terms and conditions of use set by GT Group HS&E

Sheet Waste Actions
C3: Type of Waste Action | D3: Material / Waste | E3: Action Taken | F3: Action owner
C4: Waste Management & Recovery - Construction | D4: Non Hazardous - Soils & Stones | E4: Existing Paving blocks to be offered to client for reuse and recycled off site where possible | F4: Galliford Try
C5: Waste Management & Recovery - Construction | D5: Metals | E5: Metals to be recycled off site by a licensed waste carrier | F5: Galliford Try
C6: Waste Management & Recovery - Construction | D6: Wood | E6: Wood to be reused on site where possible and surplus recycled off site by a licensed waste carrier | F6: Galliford Try
C7: Waste Management & Recovery - Construction | D7: Packaging | E7: Packaging to be recycled where possible | F7: Galliford Try
C8: Waste Management & Recovery - Construction | D8: Other hazardous waste | E8: Any asbestos found is to be disposed of through a liceensed waste carrier | F8: Galliford Try

Sheet Conversion Calculator
C3: Conversion Calculator - m3 to Tonnes
C4: Waste Type (pick from list in box below) | E4: m3 | F4: Tonnes
D5: =IF(C5="","",(VLOOKUP($C5,EWC,4,FALSE))) | F5: =IF(C5="","",IF(E5="","",(D5*E5)))
C7: To convert from m3 to tonnes, follow the steps below
C8: 1. Choose a waste type to convert from the drop down menu
C9: 2. Input a volume in m3
C10: 3. The amount in tonnes will automatically appear in the box marked 'tonnes'
C14: Conversion Calculator - Tonnes to m3
C15: Waste Type (pick from list in box below) | E15: Tonnes | F15: m3
D16: =IF(C16="","",(VLOOKUP($C16,EWC,4,FALSE))) | F16: =IF(E16="","",IF(C16="","",(E16/D16)))
C18: To convert from tonnes to m3, follow the steps below
C19: 1. Choose a waste type to convert from the drop down menu
C20: 2. Input a volume in tonnes
C21: 3. The amount in m3 will automatically appear in the box marked 'm3'
C25: Conversion Calculator - Container size to m3
C26: Container Type (pick from list in box below) | E26: Number | F26: m3
D27: =IF(C27="","",(VLOOKUP($C27,Container_Volume,2,FALSE))) | F27: =IF(E27="","",(E27*D27))
C29: To convert containers to m3
C30: 1. Choose a container from the drop down menu
C31: 2. Enter the number of containers in the 'Number' box
C32: 3. The volume in m3 will automatically appear in the box marked 'm3'
E36: Cu Yd. | F36: m3
C37: Conversion Calculator - Cu Yd. to m3 | D37: 0.76455486 | F37: =E37*D37 -> 0
C39: To convert cu yard to m3
C40: If the container / wagon / lorry does not appear in the list in the container converter use the converter above
C41: 1. Obtain the size of the container / wagon / lorry
C42: 2. Place the volume in cu yards in the box provided
C43: 3. The volume in m3 will automatically appear in the box marked 'm3'

Sheet Waste Forecast
C2: Waste Forecast is Non Mandatory - Section to be completed in accordance with contractual and / or Business Unit requirements.
O5: RUOS = Re Use Off Site | Y5: Waste / Material | Z5: EWC | AA5: Waste Category | AB5: Re used on site | AC5: Re used off site | AD5: Recycled on site | AE5: Recycled offsite | AF5: Direct to Landfill | AG5: Total Disposed to landfill | AH5: Total - Tonnes (by type) | AI5: Total Waste - Tonnes (by type)
C6: Waste / Material | D6: Activity | E6: EWC | F6: Waste / Material Category | G6: Waste / Material Management Options | H6: Quantity (Tonnes) | I6: Recycled Off Site Recycle Rates
C7: Dry Mixed Recyclables (DMR - paper, cardboard, metal, plastic glass) | D7: Construction | E7: =IF(C7="","",(VLOOKUP($C7,EWC,2,FALSE))) -> 150106 | F7: =IF(C7="","",(VLOOKUP($C7,EWC,3,FALSE))) -> NH | G7: Recycled Off Site - Transfer Station, MRF, EfW | H7: TBC | J7: =IF(AND(G7="Recycled Off Site - Transfer Station, MRF, EfW",H7>0),(N7*H7),"") -> #VALUE! | K7: =IF(AND(G7="Recycled Off Site - Transfer Station, MRF, EfW",H7>0),(H7-J7),"") -> #VALUE! | N7: =IF(H7="","",(IF($I7>0,I7,75%))) -> 0.75 | O7: =IF(OR(E7=170504,E7=170101,E7=170102,E7=170103,E7=170107),H7/2,"0") -> 0 | P7: =IF(G7="Landfill",O7,"0") -> 0 | Q7: =IF(K7="",0,K7) -> #VALUE! | R7: =IF(G7="Landfill",H7,0) -> 0 | S7: =R7-P7+Q7 -> #VALUE! | U7: =IF(G7="Re Use Off Site",H7,0) -> 0 | V7: =U7+P7 -> 0 | Y7: Adhesives and sealants (non hazardous) | Z7: 80410 | AA7: NH | AB7: =SUM(AC120:AC122) -> 0 | AC7: =SUM(AD120:AD122) -> 0 | AD7: =SUM(AE120:AE122) -> 0 | AE7: =SUM(AF120:AF122) -> 0 | AF7: =SUM(AG120:AG122) -> 0 | AG7: =SUM(AH120:AH122) -> 0 | AH7: =AB7+AC7+AD7+AE7+AJ7+AL7+AG7 -> 0 | AI7: =AC7+AE7+AJ7+AL7+AG7 -> 0
C8: Concrete, bricks, tiles and ceramics - Mixed (uncontaminated) | D8: Construction | E8: =IF(C8="","",(VLOOKUP($C8,EWC,2,FALSE))) -> 170107 | F8: =IF(C8="","",(VLOOKUP($C8,EWC,3,FALSE))) -> NH | G8: Recycled Off Site - Transfer Station, MRF, EfW | H8: TBC | J8: =IF(AND(G8="Recycled Off Site - Transfer Station, MRF, EfW",H8>0),(N8*H8),"") -> #VALUE! | K8: =IF(AND(G8="Recycled Off Site - Transfer Station, MRF, EfW",H8>0),(H8-J8),"") -> #VALUE! | N8: =IF(H8="","",(IF($I8>0,I8,75%))) -> 0.75 | O8: =IF(OR(E8=170504,E8=170101,E8=170102,E8=170103,E8=170107),H8/2,"0") -> #VALUE! | P8: =IF(G8="Landfill",O8,"0") -> 0 | Q8: =IF(K8="",0,K8) -> #VALUE! | R8: =IF(G8="Landfill",H8,0) -> 0 | S8: =R8-P8+Q8 -> #VALUE! | U8: =IF(G8="Re Use Off Site",H8,0) -> 0 | V8: =U8+P8 -> 0 | Y8: Adhesives and sealants containing dangerous substances | Z8: 80409 | AA8: H | AB8: =SUM(AC123:AC125) -> 0 | AC8: =SUM(AD123:AD125) -> 0 | AD8: =SUM(AE123:AE125) -> 0 | AE8: =SUM(AF123:AF125) -> 0 | AF8: =SUM(AG123:AG125) -> 0 | AG8: =SUM(AH123:AH125) -> 0 | AH8: =AB8+AC8+AD8+AE8+AJ8+AL8+AG8 -> 0 | AI8: =AC8+AE8+AJ8+AL8+AG8 -> 0
C9: Soil and Stones | D9: Construction | E9: =IF(C9="","",(VLOOKUP($C9,EWC,2,FALSE))) -> 170504 | F9: =IF(C9="","",(VLOOKUP($C9,EWC,3,FALSE))) -> I | G9: Recycled Off Site - Transfer Station, MRF, EfW | H9: TBC | J9: =IF(AND(G9="Recycled Off Site - Transfer Station, MRF, EfW",H9>0),(N9*H9),"") -> #VALUE! | K9: =IF(AND(G9="Recycled Off Site - Transfer Station, MRF, EfW",H9>0),(H9-J9),"") -> #VALUE! | N9: =IF(H9="","",(IF($I9>0,I9,75%))) -> 0.75 | O9: =IF(OR(E9=170504,E9=170101,E9=170102,E9=170103,E9=170107),H9/2,"0") -> #VALUE! | P9: =IF(G9="Landfill",O9,"0") -> 0 | Q9: =IF(K9="",0,K9) -> #VALUE! | R9: =IF(G9="Landfill",H9,0) -> 0 | S9: =R9-P9+Q9 -> #VALUE! | U9: =IF(G9="Re Use Off Site",H9,0) -> 0 | V9: =U9+P9 -> 0 | Y9: Adhesives and sealants containing organic solvents | Z9: 80411 | AA9: H | AB9: =SUM(AC126:AC128) -> 0 | AC9: =SUM(AD126:AD128) -> 0 | AD9: =SUM(AE126:AE128) -> 0 | AE9: =SUM(AF126:AF128) -> 0 | AF9: =SUM(AG126:AG128) -> 0 | AG9: =SUM(AH126:AH128) -> 0 | AH9: =AB9+AC9+AD9+AE9+AJ9+AL9+AG9 -> 0 | AI9: =AC9+AE9+AJ9+AL9+AG9 -> 0
C10: Bituminous mixtures not containing coal tar | D10: Construction | E10: =IF(C10="","",(VLOOKUP($C10,EWC,2,FALSE))) -> 170302 | F10: =IF(C10="","",(VLOOKUP($C10,EWC,3,FALSE))) -> NH | G10: Recycled Off Site - Transfer Station, MRF, EfW | H10: TBC | J10: =IF(AND(G10="Recycled Off Site - Transfer Station, MRF, EfW",H10>0),(N10*H10),"") -> #VALUE! | K10: =IF(AND(G10="Recycled Off Site - Transfer Station, MRF, EfW",H10>0),(H10-J10),"") -> #VALUE! | N10: =IF(H10="","",(IF($I10>0,I10,75%))) -> 0.75 | O10: =IF(OR(E10=170504,E10=170101,E10=170102,E10=170103,E10=170107),H10/2,"0") -> 0 | P10: =IF(G10="Landfill",O10,"0") -> 0 | Q10: =IF(K10="",0,K10) -> #VALUE! | R10: =IF(G10="Landfill",H10,0) -> 0 | S10: =R10-P10+Q10 -> #VALUE! | U10: =IF(G10="Re Use Off Site",H10,0) -> 0 | V10: =U10+P10 -> 0 | Y10: Aerosol cans - empty | Z10: 150111 | AA10: NH | AB10: =SUM(AC129:AC131) -> 0 | AC10: =SUM(AD129:AD131) -> 0 | AD10: =SUM(AE129:AE131) -> 0 | AE10: =SUM(AF129:AF131) -> 0 | AF10: =SUM(AG129:AG131) -> 0 | AG10: =SUM(AH129:AH131) -> 0 | AH10: =AB10+AC10+AD10+AE10+AJ10+AL10+AG10 -> 0 | AI10: =AC10+AE10+AJ10+AL10+AG10 -> 0
C11: Construction materials containing asbestos | D11: Construction | E11: =IF(C11="","",(VLOOKUP($C11,EWC,2,FALSE))) -> 170605 | F11: =IF(C11="","",(VLOOKUP($C11,EWC,3,FALSE))) -> H | G11: Landfill | H11: TBC | J11: =IF(AND(G11="Recycled Off Site - Transfer Station, MRF, EfW",H11>0),(N11*H11),"") | K11: =IF(AND(G11="Recycled Off Site - Transfer Station, MRF, EfW",H11>0),(H11-J11),"") | N11: =IF(H11="","",(IF($I11>0,I11,75%))) -> 0.75 | O11: =IF(OR(E11=170504,E11=170101,E11=170102,E11=170103,E11=170107),H11/2,"0") -> 0 | P11: =IF(G11="Landfill",O11,"0") -> 0 | Q11: =IF(K11="",0,K11) -> 0 | R11: =IF(G11="Landfill",H11,0) -> TBC | S11: =R11-P11+Q11 -> #VALUE! | U11: =IF(G11="Re Use Off Site",H11,0) -> 0 | V11: =U11+P11 -> 0 | Y11: Aerosol cans containing paint or gas | Z11: 160504 | AA11: H | AB11: =SUM(AC132:AC134) -> 0 | AC11: =SUM(AD132:AD134) -> 0 | AD11: =SUM(AE132:AE134) -> 0 | AE11: =SUM(AF132:AF134) -> 0 | AF11: =SUM(AG132:AG134) -> 0 | AG11: =SUM(AH132:AH134) -> 0 | AH11: =AB11+AC11+AD11+AE11+AJ11+AL11+AG11 -> 0 | AI11: =AC11+AE11+AJ11+AL11+AG11 -> 0
C12: Metal - mixed | D12: Construction | E12: =IF(C12="","",(VLOOKUP($C12,EWC,2,FALSE))) -> 170407 | F12: =IF(C12="","",(VLOOKUP($C12,EWC,3,FALSE))) -> NH | G12: Recycled Off Site - Transfer Station, MRF, EfW | H12: TBC | J12: =IF(AND(G12="Recycled Off Site - Transfer Station, MRF, EfW",H12>0),(N12*H12),"") -> #VALUE! | K12: =IF(AND(G12="Recycled Off Site - Transfer Station, MRF, EfW",H12>0),(H12-J12),"") -> #VALUE! | N12: =IF(H12="","",(IF($I12>0,I12,75%))) -> 0.75 | O12: =IF(OR(E12=170504,E12=170101,E12=170102,E12=170103,E12=170107),H12/2,"0") -> 0 | P12: =IF(G12="Landfill",O12,"0") -> 0 | Q12: =IF(K12="",0,K12) -> #VALUE! | R12: =IF(G12="Landfill",H12,0) -> 0 | S12: =R12-P12+Q12 -> #VALUE! | U12: =IF(G12="Re Use Off Site",H12,0) -> 0 | V12: =U12+P12 -> 0 | Y12: Batteries - alkaline | Z12: 160604 | AA12: NH | AB12: =SUM(AC135:AC137) -> 0 | AC12: =SUM(AD135:AD137) -> 0 | AD12: =SUM(AE135:AE137) -> 0 | AE12: =SUM(AF135:AF137) -> 0 | AF12: =SUM(AG135:AG137) -> 0 | AG12: =SUM(AH135:AH137) -> 0 | AH12: =AB12+AC12+AD12+AE12+AJ12+AL12+AG12 -> 0 | AI12: =AC12+AE12+AJ12+AL12+AG12 -> 0
C13: Road sweepings | D13: Construction | E13: =IF(C13="","",(VLOOKUP($C13,EWC,2,FALSE))) -> 200303 | F13: =IF(C13="","",(VLOOKUP($C13,EWC,3,FALSE))) -> NH | G13: Landfill | H13: TBC | J13: =IF(AND(G13="Recycled Off Site - Transfer Station, MRF, EfW",H13>0),(N13*H13),"") | K13: =IF(AND(G13="Recycled Off Site - Transfer Station, MRF, EfW",H13>0),(H13-J13),"") | N13: =IF(H13="","",(IF($I13>0,I13,75%))) -> 0.75 | O13: =IF(OR(E13=170504,E13=170101,E13=170102,E13=170103,E13=170107),H13/2,"0") -> 0 | P13: =IF(G13="Landfill",O13,"0") -> 0 | Q13: =IF(K13="",0,K13) -> 0 | R13: =IF(G13="Landfill",H13,0) -> TBC | S13: =R13-P13+Q13 -> #VALUE! | U13: =IF(G13="Re Use Off Site",H13,0) -> 0 | V13: =U13+P13 -> 0 | Y13: Batteries - mercury | Z13: 160603 | AA13: H | AB13: =SUM(AC138:AC140) -> 0 | AC13: =SUM(AD138:AD140) -> 0 | AD13: =SUM(AE138:AE140) -> 0 | AE13: =SUM(AF138:AF140) -> 0 | AF13: =SUM(AG138:AG140) -> 0 | AG13: =SUM(AH138:AH140) -> 0 | AH13: =AB13+AC13+AD13+AE13+AJ13+AL13+AG13 -> 0 | AI13: =AC13+AE13+AJ13+AL13+AG13 -> 0
C14: Sewage Treatment - Sludge destined for offsite treatment | D14: Construction | E14: =IF(C14="","",(VLOOKUP($C14,EWC,2,FALSE))) -> 161001 | F14: =IF(C14="","",(VLOOKUP($C14,EWC,3,FALSE))) -> H | G14: Landfill | H14: TBC | J14: =IF(AND(G14="Recycled Off Site - Transfer Station, MRF, EfW",H14>0),(N14*H14),"") | K14: =IF(AND(G14="Recycled Off Site - Transfer Station, MRF, EfW",H14>0),(H14-J14),"") | N14: =IF(H14="","",(IF($I14>0,I14,75%))) -> 0.75 | O14: =IF(OR(E14=170504,E14=170101,E14=170102,E14=170103,E14=170107),H14/2,"0") -> 0 | P14: =IF(G14="Landfill",O14,"0") -> 0 | Q14: =IF(K14="",0,K14) -> 0 | R14: =IF(G14="Landfill",H14,0) -> TBC | S14: =R14-P14+Q14 -> #VALUE! | U14: =IF(G14="Re Use Off Site",H14,0) -> 0 | V14: =U14+P14 -> 0 | Y14: Batteries - Ni-Cd | Z14: 160602 | AA14: H | AB14: =SUM(AC141:AC143) -> 0 | AC14: =SUM(AD141:AD143) -> 0 | AD14: =SUM(AE141:AE143) -> 0 | AE14: =SUM(AF141:AF143) -> 0 | AF14: =SUM(AG141:AG143) -> 0 | AG14: =SUM(AH141:AH143) -> 0 | AH14: =AB14+AC14+AD14+AE14+AJ14+AL14+AG14 -> 0 | AI14: =AC14+AE14+AJ14+AL14+AG14 -> 0
C15: Construction and demolition wastes - Mixed (uncontaminated) | D15: Construction | E15: =IF(C15="","",(VLOOKUP($C15,EWC,2,FALSE))) -> 170904 | F15: =IF(C15="","",(VLOOKUP($C15,EWC,3,FALSE))) -> NH | G15: Recycled Off Site - Transfer Station, MRF, EfW | H15: TBC | J15: =IF(AND(G15="Recycled Off Site - Transfer Station, MRF, EfW",H15>0),(N15*H15),"") -> #VALUE! | K15: =IF(AND(G15="Recycled Off Site - Transfer Station, MRF, EfW",H15>0),(H15-J15),"") -> #VALUE! | N15: =IF(H15="","",(IF($I15>0,I15,75%))) -> 0.75 | O15: =IF(OR(E15=170504,E15=170101,E15=170102,E15=170103,E15=170107),H15/2,"0") -> 0 | P15: =IF(G15="Landfill",O15,"0") -> 0 | Q15: =IF(K15="",0,K15) -> #VALUE! | R15: =IF(G15="Landfill",H15,0) -> 0 | S15: =R15-P15+Q15 -> #VALUE! | U15: =IF(G15="Re Use Off Site",H15,0) -> 0 | V15: =U15+P15 -> 0 | Y15: Batteries(Car) - lead acid | Z15: 160601 | AA15: H | AB15: =SUM(AC144:AC146) -> 0 | AC15: =SUM(AD144:AD146) -> 0 | AD15: =SUM(AE144:AE146) -> 0 | AE15: =SUM(AF144:AF146) -> 0 | AF15: =SUM(AG144:AG146) -> 0 | AG15: =SUM(AH144:AH146) -> 0 | AH15: =AB15+AC15+AD15+AE15+AJ15+AL15+AG15 -> 0 | AI15: =AC15+AE15+AJ15+AL15+AG15 -> 0
C16: Site Office / Welfare waste | D16: Construction | E16: =IF(C16="","",(VLOOKUP($C16,EWC,2,FALSE))) -> 200301 | F16: =IF(C16="","",(VLOOKUP($C16,EWC,3,FALSE))) -> NH | G16: Recycled Off Site - Transfer Station, MRF, EfW | H16: TBC | J16: =IF(AND(G16="Recycled Off Site - Transfer Station, MRF, EfW",H16>0),(N16*H16),"") -> #VALUE! | K16: =IF(AND(G16="Recycled Off Site - Transfer Station, MRF, EfW",H16>0),(H16-J16),"") -> #VALUE! | N16: =IF(H16="","",(IF($I16>0,I16,75%))) -> 0.75 | O16: =IF(OR(E16=170504,E16=170101,E16=170102,E16=170103,E16=170107),H16/2,"0") -> 0 | P16: =IF(G16="Landfill",O16,"0") -> 0 | Q16: =IF(K16="",0,K16) -> #VALUE! | R16: =IF(G16="Landfill",H16,0) -> 0 | S16: =R16-P16+Q16 -> #VALUE! | U16: =IF(G16="Re Use Off Site",H16,0) -> 0 | V16: =U16+P16 -> 0 | Y16: Bitumen emulsion | Z16: 130802 | AA16: H | AB16: =SUM(AC147:AC149) -> 0 | AC16: =SUM(AD147:AD149) -> 0 | AD16: =SUM(AE147:AE149) -> 0 | AE16: =SUM(AF147:AF149) -> 0 | AF16: =SUM(AG147:AG149) -> 0 | AG16: =SUM(AH147:AH149) -> 0 | AH16: =AB16+AC16+AD16+AE16+AJ16+AL16+AG16 -> 0 | AI16: =AC16+AE16+AJ16+AL16+AG16 -> 0
C17: Wood | D17: Construction | E17: =IF(C17="","",(VLOOKUP($C17,EWC,2,FALSE))) -> 170201 | F17: =IF(C17="","",(VLOOKUP($C17,EWC,3,FALSE))) -> NH | G17: Recycled Off Site - Transfer Station, MRF, EfW | H17: TBC | J17: =IF(AND(G17="Recycled Off Site - Transfer Station, MRF, EfW",H17>0),(N17*H17),"") -> #VALUE! | K17: =IF(AND(G17="Recycled Off Site - Transfer Station, MRF, EfW",H17>0),(H17-J17),"") -> #VALUE! | N17: =IF(H17="","",(IF($I17>0,I17,75%))) -> 0.75 | O17: =IF(OR(E17=170504,E17=170101,E17=170102,E17=170103,E17=170107),H17/2,"0") -> 0 | P17: =IF(G17="Landfill",O17,"0") -> 0 | Q17: =IF(K17="",0,K17) -> #VALUE! | R17: =IF(G17="Landfill",H17,0) -> 0 | S17: =R17-P17+Q17 -> #VALUE! | U17: =IF(G17="Re Use Off Site",H17,0) -> 0 | V17: =U17+P17 -> 0 | Y17: Bituminous mixtures containing coal tar | Z17: 170301 | AA17: H | AB17: =SUM(AC150:AC152) -> 0 | AC17: =SUM(AD150:AD152) -> 0 | AD17: =SUM(AE150:AE152) -> 0 | AE17: =SUM(AF150:AF152) -> 0 | AF17: =SUM(AG150:AG152) -> 0 | AG17: =SUM(AH150:AH152) -> 0 | AH17: =AB17+AC17+AD17+AE17+AJ17+AL17+AG17 -> 0 | AI17: =AC17+AE17+AJ17+AL17+AG17 -> 0
E18: =IF(C18="","",(VLOOKUP($C18,EWC,2,FALSE))) | F18: =IF(C18="","",(VLOOKUP($C18,EWC,3,FALSE))) | J18: =IF(AND(G18="Recycled Off Site - Transfer Station, MRF, EfW",H18>0),(N18*H18),"") | K18: =IF(AND(G18="Recycled Off Site - Transfer Station, MRF, EfW",H18>0),(H18-J18),"") | N18: =IF(H18="","",(IF($I18>0,I18,75%))) | O18: =IF(OR(E18=170504,E18=170101,E18=170102,E18=170103,E18=170107),H18/2,"0") -> 0 | P18: =IF(G18="Landfill",O18,"0") -> 0 | Q18: =IF(K18="",0,K18) -> 0 | R18: =IF(G18="Landfill",H18,0) -> 0 | S18: =R18-P18+Q18 -> 0 | U18: =IF(G18="Re Use Off Site",H18,0) -> 0 | V18: =U18+P18 -> 0 | Y18: Bituminous mixtures not containing coal tar | Z18: 170302 | AA18: NH | AB18: =SUM(AC153:AC155) -> 0 | AC18: =SUM(AD153:AD155) -> 0 | AD18: =SUM(AE153:AE155) -> 0 | AE18: =SUM(AF153:AF155) -> #VALUE! | AF18: =SUM(AG153:AG155) -> 0 | AG18: =SUM(AH153:AH155) -> #VALUE! | AH18: =AB18+AC18+AD18+AE18+AJ18+AL18+AG18 -> #VALUE! | AI18: =AC18+AE18+AJ18+AL18+AG18 -> #VALUE!
E19: =IF(C19="","",(VLOOKUP($C19,EWC,2,FALSE))) | F19: =IF(C19="","",(VLOOKUP($C19,EWC,3,FALSE))) | J19: =IF(AND(G19="Recycled Off Site - Transfer Station, MRF, EfW",H19>0),(N19*H19),"") | K19: =IF(AND(G19="Recycled Off Site - Transfer Station, MRF, EfW",H19>0),(H19-J19),"") | N19: =IF(H19="","",(IF($I19>0,I19,75%))) | O19: =IF(OR(E19=170504,E19=170101,E19=170102,E19=170103,E19=170107),H19/2,"0") -> 0 | P19: =IF(G19="Landfill",O19,"0") -> 0 | Q19: =IF(K19="",0,K19) -> 0 | R19: =IF(G19="Landfill",H19,0) -> 0 | S19: =R19-P19+Q19 -> 0 | U19: =IF(G19="Re Use Off Site",H19,0) -> 0 | V19: =U19+P19 -> 0 | Y19: Bricks | Z19: 170102 | AA19: I | AB19: =SUM(AC156:AC158) -> 0 | AC19: =SUM(AD156:AD158) -> 0 | AD19: =SUM(AE156:AE158) -> 0 | AE19: =SUM(AF156:AF158) -> 0 | AF19: =SUM(AG156:AG158) -> 0 | AG19: =SUM(AH156:AH158) -> 0 | AH19: =AB19+AC19+AD19+AE19+AJ19+AL19+AG19 -> 0 | AI19: =AC19+AE19+AJ19+AL19+AG19 -> 0
E20: =IF(C20="","",(VLOOKUP($C20,EWC,2,FALSE))) | F20: =IF(C20="","",(VLOOKUP($C20,EWC,3,FALSE))) | J20: =IF(AND(G20="Recycled Off Site - Transfer Station, MRF, EfW",H20>0),(N20*H20),"") | K20: =IF(AND(G20="Recycled Off Site - Transfer Station, MRF, EfW",H20>0),(H20-J20),"") | N20: =IF(H20="","",(IF($I20>0,I20,75%))) | O20: =IF(OR(E20=170504,E20=170101,E20=170102,E20=170103,E20=170107),H20/2,"0") -> 0 | P20: =IF(G20="Landfill",O20,"0") -> 0 | Q20: =IF(K20="",0,K20) -> 0 | R20: =IF(G20="Landfill",H20,0) -> 0 | S20: =R20-P20+Q20 -> 0 | U20: =IF(G20="Re Use Off Site",H20,0) -> 0 | V20: =U20+P20 -> 0 | Y20: Cables | Z20: 170411 | AA20: NH | AB20: =SUM(AC159:AC161) -> 0 | AC20: =SUM(AD159:AD161) -> 0 | AD20: =SUM(AE159:AE161) -> 0 | AE20: =SUM(AF159:AF161) -> 0 | AF20: =SUM(AG159:AG161) -> 0 | AG20: =SUM(AH159:AH161) -> 0 | AH20: =AB20+AC20+AD20+AE20+AJ20+AL20+AG20 -> 0 | AI20: =AC20+AE20+AJ20+AL20+AG20 -> 0
E21: =IF(C21="","",(VLOOKUP($C21,EWC,2,FALSE))) | F21: =IF(C21="","",(VLOOKUP($C21,EWC,3,FALSE))) | J21: =IF(AND(G21="Recycled Off Site - Transfer Station, MRF, EfW",H21>0),(N21*H21),"") | K21: =IF(AND(G21="Recycled Off Site - Transfer Station, MRF, EfW",H21>0),(H21-J21),"") | N21: =IF(H21="","",(IF($I21>0,I21,75%))) | O21: =IF(OR(E21=170504,E21=170101,E21=170102,E21=170103,E21=170107),H21/2,"0") -> 0 | P21: =IF(G21="Landfill",O21,"0") -> 0 | Q21: =IF(K21="",0,K21) -> 0 | R21: =IF(G21="Landfill",H21,0) -> 0 | S21: =R21-P21+Q21 -> 0 | U21: =IF(G21="Re Use Off Site",H21,0) -> 0 | V21: =U21+P21 -> 0 | Y21: Cables containing oil, coal tar and other dangerous substances | Z21: 170410 | AA21: H | AB21: =SUM(AC162:AC164) -> 0 | AC21: =SUM(AD162:AD164) -> 0 | AD21: =SUM(AE162:AE164) -> 0 | AE21: =SUM(AF162:AF164) -> 0 | AF21: =SUM(AG162:AG164) -> 0 | AG21: =SUM(AH162:AH164) -> 0 | AH21: =AB21+AC21+AD21+AE21+AJ21+AL21+AG21 -> 0 | AI21: =AC21+AE21+AJ21+AL21+AG21 -> 0
E22: =IF(C22="","",(VLOOKUP($C22,EWC,2,FALSE))) | F22: =IF(C22="","",(VLOOKUP($C22,EWC,3,FALSE))) | J22: =IF(AND(G22="Recycled Off Site - Transfer Station, MRF, EfW",H22>0),(N22*H22),"") | K22: =IF(AND(G22="Recycled Off Site - Transfer Station, MRF, EfW",H22>0),(H22-J22),"") | N22: =IF(H22="","",(IF($I22>0,I22,75%))) | O22: =IF(OR(E22=170504,E22=170101,E22=170102,E22=170103,E22=170107),H22/2,"0") -> 0 | P22: =IF(G22="Landfill",O22,"0") -> 0 | Q22: =IF(K22="",0,K22) -> 0 | R22: =IF(G22="Landfill",H22,0) -> 0 | S22: =R22-P22+Q22 -> 0 | U22: =IF(G22="Re Use Off Site",H22,0) -> 0 | V22: =U22+P22 -> 0 | Y22: Coal tar and tarred products | Z22: 170303 | AA22: H | AB22: =SUM(AC165:AC167) -> 0 | AC22: =SUM(AD165:AD167) -> 0 | AD22: =SUM(AE165:AE167) -> 0 | AE22: =SUM(AF165:AF167) -> 0 | AF22: =SUM(AG165:AG167) -> 0 | AG22: =SUM(AH165:AH167) -> 0 | AH22: =AB22+AC22+AD22+AE22+AJ22+AL22+AG22 -> 0 | AI22: =AC22+AE22+AJ22+AL22+AG22 -> 0
E23: =IF(C23="","",(VLOOKUP($C23,EWC,2,FALSE))) | F23: =IF(C23="","",(VLOOKUP($C23,EWC,3,FALSE))) | J23: =IF(AND(G23="Recycled Off Site - Transfer Station, MRF, EfW",H23>0),(N23*H23),"") | K23: =IF(AND(G23="Recycled Off Site - Transfer Station, MRF, EfW",H23>0),(H23-J23),"") | N23: =IF(H23="","",(IF($I23>0,I23,75%))) | O23: =IF(OR(E23=170504,E23=170101,E23=170102,E23=170103,E23=170107),H23/2,"0") -> 0 | P23: =IF(G23="Landfill",O23,"0") -> 0 | Q23: =IF(K23="",0,K23) -> 0 | R23: =IF(G23="Landfill",H23,0) -> 0 | S23: =R23-P23+Q23 -> 0 | U23: =IF(G23="Re Use Off Site",H23,0) -> 0 | V23: =U23+P23 -> 0 | Y23: Concrete | Z23: 170101 | AA23: I | AB23: =SUM(AC168:AC170) -> 0 | AC23: =SUM(AD168:AD170) -> 0 | AD23: =SUM(AE168:AE170) -> 0 | AE23: =SUM(AF168:AF170) -> 0 | AF23: =SUM(AG168:AG170) -> 0 | AG23: =SUM(AH168:AH170) -> 0 | AH23: =AB23+AC23+AD23+AE23+AJ23+AL23+AG23 -> 0 | AI23: =AC23+AE23+AJ23+AL23+AG23 -> 0
E24: =IF(C24="","",(VLOOKUP($C24,EWC,2,FALSE))) | F24: =IF(C24="","",(VLOOKUP($C24,EWC,3,FALSE))) | J24: =IF(AND(G24="Recycled Off Site - Transfer Station, MRF, EfW",H24>0),(N24*H24),"") | K24: =IF(AND(G24="Recycled Off Site - Transfer Station, MRF, EfW",H24>0),(H24-J24),"") | N24: =IF(H24="","",(IF($I24>0,I24,75%))) | O24: =IF(OR(E24=170504,E24=170101,E24=170102,E24=170103,E24=170107),H24/2,"0") -> 0 | P24: =IF(G24="Landfill",O24,"0") -> 0 | Q24: =IF(K24="",0,K24) -> 0 | R24: =IF(G24="Landfill",H24,0) -> 0 | S24: =R24-P24+Q24 -> 0 | U24: =IF(G24="Re Use Off Site",H24,0) -> 0 | V24: =U24+P24 -> 0 | Y24: Concrete, bricks tiles and ceramics - Mixed (contaminated) | Z24: 170106 | AA24: H | AB24: =SUM(AC171:AC173) -> 0 | AC24: =SUM(AD171:AD173) -> 0 | AD24: =SUM(AE171:AE173) -> 0 | AE24: =SUM(AF171:AF173) -> 0 | AF24: =SUM(AG171:AG173) -> 0 | AG24: =SUM(AH171:AH173) -> 0 | AH24: =AB24+AC24+AD24+AE24+AJ24+AL24+AG24 -> 0 | AI24: =AC24+AE24+AJ24+AL24+AG24 -> 0
E25: =IF(C25="","",(VLOOKUP($C25,EWC,2,FALSE))) | F25: =IF(C25="","",(VLOOKUP($C25,EWC,3,FALSE))) | J25: =IF(AND(G25="Recycled Off Site - Transfer Station, MRF, EfW",H25>0),(N25*H25),"") | K25: =IF(AND(G25="Recycled Off Site - Transfer Station, MRF, EfW",H25>0),(H25-J25),"") | N25: =IF(H25="","",(IF($I25>0,I25,75%))) | O25: =IF(OR(E25=170504,E25=170101,E25=170102,E25=170103,E25=170107),H25/2,"0") -> 0 | P25: =IF(G25="Landfill",O25,"0") -> 0 | Q25: =IF(K25="",0,K25) -> 0 | R25: =IF(G25="Landfill",H25,0) -> 0 | S25: =R25-P25+Q25 -> 0 | U25: =IF(G25="Re Use Off Site",H25,0) -> 0 | V25: =U25+P25 -> 0 | Y25: Concrete, bricks, tiles and ceramics - Mixed (uncontaminated) | Z25: 170107 | AA25: NH | AB25: =SUM(AC174:AC176) -> 0 | AC25: =SUM(AD174:AD176) -> 0 | AD25: =SUM(AE174:AE176) -> 0 | AE25: =SUM(AF174:AF176) -> #VALUE! | AF25: =SUM(AG174:AG176) -> 0 | AG25: =SUM(AH174:AH176) -> #VALUE! | AH25: =AB25+AC25+AD25+AE25+AJ25+AL25+AG25 -> #VALUE! | AI25: =AC25+AE25+AJ25+AL25+AG25 -> #VALUE!
E26: =IF(C26="","",(VLOOKUP($C26,EWC,2,FALSE))) | F26: =IF(C26="","",(VLOOKUP($C26,EWC,3,FALSE))) | J26: =IF(AND(G26="Recycled Off Site - Transfer Station, MRF, EfW",H26>0),(N26*H26),"") | K26: =IF(AND(G26="Recycled Off Site - Transfer Station, MRF, EfW",H26>0),(H26-J26),"") | N26: =IF(H26="","",(IF($I26>0,I26,75%))) | O26: =IF(OR(E26=170504,E26=170101,E26=170102,E26=170103,E26=170107),H26/2,"0") -> 0 | P26: =IF(G26="Landfill",O26,"0") -> 0 | Q26: =IF(K26="",0,K26) -> 0 | R26: =IF(G26="Landfill",H26,0) -> 0 | S26: =R26-P26+Q26 -> 0 | U26: =IF(G26="Re Use Off Site",H26,0) -> 0 | V26: =U26+P26 -> 0 | Y26: Construction and demolition wastes - Mixed (contaminated) | Z26: 170903 | AA26: H | AB26: =SUM(AC177:AC179) -> 0 | AC26: =SUM(AD177:AD179) -> 0 | AD26: =SUM(AE177:AE179) -> 0 | AE26: =SUM(AF177:AF179) -> 0 | AF26: =SUM(AG177:AG179) -> 0 | AG26: =SUM(AH177:AH179) -> 0 | AH26: =AB26+AC26+AD26+AE26+AJ26+AL26+AG26 -> 0 | AI26: =AC26+AE26+AJ26+AL26+AG26 -> 0
E27: =IF(C27="","",(VLOOKUP($C27,EWC,2,FALSE))) | F27: =IF(C27="","",(VLOOKUP($C27,EWC,3,FALSE))) | J27: =IF(AND(G27="Recycled Off Site - Transfer Station, MRF, EfW",H27>0),(N27*H27),"") | K27: =IF(AND(G27="Recycled Off Site - Transfer Station, MRF, EfW",H27>0),(H27-J27),"") | N27: =IF(H27="","",(IF($I27>0,I27,75%))) | O27: =IF(OR(E27=170504,E27=170101,E27=170102,E27=170103,E27=170107),H27/2,"0") -> 0 | P27: =IF(G27="Landfill",O27,"0") -> 0 | Q27: =IF(K27="",0,K27) -> 0 | R27: =IF(G27="Landfill",H27,0) -> 0 | S27: =R27-P27+Q27 -> 0 | U27: =IF(G27="Re Use Off Site",H27,0) -> 0 | V27: =U27+P27 -> 0 | Y27: Construction and demolition wastes - Mixed (uncontaminated) | Z27: 170904 | AA27: NH | AB27: =SUM(AC180:AC182) -> 0 | AC27: =SUM(AD180:AD182) -> 0 | AD27: =SUM(AE180:AE182) -> 0 | AE27: =SUM(AF180:AF182) -> #VALUE! | AF27: =SUM(AG180:AG182) -> 0 | AG27: =SUM(AH180:AH182) -> #VALUE! | AH27: =AB27+AC27+AD27+AE27+AJ27+AL27+AG27 -> #VALUE! | AI27: =AC27+AE27+AJ27+AL27+AG27 -> #VALUE!
E28: =IF(C28="","",(VLOOKUP($C28,EWC,2,FALSE))) | F28: =IF(C28="","",(VLOOKUP($C28,EWC,3,FALSE))) | J28: =IF(AND(G28="Recycled Off Site - Transfer Station, MRF, EfW",H28>0),(N28*H28),"") | K28: =IF(AND(G28="Recycled Off Site - Transfer Station, MRF, EfW",H28>0),(H28-J28),"") | N28: =IF(H28="","",(IF($I28>0,I28,75%))) | O28: =IF(OR(E28=170504,E28=170101,E28=170102,E28=170103,E28=170107),H28/2,"0") -> 0 | P28: =IF(G28="Landfill",O28,"0") -> 0 | Q28: =IF(K28="",0,K28) -> 0 | R28: =IF(G28="Landfill",H28,0) -> 0 | S28: =R28-P28+Q28 -> 0 | U28: =IF(G28="Re Use Off Site",H28,0) -> 0 | V28: =U28+P28 -> 0 | Y28: Construction and demolition wastes containing mercury | Z28: 170901 | AA28: H | AB28: =SUM(AC183:AC185) -> 0 | AC28: =SUM(AD183:AD185) -> 0 | AD28: =SUM(AE183:AE185) -> 0 | AE28: =SUM(AF183:AF185) -> 0 | AF28: =SUM(AG183:AG185) -> 0 | AG28: =SUM(AH183:AH185) -> 0 | AH28: =AB28+AC28+AD28+AE28+AJ28+AL28+AG28 -> 0 | AI28: =AC28+AE28+AJ28+AL28+AG28 -> 0
E29: =IF(C29="","",(VLOOKUP($C29,EWC,2,FALSE))) | F29: =IF(C29="","",(VLOOKUP($C29,EWC,3,FALSE))) | J29: =IF(AND(G29="Recycled Off Site - Transfer Station, MRF, EfW",H29>0),(N29*H29),"") | K29: =IF(AND(G29="Recycled Off Site - Transfer Station, MRF, EfW",H29>0),(H29-J29),"") | N29: =IF(H29="","",(IF($I29>0,I29,75%))) | O29: =IF(OR(E29=170504,E29=170101,E29=170102,E29=170103,E29=170107),H29/2,"0") -> 0 | P29: =IF(G29="Landfill",O29,"0") -> 0 | Q29: =IF(K29="",0,K29) -> 0 | R29: =IF(G29="Landfill",H29,0) -> 0 | S29: =R29-P29+Q29 -> 0 | U29: =IF(G29="Re Use Off Site",H29,0) -> 0 | V29: =U29+P29 -> 0 | Y29: Construction and demolition wastes containing PCB | Z29: 170902 | AA29: H | AB29: =SUM(AC186:AC188) -> 0 | AC29: =SUM(AD186:AD188) -> 0 | AD29: =SUM(AE186:AE188) -> 0 | AE29: =SUM(AF186:AF188) -> 0 | AF29: =SUM(AG186:AG188) -> 0 | AG29: =SUM(AH186:AH188) -> 0 | AH29: =AB29+AC29+AD29+AE29+AJ29+AL29+AG29 -> 0 | AI29: =AC29+AE29+AJ29+AL29+AG29 -> 0
E30: =IF(C30="","",(VLOOKUP($C30,EWC,2,FALSE))) | F30: =IF(C30="","",(VLOOKUP($C30,EWC,3,FALSE))) | J30: =IF(AND(G30="Recycled Off Site - Transfer Station, MRF, EfW",H30>0),(N30*H30),"") | K30: =IF(AND(G30="Recycled Off Site - Transfer Station, MRF, EfW",H30>0),(H30-J30),"") | N30: =IF(H30="","",(IF($I30>0,I30,75%))) | O30: =IF(OR(E30=170504,E30=170101,E30=170102,E30=170103,E30=170107),H30/2,"0") -> 0 | P30: =IF(G30="Landfill",O30,"0") -> 0 | Q30: =IF(K30="",0,K30) -> 0 | R30: =IF(G30="Landfill",H30,0) -> 0 | S30: =R30-P30+Q30 -> 0 | U30: =IF(G30="Re Use Off Site",H30,0) -> 0 | V30: =U30+P30 -> 0 | Y30: Construction materials containing asbestos | Z30: 170605 | AA30: H | AB30: =SUM(AC189:AC191) -> 0 | AC30: =SUM(AD189:AD191) -> 0 | AD30: =SUM(AE189:AE191) -> 0 | AE30: =SUM(AF189:AF191) -> 0 | AF30: =SUM(AG189:AG191) -> 0 | AG30: =SUM(AH189:AH191) -> #VALUE! | AH30: =AB30+AC30+AD30+AE30+AJ30+AL30+AG30 -> #VALUE! | AI30: =AC30+AE30+AJ30+AL30+AG30 -> #VALUE!
Q31: =IF(K31="",0,K31) -> 0 | Y31: Dredging spoil (uncontaminated) | Z31: 170506 | AA31: NH | AB31: =SUM(AC192:AC194) -> 0 | AC31: =SUM(AD192:AD194) -> 0 | AD31: =SUM(AE192:AE194) -> 0 | AE31: =SUM(AF192:AF194) -> 0 | AF31: =SUM(AG192:AG194) -> 0 | AG31: =SUM(AH192:AH194) -> 0 | AH31: =AB31+AC31+AD31+AE31+AJ31+AL31+AG31 -> 0 | AI31: =AC31+AE31+AJ31+AL31+AG31 -> 0
Y32: Dredging spoil containing dangerous substances | Z32: 170505 | AA32: H | AB32: =SUM(AC195:AC197) -> 0 | AC32: =SUM(AD195:AD197) -> 0 | AD32: =SUM(AE195:AE197) -> 0 | AE32: =SUM(AF195:AF197) -> 0 | AF32: =SUM(AG195:AG197) -> 0 | AG32: =SUM(AH195:AH197) -> 0 | AH32: =AB32+AC32+AD32+AE32+AJ32+AL32+AG32 -> 0 | AI32: =AC32+AE32+AJ32+AL32+AG32 -> 0
Y33: Electrical equipment (non hazardous) | Z33: 160214 | AA33: NH | AB33: =SUM(AC198:AC200) -> 0 | AC33: =SUM(AD198:AD200) -> 0 | AD33: =SUM(AE198:AE200) -> 0 | AE33: =SUM(AF198:AF200) -> 0 | AF33: =SUM(AG198:AG200) -> 0 | AG33: =SUM(AH198:AH200) -> 0 | AH33: =AB33+AC33+AD33+AE33+AJ33+AL33+AG33 -> 0 | AI33: =AC33+AE33+AJ33+AL33+AG33 -> 0
Y34: Electrical equipment containing CFC's, HFC's & HCFC's | Z34: 160211 | AA34: H | AB34: =SUM(AC201:AC203) -> 0 | AC34: =SUM(AD201:AD203) -> 0 | AD34: =SUM(AE201:AE203) -> 0 | AE34: =SUM(AF201:AF203) -> 0 | AF34: =SUM(AG201:AG203) -> 0 | AG34: =SUM(AH201:AH203) -> 0 | AH34: =AB34+AC34+AD34+AE34+AJ34+AL34+AG34 -> 0 | AI34: =AC34+AE34+AJ34+AL34+AG34 -> 0
Y35: Electrical equipment containing dangerous substances | Z35: 160213 | AA35: H | AB35: =SUM(AC204:AC206) -> 0 | AC35: =SUM(AD204:AD206) -> 0 | AD35: =SUM(AE204:AE206) -> 0 | AE35: =SUM(AF204:AF206) -> 0 | AF35: =SUM(AG204:AG206) -> 0 | AG35: =SUM(AH204:AH206) -> 0 | AH35: =AB35+AC35+AD35+AE35+AJ35+AL35+AG35 -> 0 | AI35: =AC35+AE35+AJ35+AL35+AG35 -> 0
Y36: Electrical equipment containing PCBs | Z36: 160210 | AA36: H | AB36: =SUM(AC207:AC209) -> 0 | AC36: =SUM(AD207:AD209) -> 0 | AD36: =SUM(AE207:AE209) -> 0 | AE36: =SUM(AF207:AF209) -> 0 | AF36: =SUM(AG207:AG209) -> 0 | AG36: =SUM(AH207:AH209) -> 0 | AH36: =AB36+AC36+AD36+AE36+AJ36+AL36+AG36 -> 0 | AI36: =AC36+AE36+AJ36+AL36+AG36 -> 0
Y37: Feminine hygiene products | Z37: 200199 | AA37: NH | AB37: =SUM(AC210:AC212) -> 0 | AC37: =SUM(AD210:AD212) -> 0 | AD37: =SUM(AE210:AE212) -> 0 | AE37: =SUM(AF210:AF212) -> 0 | AF37: =SUM(AG210:AG212) -> 0 | AG37: =SUM(AH210:AH212) -> 0 | AH37: =AB37+AC37+AD37+AE37+AJ37+AL37+AG37 -> 0 | AI37: =AC37+AE37+AJ37+AL37+AG37 -> 0
Y38: Fluorescent tubes and other mercury-containing waste | Z38: 200121 | AA38: H | AB38: =SUM(AC213:AC215) -> 0 | AC38: =SUM(AD213:AD215) -> 0 | AD38: =SUM(AE213:AE215) -> 0 | AE38: =SUM(AF213:AF215) -> 0 | AF38: =SUM(AG213:AG215) -> 0 | AG38: =SUM(AH213:AH215) -> 0 | AH38: =AB38+AC38+AD38+AE38+AJ38+AL38+AG38 -> 0 | AI38: =AC38+AE38+AJ38+AL38+AG38 -> 0
Y39: Fridges, freezers containing chlorofluorocarbons | Z39: 200123 | AA39: H | AB39: =SUM(AC216:AC218) -> 0 | AC39: =SUM(AD216:AD218) -> 0 | AD39: =SUM(AE216:AE218) -> 0 | AE39: =SUM(AF216:AF218) -> 0 | AF39: =SUM(AG216:AG218) -> 0 | AG39: =SUM(AH216:AH218) -> 0 | AH39: =AB39+AC39+AD39+AE39+AJ39+AL39+AG39 -> 0 | AI39: =AC39+AE39+AJ39+AL39+AG39 -> 0
Y40: Fuel - mixed | Z40: 130703 | AA40: H | AB40: =SUM(AC219:AC221) -> 0 | AC40: =SUM(AD219:AD221) -> 0 | AD40: =SUM(AE219:AE221) -> 0 | AE40: =SUM(AF219:AF221) -> 0 | AF40: =SUM(AG219:AG221) -> 0 | AG40: =SUM(AH219:AH221) -> 0 | AH40: =AB40+AC40+AD40+AE40+AJ40+AL40+AG40 -> 0 | AI40: =AC40+AE40+AJ40+AL40+AG40 -> 0
Y41: Fuel - Petrol | Z41: 130702 | AA41: H | AB41: =SUM(AC222:AC224) -> 0 | AC41: =SUM(AD222:AD224) -> 0 | AD41: =SUM(AE222:AE224) -> 0 | AE41: =SUM(AF222:AF224) -> 0 | AF41: =SUM(AG222:AG224) -> 0 | AG41: =SUM(AH222:AH224) -> 0 | AH41: =AB41+AC41+AD41+AE41+AJ41+AL41+AG41 -> 0 | AI41: =AC41+AE41+AJ41+AL41+AG41 -> 0
Y42: Fuel, oil and diesel | Z42: 130701 | AA42: H | AB42: =SUM(AC225:AC227) -> 0 | AC42: =SUM(AD225:AD227) -> 0 | AD42: =SUM(AE225:AE227) -> 0 | AE42: =SUM(AF225:AF227) -> 0 | AF42: =SUM(AG225:AG227) -> 0 | AG42: =SUM(AH225:AH227) -> 0 | AH42: =AB42+AC42+AD42+AE42+AJ42+AL42+AG42 -> 0 | AI42: =AC42+AE42+AJ42+AL42+AG42 -> 0
Y43: Glass | Z43: 170202 | AA43: I | AB43: =SUM(AC228:AC230) -> 0 | AC43: =SUM(AD228:AD230) -> 0 | AD43: =SUM(AE228:AE230) -> 0 | AE43: =SUM(AF228:AF230) -> 0 | AF43: =SUM(AG228:AG230) -> 0 | AG43: =SUM(AH228:AH230) -> 0 | AH43: =AB43+AC43+AD43+AE43+AJ43+AL43+AG43 -> 0 | AI43: =AC43+AE43+AJ43+AL43+AG43 -> 0
Y44: Glass / plastic / wood containing or contaminated with dangerous substances | Z44: 170204 | AA44: H | AB44: =SUM(AC231:AC233) -> 0 | AC44: =SUM(AD231:AD233) -> 0 | AD44: =SUM(AE231:AE233) -> 0 | AE44: =SUM(AF231:AF233) -> 0 | AF44: =SUM(AG231:AG233) -> 0 | AG44: =SUM(AH231:AH233) -> 0 | AH44: =AB44+AC44+AD44+AE44+AJ44+AL44+AG44 -> 0 | AI44: =AC44+AE44+AJ44+AL44+AG44 -> 0
Y45: Grit blast waste | Z45: 120117 | AA45: NH | AB45: =SUM(AC234:AC236) -> 0 | AC45: =SUM(AD234:AD236) -> 0 | AD45: =SUM(AE234:AE236) -> 0 | AE45: =SUM(AF234:AF236) -> 0 | AF45: =SUM(AG234:AG236) -> 0 | AG45: =SUM(AH234:AH236) -> 0 | AH45: =AB45+AC45+AD45+AE45+AJ45+AL45+AG45 -> 0 | AI45: =AC45+AE45+AJ45+AL45+AG45 -> 0
Y46: Grit Blast waste - contaminated | Z46: 120116 | AA46: H | AB46: =SUM(AC237:AC239) -> 0 | AC46: =SUM(AD237:AD239) -> 0 | AD46: =SUM(AE237:AE239) -> 0 | AE46: =SUM(AF237:AF239) -> 0 | AF46: =SUM(AG237:AG239) -> 0 | AG46: =SUM(AH237:AH239) -> 0 | AH46: =AB46+AC46+AD46+AE46+AJ46+AL46+AG46 -> 0 | AI46: =AC46+AE46+AJ46+AL46+AG46 -> 0
Y47: Grit chambers and oil/water separators wastes - mixed | Z47: 130508 | AA47: H | AB47: =SUM(AC240:AC242) -> 0 | AC47: =SUM(AD240:AD242) -> 0 | AD47: =SUM(AE240:AE242) -> 0 | AE47: =SUM(AF240:AF242) -> 0 | AF47: =SUM(AG240:AG242) -> 0 | AG47: =SUM(AH240:AH242) -> 0 | AH47: =AB47+AC47+AD47+AE47+AJ47+AL47+AG47 -> 0 | AI47: =AC47+AE47+AJ47+AL47+AG47 -> 0
Y48: Gully pot waste | Z48: 200303 | AA48: NH | AB48: =SUM(AC243:AC245) -> 0 | AC48: =SUM(AD243:AD245) -> 0 | AD48: =SUM(AE243:AE245) -> 0 | AE48: =SUM(AF243:AF245) -> 0 | AF48: =SUM(AG243:AG245) -> 0 | AG48: =SUM(AH243:AH245) -> #VALUE! | AH48: =AB48+AC48+AD48+AE48+AJ48+AL48+AG48 -> #VALUE! | AI48: =AC48+AE48+AJ48+AL48+AG48 -> #VALUE!
Y49: Gypsum-based construction materials | Z49: 170802 | AA49: NH | AB49: =SUM(AC246:AC248) -> 0 | AC49: =SUM(AD246:AD248) -> 0 | AD49: =SUM(AE246:AE248) -> 0 | AE49: =SUM(AF246:AF248) -> 0 | AF49: =SUM(AG246:AG248) -> 0 | AG49: =SUM(AH246:AH248) -> 0 | AH49: =AB49+AC49+AD49+AE49+AJ49+AL49+AG49 -> 0 | AI49: =AC49+AE49+AJ49+AL49+AG49 -> 0
Y50: Gypsum-based construction materials contaminated with dangerous substances | Z50: 170801 | AA50: H | AB50: =SUM(AC249:AC251) -> 0 | AC50: =SUM(AD249:AD251) -> 0 | AD50: =SUM(AE249:AE251) -> 0 | AE50: =SUM(AF249:AF251) -> 0 | AF50: =SUM(AG249:AG251) -> 0 | AG50: =SUM(AH249:AH251) -> 0 | AH50: =AB50+AC50+AD50+AE50+AJ50+AL50+AG50 -> 0 | AI50: =AC50+AE50+AJ50+AL50+AG50 -> 0
Y51: Insulating materials (uncontaminated) | Z51: 170604 | AA51: NH | AB51: =SUM(AC252:AC254) -> 0 | AC51: =SUM(AD252:AD254) -> 0 | AD51: =SUM(AE252:AE254) -> 0 | AE51: =SUM(AF252:AF254) -> 0 | AF51: =SUM(AG252:AG254) -> 0 | AG51: =SUM(AH252:AH254) -> 0 | AH51: =AB51+AC51+AD51+AE51+AJ51+AL51+AG51 -> 0 | AI51: =AC51+AE51+AJ51+AL51+AG51 -> 0
Y52: Insulating materials consisting of or containing dangerous materials | Z52: 170603 | AA52: H | AB52: =SUM(AC255:AC257) -> 0 | AC52: =SUM(AD255:AD257) -> 0 | AD52: =SUM(AE255:AE257) -> 0 | AE52: =SUM(AF255:AF257) -> 0 | AF52: =SUM(AG255:AG257) -> 0 | AG52: =SUM(AH255:AH257) -> 0 | AH52: =AB52+AC52+AD52+AE52+AJ52+AL52+AG52 -> 0 | AI52: =AC52+AE52+AJ52+AL52+AG52 -> 0
Y53: Insulating materials containing asbestos | Z53: 170601 | AA53: H | AB53: =SUM(AC258:AC260) -> 0 | AC53: =SUM(AD258:AD260) -> 0 | AD53: =SUM(AE258:AE260) -> 0 | AE53: =SUM(AF258:AF260) -> 0 | AF53: =SUM(AG258:AG260) -> 0 | AG53: =SUM(AH258:AH260) -> 0 | AH53: =AB53+AC53+AD53+AE53+AJ53+AL53+AG53 -> 0 | AI53: =AC53+AE53+AJ53+AL53+AG53 -> 0
Y54: Interceptor Sludge - uncontaminated | Z54: 130503 | AA54: NH | AB54: =SUM(AC261:AC263) -> 0 | AC54: =SUM(AD261:AD263) -> 0 | AD54: =SUM(AE261:AE263) -> 0 | AE54: =SUM(AF261:AF263) -> 0 | AF54: =SUM(AG261:AG263) -> 0 | AG54: =SUM(AH261:AH263) -> 0 | AH54: =AB54+AC54+AD54+AE54+AJ54+AL54+AG54 -> 0 | AI54: =AC54+AE54+AJ54+AL54+AG54 -> 0
Y55: Metal - Aluminium | Z55: 170402 | AA55: NH | AB55: =SUM(AC264:AC266) -> 0 | AC55: =SUM(AD264:AD266) -> 0 | AD55: =SUM(AE264:AE266) -> 0 | AE55: =SUM(AF264:AF266) -> 0 | AF55: =SUM(AG264:AG266) -> 0 | AG55: =SUM(AH264:AH266) -> 0 | AH55: =AB55+AC55+AD55+AE55+AJ55+AL55+AG55 -> 0 | AI55: =AC55+AE55+AJ55+AL55+AG55 -> 0
Y56: Metal - Copper, bronze, brass | Z56: 170401 | AA56: NH | AB56: =SUM(AC267:AC269) -> 0 | AC56: =SUM(AD267:AD269) -> 0 | AD56: =SUM(AE267:AE269) -> 0 | AE56: =SUM(AF267:AF269) -> 0 | AF56: =SUM(AG267:AG269) -> 0 | AG56: =SUM(AH267:AH269) -> 0 | AH56: =AB56+AC56+AD56+AE56+AJ56+AL56+AG56 -> 0 | AI56: =AC56+AE56+AJ56+AL56+AG56 -> 0
Y57: Metal - Iron and steel | Z57: 170405 | AA57: NH | AB57: =SUM(AC270:AC272) -> 0 | AC57: =SUM(AD270:AD272) -> 0 | AD57: =SUM(AE270:AE272) -> 0 | AE57: =SUM(AF270:AF272) -> 0 | AF57: =SUM(AG270:AG272) -> 0 | AG57: =SUM(AH270:AH272) -> 0 | AH57: =AB57+AC57+AD57+AE57+AJ57+AL57+AG57 -> 0 | AI57: =AC57+AE57+AJ57+AL57+AG57 -> 0
Y58: Metal - Lead | Z58: 170403 | AA58: NH | AB58: =SUM(AC273:AC275) -> 0 | AC58: =SUM(AD273:AD275) -> 0 | AD58: =SUM(AE273:AE275) -> 0 | AE58: =SUM(AF273:AF275) -> 0 | AF58: =SUM(AG273:AG275) -> 0 | AG58: =SUM(AH273:AH275) -> 0 | AH58: =AB58+AC58+AD58+AE58+AJ58+AL58+AG58 -> 0 | AI58: =AC58+AE58+AJ58+AL58+AG58 -> 0
Y59: Metal - mixed | Z59: 170407 | AA59: NH | AB59: =SUM(AC276:AC278) -> 0 | AC59: =SUM(AD276:AD278) -> 0 | AD59: =SUM(AE276:AE278) -> 0 | AE59: =SUM(AF276:AF278) -> #VALUE! | AF59: =SUM(AG276:AG278) -> 0 | AG59: =SUM(AH276:AH278) -> #VALUE! | AH59: =AB59+AC59+AD59+AE59+AJ59+AL59+AG59 -> #VALUE! | AI59: =AC59+AE59+AJ59+AL59+AG59 -> #VALUE!
Y60: Metal - mixed (hazardous) | Z60: 170409 | AA60: H | AB60: =SUM(AC279:AC281) -> 0 | AC60: =SUM(AD279:AD281) -> 0 | AD60: =SUM(AE279:AE281) -> 0 | AE60: =SUM(AF279:AF281) -> 0 | AF60: =SUM(AG279:AG281) -> 0 | AG60: =SUM(AH279:AH281) -> 0 | AH60: =AB60+AC60+AD60+AE60+AJ60+AL60+AG60 -> 0 | AI60: =AC60+AE60+AJ60+AL60+AG60 -> 0
Y61: Metal - Tin | Z61: 170406 | AA61: NH | AB61: =SUM(AC282:AC284) -> 0 | AC61: =SUM(AD282:AD284) -> 0 | AD61: =SUM(AE282:AE284) -> 0 | AE61: =SUM(AF282:AF284) -> 0 | AF61: =SUM(AG282:AG284) -> 0 | AG61: =SUM(AH282:AH284) -> 0 | AH61: =AB61+AC61+AD61+AE61+AJ61+AL61+AG61 -> 0 | AI61: =AC61+AE61+AJ61+AL61+AG61 -> 0
Y62: Metal - Zinc | Z62: 170404 | AA62: NH | AB62: =SUM(AC285:AC287) -> 0 | AC62: =SUM(AD285:AD287) -> 0 | AD62: =SUM(AE285:AE287) -> 0 | AE62: =SUM(AF285:AF287) -> 0 | AF62: =SUM(AG285:AG287) -> 0 | AG62: =SUM(AH285:AH287) -> 0 | AH62: =AB62+AC62+AD62+AE62+AJ62+AL62+AG62 -> 0 | AI62: =AC62+AE62+AJ62+AL62+AG62 -> 0
Y63: Oil - Engine, Hydraulic, lubricating | Z63: 130205 | AA63: H | AB63: =SUM(AC288:AC290) -> 0 | AC63: =SUM(AD288:AD290) -> 0 | AD63: =SUM(AE288:AE290) -> 0 | AE63: =SUM(AF288:AF290) -> 0 | AF63: =SUM(AG288:AG290) -> 0 | AG63: =SUM(AH288:AH290) -> 0 | AH63: =AB63+AC63+AD63+AE63+AJ63+AL63+AG63 -> 0 | AI63: =AC63+AE63+AJ63+AL63+AG63 -> 0
Y64: Oil - hydraulic (biodegradable) | Z64: 130112 | AA64: H | AB64: =SUM(AC291:AC293) -> 0 | AC64: =SUM(AD291:AD293) -> 0 | AD64: =SUM(AE291:AE293) -> 0 | AE64: =SUM(AF291:AF293) -> 0 | AF64: =SUM(AG291:AG293) -> 0 | AG64: =SUM(AH291:AH293) -> 0 | AH64: =AB64+AC64+AD64+AE64+AJ64+AL64+AG64 -> 0 | AI64: =AC64+AE64+AJ64+AL64+AG64 -> 0
Y65: Oil - hydraulic (synthetic) | Z65: 130111 | AA65: H | AB65: =SUM(AC294:AC296) -> 0 | AC65: =SUM(AD294:AD296) -> 0 | AD65: =SUM(AE294:AE296) -> 0 | AE65: =SUM(AF294:AF296) -> 0 | AF65: =SUM(AG294:AG296) -> 0 | AG65: =SUM(AH294:AH296) -> 0 | AH65: =AB65+AC65+AD65+AE65+AJ65+AL65+AG65 -> 0 | AI65: =AC65+AE65+AJ65+AL65+AG65 -> 0
Y66: Oil - lubricating (biodegradable) | Z66: 130207 | AA66: H | AB66: =SUM(AC297:AC299) -> 0 | AC66: =SUM(AD297:AD299) -> 0 | AD66: =SUM(AE297:AE299) -> 0 | AE66: =SUM(AF297:AF299) -> 0 | AF66: =SUM(AG297:AG299) -> 0 | AG66: =SUM(AH297:AH299) -> 0 | AH66: =AB66+AC66+AD66+AE66+AJ66+AL66+AG66 -> 0 | AI66: =AC66+AE66+AJ66+AL66+AG66 -> 0
Y67: Oil - lubricating (synthetic) | Z67: 130206 | AA67: H | AB67: =SUM(AC300:AC302) -> 0 | AC67: =SUM(AD300:AD302) -> 0 | AD67: =SUM(AE300:AE302) -> 0 | AE67: =SUM(AF300:AF302) -> 0 | AF67: =SUM(AG300:AG302) -> 0 | AG67: =SUM(AH300:AH302) -> 0 | AH67: =AB67+AC67+AD67+AE67+AJ67+AL67+AG67 -> 0 | AI67: =AC67+AE67+AJ67+AL67+AG67 -> 0
Y68: Oil filters | Z68: 160107 | AA68: H | AB68: =SUM(AC303:AC305) -> 0 | AC68: =SUM(AD303:AD305) -> 0 | AD68: =SUM(AE303:AE305) -> 0 | AE68: =SUM(AF303:AF305) -> 0 | AF68: =SUM(AG303:AG305) -> 0 | AG68: =SUM(AH303:AH305) -> 0 | AH68: =AB68+AC68+AD68+AE68+AJ68+AL68+AG68 -> 0 | AI68: =AC68+AE68+AJ68+AL68+AG68 -> 0
Y69: Oil from oil / water separators | Z69: 130506 | AA69: H | AB69: =SUM(AC306:AC308) -> 0 | AC69: =SUM(AD306:AD308) -> 0 | AD69: =SUM(AE306:AE308) -> 0 | AE69: =SUM(AF306:AF308) -> 0 | AF69: =SUM(AG306:AG308) -> 0 | AG69: =SUM(AH306:AH308) -> 0 | AH69: =AB69+AC69+AD69+AE69+AJ69+AL69+AG69 -> 0 | AI69: =AC69+AE69+AJ69+AL69+AG69 -> 0
Y70: Oily water from oil / water separators | Z70: 130507 | AA70: H | AB70: =SUM(AC309:AC311) -> 0 | AC70: =SUM(AD309:AD311) -> 0 | AD70: =SUM(AE309:AE311) -> 0 | AE70: =SUM(AF309:AF311) -> 0 | AF70: =SUM(AG309:AG311) -> 0 | AG70: =SUM(AH309:AH311) -> 0 | AH70: =AB70+AC70+AD70+AE70+AJ70+AL70+AG70 -> 0 | AI70: =AC70+AE70+AJ70+AL70+AG70 -> 0
Y71: Packaging - Glass | Z71: 150107 | AA71: I | AB71: =SUM(AC312:AC314) -> 0 | AC71: =SUM(AD312:AD314) -> 0 | AD71: =SUM(AE312:AE314) -> 0 | AE71: =SUM(AF312:AF314) -> 0 | AF71: =SUM(AG312:AG314) -> 0 | AG71: =SUM(AH312:AH314) -> 0 | AH71: =AB71+AC71+AD71+AE71+AJ71+AL71+AG71 -> 0 | AI71: =AC71+AE71+AJ71+AL71+AG71 -> 0
Y72: Packaging - Metal | Z72: 150104 | AA72: NH | AB72: =SUM(AC315:AC317) -> 0 | AC72: =SUM(AD315:AD317) -> 0 | AD72: =SUM(AE315:AE317) -> 0 | AE72: =SUM(AF315:AF317) -> 0 | AF72: =SUM(AG315:AG317) -> 0 | AG72: =SUM(AH315:AH317) -> 0 | AH72: =AB72+AC72+AD72+AE72+AJ72+AL72+AG72 -> 0 | AI72: =AC72+AE72+AJ72+AL72+AG72 -> 0
Y73: Packaging - Mixed | Z73: 150106 | AA73: NH | AB73: =SUM(AC318:AC320) -> 0 | AC73: =SUM(AD318:AD320) -> 0 | AD73: =SUM(AE318:AE320) -> 0 | AE73: =SUM(AF318:AF320) -> 0 | AF73: =SUM(AG318:AG320) -> 0 | AG73: =SUM(AH318:AH320) -> 0 | AH73: =AB73+AC73+AD73+AE73+AJ73+AL73+AG73 -> 0 | AI73: =AC73+AE73+AJ73+AL73+AG73 -> 0
Y74: Packaging - Plastic | Z74: 150102 | AA74: NH | AB74: =SUM(AC321:AC323) -> 0 | AC74: =SUM(AD321:AD323) -> 0 | AD74: =SUM(AE321:AE323) -> 0 | AE74: =SUM(AF321:AF323) -> 0 | AF74: =SUM(AG321:AG323) -> 0 | AG74: =SUM(AH321:AH323) -> 0 | AH74: =AB74+AC74+AD74+AE74+AJ74+AL74+AG74 -> 0 | AI74: =AC74+AE74+AJ74+AL74+AG74 -> 0
Y75: Packaging - Wood | Z75: 150103 | AA75: NH | AB75: =SUM(AC324:AC326) -> 0 | AC75: =SUM(AD324:AD326) -> 0 | AD75: =SUM(AE324:AE326) -> 0 | AE75: =SUM(AF324:AF326) -> 0 | AF75: =SUM(AG324:AG326) -> 0 | AG75: =SUM(AH324:AH326) -> 0 | AH75: =AB75+AC75+AD75+AE75+AJ75+AL75+AG75 -> 0 | AI75: =AC75+AE75+AJ75+AL75+AG75 -> 0
Y76: Paint and varnish (non hazardous) | Z76: 80112 | AA76: NH | AB76: =SUM(AC327:AC329) -> 0 | AC76: =SUM(AD327:AD329) -> 0 | AD76: =SUM(AE327:AE329) -> 0 | AE76: =SUM(AF327:AF329) -> 0 | AF76: =SUM(AG327:AG329) -> 0 | AG76: =SUM(AH327:AH329) -> 0 | AH76: =AB76+AC76+AD76+AE76+AJ76+AL76+AG76 -> 0 | AI76: =AC76+AE76+AJ76+AL76+AG76 -> 0
Y77: Paint and varnish containing organic solvents or other dangerous substances | Z77: 80111 | AA77: H | AB77: =SUM(AC330:AC332) -> 0 | AC77: =SUM(AD330:AD332) -> 0 | AD77: =SUM(AE330:AE332) -> 0 | AE77: =SUM(AF330:AF332) -> 0 | AF77: =SUM(AG330:AG332) -> 0 | AG77: =SUM(AH330:AH332) -> 0 | AH77: =AB77+AC77+AD77+AE77+AJ77+AL77+AG77 -> 0 | AI77: =AC77+AE77+AJ77+AL77+AG77 -> 0
Y78: Paint or varnish remover (non hazardous) | Z78: 80118 | AA78: NH | AB78: =SUM(AC333:AC335) -> 0 | AC78: =SUM(AD333:AD335) -> 0 | AD78: =SUM(AE333:AE335) -> 0 | AE78: =SUM(AF333:AF335) -> 0 | AF78: =SUM(AG333:AG335) -> 0 | AG78: =SUM(AH333:AH335) -> 0 | AH78: =AB78+AC78+AD78+AE78+AJ78+AL78+AG78 -> 0 | AI78: =AC78+AE78+AJ78+AL78+AG78 -> 0
Y79: Paint or varnish remover containing organic solvents or other dangerous substances | Z79: 80117 | AA79: H | AB79: =SUM(AC336:AC338) -> 0 | AC79: =SUM(AD336:AD338) -> 0 | AD79: =SUM(AE336:AE338) -> 0 | AE79: =SUM(AF336:AF338) -> 0 | AF79: =SUM(AG336:AG338) -> 0 | AG79: =SUM(AH336:AH338) -> 0 | AH79: =AB79+AC79+AD79+AE79+AJ79+AL79+AG79 -> 0 | AI79: =AC79+AE79+AJ79+AL79+AG79 -> 0
Y80: Paper - Office | Z80: 200101 | AA80: NH | AB80: =SUM(AC339:AC341) -> 0 | AC80: =SUM(AD339:AD341) -> 0 | AD80: =SUM(AE339:AE341) -> 0 | AE80: =SUM(AF339:AF341) -> 0 | AF80: =SUM(AG339:AG341) -> 0 | AG80: =SUM(AH339:AH341) -> 0 | AH80: =AB80+AC80+AD80+AE80+AJ80+AL80+AG80 -> 0 | AI80: =AC80+AE80+AJ80+AL80+AG80 -> 0
Y81: Paper / Cardboard packaging | Z81: 150101 | AA81: NH | AB81: =SUM(AC342:AC344) -> 0 | AC81: =SUM(AD342:AD344) -> 0 | AD81: =SUM(AE342:AE344) -> 0 | AE81: =SUM(AF342:AF344) -> 0 | AF81: =SUM(AG342:AG344) -> 0 | AG81: =SUM(AH342:AH344) -> 0 | AH81: =AB81+AC81+AD81+AE81+AJ81+AL81+AG81 -> 0 | AI81: =AC81+AE81+AJ81+AL81+AG81 -> 0
Y82: Plastic | Z82: 170203 | AA82: NH | AB82: =SUM(AC345:AC347) -> 0 | AC82: =SUM(AD345:AD347) -> 0 | AD82: =SUM(AE345:AE347) -> 0 | AE82: =SUM(AF345:AF347) -> 0 | AF82: =SUM(AG345:AG347) -> 0 | AG82: =SUM(AH345:AH347) -> 0 | AH82: =AB82+AC82+AD82+AE82+AJ82+AL82+AG82 -> 0 | AI82: =AC82+AE82+AJ82+AL82+AG82 -> 0
Y83: Printing toner (no hazardous contents) | Z83: 80318 | AA83: NH | AB83: =SUM(AC348:AC350) -> 0 | AC83: =SUM(AD348:AD350) -> 0 | AD83: =SUM(AE348:AE350) -> 0 | AE83: =SUM(AF348:AF350) -> 0 | AF83: =SUM(AG348:AG350) -> 0 | AG83: =SUM(AH348:AH350) -> 0 | AH83: =AB83+AC83+AD83+AE83+AJ83+AL83+AG83 -> 0 | AI83: =AC83+AE83+AJ83+AL83+AG83 -> 0
Y84: Printing toner containing dangerous substances | Z84: 80317 | AA84: H | AB84: =SUM(AC351:AC353) -> 0 | AC84: =SUM(AD351:AD353) -> 0 | AD84: =SUM(AE351:AE353) -> 0 | AE84: =SUM(AF351:AF353) -> 0 | AF84: =SUM(AG351:AG353) -> 0 | AG84: =SUM(AH351:AH353) -> 0 | AH84: =AB84+AC84+AD84+AE84+AJ84+AL84+AG84 -> 0 | AI84: =AC84+AE84+AJ84+AL84+AG84 -> 0
Y85: Sewage effluent | Z85: 200304 | AA85: NH | AB85: =SUM(AC354:AC356) -> 0 | AC85: =SUM(AD354:AD356) -> 0 | AD85: =SUM(AE354:AE356) -> 0 | AE85: =SUM(AF354:AF356) -> 0 | AF85: =SUM(AG354:AG356) -> 0 | AG85: =SUM(AH354:AH356) -> 0 | AH85: =AB85+AC85+AD85+AE85+AJ85+AL85+AG85 -> 0 | AI85: =AC85+AE85+AJ85+AL85+AG85 -> 0
Y86: Sewage effluent - portaloos (Chemical) / storage tank | Z86: 161002 | AA86: NH | AB86: =SUM(AC357:AC359) -> 0 | AC86: =SUM(AD357:AD359) -> 0 | AD86: =SUM(AE357:AE359) -> 0 | AE86: =SUM(AF357:AF359) -> 0 | AF86: =SUM(AG357:AG359) -> 0 | AG86: =SUM(AH357:AH359) -> 0 | AH86: =AB86+AC86+AD86+AE86+AJ86+AL86+AG86 -> 0 | AI86: =AC86+AE86+AJ86+AL86+AG86 -> 0
Y87: Site Office / Welfare waste | Z87: 200301 | AA87: NH | AB87: =SUM(AC360:AC362) -> 0 | AC87: =SUM(AD360:AD362) -> 0 | AD87: =SUM(AE360:AE362) -> 0 | AE87: =SUM(AF360:AF362) -> #VALUE! | AF87: =SUM(AG360:AG362) -> 0 | AG87: =SUM(AH360:AH362) -> #VALUE! | AH87: =AB87+AC87+AD87+AE87+AJ87+AL87+AG87 -> #VALUE! | AI87: =AC87+AE87+AJ87+AL87+AG87 -> #VALUE!
Y88: Soil and stones - Hazardous | Z88: 170503 | AA88: H | AB88: =SUM(AC363:AC365) -> 0 | AC88: =SUM(AD363:AD365) -> 0 | AD88: =SUM(AE363:AE365) -> 0 | AE88: =SUM(AF363:AF365) -> 0 | AF88: =SUM(AG363:AG365) -> 0 | AG88: =SUM(AH363:AH365) -> 0 | AH88: =AB88+AC88+AD88+AE88+AJ88+AL88+AG88 -> 0 | AI88: =AC88+AE88+AJ88+AL88+AG88 -> 0
Y89: Soil and Stones - Non hazardous | Z89: 170504 | AA89: I | AB89: =SUM(AC366:AC368) -> 0 | AC89: =SUM(AD366:AD368) -> 0 | AD89: =SUM(AE366:AE368) -> 0 | AE89: =SUM(AF366:AF368) -> #VALUE! | AF89: =SUM(AG366:AG368) -> 0 | AG89: =SUM(AH366:AH368) -> #VALUE! | AH89: =AB89+AC89+AD89+AE89+AJ89+AL89+AG89 -> #VALUE! | AI89: =AC89+AE89+AJ89+AL89+AG89 -> #VALUE!
Y90: Spill kit (used) pads, socks etc. | Z90: 150202 | AA90: H | AB90: =SUM(AC369:AC371) -> 0 | AC90: =SUM(AD369:AD371) -> 0 | AD90: =SUM(AE369:AE371) -> 0 | AE90: =SUM(AF369:AF371) -> 0 | AF90: =SUM(AG369:AG371) -> 0 | AG90: =SUM(AH369:AH371) -> 0 | AH90: =AB90+AC90+AD90+AE90+AJ90+AL90+AG90 -> 0 | AI90: =AC90+AE90+AJ90+AL90+AG90 -> 0
Y91: Tiles and ceramics (uncontaminated) | Z91: 170103 | AA91: I | AB91: =SUM(AC372:AC374) -> 0 | AC91: =SUM(AD372:AD374) -> 0 | AD91: =SUM(AE372:AE374) -> 0 | AE91: =SUM(AF372:AF374) -> 0 | AF91: =SUM(AG372:AG374) -> 0 | AG91: =SUM(AH372:AH374) -> 0 | AH91: =AB91+AC91+AD91+AE91+AJ91+AL91+AG91 -> 0 | AI91: =AC91+AE91+AJ91+AL91+AG91 -> 0
Y92: Track ballast (uncontaminated) | Z92: 170508 | AA92: I | AB92: =SUM(AC375:AC377) -> 0 | AC92: =SUM(AD375:AD377) -> 0 | AD92: =SUM(AE375:AE377) -> 0 | AE92: =SUM(AF375:AF377) -> 0 | AF92: =SUM(AG375:AG377) -> 0 | AG92: =SUM(AH375:AH377) -> 0 | AH92: =AB92+AC92+AD92+AE92+AJ92+AL92+AG92 -> 0 | AI92: =AC92+AE92+AJ92+AL92+AG92 -> 0
Y93: Track ballast containing dangerous substances | Z93: 170507 | AA93: H | AB93: =SUM(AC378:AC380) -> 0 | AC93: =SUM(AD378:AD380) -> 0 | AD93: =SUM(AE378:AE380) -> 0 | AE93: =SUM(AF378:AF380) -> 0 | AF93: =SUM(AG378:AG380) -> 0 | AG93: =SUM(AH378:AH380) -> 0 | AH93: =AB93+AC93+AD93+AE93+AJ93+AL93+AG93 -> 0 | AI93: =AC93+AE93+AJ93+AL93+AG93 -> 0
Y94: Tyres | Z94: 160103 | AA94: NH | AB94: =SUM(AC381:AC383) -> 0 | AC94: =SUM(AD381:AD383) -> 0 | AD94: =SUM(AE381:AE383) -> 0 | AE94: =SUM(AF381:AF383) -> 0 | AF94: =SUM(AG381:AG383) -> 0 | AG94: =SUM(AH381:AH383) -> 0 | AH94: =AB94+AC94+AD94+AE94+AJ94+AL94+AG94 -> 0 | AI94: =AC94+AE94+AJ94+AL94+AG94 -> 0
Y95: Vegetation | Z95: 200201 | AA95: NH | AB95: =SUM(AC384:AC386) -> 0 | AC95: =SUM(AD384:AD386) -> 0 | AD95: =SUM(AE384:AE386) -> 0 | AE95: =SUM(AF384:AF386) -> 0 | AF95: =SUM(AG384:AG386) -> 0 | AG95: =SUM(AH384:AH386) -> 0 | AH95: =AB95+AC95+AD95+AE95+AJ95+AL95+AG95 -> 0 | AI95: =AC95+AE95+AJ95+AL95+AG95 -> 0
Y96: Wood | Z96: 170201 | AA96: NH | AB96: =SUM(AC387:AC389) -> 0 | AC96: =SUM(AD387:AD389) -> 0 | AD96: =SUM(AE387:AE389) -> 0 | AE96: =SUM(AF387:AF389) -> #VALUE! | AF96: =SUM(AG387:AG389) -> 0 | AG96: =SUM(AH387:AH389) -> #VALUE! | AH96: =AB96+AC96+AD96+AE96+AJ96+AL96+AG96 -> #VALUE! | AI96: =AC96+AE96+AJ96+AL96+AG96 -> #VALUE!
Y97: Sewage Treatment - Screenings | Z97: 190801 | AA97: NH | AB97: =SUM(AC390:AC392) -> 0 | AC97: =SUM(AD390:AD392) -> 0 | AD97: =SUM(AE390:AE392) -> 0 | AE97: =SUM(AF390:AF392) -> 0 | AF97: =SUM(AG390:AG392) -> 0 | AG97: =SUM(AH390:AH392) -> 0 | AH97: =AB97+AC97+AD97+AE97+AJ97+AL97+AG97 -> 0 | AI97: =AC97+AE97+AJ97+AL97+AG97 -> 0
Y98: Sewage Treatment – Grit / Sand | Z98: 190802 | AA98: NH | AB98: =SUM(AC393:AC395) -> 0 | AC98: =SUM(AD393:AD395) -> 0 | AD98: =SUM(AE393:AE395) -> 0 | AE98: =SUM(AF393:AF395) -> 0 | AF98: =SUM(AG393:AG395) -> 0 | AG98: =SUM(AH393:AH395) -> 0 | AH98: =AB98+AC98+AD98+AE98+AJ98+AL98+AG98 -> 0 | AI98: =AC98+AE98+AJ98+AL98+AG98 -> 0
Y99: Sewage Treatment - Sludge | Z99: 190805 | AA99: NH | AB99: =SUM(AC396:AC398) -> 0 | AC99: =SUM(AD396:AD398) -> 0 | AD99: =SUM(AE396:AE398) -> 0 | AE99: =SUM(AF396:AF398) -> 0 | AF99: =SUM(AG396:AG398) -> 0 | AG99: =SUM(AH396:AH398) -> 0 | AH99: =AB99+AC99+AD99+AE99+AJ99+AL99+AG99 -> 0 | AI99: =AC99+AE99+AJ99+AL99+AG99 -> 0
Y100: Spent activated carbon | Z100: 190904 | AA100: NH | AB100: =SUM(AC399:AC401) -> 0 | AC100: =SUM(AD399:AD401) -> 0 | AD100: =SUM(AE399:AE401) -> 0 | AE100: =SUM(AF399:AF401) -> 0 | AF100: =SUM(AG399:AG401) -> 0 | AG100: =SUM(AH399:AH401) -> 0 | AH100: =AB100+AC100+AD100+AE100+AJ100+AL100+AG100 -> 0 | AI100: =AC100+AE100+AJ100+AL100+AG100 -> 0
Y101: Water treatment – solid wastes from filtration / screenings | Z101: 190901 | AA101: NH | AB101: =SUM(AC402:AC404) -> 0 | AC101: =SUM(AD402:AD404) -> 0 | AD101: =SUM(AE402:AE404) -> 0 | AE101: =SUM(AF402:AF404) -> 0 | AF101: =SUM(AG402:AG404) -> 0 | AG101: =SUM(AH402:AH404) -> 0 | AH101: =AB101+AC101+AD101+AE101+AJ101+AL101+AG101 -> 0 | AI101: =AC101+AE101+AJ101+AL101+AG101 -> 0
Y102: Garden & Park waste - non biodegradable | Z102: 200203 | AA102: NH | AB102: =SUM(AC405:AC407) -> 0 | AC102: =SUM(AD405:AD407) -> 0 | AD102: =SUM(AE405:AE407) -> 0 | AE102: =SUM(AF405:AF407) -> 0 | AF102: =SUM(AG405:AG407) -> 0 | AG102: =SUM(AH405:AH407) -> 0 | AH102: =AB102+AC102+AD102+AE102+AJ102+AL102+AG102 -> 0 | AI102: =AC102+AE102+AJ102+AL102+AG102 -> 0
Y103: Soil and stones - Topsoil / Peat | Z103: 170504 | AA103: NH | AB103: =SUM(AC408:AC410) -> 0 | AC103: =SUM(AD408:AD410) -> 0 | AD103: =SUM(AE408:AE410) -> 0 | AE103: =SUM(AF408:AF410) -> 0 | AF103: =SUM(AG408:AG410) -> 0 | AG103: =SUM(AH408:AH410) -> 0 | AH103: =AB103+AC103+AD103+AE103+AJ103+AL103+AG103 -> 0 | AI103: =AC103+AE103+AJ103+AL103+AG103 -> 0
...

Sheet Legislative Checks
B2: Project Name | E2: ='Project Details'!D10 -> Piccadilly Gardens Redevelopment
B3: Contract Number | E3: ='Project Details'!D11 -> HLA098 | L3: Business Unit | N3: ='Project Details'!D38 -> Adam Liu
B4: Project Start Date | E4: ='Project Details'!D16 -> Winter 2026 (TBC)
B5: Person in Charge of Site Works | E5: ='Project Details'!D39 -> TBC | L5: Waste Champion | N5: ='Project Details'!D42 -> TBC
C8: Waste Carriers / Brokers / Waste Management Facilities / Part E Returns
F9: Waste Carrier | J9: Waste Broker (If applicable) | N9: Waste Management Facility
C11: Waste Stream | D11: EWC | E11: Waste Producer Business Unit or Subcontractor | F11: Name | G11: Registration No. | H11: Expiry Date (dd/mm/yyyy) | I11: Date checked with Regulator (dd/mm/yyyy) | J11: Name | K11: Registration No. | L11: Expiry Date (dd/mm/yyyy) | M11: Date checked with Regulator (dd/mm/yyyy) | N11: Name | O11: Type of Site | P11: Permit / WML / EASR / Exempt No. | Q11: Copy of Permit / Licence / Exemption obtained? | R11: Hazardous Waste | T11: Waste Carrier Registration | Z11: Waste Broker Registration
R12: HWCN / SWCN Part E Obtained from Suppler | T12: close | U12: Error 1 | V12: Error2 | W12: Expired | X12: Has data | Z12: close | AA12: Error 1 | AB12: Error2 | AC12: Expired | AD12: Has data
C13: Site Office / Welfare waste | D13: =IF(C13="","",(VLOOKUP($C13,EWC,2,FALSE))) -> 200301 | E13: Galliford Try | Q13: NO | R13: NO | T13: =IF(H13<($X$39+30),1,0) -> 1 | U13: =IF(W13+X13=2,1,0) -> 0 | V13: =IF(T13+X13=2,1,0) -> 0 | W13: =IF(H13<$X$39,1,0) -> 1 | X13: =IF(H13>0,1,0) -> 0 | Z13: =IF(L13<($X$39+30),1,0) -> 1 | AA13: =IF(AC13+AD13=2,1,0) -> 0 | AB13: =IF(Z13+AD13=2,1,0) -> 0 | AC13: =IF(L13<$X$39,1,0) -> 1 | AD13: =IF(L13>0,1,0) -> 0
C14: Metal - mixed | D14: =IF(C14="","",(VLOOKUP($C14,EWC,2,FALSE))) -> 170407 | E14: Galliford Try | Q14: NO | R14: NO | T14: =IF(H14<($X$39+30),1,0) -> 1 | U14: =IF(W14+X14=2,1,0) -> 0 | V14: =IF(T14+X14=2,1,0) -> 0 | W14: =IF(H14<$X$39,1,0) -> 1 | X14: =IF(H14>0,1,0) -> 0 | Z14: =IF(L14<($X$39+30),1,0) -> 1 | AA14: =IF(AC14+AD14=2,1,0) -> 0 | AB14: =IF(Z14+AD14=2,1,0) -> 0 | AC14: =IF(L14<$X$39,1,0) -> 1 | AD14: =IF(L14>0,1,0) -> 0
C15: Soil and Stones | D15: =IF(C15="","",(VLOOKUP($C15,EWC,2,FALSE))) -> 170504 | E15: Galliford Try | Q15: NO | R15: NO | T15: =IF(H15<($X$39+30),1,0) -> 1 | U15: =IF(W15+X15=2,1,0) -> 0 | V15: =IF(T15+X15=2,1,0) -> 0 | W15: =IF(H15<$X$39,1,0) -> 1 | X15: =IF(H15>0,1,0) -> 0 | Z15: =IF(L15<($X$39+30),1,0) -> 1 | AA15: =IF(AC15+AD15=2,1,0) -> 0 | AB15: =IF(Z15+AD15=2,1,0) -> 0 | AC15: =IF(L15<$X$39,1,0) -> 1 | AD15: =IF(L15>0,1,0) -> 0
C16: Bituminous mixtures not containing coal tar | D16: =IF(C16="","",(VLOOKUP($C16,EWC,2,FALSE))) -> 170302 | E16: Galliford Try | Q16: NO | R16: NO | T16: =IF(H16<($X$39+30),1,0) -> 1 | U16: =IF(W16+X16=2,1,0) -> 0 | V16: =IF(T16+X16=2,1,0) -> 0 | W16: =IF(H16<$X$39,1,0) -> 1 | X16: =IF(H16>0,1,0) -> 0 | Z16: =IF(L16<($X$39+30),1,0) -> 1 | AA16: =IF(AC16+AD16=2,1,0) -> 0 | AB16: =IF(Z16+AD16=2,1,0) -> 0 | AC16: =IF(L16<$X$39,1,0) -> 1 | AD16: =IF(L16>0,1,0) -> 0
C17: Road sweepings | D17: =IF(C17="","",(VLOOKUP($C17,EWC,2,FALSE))) -> 200303 | E17: Galliford Try | Q17: NO | R17: NO | T17: =IF(H17<($X$39+30),1,0) -> 1 | U17: =IF(W17+X17=2,1,0) -> 0 | V17: =IF(T17+X17=2,1,0) -> 0 | W17: =IF(H17<$X$39,1,0) -> 1 | X17: =IF(H17>0,1,0) -> 0 | Z17: =IF(L17<($X$39+30),1,0) -> 1 | AA17: =IF(AC17+AD17=2,1,0) -> 0 | AB17: =IF(Z17+AD17=2,1,0) -> 0 | AC17: =IF(L17<$X$39,1,0) -> 1 | AD17: =IF(L17>0,1,0) -> 0
C18: Sewage Treatment - Sludge destined for offsite treatment | D18: =IF(C18="","",(VLOOKUP($C18,EWC,2,FALSE))) -> 161001 | E18: Galliford Try | Q18: NO | R18: NO | T18: =IF(H18<($X$39+30),1,0) -> 1 | U18: =IF(W18+X18=2,1,0) -> 0 | V18: =IF(T18+X18=2,1,0) -> 0 | W18: =IF(H18<$X$39,1,0) -> 1 | X18: =IF(H18>0,1,0) -> 0 | Z18: =IF(L18<($X$39+30),1,0) -> 1 | AA18: =IF(AC18+AD18=2,1,0) -> 0 | AB18: =IF(Z18+AD18=2,1,0) -> 0 | AC18: =IF(L18<$X$39,1,0) -> 1 | AD18: =IF(L18>0,1,0) -> 0
C19: Construction and demolition wastes - Mixed (uncontaminated) | D19: =IF(C19="","",(VLOOKUP($C19,EWC,2,FALSE))) -> 170904 | E19: Galliford Try | Q19: NO | R19: NO | T19: =IF(H19<($X$39+30),1,0) -> 1 | U19: =IF(W19+X19=2,1,0) -> 0 | V19: =IF(T19+X19=2,1,0) -> 0 | W19: =IF(H19<$X$39,1,0) -> 1 | X19: =IF(H19>0,1,0) -> 0 | Z19: =IF(L19<($X$39+30),1,0) -> 1 | AA19: =IF(AC19+AD19=2,1,0) -> 0 | AB19: =IF(Z19+AD19=2,1,0) -> 0 | AC19: =IF(L19<$X$39,1,0) -> 1 | AD19: =IF(L19>0,1,0) -> 0
C20: Construction materials containing asbestos | D20: =IF(C20="","",(VLOOKUP($C20,EWC,2,FALSE))) -> 170605 | E20: Galliford Try | Q20: NO | R20: NO | T20: =IF(H20<($X$39+30),1,0) -> 1 | U20: =IF(W20+X20=2,1,0) -> 0 | V20: =IF(T20+X20=2,1,0) -> 0 | W20: =IF(H20<$X$39,1,0) -> 1 | X20: =IF(H20>0,1,0) -> 0 | Z20: =IF(L20<($X$39+30),1,0) -> 1 | AA20: =IF(AC20+AD20=2,1,0) -> 0 | AB20: =IF(Z20+AD20=2,1,0) -> 0 | AC20: =IF(L20<$X$39,1,0) -> 1 | AD20: =IF(L20>0,1,0) -> 0
C21: Concrete, bricks, tiles and ceramics - Mixed (uncontaminated) | D21: =IF(C21="","",(VLOOKUP($C21,EWC,2,FALSE))) -> 170107 | E21: Galliford Try | Q21: NO | R21: NO | T21: =IF(H21<($X$39+30),1,0) -> 1 | U21: =IF(W21+X21=2,1,0) -> 0 | V21: =IF(T21+X21=2,1,0) -> 0 | W21: =IF(H21<$X$39,1,0) -> 1 | X21: =IF(H21>0,1,0) -> 0 | Z21: =IF(L21<($X$39+30),1,0) -> 1 | AA21: =IF(AC21+AD21=2,1,0) -> 0 | AB21: =IF(Z21+AD21=2,1,0) -> 0 | AC21: =IF(L21<$X$39,1,0) -> 1 | AD21: =IF(L21>0,1,0) -> 0
C22: Concrete, bricks, tiles and ceramics - Mixed (uncontaminated) | D22: =IF(C22="","",(VLOOKUP($C22,EWC,2,FALSE))) -> 170107 | E22: Galliford Try | Q22: NO | R22: NO | T22: =IF(H22<($X$39+30),1,0) -> 1 | U22: =IF(W22+X22=2,1,0) -> 0 | V22: =IF(T22+X22=2,1,0) -> 0 | W22: =IF(H22<$X$39,1,0) -> 1 | X22: =IF(H22>0,1,0) -> 0 | Z22: =IF(L22<($X$39+30),1,0) -> 1 | AA22: =IF(AC22+AD22=2,1,0) -> 0 | AB22: =IF(Z22+AD22=2,1,0) -> 0 | AC22: =IF(L22<$X$39,1,0) -> 1 | AD22: =IF(L22>0,1,0) -> 0
C23: Construction materials containing asbestos | D23: =IF(C23="","",(VLOOKUP($C23,EWC,2,FALSE))) -> 170605 | E23: Galliford Try | Q23: NO | R23: NO | T23: =IF(H23<($X$39+30),1,0) -> 1 | U23: =IF(W23+X23=2,1,0) -> 0 | V23: =IF(T23+X23=2,1,0) -> 0 | W23: =IF(H23<$X$39,1,0) -> 1 | X23: =IF(H23>0,1,0) -> 0 | Z23: =IF(L23<($X$39+30),1,0) -> 1 | AA23: =IF(AC23+AD23=2,1,0) -> 0 | AB23: =IF(Z23+AD23=2,1,0) -> 0 | AC23: =IF(L23<$X$39,1,0) -> 1 | AD23: =IF(L23>0,1,0) -> 0
C24: Wood | D24: =IF(C24="","",(VLOOKUP($C24,EWC,2,FALSE))) -> 170201 | E24: Galliford Try | Q24: NO | R24: NO | T24: =IF(H24<($X$39+30),1,0) -> 1 | U24: =IF(W24+X24=2,1,0) -> 0 | V24: =IF(T24+X24=2,1,0) -> 0 | W24: =IF(H24<$X$39,1,0) -> 1 | X24: =IF(H24>0,1,0) -> 0 | Z24: =IF(L24<($X$39+30),1,0) -> 1 | AA24: =IF(AC24+AD24=2,1,0) -> 0 | AB24: =IF(Z24+AD24=2,1,0) -> 0 | AC24: =IF(L24<$X$39,1,0) -> 1 | AD24: =IF(L24>0,1,0) -> 0
C25: Dry Mixed Recyclables (DMR - paper, cardboard, metal, plastic glass) | D25: =IF(C25="","",(VLOOKUP($C25,EWC,2,FALSE))) -> 150106 | E25: Galliford Try | Q25: NO | R25: NO | T25: =IF(H25<($X$39+30),1,0) -> 1 | U25: =IF(W25+X25=2,1,0) -> 0 | V25: =IF(T25+X25=2,1,0) -> 0 | W25: =IF(H25<$X$39,1,0) -> 1 | X25: =IF(H25>0,1,0) -> 0 | Z25: =IF(L25<($X$39+30),1,0) -> 1 | AA25: =IF(AC25+AD25=2,1,0) -> 0 | AB25: =IF(Z25+AD25=2,1,0) -> 0 | AC25: =IF(L25<$X$39,1,0) -> 1 | AD25: =IF(L25>0,1,0) -> 0
D26: =IF(C26="","",(VLOOKUP($C26,EWC,2,FALSE))) | Q26: NO | R26: NO | T26: =IF(H26<($X$39+30),1,0) -> 1 | U26: =IF(W26+X26=2,1,0) -> 0 | V26: =IF(T26+X26=2,1,0) -> 0 | W26: =IF(H26<$X$39,1,0) -> 1 | X26: =IF(H26>0,1,0) -> 0 | Z26: =IF(L26<($X$39+30),1,0) -> 1 | AA26: =IF(AC26+AD26=2,1,0) -> 0 | AB26: =IF(Z26+AD26=2,1,0) -> 0 | AC26: =IF(L26<$X$39,1,0) -> 1 | AD26: =IF(L26>0,1,0) -> 0
D27: =IF(C27="","",(VLOOKUP($C27,EWC,2,FALSE))) | Q27: NO | R27: NO | T27: =IF(H27<($X$39+30),1,0) -> 1 | U27: =IF(W27+X27=2,1,0) -> 0 | V27: =IF(T27+X27=2,1,0) -> 0 | W27: =IF(H27<$X$39,1,0) -> 1 | X27: =IF(H27>0,1,0) -> 0 | Z27: =IF(L27<($X$39+30),1,0) -> 1 | AA27: =IF(AC27+AD27=2,1,0) -> 0 | AB27: =IF(Z27+AD27=2,1,0) -> 0 | AC27: =IF(L27<$X$39,1,0) -> 1 | AD27: =IF(L27>0,1,0) -> 0
D28: =IF(C28="","",(VLOOKUP($C28,EWC,2,FALSE))) | Q28: NO | R28: NO | T28: =IF(H28<($X$39+30),1,0) -> 1 | U28: =IF(W28+X28=2,1,0) -> 0 | V28: =IF(T28+X28=2,1,0) -> 0 | W28: =IF(H28<$X$39,1,0) -> 1 | X28: =IF(H28>0,1,0) -> 0 | Z28: =IF(L28<($X$39+30),1,0) -> 1 | AA28: =IF(AC28+AD28=2,1,0) -> 0 | AB28: =IF(Z28+AD28=2,1,0) -> 0 | AC28: =IF(L28<$X$39,1,0) -> 1 | AD28: =IF(L28>0,1,0) -> 0
Q29: NO | R29: NO
D30: =IF(C30="","",(VLOOKUP($C30,EWC,2,FALSE))) | Q30: NO | R30: NO | T30: =IF(H30<($X$39+30),1,0) -> 1 | U30: =IF(W30+X30=2,1,0) -> 0 | V30: =IF(T30+X30=2,1,0) -> 0 | W30: =IF(H30<$X$39,1,0) -> 1 | X30: =IF(H30>0,1,0) -> 0 | Z30: =IF(L30<($X$39+30),1,0) -> 1 | AA30: =IF(AC30+AD30=2,1,0) -> 0 | AB30: =IF(Z30+AD30=2,1,0) -> 0 | AC30: =IF(L30<$X$39,1,0) -> 1 | AD30: =IF(L30>0,1,0) -> 0
D31: =IF(C31="","",(VLOOKUP($C31,EWC,2,FALSE))) | Q31: NO | R31: NO | T31: =IF(H31<($X$39+30),1,0) -> 1 | U31: =IF(W31+X31=2,1,0) -> 0 | V31: =IF(T31+X31=2,1,0) -> 0 | W31: =IF(H31<$X$39,1,0) -> 1 | X31: =IF(H31>0,1,0) -> 0 | Z31: =IF(L31<($X$39+30),1,0) -> 1 | AA31: =IF(AC31+AD31=2,1,0) -> 0 | AB31: =IF(Z31+AD31=2,1,0) -> 0 | AC31: =IF(L31<$X$39,1,0) -> 1 | AD31: =IF(L31>0,1,0) -> 0
D32: =IF(C32="","",(VLOOKUP($C32,EWC,2,FALSE))) | Q32: NO | R32: NO | T32: =IF(H32<($X$39+30),1,0) -> 1 | U32: =IF(W32+X32=2,1,0) -> 0 | V32: =IF(T32+X32=2,1,0) -> 0 | W32: =IF(H32<$X$39,1,0) -> 1 | X32: =IF(H32>0,1,0) -> 0 | Z32: =IF(L32<($X$39+30),1,0) -> 1 | AA32: =IF(AC32+AD32=2,1,0) -> 0 | AB32: =IF(Z32+AD32=2,1,0) -> 0 | AC32: =IF(L32<$X$39,1,0) -> 1 | AD32: =IF(L32>0,1,0) -> 0
D33: =IF(C33="","",(VLOOKUP($C33,EWC,2,FALSE))) | Q33: NO | R33: NO | T33: =IF(H33<($X$39+30),1,0) -> 1 | U33: =IF(W33+X33=2,1,0) -> 0 | V33: =IF(T33+X33=2,1,0) -> 0 | W33: =IF(H33<$X$39,1,0) -> 1 | X33: =IF(H33>0,1,0) -> 0 | Z33: =IF(L33<($X$39+30),1,0) -> 1 | AA33: =IF(AC33+AD33=2,1,0) -> 0 | AB33: =IF(Z33+AD33=2,1,0) -> 0 | AC33: =IF(L33<$X$39,1,0) -> 1 | AD33: =IF(L33>0,1,0) -> 0
C37: Environmental Permits / Licences / Exemptions / Registrations required for site work. | I37: Hazardous Waste Premises Notification No. (Wales only)
C39: Type of Permitted / Licenced / Exempt / Activity | D39: Exemption Type | E39: Exemption Reference | F39: Exemption Description | I39: Activity on Site Requiring a Permit / Licence / Exemption | N39: Waste Type | O39: EWC Code | P39: Max Quantity of Waste to be used (tonnes) | Q39: Expiry Date (dd/mm/yyyy) (if applicable) | X39: =NOW() -> 46246.631
F40: =IF(D40="","",VLOOKUP($D40,'Data Sheet'!$P$7:$Q$46,2,FALSE)) | O40: =IF(N40="","",(VLOOKUP($N40,EWC,2,FALSE)))
E41: =IF(D41="","",VLOOKUP(D41,'Data Sheet'!$R$2:$S$42,2,FALSE)) | F41: =IF(D41="","",VLOOKUP($D41,'Data Sheet'!$P$7:$Q$46,2,FALSE)) | O41: =IF(N41="","",(VLOOKUP($N41,EWC,2,FALSE)))
E42: =IF(D42="","",VLOOKUP(D42,'Data Sheet'!$R$2:$S$42,2,FALSE)) | F42: =IF(D42="","",VLOOKUP($D42,'Data Sheet'!$P$7:$Q$46,2,FALSE)) | O42: =IF(N42="","",(VLOOKUP($N42,EWC,2,FALSE)))
E43: =IF(D43="","",VLOOKUP(D43,'Data Sheet'!$R$2:$S$42,2,FALSE)) | F43: =IF(D43="","",VLOOKUP($D43,'Data Sheet'!$P$7:$Q$46,2,FALSE)) | O43: =IF(N43="","",(VLOOKUP($N43,EWC,2,FALSE)))
E44: =IF(D44="","",VLOOKUP(D44,'Data Sheet'!$R$2:$S$42,2,FALSE)) | F44: =IF(D44="","",VLOOKUP($D44,'Data Sheet'!$P$7:$Q$46,2,FALSE)) | O44: =IF(N44="","",(VLOOKUP($N44,EWC,2,FALSE)))
E45: =IF(D45="","",VLOOKUP(D45,'Data Sheet'!$R$2:$S$42,2,FALSE)) | F45: =IF(D45="","",VLOOKUP($D45,'Data Sheet'!$P$7:$Q$46,2,FALSE)) | O45: =IF(N45="","",(VLOOKUP($N45,EWC,2,FALSE)))
E46: =IF(D46="","",VLOOKUP(D46,'Data Sheet'!$R$2:$S$42,2,FALSE)) | F46: =IF(D46="","",VLOOKUP($D46,'Data Sheet'!$P$7:$Q$46,2,FALSE)) | O46: =IF(N46="","",(VLOOKUP($N46,EWC,2,FALSE)))
E47: =IF(D47="","",VLOOKUP(D47,'Data Sheet'!$R$2:$S$42,2,FALSE)) | F47: =IF(D47="","",VLOOKUP($D47,'Data Sheet'!$P$7:$Q$46,2,FALSE)) | O47: =IF(N47="","",(VLOOKUP($N47,EWC,2,FALSE)))
E48: =IF(D48="","",VLOOKUP(D48,'Data Sheet'!$R$2:$S$42,2,FALSE)) | F48: =IF(D48="","",VLOOKUP($D48,'Data Sheet'!$P$7:$Q$46,2,FALSE)) | O48: =IF(N48="","",(VLOOKUP($N48,EWC,2,FALSE)))

Sheet Exemption Tracking
C2: Exemption Tracking is only needs to be completed where you are using waste exemptions and need to record the quantity been reused.. Each waste stream within the exemption needs to be recorded seperately
J5: Record Dates and Total Volumes moved on that day in the boxes below (volume in tonnes)
C6: Waste / Material | D6: Activity | E6: EWC | F6: Waste / Material Category | G6: Waste Exemption | H6: Exemption Number | I6: Allowable Waste under Exemption (tonnes) | J6: Date | K6: Date | L6: Date | M6: Date | N6: Date | O6: Date | P6: Date | Q6: Date | R6: Date | S6: Date | T6: Date | U6: Date | V6: Date | W6: Date | X6: Date | Y6: Date | Z6: Date | AA6: Date | AB6: Date | AC6: Date | AD6: Date | AE6: Date | AF6: Date | AG6: Date | AH6: Date | AI6: Date | AJ6: Date | AK6: Date | AL6: Date | AM6: Date | AP6: Red | AQ6: Amber | AR6: Anticipated
C7: =IF('Legislative Checks'!N40="","",'Legislative Checks'!N40) | E7: =IF(C7="","",(VLOOKUP($C7,EWC,2,FALSE))) | F7: =IF(C7="","",(VLOOKUP($C7,EWC,3,FALSE))) | G7: =IF('Legislative Checks'!D40="","",'Legislative Checks'!D40) | H7: =IF('Legislative Checks'!E40="","",'Legislative Checks'!E40) | R7: 0 | S7: 0 | AP7: =SUM(J7:AM7) -> 0 | AQ7: =SUM(I7*0.75) -> 0 | AR7: ='Legislative Checks'!P40 -> 0
C8: =IF('Legislative Checks'!N41="","",'Legislative Checks'!N41) | E8: =IF(C8="","",(VLOOKUP($C8,EWC,2,FALSE))) | F8: =IF(C8="","",(VLOOKUP($C8,EWC,3,FALSE))) | G8: =IF('Legislative Checks'!D41="","",'Legislative Checks'!D41) | H8: =IF('Legislative Checks'!E41="","",'Legislative Checks'!E41) | AP8: =SUM(J8:AM8) -> 0 | AQ8: =SUM(I8*0.75) -> 0 | AR8: ='Legislative Checks'!P41 -> 0
C9: =IF('Legislative Checks'!N42="","",'Legislative Checks'!N42) | E9: =IF(C9="","",(VLOOKUP($C9,EWC,2,FALSE))) | F9: =IF(C9="","",(VLOOKUP($C9,EWC,3,FALSE))) | G9: =IF('Legislative Checks'!D42="","",'Legislative Checks'!D42) | H9: =IF('Legislative Checks'!E42="","",'Legislative Checks'!E42) | AP9: =SUM(J9:AM9) -> 0 | AQ9: =SUM(I9*0.75) -> 0 | AR9: ='Legislative Checks'!P42 -> 0
C10: =IF('Legislative Checks'!N43="","",'Legislative Checks'!N43) | E10: =IF(C10="","",(VLOOKUP($C10,EWC,2,FALSE))) | F10: =IF(C10="","",(VLOOKUP($C10,EWC,3,FALSE))) | G10: =IF('Legislative Checks'!D43="","",'Legislative Checks'!D43) | H10: =IF('Legislative Checks'!E43="","",'Legislative Checks'!E43) | AP10: =SUM(J10:AM10) -> 0 | AQ10: =SUM(I10*0.75) -> 0 | AR10: ='Legislative Checks'!P43 -> 0
C11: =IF('Legislative Checks'!N44="","",'Legislative Checks'!N44) | E11: =IF(C11="","",(VLOOKUP($C11,EWC,2,FALSE))) | F11: =IF(C11="","",(VLOOKUP($C11,EWC,3,FALSE))) | G11: =IF('Legislative Checks'!D44="","",'Legislative Checks'!D44) | H11: =IF('Legislative Checks'!E44="","",'Legislative Checks'!E44) | AP11: =SUM(J11:AM11) -> 0 | AQ11: =SUM(I11*0.75) -> 0 | AR11: ='Legislative Checks'!P44 -> 0
C12: =IF('Legislative Checks'!N45="","",'Legislative Checks'!N45) | E12: =IF(C12="","",(VLOOKUP($C12,EWC,2,FALSE))) | F12: =IF(C12="","",(VLOOKUP($C12,EWC,3,FALSE))) | G12: =IF('Legislative Checks'!D45="","",'Legislative Checks'!D45) | H12: =IF('Legislative Checks'!E45="","",'Legislative Checks'!E45) | AP12: =SUM(J12:AM12) -> 0 | AQ12: =SUM(I12*0.75) -> 0 | AR12: ='Legislative Checks'!P45 -> 0
C13: =IF('Legislative Checks'!N46="","",'Legislative Checks'!N46) | E13: =IF(C13="","",(VLOOKUP($C13,EWC,2,FALSE))) | F13: =IF(C13="","",(VLOOKUP($C13,EWC,3,FALSE))) | G13: =IF('Legislative Checks'!D46="","",'Legislative Checks'!D46) | H13: =IF('Legislative Checks'!E46="","",'Legislative Checks'!E46) | AP13: =SUM(J13:AM13) -> 0 | AQ13: =SUM(I13*0.75) -> 0 | AR13: ='Legislative Checks'!P46 -> 0

Sheet Waste Tracking
C2: Waste Tracking only needs to be completed if there is a contractual requirement to record individual waste movements offsite, it is voluntary for all other projects
C6: Waste / Material | D6: Activity | E6: EWC | F6: Waste / Material Category | G6: GT Waste Transfer Note Reference | H6: Supplier Transfer Note Reference | I6: Weight Taken offsite (tonnes) | J6: Date of Transfer | K6: Time of Transfer | L6: Accepted at Disposal Site | M6: ViewPoint | N6: Client Portal
E7: =IF(C7="","",(VLOOKUP($C7,EWC,2,FALSE))) | F7: =IF(C7="","",(VLOOKUP($C7,EWC,3,FALSE))) | L7: NO | M7: NO | N7: NO
E5825: =IF(C5825="","",(VLOOKUP($C5825,EWC,2,FALSE))) | F5825: =IF(C5825="","",(VLOOKUP($C5825,EWC,3,FALSE)))
E5886: =IF(C5886="","",(VLOOKUP($C5886,EWC,2,FALSE))) | F5886: =IF(C5886="","",(VLOOKUP($C5886,EWC,3,FALSE)))
E5887: =IF(C5887="","",(VLOOKUP($C5887,EWC,2,FALSE))) | F5887: =IF(C5887="","",(VLOOKUP($C5887,EWC,3,FALSE)))
E5888: =IF(C5888="","",(VLOOKUP($C5888,EWC,2,FALSE))) | F5888: =IF(C5888="","",(VLOOKUP($C5888,EWC,3,FALSE)))
E5889: =IF(C5889="","",(VLOOKUP($C5889,EWC,2,FALSE))) | F5889: =IF(C5889="","",(VLOOKUP($C5889,EWC,3,FALSE)))
E5890: =IF(C5890="","",(VLOOKUP($C5890,EWC,2,FALSE))) | F5890: =IF(C5890="","",(VLOOKUP($C5890,EWC,3,FALSE)))
E5891: =IF(C5891="","",(VLOOKUP($C5891,EWC,2,FALSE))) | F5891: =IF(C5891="","",(VLOOKUP($C5891,EWC,3,FALSE)))
E5892: =IF(C5892="","",(VLOOKUP($C5892,EWC,2,FALSE))) | F5892: =IF(C5892="","",(VLOOKUP($C5892,EWC,3,FALSE)))
E5893: =IF(C5893="","",(VLOOKUP($C5893,EWC,2,FALSE))) | F5893: =IF(C5893="","",(VLOOKUP($C5893,EWC,3,FALSE)))
E5894: =IF(C5894="","",(VLOOKUP($C5894,EWC,2,FALSE))) | F5894: =IF(C5894="","",(VLOOKUP($C5894,EWC,3,FALSE)))
E5895: =IF(C5895="","",(VLOOKUP($C5895,EWC,2,FALSE))) | F5895: =IF(C5895="","",(VLOOKUP($C5895,EWC,3,FALSE)))
E5896: =IF(C5896="","",(VLOOKUP($C5896,EWC,2,FALSE))) | F5896: =IF(C5896="","",(VLOOKUP($C5896,EWC,3,FALSE)))
... E5907: =IF(C5907="","",(VLOOKUP($C5907,EWC,2,FALSE))) | F5907: =IF(C5907="","",(VLOOKUP($C5907,EWC,3,FALSE)))

Sheet Data Sheet
B2: This lookup is used for drop down for EWC codes on the legislative tabs, project culminative, quarterly and monthly tabs. Note: Conversion Factor is used in the conversion calculator tab for different material types (uses vlookup and references CF) | H2: Various drop down lookups used on several tabs | J2: This lookups are used in the conversion calculator as both lookups and arrays for calculations | N2: This is the KPI lookup on the Project Details page, the information is also used to update the lookups on the Project KPI's Tab. The split between Building, Infrastructure and Specialist Services is not currently used in the tabs. | P2: This lookup is used in the Legislative Checks Tab to provide the lookup for the exemption type and also the waste exemption description. The description is a lookup from the type. | S2: This data is used on th Project KPI's reporting tab to generate the two bar charts and the pie chart below.
B5: Waste Description | C5: EWC | D5: Type | E5: Conversion Factor | F5: Updates | H5: Division | J5: Container_Size | K5: Container_Volume | N5: KPI's | P5: Exemption Type | Q5: Description | S5: Chart Data
B7: Aerosol cans containing paint or gas | C7: 160504 | D7: H | E7: 0.3 | H7: Infrastructure | J7: Drum 205 ltr | K7: 0.205 | N7: KPI list | P7: U1 | Q7: Using waste in construction | S7: Bar Charts
B8: Bituminous mixtures containing coal tar | C8: 170301 | D8: H | E8: 0.9 | H8: Building | J8: Drum 25 ltr | K8: 0.025 | M8: 1 | N8: BRE - Construction waste (tonnes) generated per 100m2 gross floor area | P8: U6 | Q8: Using sludge to ressed a waste water treatment plant | S8: Waste diverted from landfill (including soils and stones)%
B9: Bituminous mixtures not containing coal tar | C9: 170302 | D9: NH | E9: 0.82 | J9: Front-end loader 10 yd3 | K9: 7.6455486 | M9: 2 | N9: BRE - Construction (non hazardous) waste diverted from landfill % | P9: U7 | Q9: using effluence to clean a highway gravel bed | S9: Target | T9: ='Project KPI''s'!D8 -> 85
B10: Bricks | C10: 170102 | D10: I | E10: 1.2 | H10: Waste Activity | J10: Front-end loader 12 yds | K10: 9.1746583 | M10: 3 | N10: BRE - Demolition (non hazardous) waste diverted from landfill % | P10: U8 | Q10: Using waste for a specific purpose | S10: Actual | T10: ='Project KPI''s'!E8 -> #DIV/0!
B11: Concrete | C11: 170101 | D11: I | E11: 1.27 | H11: Demolition | J11: Front-end loader 2 yd3 | K11: 1.5291097 | M11: 4 | N11: BRE - Excavation (non hazardous) waste diverted from landfill % | P11: U10 | Q11: spreading waste to benefit agricultural land
B12: Concrete, bricks, tiles and ceramics - Mixed (uncontaminated) | C12: 170107 | D12: NH | E12: 1.24 | H12: Construction | J12: Front-end loader 4yd3 | K12: 3.0582194 | M12: 5 | N12: BRE INF - Waste from demolition / deconstruction works reused on site (%) | P12: U12 | Q12: using mulch | S12: Waste diverted from landfill (excluding soils and stones)%
B13: Construction and demolition wastes - Mixed (uncontaminated) | C13: 170904 | D13: NH | E13: 0.32 | H13: Excavation | J13: Front-end loader 6 yd3 | K13: 4.5873291 | M13: 6 | N13: BRE INF - Excavated material beneficially reused on site (%) | P13: S1 | Q13: Storing waste in secure containers | S13: Target | T13: ='Project KPI''s'!D9 -> 90
B14: Construction materials containing asbestos | C14: 170605 | D14: H | E14: 0.31 | J14: Front-end loader 8yds | K14: 6.1164389 | M14: 7 | N14: BRE INF - Inert wastes diverted from landfill (%) | P14: S2 | Q14: Storing waste at a secure site | S14: Actual | T14: ='Project KPI''s'!E9 -> #DIV/0!
B15: Dry Mixed Recyclables (DMR - paper, cardboard, metal, plastic glass) | C15: 150106 | D15: NH | E15: 0.21 | H15: Waste Forecast Tab Drop Down (Waste Material Options) | J15: IBC Container (drum) 1000 ltr | K15: 1 | M15: 8 | N15: BRE INF - Non-hazardous wastes diverted from landfill (%) | P15: S3 | Q15: Storing sludge
B16: Glass | C16: 170202 | D16: I | E16: 0.61 | H16: Re Use On Site | J16: Midi skip 4 yd3 | K16: 3.0582194 | M16: 9 | P16: T1 | Q16: Treating certain waste to reuse or recycle | S16: Pie Chart
B17: Gypsum-based construction materials - Plasterboard | C17: 170802 | D17: NH | E17: 0.33 | H17: Re Use Off Site | J17: Midi skip 5 yd3 | K17: 3.8227743 | M17: 10 | P17: T4 | Q17: Storing and preparing waste for further treatment | S17: Soil & stones | T17: =Reporting!J22+Reporting!N22+Reporting!T22+Reporting!J23+Reporting!N23+Reporting!T23 -> 0
B18: Insulating materials (uncontaminated) | C18: 170604 | D18: NH | E18: 0.25 | H18: Recycled On Site | J18: Midi skip 6yd3 | K18: 4.5873291 | P18: T5 | Q18: Screening and Blending Waste | S18: Concrete, Bricks Tiles | T18: =Reporting!J24+Reporting!N24+Reporting!T24 -> 0
B19: Metal - mixed | C19: 170407 | D19: NH | E19: 0.42 | H19: Recycled Off Site - Transfer Station, MRF, EfW | J19: Mini skip 2 yd3 | K19: 1.5291097 | N19: Building | P19: T6 | Q19: Treating waste wood and plant matter | S19: Plasterboard | T19: =Reporting!J25+Reporting!N25+Reporting!T25 -> 0
B20: Packaging - Contaminated | C20: 150110 | D20: H | E20: 0.23 | H20: Landfill | J20: Open RORO 20 yd3 | K20: 15.291097 | M20: 1 | N20: Diversion from Landfill (%) | P20: T9 | Q20: Recovering Scrap Metal | S20: Metals | T20: =Reporting!J26+Reporting!N26+Reporting!T26 -> 0
B21: Packaging - Mixed | C21: 150106 | D21: NH | E21: 0.21 | J21: Open RORO 25 yd3 | K21: 19.113871 | M21: 2 | N21: Wastes produced (in tonnes) per £100k project value | P21: T11 | Q21: Repairing or refurbishing waste electrical and electronic equipment | S21: Wood | T21: =Reporting!J27+Reporting!N27+Reporting!T27 -> 0
B22: Paper - Office | C22: 200101 | D22: NH | E22: 0.21 | H22: Waste Actions Tab Drop Down (Waste Actions) | J22: Open RORO 30 yd3 | K22: 22.936646 | M22: 3 | N22: Non-hazardous waste generated - Construction (in tonnes) per 100m2 floor area | P22: T12 | Q22: Manually Treating Waste | S22: Dry Mixed Recyclables - DMR | T22: =Reporting!J28+Reporting!N28+Reporting!T28+Reporting!J30+Reporting!N30+Reporting!T30+Reporting!J31+Reporting!N31+Reporting!T31+'Project Cumulative '!S115+'Project Cumulative '!U115+'Project Cumulative '!W115 -> 0
B23: Plastic | C23: 170203 | D23: NH | E23: 0.23 | H23: Waste Prevention / Reduction - Preconstruction | J23: Open RORO 35 yd3 | K23: 26.75942 | M23: 4 | N23: Non-hazardous construction waste diverted from landfill % | P23: T15 | Q23: Treating waste aeresol cans | S23: Mixed C&D | T23: =Reporting!J29+Reporting!N29+Reporting!T29 -> 0
B24: Site Office / Welfare waste | C24: 200301 | D24: NH | E24: 0.21 | H24: Waste Management & Recovery - Construction | J24: Open RORO 40 yd3 | K24: 30.582194 | M24: 5 | N24: Non-hazardous demolition waste diverted from landfill % | P24: T20 | Q24: Treating waste at a water treatment works
B25: Soil and Stones | C25: 170504 | D25: I | E25: 1.25 | J25: Open RORO 45 yd3 | K25: 34.404969 | P25: T21 | Q25: Recovering waste at waste water treatment works
B26: Soil and stones - Clean subsoil | C26: 170504 | D26: I | E26: 1.25 | H26: Waste Actions Tab Drop Down (Materials Used) | J26: Rear-end loader 10 yd3 | K26: 7.6455486 | N26: Infrastructure | P26: D1 | Q26: Depositing waste from dredging inland waters
B27: Soil and stones - Hazardous | C27: 170503 | D27: H | E27: 1.25 | H27: Inert - Soil & stones | J27: Rear-end loader 12 yds | K27: 9.1746583 | M27: 1 | N27: Diversion from Landfill (%) | P27: NWFD2 | Q27: Temporary storage where waste is produced | S27: This data sheet contains all the main lookups and arrays used for the SWMP Version 10. This version has removed two hidden tabs which were also been used for calculations: 1. Chart Data - used for the charts on Project KPI's is now contained within this datasheet. 2. Calcs - contained historical and out of date cost and landfill tax data for a proposal to have the SWMP include cost data. Proposed in 2016, this was never taken forward, but the tab was never removed. The document itself does have the functionality for cost data within hidden cells. There are some reporting calcs which are located directly in the tabs themselves for ease. The main ones are in Project Culminative and drive the reporting and project KPI tabs. There is also carbon data within this tab, but in agreement with LCC Team this is not been used. Some of the KPI's within the waste forecast sheet, show #REF! errors these relate to old housebuilding KPI's per unit - no longer required.
B28: Soil and stones - Topsoil / Peat | C28: 170504 | D28: NH | E28: 1.25 | H28: Non Hazardous - Soils & Stones | J28: Rear-end loader 14 yd3 | K28: 10.703768 | M28: 2 | N28: Wastes produced (in tonnes) per £100k project value | P28: NWFD3 | Q28: Temporary storage of waste produced somewhere else
B29: Spill kit (used) pads, socks etc. | C29: 150202 | D29: H | E29: 0.42 | H29: Hazardous - Soil & stones | J29: Rear-end loader 16 yd3 | K29: 12.232878 | P29: NWFD4 | Q29: Temporary storage at a collection point
B30: Wood | C30: 170201 | D30: NH | E30: 0.34 | H30: Gypsum | J30: Rear-end loader 18 yd3 | K30: 13.761987 | N30: Specialist Services
H31: Metals | J31: Rear-end loader 20 yd3 | K31: 15.291097 | M31: 1 | N31: Diversion from Landfill (%) | P31: Paragraph 7 | Q31: The treatment of land for agricultural benefit or ecological improvement
B32: Acids - Hydrochloric | C32: 60102 | D32: H | E32: 0.9 | H32: Wood | J32: Rear-end loader 6 yds | K32: 4.5873291 | M32: 2 | N32: Wastes produced (in tonnes) per £100k project value | P32: Paragraph 8 | Q32: The storage and spreading of sludge
B33: Acids - Other | C33: 60106 | D33: H | E33: 0.9 | H33: Packaging | J33: Rear-end loader 8 yd3 | K33: 6.1164389 | M33: 3 | N33: Non-hazardous waste generated - Construction (in tonnes) per 100m2 floor area | P33: Paragraph 9 | Q33: The reclamation or improvement of land
B34: Acids - Sulphuric | C34: 60101 | D34: H | E34: 0.9 | H34: Inert - mixture of concrete, bricks, tiles etc. | J34: Skip 10 yd3 | K34: 7.6455486 | M34: 4 | N34: Non-hazardous construction waste diverted from landfill % | P34: Paragraph 10 | Q34: Reception and treatment of specified waste at a Water Treatment Works
B35: Adhesives and sealants (Non-Hazardous) | C35: 80410 | D35: NH | E35: 0.93 | H35: Plastics | J35: Skip 12 yd3 | K35: 9.1746583 | M35: 5 | N35: Non-hazardous demolition waste diverted from landfill % | P35: Paragraph 11 | Q35: Baling, sorting, shredding etc. of specified wastes
B36: Adhesives and sealants containing dangerous substances | C36: 80409 | D36: H | E36: 0.93 | H36: Glass | J36: Skip 14 yd3 | K36: 10.703768 | P36: Paragraph 12 | Q36: Composting
B37: Adhesives and sealants containing organic solvents | C37: 80411 | D37: H | E37: 0.9 | H37: Mixed C&D waste | J37: Skip 16 yd3 | K37: 12.232878 | P37: Paragraph 13 | Q37: Manufacture of specified goods from specified wastes
B38: Alkalis - Calcium Hydroxide | C38: 60201 | D38: H | E38: 0.9 | H38: Other Non Hazardous waste | J38: Skip 20 yd3 | K38: 15.291097 | N38: KPI | P38: Paragraph 15 | Q38: Beneficial use of waste without further treatment
B39: Alkalis - Other | C39: 60205 | D39: H | E39: 0.9 | H39: Other hazardous waste | J39: Skip 8 yd3 | K39: 6.1164389 | P39: Paragraph 16 | Q39: The screening of specified wastes
B40: Batteries - alkaline | C40: 160604 | D40: NH | E40: 1.35 | J40: Wheeled bin (4 wheels) 1100 ltr | K40: 1.1 | P40: Paragraph 17 | Q40: Storage of specified wastes in a secure place
B41: Batteries - mercury | C41: 160603 | D41: H | E41: 1.35 | H41: Permit Type | J41: Wheeled bin (4 wheels) 660 ltr | K41: 0.66 | P41: Paragraph 18 | Q41: Secure storage of specified wastes on any premises
B42: Batteries - Ni-Cd | C42: 160602 | D42: H | E42: 1.35 | H42: Environmental Permit | J42: Wheeled bin (euro) 120 ltr | K42: 0.12 | P42: Paragraph 19 | Q42: Waste for construction and other "relevant work”
B43: Batteries(Car) - lead acid | C43: 160601 | D43: H | E43: 1.35 | H43: Environmental Permit Exemption | J43: Wheeled bin (euro) 240 ltr | K43: 0.24 | P43: Paragraph 21 | Q43: Chipping etc waste plant matter
B44: Bitumen emulsion | C44: 130802 | D44: H | E44: 0.84 | H44: EASR General Binding Rule | J44: Wheeled bin (euro) 360 ltr | K44: 0.36 | P44: Paragraph 25 | Q44: The deposit of dredging wastes
B45: Cables | C45: 170411 | D45: NH | E45: 0.25 | H45: EASR Notification | P45: Paragraph 40 | Q45: Secure storage of non-liquid waste other than at the place of production
B46: Cables containing oil, coal tar and other dangerous substances | C46: 170410 | D46: H | E46: 0.25 | H46: EASR Registration | P46: Paragraph 41 | Q46: Temporary storage of waste at the place of production
B47: Coal tar and tarred products | C47: 170303 | D47: H | E47: 1.95 | H47: EASR Permit
B48: Concrete, bricks tiles and ceramics - Mixed containing dangerous substances | C48: 170106 | D48: H | E48: 1.17 | F48: Renamed in 2024 for accuracy
B49: Construction and demolition wastes - Mixed containing dangerous substances | C49: 170903 | D49: H | E49: 0.27 | F49: Renamed in 2024 for accuracy | H49: WM Facility
B50: Construction and demolition wastes containing mercury | C50: 170901 | D50: H | E50: 0.87 | H50: Transfer Station
B51: Construction and demolition wastes containing PCB | C51: 170902 | D51: H | E51: 0.87 | H51: Material Recycling Facility
B52: Construction materials containing gypsum-based dangerous substances | C52: 170801 | D52: H | E52: 0.33 | F52: Renamed in 2024 for accuracy | H52: Soil Treatment Centre
B53: Dredging spoil (Non-Hazardous) | C53: 170506 | D53: NH | E53: 0.51 | H53: Landfill
B54: Dredging spoil containing dangerous substances | C54: 170505 | D54: H | E54: 0.51 | H54: Permit / WML Exempt Site
B55: Drilling muds and other drilling wastes containing hazardous substances | C55: 10506 | D55: MH | E55: 0.51 | H55: Incineration - EfW
B56: Electrical equipment (Non-Hazardous) | C56: 160214 | D56: NH | E56: 0.26 | H56: Other
B57: Electrical equipment containing CFC's, HFC's & HCFC's | C57: 160211 | D57: H | E57: 0.3
B58: Electrical equipment containing dangerous substances | C58: 160213 | D58: H | E58: 0.26 | H58: Permit Lookup (Legislative Checks and Hazardous Waste)
B59: Electrical equipment containing PCBs | C59: 160210 | D59: H | E59: 0.3 | H59: YES
B60: Fluorescent tubes and other mercury-containing waste | C60: 200121 | D60: H | E60: 0.19 | H60: N/A
B61: Fresh Water Drilling Muds and Wastes | C61: 10504 | D61: NH | E61: 0.92
B62: Fridges, freezers containing chlorofluorocarbons | C62: 200123 | D62: H | E62: 0.3
B63: Fuel - mixed | C63: 130703 | D63: H | E63: 0.72
B64: Fuel - Petrol | C64: 130702 | D64: H | E64: 0.72
B65: Fuel, oil and diesel | C65: 130701 | D65: H | E65: 0.9
B66: Garden & Park waste - non biodegradable | C66: 200203 | D66: NH | E66: 0.22
B67: Glass containing or contaminated with dangerous substances | C67: 170204 | D67: H | E67: 0.29
B68: Grit Blast waste | C68: 120117 | D68: NH | E68: 0.97
B69: Grit Blast waste containing dangerous substances | C69: 120116 | D69: H | E69: 0.68
B70: Grit chambers and oil/water separators wastes - mixed | C70: 130508 | D70: H | E70: 0.9
B71: Hole Drilling Fluids - Hardened Bentonite containing dangerous substances | C71: 101014 | D71: H | E71: 1.25 | F71: Added Change Request
B72: Hole Drilling Fluids - Hardened Bentonite (Non-Hazardous) | C72: 101013 | D72: NH | E72: 1.25 | F72: Added Change Request
B73: Insulating materials consisting of or containing dangerous materials | C73: 170603 | D73: H | E73: 0.2
B74: Insulating materials containing asbestos | C74: 170601 | D74: H | E74: 0.28 | F74: Renamed in 2024 for accuracy
B75: Interceptor Sludge (non-hazardous) | C75: 130503 | D75: NH | E75: 0.9
B76: Metal - Aluminium | C76: 170402 | D76: NH | E76: 0.9
B77: Metal - Copper, bronze, brass | C77: 170401 | D77: NH | E77: 0.9
B78: Metal - Iron and steel | C78: 170405 | D78: NH | E78: 0.41
B79: Metal - Lead | C79: 170403 | D79: NH | E79: 0.91
B80: Metal - mixed containing dangerous substances | C80: 170409 | D80: H | E80: 0.46
B81: Metal - Tin | C81: 170406 | D81: NH | E81: 0.9
B82: Metal - Zinc | C82: 170404 | D82: NH | E82: 0.9
B83: Oil - containing drilling muds and waste | C83: 10505 | D83: AH | E83: 0.9
B84: Oil - Engine | C84: 130205 | D84: H | E84: 0.9
B85: Oil - Hydraulic | C85: 130205 | D85: H | E85: 0.9
B86: Oil - hydraulic (biodegradable) | C86: 130112 | D86: H | E86: 0.9
... B105: Road sweepings | C105: 200303 | D105: NH | E105: 0.21
B106: Rock, Sand or Gravel | C106: 170504 | D106: I | E106: 1.25 | F106: Renamed in 2024 for accuracy
B107: Sewage Treatment - Biological Treatment Sludges of industrial waste water (Non-Hazardous) | C107: 190812 | D107: NH | E107: 0.92 | F107: Added Change Request
B108: Sewage Treatment - Biological Treatment Sludges of industrial waste water containing dangerous substances | C108: 190811 | D108: H | E108: 0.92 | F108: Added Change Request
B109: Sewage Treatment - Grease and oil mixture from oil/water separation containing edible oil and fats | C109: 190809 | D109: H | E109: 0.92 | F109: Added Change Request
B110: Sewage Treatment - Grease and oil mixture from oil/water separation containing non-edible oils and fats | C110: 190810 | D110: H | E110: 0.92 | F110: Added Change Request
B111: Sewage Treatment – Grit / Sand | C111: 190802 | D111: NH | E111: 0.74
B112: Sewage Treatment - Membrane system waste containing heavy metals | C112: 190808 | D112: H | E112: 0.74 | F112: Added Change Request
B113: Sewage Treatment - Saturated or spent ion exchange resins | C113: 190806 | D113: H | E113: 0.74 | F113: Added Change Request
B114: Sewage Treatment - Screenings | C114: 190801 | D114: NH | E114: 0.33
B115: Sewage Treatment - Sludge destined for offsite treatment | C115: 161001 | D115: H | E115: 0.33 | F115: Added Change Request
B116: Sewage Treatment - Sludge from treatment of waste water | C116: 190805 | D116: NH | E116: 0.33
B117: Sewage Treatment - Sludges containing dangerous substances | C117: 190813 | D117: H | E117: 0.33 | F117: Added Change Request
B118: Sewage Treatment - Solutions and sludges from regeneration of ion exchangers | C118: 190807 | D118: H | E118: 0.33 | F118: Added Change Request
B119: Site Welfare - Feminine hygiene products | C119: 200199 | D119: NH | E119: 0.27
B120: Site Welfare - Kitchen / canteen food waste | C120: 200108 | D120: NH | E120: 0.2
B121: Site Welfare - Printing toner (no hazardous contents) | C121: 80318 | D121: NH | E121: 0.36
B122: Site Welfare - Printing toner containing dangerous substances | C122: 80317 | D122: H | E122: 0.36
...

Sheet Project KPI's
C3: Divisional KPI's & Targets | D3: Target | E3: Actual
C5: Total Material Produced (tonnes) | E5: ='Project Cumulative '!P448 -> 0
C6: Total Waste Produced (tonnes) | E6: ='Project Cumulative '!P449 -> 0
C7: Total Waste to landfill (tonnes) | E7: ='Project Cumulative '!V470 -> 0
C8: Waste diverted from landfill (incl. soils and stones)% | D8: ='Project Details'!F49 -> 85 | E8: =IF('Project Cumulative '!V476="","",'Project Cumulative '!V476) -> #DIV/0!
C9: Waste diverted from landfill (excl. soils and stones)% | D9: ='Project Details'!F50 -> 90 | E9: =IF('Project Cumulative '!V477="","",'Project Cumulative '!V477) -> #DIV/0!
C10: Total waste generated (incl. soils & stones) tonnes per 100k project value | D10: ='Project Details'!F52 -> 40 | E10: =IF('Project Cumulative '!V534="","",'Project Cumulative '!V534) -> 0
C11: Total waste generated (excl. soils & stones) tonnes per 100k project value | D11: ='Project Details'!F53 -> 9 | E11: =IF('Project Cumulative '!V535="","",'Project Cumulative '!V535) -> 0
C13: Optional KP'Is & Targets (including CSH, BREEAM & BREEAM Infrastructure)
C15: ='Project Details'!C58 -> 0 | D15: ='Project Details'!F58 -> 0 | E15: =IFERROR(VLOOKUP($C15,KPI_4,8,FALSE),"")
C16: ='Project Details'!C59 -> 0 | D16: ='Project Details'!F59 -> 0 | E16: =IFERROR(VLOOKUP($C16,KPI_4,8,FALSE),"")
C17: ='Project Details'!C60 -> 0 | D17: ='Project Details'!F60 -> 0 | E17: =IFERROR(VLOOKUP($C17,KPI_4,8,FALSE),"")
C18: ='Project Details'!C61 -> 0 | D18: ='Project Details'!F61 -> 0 | E18: =IFERROR(VLOOKUP($C18,KPI_4,8,FALSE),"")
C19: ='Project Details'!C62 -> 0 | D19: ='Project Details'!F62 -> 0 | E19: =IFERROR(VLOOKUP($C19,KPI_4,8,FALSE),"")
C20: ='Project Details'!C63 -> 0 | D20: ='Project Details'!F63 -> 0 | E20: =IFERROR(VLOOKUP($C20,KPI_4,8,FALSE),"")
C22: Additional KPI's / Targets (if different to above)
C23: ='Project Details'!C67 -> 0 | D23: ='Project Details'!F67 -> 0
C24: ='Project Details'!C68 -> 0 | D24: ='Project Details'!F68 -> 0
C25: ='Project Details'!C69 -> 0 | D25: ='Project Details'!F69 -> 0
C27: TOTAL CARBON DIOXIDE (equivalent) EMISSIONS | E27: ='Project Cumulative '!AJ575/1000 -> 0 | F27: t CO2 eq.
C55: Waste Sent off Site for reuse, recycling or disposal (tonnes)

Sheet Reporting
E3: Totals | G3: Re used on site | I3: Re used off site | K3: Recycled on site | M3: Recycled offsite | O3: Transfer Station / MRF / EFW | Q3: Reused at Permit / WML / Exempt Site | S3: Total Disposed to landfill | U3: Cost of Waste Disposal
C4: All Wastes | E4: Forecast | F4: Actual
G5: F | H5: A | I5: F | J5: A | K5: F | L5: A | M5: F | N5: A | O5: F | P5: A | Q5: F | R5: A | S5: F | T5: A | U5: F | V5: A
C6: Demolition | D6: Inert | E6: =G6+I6+K6+M6+S6 -> 0 | F6: =H6+J6+L6+N6+T6 -> 0 | G6: {=SUM(IF(('Waste Forecast'!AB120:AB431="Demolition")*('Waste Forecast'!AA120:AA431="I"),'Waste Forecast'!AC120:AC431,0))} -> 0 | H6: {=SUM(IF(('Project Cumulative '!R122:R442="Demolition")*('Project Cumulative '!Q122:Q442="I"),'Project Cumulative '!S122:S442,0))} -> 0 | I6: {=SUM(IF(('Waste Forecast'!AB120:AB431="Demolition")*('Waste Forecast'!AA120:AA431="I"),'Waste Forecast'!AD120:AD431,0))} -> 0 | J6: {=SUM(IF(('Project Cumulative '!R122:R442="Demolition")*('Project Cumulative '!Q122:Q442="I"),'Project Cumulative '!T122:T442,0))} -> 0 | K6: {=SUM(IF(('Waste Forecast'!AB120:AB431="Demolition")*('Waste Forecast'!AA120:AA431="I"),'Waste Forecast'!AE120:AE431,0))} -> 0 | L6: {=SUM(IF(('Project Cumulative '!R122:R442="Demolition")*('Project Cumulative '!Q122:Q442="I"),'Project Cumulative '!U122:U442,0))} -> 0 | M6: {=SUM(IF(('Waste Forecast'!AB120:AB431="Demolition")*('Waste Forecast'!AA120:AA431="I"),'Waste Forecast'!AF120:AF431,0))} -> 0 | N6: {=SUM(IF(('Project Cumulative '!R122:R442="Demolition")*('Project Cumulative '!Q122:Q442="I"),'Project Cumulative '!V122:V442,0))} -> 0 | S6: {=SUM(IF(('Waste Forecast'!AB120:AB431="Demolition")*('Waste Forecast'!AA120:AA431="I"),'Waste Forecast'!AH120:AH431,0))} -> 0 | T6: {=SUM(IF(('Project Cumulative '!R122:R442="Demolition")*('Project Cumulative '!Q122:Q442="I"),'Project Cumulative '!X122:X442,0))} -> 0
D7: Non-Hazardous | E7: =G7+I7+K7+M7+S7 -> 0 | F7: =H7+J7+L7+N7+T7 -> 0 | G7: {=SUM(IF(('Waste Forecast'!AB120:AB431="Demolition")*('Waste Forecast'!AA120:AA431="NH"),'Waste Forecast'!AC120:AC431,0))} -> 0 | H7: {=SUM(IF(('Project Cumulative '!R122:R442="Demolition")*('Project Cumulative '!Q122:Q442="NH"),'Project Cumulative '!S122:S442,0))} -> 0 | I7: {=SUM(IF(('Waste Forecast'!AB120:AB431="Demolition")*('Waste Forecast'!AA120:AA431="NH"),'Waste Forecast'!AD120:AD431,0))} -> 0 | J7: {=SUM(IF(('Project Cumulative '!R122:R442="Demolition")*('Project Cumulative '!Q122:Q442="NH"),'Project Cumulative '!T122:T442,0))} -> 0 | K7: {=SUM(IF(('Waste Forecast'!AB120:AB431="Demolition")*('Waste Forecast'!AA120:AA431="NH"),'Waste Forecast'!AE120:AE431,0))} -> 0 | L7: {=SUM(IF(('Project Cumulative '!R122:R442="Demolition")*('Project Cumulative '!Q122:Q442="NH"),'Project Cumulative '!U122:U442,0))} -> 0 | M7: {=SUM(IF(('Waste Forecast'!AB120:AB431="Demolition")*('Waste Forecast'!AA120:AA431="NH"),'Waste Forecast'!AF120:AF431,0))} -> 0 | N7: {=SUM(IF(('Project Cumulative '!R122:R442="Demolition")*('Project Cumulative '!Q122:Q442="NH"),'Project Cumulative '!V122:V442,0))} -> 0 | S7: {=SUM(IF(('Waste Forecast'!AB120:AB431="Demolition")*('Waste Forecast'!AA120:AA431="NH"),'Waste Forecast'!AH120:AH431,0))} -> 0 | T7: {=SUM(IF(('Project Cumulative '!R122:R442="Demolition")*('Project Cumulative '!Q122:Q442="NH"),'Project Cumulative '!X122:X442,0))} -> 0
D8: Hazardous | E8: =G8+I8+K8+M8+S8 -> 0 | F8: =H8+J8+L8+N8+T8 -> 0 | G8: {=SUM(IF(('Waste Forecast'!AB120:AB431="Demolition")*('Waste Forecast'!AA120:AA431="H"),'Waste Forecast'!AC120:AC431,0))} -> 0 | H8: {=SUM(IF(('Project Cumulative '!R122:R442="Demolition")*('Project Cumulative '!Q122:Q442="H"),'Project Cumulative '!S122:S442,0))} -> 0 | I8: {=SUM(IF(('Waste Forecast'!AB120:AB431="Demolition")*('Waste Forecast'!AA120:AA431="H"),'Waste Forecast'!AD120:AD431,0))} -> 0 | J8: {=SUM(IF(('Project Cumulative '!R122:R442="Demolition")*('Project Cumulative '!Q122:Q442="H"),'Project Cumulative '!T122:T442,0))} -> 0 | K8: {=SUM(IF(('Waste Forecast'!AB120:AB431="Demolition")*('Waste Forecast'!AA120:AA431="H"),'Waste Forecast'!AE120:AE431,0))} -> 0 | L8: {=SUM(IF(('Project Cumulative '!R122:R442="Demolition")*('Project Cumulative '!Q122:Q442="H"),'Project Cumulative '!U122:U442,0))} -> 0 | M8: {=SUM(IF(('Waste Forecast'!AB120:AB431="Demolition")*('Waste Forecast'!AA120:AA431="H"),'Waste Forecast'!AF120:AF431,0))} -> 0 | N8: {=SUM(IF(('Project Cumulative '!R122:R442="Demolition")*('Project Cumulative '!Q122:Q442="H"),'Project Cumulative '!V122:V442,0))} -> 0 | S8: {=SUM(IF(('Waste Forecast'!AB120:AB431="Demolition")*('Waste Forecast'!AA120:AA431="H"),'Waste Forecast'!AH120:AH431,0))} -> 0 | T8: {=SUM(IF(('Project Cumulative '!R122:R442="Demolition")*('Project Cumulative '!Q122:Q442="H"),'Project Cumulative '!X122:X442,0))} -> 0
C9: Excavation | D9: Inert | E9: =G9+I9+K9+M9+S9 -> 0 | F9: =H9+J9+L9+N9+T9 -> 0 | G9: {=SUM(IF(('Waste Forecast'!AB120:AB431="Excavation")*('Waste Forecast'!AA120:AA431="I"),'Waste Forecast'!AC120:AC431,0))} -> 0 | H9: {=SUM(IF(('Project Cumulative '!R122:R442="Excavation")*('Project Cumulative '!Q122:Q442="I"),'Project Cumulative '!S122:S442,0))} -> 0 | I9: {=SUM(IF(('Waste Forecast'!AB120:AB431="Excavation")*('Waste Forecast'!AA120:AA431="I"),'Waste Forecast'!AD120:AD431,0))} -> 0 | J9: {=SUM(IF(('Project Cumulative '!R122:R442="Excavation")*('Project Cumulative '!Q122:Q442="I"),'Project Cumulative '!T122:T442,0))} -> 0 | K9: {=SUM(IF(('Waste Forecast'!AB120:AB431="Excavation")*('Waste Forecast'!AA120:AA431="I"),'Waste Forecast'!AE120:AE431,0))} -> 0 | L9: {=SUM(IF(('Project Cumulative '!R122:R442="Excavation")*('Project Cumulative '!Q122:Q442="I"),'Project Cumulative '!U122:U442,0))} -> 0 | M9: {=SUM(IF(('Waste Forecast'!AB120:AB431="Excavation")*('Waste Forecast'!AA120:AA431="I"),'Waste Forecast'!AF120:AF431,0))} -> 0 | N9: {=SUM(IF(('Project Cumulative '!R122:R442="Excavation")*('Project Cumulative '!Q122:Q442="I"),'Project Cumulative '!V122:V442,0))} -> 0 | S9: {=SUM(IF(('Waste Forecast'!AB120:AB431="Excavation")*('Waste Forecast'!AA120:AA431="I"),'Waste Forecast'!AH120:AH431,0))} -> 0 | T9: {=SUM(IF(('Project Cumulative '!R122:R442="Excavation")*('Project Cumulative '!Q122:Q442="I"),'Project Cumulative '!X122:X442,0))} -> 0
D10: Non-Hazardous | E10: =G10+I10+K10+M10+S10 -> 0 | F10: =H10+J10+L10+N10+T10 -> 0 | G10: {=SUM(IF(('Waste Forecast'!AB120:AB431="Excavation")*('Waste Forecast'!AA120:AA431="NH"),'Waste Forecast'!AC120:AC431,0))} -> 0 | H10: {=SUM(IF(('Project Cumulative '!R122:R442="Excavation")*('Project Cumulative '!Q122:Q442="NH"),'Project Cumulative '!S122:S442,0))} -> 0 | I10: {=SUM(IF(('Waste Forecast'!AB120:AB431="Excavation")*('Waste Forecast'!AA120:AA431="NH"),'Waste Forecast'!AD120:AD431,0))} -> 0 | J10: {=SUM(IF(('Project Cumulative '!R122:R442="Excavation")*('Project Cumulative '!Q122:Q442="NH"),'Project Cumulative '!T122:T442,0))} -> 0 | K10: {=SUM(IF(('Waste Forecast'!AB120:AB431="Excavation")*('Waste Forecast'!AA120:AA431="NH"),'Waste Forecast'!AE120:AE431,0))} -> 0 | L10: {=SUM(IF(('Project Cumulative '!R122:R442="Excavation")*('Project Cumulative '!Q122:Q442="NH"),'Project Cumulative '!U122:U442,0))} -> 0 | M10: {=SUM(IF(('Waste Forecast'!AB120:AB431="Excavation")*('Waste Forecast'!AA120:AA431="NH"),'Waste Forecast'!AF120:AF431,0))} -> 0 | N10: {=SUM(IF(('Project Cumulative '!R122:R442="Excavation")*('Project Cumulative '!Q122:Q442="NH"),'Project Cumulative '!V122:V442,0))} -> 0 | S10: {=SUM(IF(('Waste Forecast'!AB120:AB431="Excavation")*('Waste Forecast'!AA120:AA431="NH"),'Waste Forecast'!AH120:AH431,0))} -> 0 | T10: {=SUM(IF(('Project Cumulative '!R122:R442="Excavation")*('Project Cumulative '!Q122:Q442="NH"),'Project Cumulative '!X122:X442,0))} -> 0
D11: Hazardous | E11: =G11+I11+K11+M11+S11 -> 0 | F11: =H11+J11+L11+N11+T11 -> 0 | G11: {=SUM(IF(('Waste Forecast'!AB120:AB431="Excavation")*('Waste Forecast'!AA120:AA431="H"),'Waste Forecast'!AC120:AC431,0))} -> 0 | H11: {=SUM(IF(('Project Cumulative '!R122:R442="Excavation")*('Project Cumulative '!Q122:Q442="H"),'Project Cumulative '!S122:S442,0))} -> 0 | I11: {=SUM(IF(('Waste Forecast'!AB120:AB431="Excavation")*('Waste Forecast'!AA120:AA431="H"),'Waste Forecast'!AD120:AD431,0))} -> 0 | J11: {=SUM(IF(('Project Cumulative '!R122:R442="Excavation")*('Project Cumulative '!Q122:Q442="H"),'Project Cumulative '!T122:T442,0))} -> 0 | K11: {=SUM(IF(('Waste Forecast'!AB120:AB431="Excavation")*('Waste Forecast'!AA120:AA431="H"),'Waste Forecast'!AE120:AE431,0))} -> 0 | L11: {=SUM(IF(('Project Cumulative '!R122:R442="Excavation")*('Project Cumulative '!Q122:Q442="H"),'Project Cumulative '!U122:U442,0))} -> 0 | M11: {=SUM(IF(('Waste Forecast'!AB120:AB431="Excavation")*('Waste Forecast'!AA120:AA431="H"),'Waste Forecast'!AF120:AF431,0))} -> 0 | N11: {=SUM(IF(('Project Cumulative '!R122:R442="Excavation")*('Project Cumulative '!Q122:Q442="H"),'Project Cumulative '!V122:V442,0))} -> 0 | S11: {=SUM(IF(('Waste Forecast'!AB120:AB431="Excavation")*('Waste Forecast'!AA120:AA431="H"),'Waste Forecast'!AH120:AH431,0))} -> 0 | T11: {=SUM(IF(('Project Cumulative '!R122:R442="Excavation")*('Project Cumulative '!Q122:Q442="H"),'Project Cumulative '!X122:X442,0))} -> 0
C12: Construction | D12: Inert | E12: =G12+I12+K12+M12+S12 -> #VALUE! | F12: =H12+J12+L12+N12+T12 -> 0 | G12: {=SUM(IF(('Waste Forecast'!AB120:AB431="Construction")*('Waste Forecast'!AA120:AA431="I"),'Waste Forecast'!AC120:AC431,0))} -> 0 | H12: {=SUM(IF(('Project Cumulative '!R122:R442="Construction")*('Project Cumulative '!Q122:Q442="I"),'Project Cumulative '!S122:S442,0))} -> 0 | I12: {=SUM(IF(('Waste Forecast'!AB120:AB431="Construction")*('Waste Forecast'!AA120:AA431="I"),'Waste Forecast'!AD120:AD431,0))} -> 0 | J12: {=SUM(IF(('Project Cumulative '!R122:R442="Construction")*('Project Cumulative '!Q122:Q442="I"),'Project Cumulative '!T122:T442,0))} -> 0 | K12: {=SUM(IF(('Waste Forecast'!AB120:AB431="Construction")*('Waste Forecast'!AA120:AA431="I"),'Waste Forecast'!AE120:AE431,0))} -> 0 | L12: {=SUM(IF(('Project Cumulative '!R122:R442="Construction")*('Project Cumulative '!Q122:Q442="I"),'Project Cumulative '!U122:U442,0))} -> 0 | M12: {=SUM(IF(('Waste Forecast'!AB120:AB431="Construction")*('Waste Forecast'!AA120:AA431="I"),'Waste Forecast'!AF120:AF431,0))} -> #VALUE! | N12: {=SUM(IF(('Project Cumulative '!R122:R442="Construction")*('Project Cumulative '!Q122:Q442="I"),'Project Cumulative '!V122:V442,0))} -> 0 | S12: {=SUM(IF(('Waste Forecast'!AB120:AB431="Construction")*('Waste Forecast'!AA120:AA431="I"),'Waste Forecast'!AH120:AH431,0))} -> #VALUE! | T12: {=SUM(IF(('Project Cumulative '!R122:R442="Construction")*('Project Cumulative '!Q122:Q442="I"),'Project Cumulative '!X122:X442,0))} -> 0
D13: Non-Hazardous | E13: =G13+I13+K13+M13+S13 -> #VALUE! | F13: =H13+J13+L13+N13+T13 -> 0 | G13: {=SUM(IF(('Waste Forecast'!AB120:AB431="Construction")*('Waste Forecast'!AA120:AA431="NH"),'Waste Forecast'!AC120:AC431,0))} -> 0 | H13: {=SUM(IF(('Project Cumulative '!R122:R442="Construction")*('Project Cumulative '!Q122:Q442="NH"),'Project Cumulative '!S122:S442,0))} -> 0 | I13: {=SUM(IF(('Waste Forecast'!AB120:AB431="Construction")*('Waste Forecast'!AA120:AA431="NH"),'Waste Forecast'!AD120:AD431,0))} -> 0 | J13: {=SUM(IF(('Project Cumulative '!R122:R442="Construction")*('Project Cumulative '!Q122:Q442="NH"),'Project Cumulative '!T122:T442,0))} -> 0 | K13: {=SUM(IF(('Waste Forecast'!AB120:AB431="Construction")*('Waste Forecast'!AA120:AA431="NH"),'Waste Forecast'!AE120:AE431,0))} -> 0 | L13: {=SUM(IF(('Project Cumulative '!R122:R442="Construction")*('Project Cumulative '!Q122:Q442="NH"),'Project Cumulative '!U122:U442,0))} -> 0 | M13: {=SUM(IF(('Waste Forecast'!AB120:AB431="Construction")*('Waste Forecast'!AA120:AA431="NH"),'Waste Forecast'!AF120:AF431,0))} -> #VALUE! | N13: {=SUM(IF(('Project Cumulative '!R122:R442="Construction")*('Project Cumulative '!Q122:Q442="NH"),'Project Cumulative '!V122:V442,0))} -> 0 | S13: {=SUM(IF(('Waste Forecast'!AB120:AB431="Construction")*('Waste Forecast'!AA120:AA431="NH"),'Waste Forecast'!AH120:AH431,0))} -> #VALUE! | T13: {=SUM(IF(('Project Cumulative '!R122:R442="Construction")*('Project Cumulative '!Q122:Q442="NH"),'Project Cumulative '!X122:X442,0))} -> 0
D14: Hazardous | E14: =G14+I14+K14+M14+S14 -> #VALUE! | F14: =H14+J14+L14+N14+T14 -> 0 | G14: {=SUM(IF(('Waste Forecast'!AB120:AB431="Construction")*('Waste Forecast'!AA120:AA431="H"),'Waste Forecast'!AC120:AC431,0))} -> 0 | H14: {=SUM(IF(('Project Cumulative '!R122:R442="Construction")*('Project Cumulative '!Q122:Q442="H"),'Project Cumulative '!S122:S442,0))} -> 0 | I14: {=SUM(IF(('Waste Forecast'!AB120:AB431="Construction")*('Waste Forecast'!AA120:AA431="H"),'Waste Forecast'!AD120:AD431,0))} -> 0 | J14: {=SUM(IF(('Project Cumulative '!R122:R442="Construction")*('Project Cumulative '!Q122:Q442="H"),'Project Cumulative '!T122:T442,0))} -> 0 | K14: {=SUM(IF(('Waste Forecast'!AB120:AB431="Construction")*('Waste Forecast'!AA120:AA431="H"),'Waste Forecast'!AE120:AE431,0))} -> 0 | L14: {=SUM(IF(('Project Cumulative '!R122:R442="Construction")*('Project Cumulative '!Q122:Q442="H"),'Project Cumulative '!U122:U442,0))} -> 0 | M14: {=SUM(IF(('Waste Forecast'!AB120:AB431="Construction")*('Waste Forecast'!AA120:AA431="H"),'Waste Forecast'!AF120:AF431,0))} -> 0 | N14: {=SUM(IF(('Project Cumulative '!R122:R442="Construction")*('Project Cumulative '!Q122:Q442="H"),'Project Cumulative '!V122:V442,0))} -> 0 | S14: {=SUM(IF(('Waste Forecast'!AB120:AB431="Construction")*('Waste Forecast'!AA120:AA431="H"),'Waste Forecast'!AH120:AH431,0))} -> #VALUE! | T14: {=SUM(IF(('Project Cumulative '!R122:R442="Construction")*('Project Cumulative '!Q122:Q442="H"),'Project Cumulative '!X122:X442,0))} -> 0
C15: Total Wastes | E15: =SUM(E6:E14) -> #VALUE! | F15: =SUM(F6:F14) -> 0 | G15: =SUM(G6:G14) -> 0 | H15: =SUM(H6:H14) -> 0 | I15: =SUM(I6:I14) -> 0 | J15: =SUM(J6:J14) -> 0 | K15: =SUM(K6:K14) -> 0 | L15: =SUM(L6:L14) -> 0 | ... N15: =SUM(N6:N14) -> 0 | S15: =SUM(S6:S14) -> #VALUE! | T15: =SUM(T6:T14) -> 0
C16: Cost of Waste Disposal | G16: ='Waste Forecast'!AD439 -> 0 | U16: =SUM(U6:U14) -> 0 | V16: =SUM(V6:V14) -> 0
E19: Totals | G19: Re used on site | I19: Re used off site | K19: Recycled on site | M19: Recycled offsite | O19: Transfer Station / MRF / EFW | Q19: Reused at Permit / WML / Exempt Site | S19: Total Disposed to landfill | U19: Cost of Waste Disposal
C20: Key Waste Streams | E20: Forecast | F20: Actual
G21: F | H21: A | I21: F | J21: A | K21: F | L21: A | M21: F | N21: A | O21: F | P21: A | Q21: F | R21: A | S21: F | T21: A | U21: F | V21: A
C22: Soil & stones - Hazardous | E22: =G22+I22+K22+M22+S22 -> 0 | F22: =H22+J22+L22+N22+T22 -> 0 | G22: ='Waste Forecast'!AB88 -> 0 | H22: ='Project Cumulative '!R91 -> 0 | I22: ='Waste Forecast'!AC88 -> 0 | J22: ='Project Cumulative '!S91 -> 0 | K22: ='Waste Forecast'!AD88 -> 0 | L22: ='Project Cumulative '!T91 -> 0 | M22: ='Waste Forecast'!AE88 -> 0 | N22: ='Project Cumulative '!U91 -> 0 | S22: ='Waste Forecast'!AG88 -> 0 | T22: ='Project Cumulative '!W91 -> 0
C23: Soil & stones - Non Hazardous | E23: =G23+I23+K23+M23+S23 -> #VALUE! | F23: =H23+J23+L23+N23+T23 -> 0 | G23: ='Waste Forecast'!AB89+'Waste Forecast'!AB103 -> 0 | H23: ='Project Cumulative '!R92+'Project Cumulative '!R106 -> 0 | I23: ='Waste Forecast'!AC89+'Waste Forecast'!AC103 -> 0 | J23: ='Project Cumulative '!S92+'Project Cumulative '!S106 -> 0 | K23: ='Waste Forecast'!AD89+'Waste Forecast'!AD103 -> 0 | L23: ='Project Cumulative '!T92+'Project Cumulative '!T106 -> 0 | M23: ='Waste Forecast'!AE89+'Waste Forecast'!AE103 -> #VALUE! | N23: ='Project Cumulative '!U92+'Project Cumulative '!U106 -> 0 | S23: ='Waste Forecast'!AG89+'Waste Forecast'!AG103 -> #VALUE! | T23: ='Project Cumulative '!W92+'Project Cumulative '!W106 -> 0
C24: Concrete, Bricks Tiles | E24: =G24+I24+K24+M24+S24 -> #VALUE! | F24: =H24+J24+L24+N24+T24 -> 0 | G24: ='Waste Forecast'!AB19+'Waste Forecast'!AB23+'Waste Forecast'!AB25+'Waste Forecast'!AB91 -> 0 | H24: ='Project Cumulative '!R22+'Project Cumulative '!R26+'Project Cumulative '!R28+'Project Cumulative '!R94 -> 0 | I24: ='Waste Forecast'!AC19+'Waste Forecast'!AC23+'Waste Forecast'!AC25+'Waste Forecast'!AC91 -> 0 | J24: ='Project Cumulative '!S22+'Project Cumulative '!S26+'Project Cumulative '!S28+'Project Cumulative '!S94 -> 0 | K24: ='Waste Forecast'!AD19+'Waste Forecast'!AD23+'Waste Forecast'!AD25+'Waste Forecast'!AD91 -> 0 | L24: ='Project Cumulative '!T22+'Project Cumulative '!T26+'Project Cumulative '!T28+'Project Cumulative '!T94 -> 0 | M24: ='Waste Forecast'!AE19+'Waste Forecast'!AE23+'Waste Forecast'!AE25+'Waste Forecast'!AE91 -> #VALUE! | N24: ='Project Cumulative '!U22+'Project Cumulative '!U26+'Project Cumulative '!U28+'Project Cumulative '!U94 -> 0 | S24: ='Waste Forecast'!AG19+'Waste Forecast'!AG23+'Waste Forecast'!AG25+'Waste Forecast'!AG91 -> #VALUE! | T24: ='Project Cumulative '!W22+'Project Cumulative '!W26+'Project Cumulative '!W28+'Project Cumulative '!W94 -> 0
C25: Gypsum | E25: =G25+I25+K25+M25+S25 -> 0 | F25: =H25+J25+L25+N25+T25 -> 0 | G25: ='Waste Forecast'!AB49 -> 0 | H25: ='Project Cumulative '!R52 -> 0 | I25: ='Waste Forecast'!AC49 -> 0 | J25: ='Project Cumulative '!S52 -> 0 | K25: ='Waste Forecast'!AD49 -> 0 | L25: ='Project Cumulative '!T52 -> 0 | M25: ='Waste Forecast'!AE49 -> 0 | N25: ='Project Cumulative '!U52 -> 0 | S25: ='Waste Forecast'!AG49 -> 0 | T25: ='Project Cumulative '!W52 -> 0
C26: Metals | E26: =G26+I26+K26+M26+S26 -> #VALUE! | F26: =H26+J26+L26+N26+T26 -> 0 | G26: ='Waste Forecast'!AB55+'Waste Forecast'!AB56+'Waste Forecast'!AB57+'Waste Forecast'!AB58+'Waste Forecast'!AB59+'Waste Forecast'!AB61+'Waste Forecast'!AB62 -> 0 | H26: ='Project Cumulative '!R58+'Project Cumulative '!R59+'Project Cumulative '!R60+'Project Cumulative '!R61+'Project Cumulative '!R62+'Project Cumulative '!R64+'Project Cumulative '!R65 -> 0 | I26: ='Waste Forecast'!AC55+'Waste Forecast'!AC56+'Waste Forecast'!AC57+'Waste Forecast'!AC58+'Waste Forecast'!AC59+'Waste Forecast'!AC61+'Waste Forecast'!AC62 -> 0 | J26: ='Project Cumulative '!S58+'Project Cumulative '!S59+'Project Cumulative '!S60+'Project Cumulative '!S61+'Project Cumulative '!S62+'Project Cumulative '!S64+'Project Cumulative '!S65 -> 0 | K26: ='Waste Forecast'!AD55+'Waste Forecast'!AD56+'Waste Forecast'!AD57+'Waste Forecast'!AD58+'Waste Forecast'!AD59+'Waste Forecast'!AD61+'Waste Forecast'!AD62 -> 0 | L26: ='Project Cumulative '!T58+'Project Cumulative '!T59+'Project Cumulative '!T60+'Project Cumulative '!T61+'Project Cumulative '!T62+'Project Cumulative '!T64+'Project Cumulative '!T65 -> 0 | M26: ='Waste Forecast'!AE55+'Waste Forecast'!AE56+'Waste Forecast'!AE57+'Waste Forecast'!AE58+'Waste Forecast'!AE59+'Waste Forecast'!AE61+'Waste Forecast'!AE62 -> #VALUE! | N26: ='Project Cumulative '!U58+'Project Cumulative '!U59+'Project Cumulative '!U60+'Project Cumulative '!U61+'Project Cumulative '!U62+'Project Cumulative '!U64+'Project Cumulative '!U65 -> 0 | S26: ='Waste Forecast'!AG55+'Waste Forecast'!AG56+'Waste Forecast'!AG57+'Waste Forecast'!AG58+'Waste Forecast'!AG59+'Waste Forecast'!AG61+'Waste Forecast'!AG62 -> #VALUE! | T26: ='Project Cumulative '!W58+'Project Cumulative '!W59+'Project Cumulative '!W60+'Project Cumulative '!W61+'Project Cumulative '!W62+'Project Cumulative '!W64+'Project Cumulative '!W65 -> 0
C27: Wood | E27: =G27+I27+K27+M27+S27 -> #VALUE! | F27: =H27+J27+L27+N27+T27 -> 0 | G27: ='Waste Forecast'!AB96 -> 0 | H27: ='Project Cumulative '!R99 -> 0 | I27: ='Waste Forecast'!AC96 -> 0 | J27: ='Project Cumulative '!S99 -> 0 | K27: ='Waste Forecast'!AD96 -> 0 | L27: ='Project Cumulative '!T99 -> 0 | M27: ='Waste Forecast'!AE96 -> #VALUE! | N27: ='Project Cumulative '!U99 -> 0 | S27: ='Waste Forecast'!AG96 -> #VALUE! | T27: ='Project Cumulative '!W99 -> 0
C28: Packaging | E28: =G28+I28+K28+M28+S28 -> #VALUE! | F28: =H28+J28+L28+N28+T28 -> 0 | G28: ='Waste Forecast'!AB71+'Waste Forecast'!AB72+'Waste Forecast'!AB73+'Waste Forecast'!AB74+'Waste Forecast'!AB75+'Waste Forecast'!AB81+'Waste Forecast'!AB111 -> #VALUE! | H28: ='Project Cumulative '!R74+'Project Cumulative '!R75+'Project Cumulative '!R76+'Project Cumulative '!R77+'Project Cumulative '!R78+'Project Cumulative '!R84+'Project Cumulative '!R115 -> 0 | I28: ='Waste Forecast'!AC71+'Waste Forecast'!AC72+'Waste Forecast'!AC73+'Waste Forecast'!AC74+'Waste Forecast'!AC75+'Waste Forecast'!AC81+'Waste Forecast'!AC111 -> #VALUE! | J28: ='Project Cumulative '!S74+'Project Cumulative '!S75+'Project Cumulative '!S76+'Project Cumulative '!S77+'Project Cumulative '!S78+'Project Cumulative '!S84+'Project Cumulative '!S115 -> 0 | K28: ='Waste Forecast'!AD71+'Waste Forecast'!AD72+'Waste Forecast'!AD73+'Waste Forecast'!AD74+'Waste Forecast'!AD75+'Waste Forecast'!AD81+'Waste Forecast'!AD111 -> 0 | L28: ='Project Cumulative '!T74+'Project Cumulative '!T75+'Project Cumulative '!T76+'Project Cumulative '!T77+'Project Cumulative '!T78+'Project Cumulative '!T84+'Project Cumulative '!T115 -> 0 | M28: ='Waste Forecast'!AE71+'Waste Forecast'!AE72+'Waste Forecast'!AE73+'Waste Forecast'!AE74+'Waste Forecast'!AE75+'Waste Forecast'!AE81+'Waste Forecast'!AE111 -> #VALUE! | N28: ='Project Cumulative '!U74+'Project Cumulative '!U75+'Project Cumulative '!U76+'Project Cumulative '!U77+'Project Cumulative '!U78+'Project Cumulative '!U84+'Project Cumulative '!U115 -> 0 | S28: ='Waste Forecast'!AG71+'Waste Forecast'!AG72+'Waste Forecast'!AG73+'Waste Forecast'!AG74+'Waste Forecast'!AG75+'Waste Forecast'!AG81+'Waste Forecast'!AG111 -> #VALUE! | T28: ='Project Cumulative '!W74+'Project Cumulative '!W75+'Project Cumulative '!W76+'Project Cumulative '!W77+'Project Cumulative '!W78+'Project Cumulative '!W84+'Project Cumulative '!W115 -> 0
C29: Mixed Construction & Demolition Waste | E29: =G29+I29+K29+M29+S29 -> #VALUE! | F29: =H29+J29+L29+N29+T29 -> 0 | G29: ='Waste Forecast'!AB27 -> 0 | H29: ='Project Cumulative '!R30 -> 0 | I29: ='Waste Forecast'!AC27 -> 0 | J29: ='Project Cumulative '!S30 -> 0 | K29: ='Waste Forecast'!AD27 -> 0 | L29: ='Project Cumulative '!T30 -> 0 | M29: ='Waste Forecast'!AE27 -> #VALUE! | N29: ='Project Cumulative '!U30 -> 0 | S29: ='Waste Forecast'!AG27 -> #VALUE! | T29: ='Project Cumulative '!W30 -> 0
C30: Plastic | E30: =G30+I30+K30+M30+S30 -> 0 | F30: =H30+J30+L30+N30+T30 -> 0 | G30: ='Waste Forecast'!AB82 -> 0 | H30: ='Project Cumulative '!R85 -> 0 | I30: ='Waste Forecast'!AC82 -> 0 | J30: ='Project Cumulative '!S85 -> 0 | K30: ='Waste Forecast'!AD82 -> 0 | L30: ='Project Cumulative '!T85 -> 0 | M30: ='Waste Forecast'!AE82 -> 0 | N30: ='Project Cumulative '!U85 -> 0 | S30: ='Waste Forecast'!AG82 -> 0 | T30: ='Project Cumulative '!W85 -> 0
C31: Paper & Cardboard | E31: =G31+I31+K31+M31+S31 -> 0 | F31: =H31+J31+L31+N31+T31 -> 0 | G31: ='Waste Forecast'!AB80+'Waste Forecast'!AB81 -> 0 | H31: ='Project Cumulative '!R83 -> 0 | I31: ='Waste Forecast'!AC80+'Waste Forecast'!AC81 -> 0 | J31: ='Project Cumulative '!S83 -> 0 | K31: ='Waste Forecast'!AD80+'Waste Forecast'!AD81 -> 0 | L31: ='Project Cumulative '!T83 -> 0 | M31: ='Waste Forecast'!AE80+'Waste Forecast'!AE81 -> 0 | N31: ='Project Cumulative '!U83 -> 0 | S31: ='Waste Forecast'!AG80+'Waste Forecast'!AG81 -> 0 | T31: ='Project Cumulative '!W83 -> 0
C32: Other non hazardous wastes | E32: =G32+I32+K32+M32+S32 -> #VALUE! | F32: =H32+J32+L32+N32+T32 -> 0 | G32: =(SUM(G6:G7)+SUM(G9:G10)+SUM(G12:G13))-SUM(G23:G31) -> #VALUE! | H32: =(SUM(H6:H7)+SUM(H9:H10)+SUM(H12:H13))-SUM(H23:H31) -> 0 | I32: =(SUM(I6:I7)+SUM(I9:I10)+SUM(I12:I13))-SUM(I23:I31) -> #VALUE! | J32: =(SUM(J6:J7)+SUM(J9:J10)+SUM(J12:J13))-SUM(J23:J31) -> 0 | K32: =(SUM(K6:K7)+SUM(K9:K10)+SUM(K12:K13))-SUM(K23:K31) -> 0 | L32: =(SUM(L6:L7)+SUM(L9:L10)+SUM(L12:L13))-SUM(L23:L31) -> 0 | M32: =(SUM(M6:M7)+SUM(M9:M10)+SUM(M12:M13))-SUM(M23:M31) -> #VALUE! | N32: =(SUM(N6:N7)+SUM(N9:N10)+SUM(N12:N13))-SUM(N23:N31) -> 0 | S32: =(SUM(S6:S7)+SUM(S9:S10)+SUM(S12:S13))-SUM(S23:S31) -> #VALUE! | T32: =(SUM(T6:T7)+SUM(T9:T10)+SUM(T12:T13))-SUM(T23:T31) -> 0
C33: Other hazardous wastes | E33: =G33+I33+K33+M33+S33 -> #VALUE! | F33: =H33+J33+L33+N33+T33 -> 0 | G33: =(G8+G11+G14)-G22 -> 0 | H33: =(H8+H11+H14)-H22 -> 0 | I33: =(I8+I11+I14)-I22 -> 0 | J33: =(J8+J11+J14)-J22 -> 0 | K33: =(K8+K11+K14)-K22 -> 0 | L33: =(L8+L11+L14)-L22 -> 0 | M33: =(M8+M11+M14)-M22 -> 0 | N33: =(N8+N11+N14)-N22 -> 0 | S33: =(S8+S11+S14)-S22 -> #VALUE! | T33: =(T8+T11+T14)-T22 -> 0
C36: Waste Stream Analysis (waste produced)
C38: Waste Type (pick from list) | H38: EWC | I38: Reused on Site | K38: Reused off Site | M38: Recycled Onsite | O38: Recycled Offsite | Q38: Transfer Station / MRF / EFW | S38: Recycled Offsite | U38: Total Disposed to landfill | W38: Disposed to Landfill
I40: F | J40: A | K40: F | L40: A | M40: F | N40: A | O40: F | P40: A | Q40: F | R40: A | S40: F | T40: A | U40: F | V40: A
C41: Soil and Stones - Inert | H41: =IF(C41="","",(VLOOKUP($C41,Waste_Report2,2,FALSE))) -> 170504 | I41: =IF(C41="","",(VLOOKUP($C41,Waste_Report1,4,FALSE))) -> #N/A | J41: =IF(C41="","",(VLOOKUP($C41,Waste_Report2,4,FALSE))) -> 0 | K41: =IF(C41="","",(VLOOKUP($C41,Waste_Report1,6,FALSE))) -> #N/A | L41: =IF(C41="","",(VLOOKUP($C41,Waste_Report2,5,FALSE))) -> 0 | M41: =IF(C41="","",(VLOOKUP($C41,Waste_Report1,8,FALSE))) -> #N/A | N41: =IF(C41="","",(VLOOKUP($C41,Waste_Report2,6,FALSE))) -> 0 | O41: =IF(C41="","",(VLOOKUP($C41,Waste_Report1,10,FALSE))) -> #N/A | P41: =IF(C41="","",(VLOOKUP($C41,Waste_Report2,10,FALSE))) -> #REF! | Q41: =IF(C41="","",(VLOOKUP($C41,Waste_Report1,12,FALSE))) -> #N/A | R41: =IF(C41="","",(VLOOKUP($C41,Waste_Report2,12,FALSE))) -> #REF! | S41: =IF(C41="","",(VLOOKUP($C41,Waste_Report1,14,FALSE))) -> #N/A | T41: =IF(C41="","",(VLOOKUP($C41,Waste_Report2,7,FALSE))) -> 0 | U41: =IF(D41="","",(VLOOKUP($C41,Waste_Report2,10,FALSE))) | V41: =IF(G41="","",(VLOOKUP($C41,Waste_Report2,10,FALSE))) | W41: =IF(H41="","",(VLOOKUP($C41,Waste_Report2,9,FALSE))) -> 0

Sheet Project Cumulative 
A1: SITE WASTE DATA SHEET
A2: Project Name | C2: ='Project Details'!D10 -> Piccadilly Gardens Redevelopment | I2: For guidance on completion of this sheet please refer to GN-HSE-W01-101
A3: Contract Number: | C3: ='Project Details'!D11 -> HLA098 | G3: Project value: | I3: ='Project Details'!D13 -> 15000000 | T3: =IF(G3=80111,#REF!,"")
A4: Project Start Date: | C4: ='Project Details'!D16 -> Winter 2026 (TBC) | G4: Business Unit | I4: ='Project Details'!D38 -> Adam Liu
A5: Person in Charge of Site Works | C5: ='Project Details'!D39 -> TBC | G5: Waste Champion | I5: ='Project Details'!D42 -> TBC
A7: MATERIAL | B7: Activity | C7: Waste Responsibility | D7: EWC | E7: Waste Category | F7: Total (Tonnes) | G7: CUMULATIVE TOTALS (Tonnes) | O7: Waste / Material | P7: EWC | Q7: Waste Category | R7: Re used on site | S7: Re used off site | T7: Recycled on site | U7: Recycled offsite | V7: Direct to Landfill | W7: Total Disposed to landfill | X7: Total - Tonnes (by type) | Y7: Total Waste - Tonnes (by type
G8: Reused on-site | H8: Reused off-site | I8: Recycled on-site | J8: Recycled off-site | K8: Direct to Landfill | L8: Total Landfill
A10: Dry Mixed Recyclables (DMR - paper, cardboard, metal, plastic glass) | B10: Construction | C10: Galliford Try | D10: =IF(A10="","",(VLOOKUP($A10,EWC,2,FALSE))) -> 150106 | E10: =IF(D10="","",(VLOOKUP($A10,EWC,3,FALSE))) -> NH | F10: =IF(A10="","",(SUM(G10:J10)+L10)) -> 0 | G10: =SUM('Q1 2026:Q4 2026'!F9)+SUM('Q1 2027:Q4 2027'!F9)+SUM('Q1 2028:Q4 2028'!F9)+SUM('Q1 2029:Q4 2029'!F9)+SUM('Q1 2030:Q4 2030'!F9) -> 0 | H10: =SUM('Q1 2026:Q4 2026'!G9)+SUM('Q1 2027:Q4 2027'!G9)+SUM('Q1 2028:Q4 2028'!G9)+SUM('Q1 2029:Q4 2029'!G9)+SUM('Q1 2030:Q4 2030'!G9) -> 0 | I10: =SUM('Q1 2026:Q4 2026'!H9)+SUM('Q1 2027:Q4 2027'!H9)+SUM('Q1 2028:Q4 2028'!H9)+SUM('Q1 2029:Q4 2029'!H9)+SUM('Q1 2030:Q4 2030'!H9) -> 0 | J10: =SUM('Q1 2026:Q4 2026'!I9)+SUM('Q1 2027:Q4 2027'!I9)+SUM('Q1 2028:Q4 2028'!I9)+SUM('Q1 2029:Q4 2029'!I9)+SUM('Q1 2030:Q4 2030'!I9) -> 0 | K10: =SUM('Q1 2026:Q4 2026'!L9)+SUM('Q1 2027:Q4 2027'!L9)+SUM('Q1 2028:Q4 2028'!L9)+SUM('Q1 2029:Q4 2029'!L9)+SUM('Q1 2030:Q4 2030'!L9) -> 0 | L10: =SUM('Q1 2026:Q4 2026'!M9)+SUM('Q1 2027:Q4 2027'!M9)+SUM('Q1 2028:Q4 2028'!M9)+SUM('Q1 2029:Q4 2029'!M9)+SUM('Q1 2030:Q4 2030'!M9) -> 0 | O10: Adhesives and sealants (non hazardous) | P10: 80410 | Q10: NH | R10: =SUM(S122:S124) -> 0 | S10: =SUM(T122:T124) -> 0 | T10: =SUM(U122:U124) -> 0 | U10: =SUM(V122:V124) -> 0 | V10: =SUM(W122:W124) -> 0 | W10: =SUM(X122:X124) -> 0 | X10: =R10+S10+T10+U10+W10 -> 0 | Y10: =S10+U10+W10 -> 0
A11: Construction and demolition wastes - Mixed (uncontaminated) | B11: Excavation | C11: Galliford Try | D11: =IF(A11="","",(VLOOKUP($A11,EWC,2,FALSE))) -> 170904 | E11: =IF(D11="","",(VLOOKUP($A11,EWC,3,FALSE))) -> NH | F11: =IF(A11="","",(SUM(G11:J11)+L11)) -> 0 | G11: =SUM('Q1 2026:Q4 2026'!F10)+SUM('Q1 2027:Q4 2027'!F10)+SUM('Q1 2028:Q4 2028'!F10)+SUM('Q1 2029:Q4 2029'!F10)+SUM('Q1 2030:Q4 2030'!F10) -> 0 | H11: =SUM('Q1 2026:Q4 2026'!G10)+SUM('Q1 2027:Q4 2027'!G10)+SUM('Q1 2028:Q4 2028'!G10)+SUM('Q1 2029:Q4 2029'!G10)+SUM('Q1 2030:Q4 2030'!G10) -> 0 | I11: =SUM('Q1 2026:Q4 2026'!H10)+SUM('Q1 2027:Q4 2027'!H10)+SUM('Q1 2028:Q4 2028'!H10)+SUM('Q1 2029:Q4 2029'!H10)+SUM('Q1 2030:Q4 2030'!H10) -> 0 | J11: =SUM('Q1 2026:Q4 2026'!I10)+SUM('Q1 2027:Q4 2027'!I10)+SUM('Q1 2028:Q4 2028'!I10)+SUM('Q1 2029:Q4 2029'!I10)+SUM('Q1 2030:Q4 2030'!I10) -> 0 | K11: =SUM('Q1 2026:Q4 2026'!L10)+SUM('Q1 2027:Q4 2027'!L10)+SUM('Q1 2028:Q4 2028'!L10)+SUM('Q1 2029:Q4 2029'!L10)+SUM('Q1 2030:Q4 2030'!L10) -> 0 | L11: =SUM('Q1 2026:Q4 2026'!M10)+SUM('Q1 2027:Q4 2027'!M10)+SUM('Q1 2028:Q4 2028'!M10)+SUM('Q1 2029:Q4 2029'!M10)+SUM('Q1 2030:Q4 2030'!M10) -> 0 | O11: Adhesives and sealants containing dangerous substances | P11: 80409 | Q11: H | R11: =SUM(S125:S127) -> 0 | S11: =SUM(T125:T127) -> 0 | T11: =SUM(U125:U127) -> 0 | U11: =SUM(V125:V127) -> 0 | V11: =SUM(W125:W127) -> 0 | W11: =SUM(X125:X127) -> 0 | X11: =R11+S11+T11+U11+W11 -> 0 | Y11: =S11+U11+W11 -> 0
A12: Soil and Stones | B12: Excavation | C12: Galliford Try | D12: =IF(A12="","",(VLOOKUP($A12,EWC,2,FALSE))) -> 170504 | E12: =IF(D12="","",(VLOOKUP($A12,EWC,3,FALSE))) -> I | F12: =IF(A12="","",(SUM(G12:J12)+L12)) -> 0 | G12: =SUM('Q1 2026:Q4 2026'!F11)+SUM('Q1 2027:Q4 2027'!F11)+SUM('Q1 2028:Q4 2028'!F11)+SUM('Q1 2029:Q4 2029'!F11)+SUM('Q1 2030:Q4 2030'!F11) -> 0 | H12: =SUM('Q1 2026:Q4 2026'!G11)+SUM('Q1 2027:Q4 2027'!G11)+SUM('Q1 2028:Q4 2028'!G11)+SUM('Q1 2029:Q4 2029'!G11)+SUM('Q1 2030:Q4 2030'!G11) -> 0 | I12: =SUM('Q1 2026:Q4 2026'!H11)+SUM('Q1 2027:Q4 2027'!H11)+SUM('Q1 2028:Q4 2028'!H11)+SUM('Q1 2029:Q4 2029'!H11)+SUM('Q1 2030:Q4 2030'!H11) -> 0 | J12: =SUM('Q1 2026:Q4 2026'!I11)+SUM('Q1 2027:Q4 2027'!I11)+SUM('Q1 2028:Q4 2028'!I11)+SUM('Q1 2029:Q4 2029'!I11)+SUM('Q1 2030:Q4 2030'!I11) -> 0 | K12: =SUM('Q1 2026:Q4 2026'!L11)+SUM('Q1 2027:Q4 2027'!L11)+SUM('Q1 2028:Q4 2028'!L11)+SUM('Q1 2029:Q4 2029'!L11)+SUM('Q1 2030:Q4 2030'!L11) -> 0 | L12: =SUM('Q1 2026:Q4 2026'!M11)+SUM('Q1 2027:Q4 2027'!M11)+SUM('Q1 2028:Q4 2028'!M11)+SUM('Q1 2029:Q4 2029'!M11)+SUM('Q1 2030:Q4 2030'!M11) -> 0 | O12: Adhesives and sealants containing organic solvents | P12: 80411 | Q12: H | R12: =SUM(S128:S130) -> 0 | S12: =SUM(T128:T130) -> 0 | T12: =SUM(U128:U130) -> 0 | U12: =SUM(V128:V130) -> 0 | V12: =SUM(W128:W130) -> 0 | W12: =SUM(X128:X130) -> 0 | X12: =R12+S12+T12+U12+W12 -> 0 | Y12: =S12+U12+W12 -> 0
A13: Bituminous mixtures not containing coal tar | B13: Excavation | C13: Galliford Try | D13: =IF(A13="","",(VLOOKUP($A13,EWC,2,FALSE))) -> 170302 | E13: =IF(D13="","",(VLOOKUP($A13,EWC,3,FALSE))) -> NH | F13: =IF(A13="","",(SUM(G13:J13)+L13)) -> 0 | G13: =SUM('Q1 2026:Q4 2026'!F12)+SUM('Q1 2027:Q4 2027'!F12)+SUM('Q1 2028:Q4 2028'!F12)+SUM('Q1 2029:Q4 2029'!F12)+SUM('Q1 2030:Q4 2030'!F12) -> 0 | H13: =SUM('Q1 2026:Q4 2026'!G12)+SUM('Q1 2027:Q4 2027'!G12)+SUM('Q1 2028:Q4 2028'!G12)+SUM('Q1 2029:Q4 2029'!G12)+SUM('Q1 2030:Q4 2030'!G12) -> 0 | I13: =SUM('Q1 2026:Q4 2026'!H12)+SUM('Q1 2027:Q4 2027'!H12)+SUM('Q1 2028:Q4 2028'!H12)+SUM('Q1 2029:Q4 2029'!H12)+SUM('Q1 2030:Q4 2030'!H12) -> 0 | J13: =SUM('Q1 2026:Q4 2026'!I12)+SUM('Q1 2027:Q4 2027'!I12)+SUM('Q1 2028:Q4 2028'!I12)+SUM('Q1 2029:Q4 2029'!I12)+SUM('Q1 2030:Q4 2030'!I12) -> 0 | K13: =SUM('Q1 2026:Q4 2026'!L12)+SUM('Q1 2027:Q4 2027'!L12)+SUM('Q1 2028:Q4 2028'!L12)+SUM('Q1 2029:Q4 2029'!L12)+SUM('Q1 2030:Q4 2030'!L12) -> 0 | L13: =SUM('Q1 2026:Q4 2026'!M12)+SUM('Q1 2027:Q4 2027'!M12)+SUM('Q1 2028:Q4 2028'!M12)+SUM('Q1 2029:Q4 2029'!M12)+SUM('Q1 2030:Q4 2030'!M12) -> 0 | O13: Aerosol cans - empty | P13: 160505 | Q13: NH | R13: =SUM(S131:S133) -> 0 | S13: =SUM(T131:T133) -> 0 | T13: =SUM(U131:U133) -> 0 | U13: =SUM(V131:V133) -> 0 | V13: =SUM(W131:W133) -> 0 | W13: =SUM(X131:X133) -> 0 | X13: =R13+S13+T13+U13+W13 -> 0 | Y13: =S13+U13+W13 -> 0
A14: Road sweepings | B14: Construction | C14: Galliford Try | D14: =IF(A14="","",(VLOOKUP($A14,EWC,2,FALSE))) -> 200303 | E14: =IF(D14="","",(VLOOKUP($A14,EWC,3,FALSE))) -> NH | F14: =IF(A14="","",(SUM(G14:J14)+L14)) -> 0 | G14: =SUM('Q1 2026:Q4 2026'!F13)+SUM('Q1 2027:Q4 2027'!F13)+SUM('Q1 2028:Q4 2028'!F13)+SUM('Q1 2029:Q4 2029'!F13)+SUM('Q1 2030:Q4 2030'!F13) -> 0 | H14: =SUM('Q1 2026:Q4 2026'!G13)+SUM('Q1 2027:Q4 2027'!G13)+SUM('Q1 2028:Q4 2028'!G13)+SUM('Q1 2029:Q4 2029'!G13)+SUM('Q1 2030:Q4 2030'!G13) -> 0 | I14: =SUM('Q1 2026:Q4 2026'!H13)+SUM('Q1 2027:Q4 2027'!H13)+SUM('Q1 2028:Q4 2028'!H13)+SUM('Q1 2029:Q4 2029'!H13)+SUM('Q1 2030:Q4 2030'!H13) -> 0 | J14: =SUM('Q1 2026:Q4 2026'!I13)+SUM('Q1 2027:Q4 2027'!I13)+SUM('Q1 2028:Q4 2028'!I13)+SUM('Q1 2029:Q4 2029'!I13)+SUM('Q1 2030:Q4 2030'!I13) -> 0 | K14: =SUM('Q1 2026:Q4 2026'!L13)+SUM('Q1 2027:Q4 2027'!L13)+SUM('Q1 2028:Q4 2028'!L13)+SUM('Q1 2029:Q4 2029'!L13)+SUM('Q1 2030:Q4 2030'!L13) -> 0 | L14: =SUM('Q1 2026:Q4 2026'!M13)+SUM('Q1 2027:Q4 2027'!M13)+SUM('Q1 2028:Q4 2028'!M13)+SUM('Q1 2029:Q4 2029'!M13)+SUM('Q1 2030:Q4 2030'!M13) -> 0 | O14: Aerosol cans containing paint or gas | P14: 160504 | Q14: H | R14: =SUM(S134:S136) -> 0 | S14: =SUM(T134:T136) -> 0 | T14: =SUM(U134:U136) -> 0 | U14: =SUM(V134:V136) -> 0 | V14: =SUM(W134:W136) -> 0 | W14: =SUM(X134:X136) -> 0 | X14: =R14+S14+T14+U14+W14 -> 0 | Y14: =S14+U14+W14 -> 0
A15: Sewage Treatment - Sludge destined for offsite treatment | B15: Construction | C15: Galliford Try | D15: =IF(A15="","",(VLOOKUP($A15,EWC,2,FALSE))) -> 161001 | E15: =IF(D15="","",(VLOOKUP($A15,EWC,3,FALSE))) -> H | F15: =IF(A15="","",(SUM(G15:J15)+L15)) -> 0 | G15: =SUM('Q1 2026:Q4 2026'!F14)+SUM('Q1 2027:Q4 2027'!F14)+SUM('Q1 2028:Q4 2028'!F14)+SUM('Q1 2029:Q4 2029'!F14)+SUM('Q1 2030:Q4 2030'!F14) -> 0 | H15: =SUM('Q1 2026:Q4 2026'!G14)+SUM('Q1 2027:Q4 2027'!G14)+SUM('Q1 2028:Q4 2028'!G14)+SUM('Q1 2029:Q4 2029'!G14)+SUM('Q1 2030:Q4 2030'!G14) -> 0 | I15: =SUM('Q1 2026:Q4 2026'!H14)+SUM('Q1 2027:Q4 2027'!H14)+SUM('Q1 2028:Q4 2028'!H14)+SUM('Q1 2029:Q4 2029'!H14)+SUM('Q1 2030:Q4 2030'!H14) -> 0 | J15: =SUM('Q1 2026:Q4 2026'!I14)+SUM('Q1 2027:Q4 2027'!I14)+SUM('Q1 2028:Q4 2028'!I14)+SUM('Q1 2029:Q4 2029'!I14)+SUM('Q1 2030:Q4 2030'!I14) -> 0 | K15: =SUM('Q1 2026:Q4 2026'!L14)+SUM('Q1 2027:Q4 2027'!L14)+SUM('Q1 2028:Q4 2028'!L14)+SUM('Q1 2029:Q4 2029'!L14)+SUM('Q1 2030:Q4 2030'!L14) -> 0 | L15: =SUM('Q1 2026:Q4 2026'!M14)+SUM('Q1 2027:Q4 2027'!M14)+SUM('Q1 2028:Q4 2028'!M14)+SUM('Q1 2029:Q4 2029'!M14)+SUM('Q1 2030:Q4 2030'!M14) -> 0 | O15: Batteries - alkaline | P15: 160604 | Q15: NH | R15: =SUM(S137:S139) -> 0 | S15: =SUM(T137:T139) -> 0 | T15: =SUM(U137:U139) -> 0 | U15: =SUM(V137:V139) -> 0 | V15: =SUM(W137:W139) -> 0 | W15: =SUM(X137:X139) -> 0 | X15: =R15+S15+T15+U15+W15 -> 0 | Y15: =S15+U15+W15 -> 0
A16: Construction materials containing asbestos | B16: Demolition | C16: Galliford Try | D16: =IF(A16="","",(VLOOKUP($A16,EWC,2,FALSE))) -> 170605 | E16: =IF(D16="","",(VLOOKUP($A16,EWC,3,FALSE))) -> H | F16: =IF(A16="","",(SUM(G16:J16)+L16)) -> 0 | G16: =SUM('Q1 2026:Q4 2026'!F15)+SUM('Q1 2027:Q4 2027'!F15)+SUM('Q1 2028:Q4 2028'!F15)+SUM('Q1 2029:Q4 2029'!F15)+SUM('Q1 2030:Q4 2030'!F15) -> 0 | H16: =SUM('Q1 2026:Q4 2026'!G15)+SUM('Q1 2027:Q4 2027'!G15)+SUM('Q1 2028:Q4 2028'!G15)+SUM('Q1 2029:Q4 2029'!G15)+SUM('Q1 2030:Q4 2030'!G15) -> 0 | I16: =SUM('Q1 2026:Q4 2026'!H15)+SUM('Q1 2027:Q4 2027'!H15)+SUM('Q1 2028:Q4 2028'!H15)+SUM('Q1 2029:Q4 2029'!H15)+SUM('Q1 2030:Q4 2030'!H15) -> 0 | J16: =SUM('Q1 2026:Q4 2026'!I15)+SUM('Q1 2027:Q4 2027'!I15)+SUM('Q1 2028:Q4 2028'!I15)+SUM('Q1 2029:Q4 2029'!I15)+SUM('Q1 2030:Q4 2030'!I15) -> 0 | K16: =SUM('Q1 2026:Q4 2026'!L15)+SUM('Q1 2027:Q4 2027'!L15)+SUM('Q1 2028:Q4 2028'!L15)+SUM('Q1 2029:Q4 2029'!L15)+SUM('Q1 2030:Q4 2030'!L15) -> 0 | L16: =SUM('Q1 2026:Q4 2026'!M15)+SUM('Q1 2027:Q4 2027'!M15)+SUM('Q1 2028:Q4 2028'!M15)+SUM('Q1 2029:Q4 2029'!M15)+SUM('Q1 2030:Q4 2030'!M15) -> 0 | O16: Batteries - mercury | P16: 160603 | Q16: H | R16: =SUM(S140:S142) -> 0 | S16: =SUM(T140:T142) -> 0 | T16: =SUM(U140:U142) -> 0 | U16: =SUM(V140:V142) -> 0 | V16: =SUM(W140:W142) -> 0 | W16: =SUM(X140:X142) -> 0 | X16: =R16+S16+T16+U16+W16 -> 0 | Y16: =S16+U16+W16 -> 0
A17: Concrete, bricks, tiles and ceramics - Mixed (uncontaminated) | B17: Demolition | C17: Galliford Try | D17: =IF(A17="","",(VLOOKUP($A17,EWC,2,FALSE))) -> 170107 | E17: =IF(D17="","",(VLOOKUP($A17,EWC,3,FALSE))) -> NH | F17: =IF(A17="","",(SUM(G17:J17)+L17)) -> 0 | G17: =SUM('Q1 2026:Q4 2026'!F16)+SUM('Q1 2027:Q4 2027'!F16)+SUM('Q1 2028:Q4 2028'!F16)+SUM('Q1 2029:Q4 2029'!F16)+SUM('Q1 2030:Q4 2030'!F16) -> 0 | H17: =SUM('Q1 2026:Q4 2026'!G16)+SUM('Q1 2027:Q4 2027'!G16)+SUM('Q1 2028:Q4 2028'!G16)+SUM('Q1 2029:Q4 2029'!G16)+SUM('Q1 2030:Q4 2030'!G16) -> 0 | I17: =SUM('Q1 2026:Q4 2026'!H16)+SUM('Q1 2027:Q4 2027'!H16)+SUM('Q1 2028:Q4 2028'!H16)+SUM('Q1 2029:Q4 2029'!H16)+SUM('Q1 2030:Q4 2030'!H16) -> 0 | J17: =SUM('Q1 2026:Q4 2026'!I16)+SUM('Q1 2027:Q4 2027'!I16)+SUM('Q1 2028:Q4 2028'!I16)+SUM('Q1 2029:Q4 2029'!I16)+SUM('Q1 2030:Q4 2030'!I16) -> 0 | K17: =SUM('Q1 2026:Q4 2026'!L16)+SUM('Q1 2027:Q4 2027'!L16)+SUM('Q1 2028:Q4 2028'!L16)+SUM('Q1 2029:Q4 2029'!L16)+SUM('Q1 2030:Q4 2030'!L16) -> 0 | L17: =SUM('Q1 2026:Q4 2026'!M16)+SUM('Q1 2027:Q4 2027'!M16)+SUM('Q1 2028:Q4 2028'!M16)+SUM('Q1 2029:Q4 2029'!M16)+SUM('Q1 2030:Q4 2030'!M16) -> 0 | O17: Batteries - Ni-Cd | P17: 160602 | Q17: H | R17: =SUM(S143:S145) -> 0 | S17: =SUM(T143:T145) -> 0 | T17: =SUM(U143:U145) -> 0 | U17: =SUM(V143:V145) -> 0 | V17: =SUM(W143:W145) -> 0 | W17: =SUM(X143:X145) -> 0 | X17: =R17+S17+T17+U17+W17 -> 0 | Y17: =S17+U17+W17 -> 0
A18: Metal - Iron and steel | B18: Demolition | C18: Galliford Try | D18: =IF(A18="","",(VLOOKUP($A18,EWC,2,FALSE))) -> 170405 | E18: =IF(D18="","",(VLOOKUP($A18,EWC,3,FALSE))) -> NH | F18: =IF(A18="","",(SUM(G18:J18)+L18)) -> 0 | G18: =SUM('Q1 2026:Q4 2026'!F17)+SUM('Q1 2027:Q4 2027'!F17)+SUM('Q1 2028:Q4 2028'!F17)+SUM('Q1 2029:Q4 2029'!F17)+SUM('Q1 2030:Q4 2030'!F17) -> 0 | H18: =SUM('Q1 2026:Q4 2026'!G17)+SUM('Q1 2027:Q4 2027'!G17)+SUM('Q1 2028:Q4 2028'!G17)+SUM('Q1 2029:Q4 2029'!G17)+SUM('Q1 2030:Q4 2030'!G17) -> 0 | I18: =SUM('Q1 2026:Q4 2026'!H17)+SUM('Q1 2027:Q4 2027'!H17)+SUM('Q1 2028:Q4 2028'!H17)+SUM('Q1 2029:Q4 2029'!H17)+SUM('Q1 2030:Q4 2030'!H17) -> 0 | J18: =SUM('Q1 2026:Q4 2026'!I17)+SUM('Q1 2027:Q4 2027'!I17)+SUM('Q1 2028:Q4 2028'!I17)+SUM('Q1 2029:Q4 2029'!I17)+SUM('Q1 2030:Q4 2030'!I17) -> 0 | K18: =SUM('Q1 2026:Q4 2026'!L17)+SUM('Q1 2027:Q4 2027'!L17)+SUM('Q1 2028:Q4 2028'!L17)+SUM('Q1 2029:Q4 2029'!L17)+SUM('Q1 2030:Q4 2030'!L17) -> 0 | L18: =SUM('Q1 2026:Q4 2026'!M17)+SUM('Q1 2027:Q4 2027'!M17)+SUM('Q1 2028:Q4 2028'!M17)+SUM('Q1 2029:Q4 2029'!M17)+SUM('Q1 2030:Q4 2030'!M17) -> 0 | O18: Batteries(Car) - lead acid | P18: 160601 | Q18: H | R18: =SUM(S146:S148) -> 0 | S18: =SUM(T146:T148) -> 0 | T18: =SUM(U146:U148) -> 0 | U18: =SUM(V146:V148) -> 0 | V18: =SUM(W146:W148) -> 0 | W18: =SUM(X146:X148) -> 0 | X18: =R18+S18+T18+U18+W18 -> 0 | Y18: =S18+U18+W18 -> 0
D19: =IF(A19="","",(VLOOKUP($A19,EWC,2,FALSE))) | E19: =IF(D19="","",(VLOOKUP($A19,EWC,3,FALSE))) | F19: =IF(A19="","",(SUM(G19:J19)+L19)) | G19: =SUM('Q1 2026:Q4 2026'!F18)+SUM('Q1 2027:Q4 2027'!F18)+SUM('Q1 2028:Q4 2028'!F18)+SUM('Q1 2029:Q4 2029'!F18)+SUM('Q1 2030:Q4 2030'!F18) -> 0 | H19: =SUM('Q1 2026:Q4 2026'!G18)+SUM('Q1 2027:Q4 2027'!G18)+SUM('Q1 2028:Q4 2028'!G18)+SUM('Q1 2029:Q4 2029'!G18)+SUM('Q1 2030:Q4 2030'!G18) -> 0 | I19: =SUM('Q1 2026:Q4 2026'!H18)+SUM('Q1 2027:Q4 2027'!H18)+SUM('Q1 2028:Q4 2028'!H18)+SUM('Q1 2029:Q4 2029'!H18)+SUM('Q1 2030:Q4 2030'!H18) -> 0 | J19: =SUM('Q1 2026:Q4 2026'!I18)+SUM('Q1 2027:Q4 2027'!I18)+SUM('Q1 2028:Q4 2028'!I18)+SUM('Q1 2029:Q4 2029'!I18)+SUM('Q1 2030:Q4 2030'!I18) -> 0 | K19: =SUM('Q1 2026:Q4 2026'!L18)+SUM('Q1 2027:Q4 2027'!L18)+SUM('Q1 2028:Q4 2028'!L18)+SUM('Q1 2029:Q4 2029'!L18)+SUM('Q1 2030:Q4 2030'!L18) -> 0 | L19: =SUM('Q1 2026:Q4 2026'!M18)+SUM('Q1 2027:Q4 2027'!M18)+SUM('Q1 2028:Q4 2028'!M18)+SUM('Q1 2029:Q4 2029'!M18)+SUM('Q1 2030:Q4 2030'!M18) -> 0 | O19: Bitumen emulsion | P19: 130802 | Q19: H | R19: =SUM(S149:S151) -> 0 | S19: =SUM(T149:T151) -> 0 | T19: =SUM(U149:U151) -> 0 | U19: =SUM(V149:V151) -> 0 | V19: =SUM(W149:W151) -> 0 | W19: =SUM(X149:X151) -> 0 | X19: =R19+S19+T19+U19+W19 -> 0 | Y19: =S19+U19+W19 -> 0
D20: =IF(A20="","",(VLOOKUP($A20,EWC,2,FALSE))) | E20: =IF(D20="","",(VLOOKUP($A20,EWC,3,FALSE))) | F20: =IF(A20="","",(SUM(G20:J20)+L20)) | G20: =SUM('Q1 2026:Q4 2026'!F19)+SUM('Q1 2027:Q4 2027'!F19)+SUM('Q1 2028:Q4 2028'!F19)+SUM('Q1 2029:Q4 2029'!F19)+SUM('Q1 2030:Q4 2030'!F19) -> 0 | H20: =SUM('Q1 2026:Q4 2026'!G19)+SUM('Q1 2027:Q4 2027'!G19)+SUM('Q1 2028:Q4 2028'!G19)+SUM('Q1 2029:Q4 2029'!G19)+SUM('Q1 2030:Q4 2030'!G19) -> 0 | I20: =SUM('Q1 2026:Q4 2026'!H19)+SUM('Q1 2027:Q4 2027'!H19)+SUM('Q1 2028:Q4 2028'!H19)+SUM('Q1 2029:Q4 2029'!H19)+SUM('Q1 2030:Q4 2030'!H19) -> 0 | J20: =SUM('Q1 2026:Q4 2026'!I19)+SUM('Q1 2027:Q4 2027'!I19)+SUM('Q1 2028:Q4 2028'!I19)+SUM('Q1 2029:Q4 2029'!I19)+SUM('Q1 2030:Q4 2030'!I19) -> 0 | K20: =SUM('Q1 2026:Q4 2026'!L19)+SUM('Q1 2027:Q4 2027'!L19)+SUM('Q1 2028:Q4 2028'!L19)+SUM('Q1 2029:Q4 2029'!L19)+SUM('Q1 2030:Q4 2030'!L19) -> 0 | L20: =SUM('Q1 2026:Q4 2026'!M19)+SUM('Q1 2027:Q4 2027'!M19)+SUM('Q1 2028:Q4 2028'!M19)+SUM('Q1 2029:Q4 2029'!M19)+SUM('Q1 2030:Q4 2030'!M19) -> 0 | O20: Bituminous mixtures containing coal tar | P20: 170301 | Q20: H | R20: =SUM(S152:S154) -> 0 | S20: =SUM(T152:T154) -> 0 | T20: =SUM(U152:U154) -> 0 | U20: =SUM(V152:V154) -> 0 | V20: =SUM(W152:W154) -> 0 | W20: =SUM(X152:X154) -> 0 | X20: =R20+S20+T20+U20+W20 -> 0 | Y20: =S20+U20+W20 -> 0
D21: =IF(A21="","",(VLOOKUP($A21,EWC,2,FALSE))) | E21: =IF(D21="","",(VLOOKUP($A21,EWC,3,FALSE))) | F21: =IF(A21="","",(SUM(G21:J21)+L21)) | G21: =SUM('Q1 2026:Q4 2026'!F20)+SUM('Q1 2027:Q4 2027'!F20)+SUM('Q1 2028:Q4 2028'!F20)+SUM('Q1 2029:Q4 2029'!F20)+SUM('Q1 2030:Q4 2030'!F20) -> 0 | H21: =SUM('Q1 2026:Q4 2026'!G20)+SUM('Q1 2027:Q4 2027'!G20)+SUM('Q1 2028:Q4 2028'!G20)+SUM('Q1 2029:Q4 2029'!G20)+SUM('Q1 2030:Q4 2030'!G20) -> 0 | I21: =SUM('Q1 2026:Q4 2026'!H20)+SUM('Q1 2027:Q4 2027'!H20)+SUM('Q1 2028:Q4 2028'!H20)+SUM('Q1 2029:Q4 2029'!H20)+SUM('Q1 2030:Q4 2030'!H20) -> 0 | J21: =SUM('Q1 2026:Q4 2026'!I20)+SUM('Q1 2027:Q4 2027'!I20)+SUM('Q1 2028:Q4 2028'!I20)+SUM('Q1 2029:Q4 2029'!I20)+SUM('Q1 2030:Q4 2030'!I20) -> 0 | K21: =SUM('Q1 2026:Q4 2026'!L20)+SUM('Q1 2027:Q4 2027'!L20)+SUM('Q1 2028:Q4 2028'!L20)+SUM('Q1 2029:Q4 2029'!L20)+SUM('Q1 2030:Q4 2030'!L20) -> 0 | L21: =SUM('Q1 2026:Q4 2026'!M20)+SUM('Q1 2027:Q4 2027'!M20)+SUM('Q1 2028:Q4 2028'!M20)+SUM('Q1 2029:Q4 2029'!M20)+SUM('Q1 2030:Q4 2030'!M20) -> 0 | O21: Bituminous mixtures not containing coal tar | P21: 170302 | Q21: NH | R21: =SUM(S155:S157) -> 0 | S21: =SUM(T155:T157) -> 0 | T21: =SUM(U155:U157) -> 0 | U21: =SUM(V155:V157) -> 0 | V21: =SUM(W155:W157) -> 0 | W21: =SUM(X155:X157) -> 0 | X21: =R21+S21+T21+U21+W21 -> 0 | Y21: =S21+U21+W21 -> 0
D22: =IF(A22="","",(VLOOKUP($A22,EWC,2,FALSE))) | E22: =IF(D22="","",(VLOOKUP($A22,EWC,3,FALSE))) | F22: =IF(A22="","",(SUM(G22:J22)+L22)) | G22: =SUM('Q1 2026:Q4 2026'!F21)+SUM('Q1 2027:Q4 2027'!F21)+SUM('Q1 2028:Q4 2028'!F21)+SUM('Q1 2029:Q4 2029'!F21)+SUM('Q1 2030:Q4 2030'!F21) -> 0 | H22: =SUM('Q1 2026:Q4 2026'!G21)+SUM('Q1 2027:Q4 2027'!G21)+SUM('Q1 2028:Q4 2028'!G21)+SUM('Q1 2029:Q4 2029'!G21)+SUM('Q1 2030:Q4 2030'!G21) -> 0 | I22: =SUM('Q1 2026:Q4 2026'!H21)+SUM('Q1 2027:Q4 2027'!H21)+SUM('Q1 2028:Q4 2028'!H21)+SUM('Q1 2029:Q4 2029'!H21)+SUM('Q1 2030:Q4 2030'!H21) -> 0 | J22: =SUM('Q1 2026:Q4 2026'!I21)+SUM('Q1 2027:Q4 2027'!I21)+SUM('Q1 2028:Q4 2028'!I21)+SUM('Q1 2029:Q4 2029'!I21)+SUM('Q1 2030:Q4 2030'!I21) -> 0 | K22: =SUM('Q1 2026:Q4 2026'!L21)+SUM('Q1 2027:Q4 2027'!L21)+SUM('Q1 2028:Q4 2028'!L21)+SUM('Q1 2029:Q4 2029'!L21)+SUM('Q1 2030:Q4 2030'!L21) -> 0 | L22: =SUM('Q1 2026:Q4 2026'!M21)+SUM('Q1 2027:Q4 2027'!M21)+SUM('Q1 2028:Q4 2028'!M21)+SUM('Q1 2029:Q4 2029'!M21)+SUM('Q1 2030:Q4 2030'!M21) -> 0 | O22: Bricks | P22: 170102 | Q22: I | R22: =SUM(S158:S160) -> 0 | S22: =SUM(T158:T160) -> 0 | T22: =SUM(U158:U160) -> 0 | U22: =SUM(V158:V160) -> 0 | V22: =SUM(W158:W160) -> 0 | W22: =SUM(X158:X160) -> 0 | X22: =R22+S22+T22+U22+W22 -> 0 | Y22: =S22+U22+W22 -> 0
D23: =IF(A23="","",(VLOOKUP($A23,EWC,2,FALSE))) | E23: =IF(D23="","",(VLOOKUP($A23,EWC,3,FALSE))) | F23: =IF(A23="","",(SUM(G23:J23)+L23)) | G23: =SUM('Q1 2026:Q4 2026'!F22)+SUM('Q1 2027:Q4 2027'!F22)+SUM('Q1 2028:Q4 2028'!F22)+SUM('Q1 2029:Q4 2029'!F22)+SUM('Q1 2030:Q4 2030'!F22) -> 0 | H23: =SUM('Q1 2026:Q4 2026'!G22)+SUM('Q1 2027:Q4 2027'!G22)+SUM('Q1 2028:Q4 2028'!G22)+SUM('Q1 2029:Q4 2029'!G22)+SUM('Q1 2030:Q4 2030'!G22) -> 0 | I23: =SUM('Q1 2026:Q4 2026'!H22)+SUM('Q1 2027:Q4 2027'!H22)+SUM('Q1 2028:Q4 2028'!H22)+SUM('Q1 2029:Q4 2029'!H22)+SUM('Q1 2030:Q4 2030'!H22) -> 0 | J23: =SUM('Q1 2026:Q4 2026'!I22)+SUM('Q1 2027:Q4 2027'!I22)+SUM('Q1 2028:Q4 2028'!I22)+SUM('Q1 2029:Q4 2029'!I22)+SUM('Q1 2030:Q4 2030'!I22) -> 0 | K23: =SUM('Q1 2026:Q4 2026'!L22)+SUM('Q1 2027:Q4 2027'!L22)+SUM('Q1 2028:Q4 2028'!L22)+SUM('Q1 2029:Q4 2029'!L22)+SUM('Q1 2030:Q4 2030'!L22) -> 0 | L23: =SUM('Q1 2026:Q4 2026'!M22)+SUM('Q1 2027:Q4 2027'!M22)+SUM('Q1 2028:Q4 2028'!M22)+SUM('Q1 2029:Q4 2029'!M22)+SUM('Q1 2030:Q4 2030'!M22) -> 0 | O23: Cables | P23: 170411 | Q23: NH | R23: =SUM(S161:S163) -> 0 | S23: =SUM(T161:T163) -> 0 | T23: =SUM(U161:U163) -> 0 | U23: =SUM(V161:V163) -> 0 | V23: =SUM(W161:W163) -> 0 | W23: =SUM(X161:X163) -> 0 | X23: =R23+S23+T23+U23+W23 -> 0 | Y23: =S23+U23+W23 -> 0
D24: =IF(A24="","",(VLOOKUP($A24,EWC,2,FALSE))) | E24: =IF(D24="","",(VLOOKUP($A24,EWC,3,FALSE))) | F24: =IF(A24="","",(SUM(G24:J24)+L24)) | G24: =SUM('Q1 2026:Q4 2026'!F23)+SUM('Q1 2027:Q4 2027'!F23)+SUM('Q1 2028:Q4 2028'!F23)+SUM('Q1 2029:Q4 2029'!F23)+SUM('Q1 2030:Q4 2030'!F23) -> 0 | H24: =SUM('Q1 2026:Q4 2026'!G23)+SUM('Q1 2027:Q4 2027'!G23)+SUM('Q1 2028:Q4 2028'!G23)+SUM('Q1 2029:Q4 2029'!G23)+SUM('Q1 2030:Q4 2030'!G23) -> 0 | I24: =SUM('Q1 2026:Q4 2026'!H23)+SUM('Q1 2027:Q4 2027'!H23)+SUM('Q1 2028:Q4 2028'!H23)+SUM('Q1 2029:Q4 2029'!H23)+SUM('Q1 2030:Q4 2030'!H23) -> 0 | J24: =SUM('Q1 2026:Q4 2026'!I23)+SUM('Q1 2027:Q4 2027'!I23)+SUM('Q1 2028:Q4 2028'!I23)+SUM('Q1 2029:Q4 2029'!I23)+SUM('Q1 2030:Q4 2030'!I23) -> 0 | K24: =SUM('Q1 2026:Q4 2026'!L23)+SUM('Q1 2027:Q4 2027'!L23)+SUM('Q1 2028:Q4 2028'!L23)+SUM('Q1 2029:Q4 2029'!L23)+SUM('Q1 2030:Q4 2030'!L23) -> 0 | L24: =SUM('Q1 2026:Q4 2026'!M23)+SUM('Q1 2027:Q4 2027'!M23)+SUM('Q1 2028:Q4 2028'!M23)+SUM('Q1 2029:Q4 2029'!M23)+SUM('Q1 2030:Q4 2030'!M23) -> 0 | O24: Cables containing oil, coal tar and other dangerous substances | P24: 170410 | Q24: H | R24: =SUM(S164:S166) -> 0 | S24: =SUM(T164:T166) -> 0 | T24: =SUM(U164:U166) -> 0 | U24: =SUM(V164:V166) -> 0 | V24: =SUM(W164:W166) -> 0 | W24: =SUM(X164:X166) -> 0 | X24: =R24+S24+T24+U24+W24 -> 0 | Y24: =S24+U24+W24 -> 0
D25: =IF(A25="","",(VLOOKUP($A25,EWC,2,FALSE))) | E25: =IF(D25="","",(VLOOKUP($A25,EWC,3,FALSE))) | F25: =IF(A25="","",(SUM(G25:J25)+L25)) | G25: =SUM('Q1 2026:Q4 2026'!F24)+SUM('Q1 2027:Q4 2027'!F24)+SUM('Q1 2028:Q4 2028'!F24)+SUM('Q1 2029:Q4 2029'!F24)+SUM('Q1 2030:Q4 2030'!F24) -> 0 | H25: =SUM('Q1 2026:Q4 2026'!G24)+SUM('Q1 2027:Q4 2027'!G24)+SUM('Q1 2028:Q4 2028'!G24)+SUM('Q1 2029:Q4 2029'!G24)+SUM('Q1 2030:Q4 2030'!G24) -> 0 | I25: =SUM('Q1 2026:Q4 2026'!H24)+SUM('Q1 2027:Q4 2027'!H24)+SUM('Q1 2028:Q4 2028'!H24)+SUM('Q1 2029:Q4 2029'!H24)+SUM('Q1 2030:Q4 2030'!H24) -> 0 | J25: =SUM('Q1 2026:Q4 2026'!I24)+SUM('Q1 2027:Q4 2027'!I24)+SUM('Q1 2028:Q4 2028'!I24)+SUM('Q1 2029:Q4 2029'!I24)+SUM('Q1 2030:Q4 2030'!I24) -> 0 | K25: =SUM('Q1 2026:Q4 2026'!L24)+SUM('Q1 2027:Q4 2027'!L24)+SUM('Q1 2028:Q4 2028'!L24)+SUM('Q1 2029:Q4 2029'!L24)+SUM('Q1 2030:Q4 2030'!L24) -> 0 | L25: =SUM('Q1 2026:Q4 2026'!M24)+SUM('Q1 2027:Q4 2027'!M24)+SUM('Q1 2028:Q4 2028'!M24)+SUM('Q1 2029:Q4 2029'!M24)+SUM('Q1 2030:Q4 2030'!M24) -> 0 | O25: Coal tar and tarred products | P25: 170303 | Q25: H | R25: =SUM(S167:S169) -> 0 | S25: =SUM(T167:T169) -> 0 | T25: =SUM(U167:U169) -> 0 | U25: =SUM(V167:V169) -> 0 | V25: =SUM(W167:W169) -> 0 | W25: =SUM(X167:X169) -> 0 | X25: =R25+S25+T25+U25+W25 -> 0 | Y25: =S25+U25+W25 -> 0
D26: =IF(A26="","",(VLOOKUP($A26,EWC,2,FALSE))) | E26: =IF(D26="","",(VLOOKUP($A26,EWC,3,FALSE))) | F26: =IF(A26="","",(SUM(G26:J26)+L26)) | G26: =SUM('Q1 2026:Q4 2026'!F25)+SUM('Q1 2027:Q4 2027'!F25)+SUM('Q1 2028:Q4 2028'!F25)+SUM('Q1 2029:Q4 2029'!F25)+SUM('Q1 2030:Q4 2030'!F25) -> 0 | H26: =SUM('Q1 2026:Q4 2026'!G25)+SUM('Q1 2027:Q4 2027'!G25)+SUM('Q1 2028:Q4 2028'!G25)+SUM('Q1 2029:Q4 2029'!G25)+SUM('Q1 2030:Q4 2030'!G25) -> 0 | I26: =SUM('Q1 2026:Q4 2026'!H25)+SUM('Q1 2027:Q4 2027'!H25)+SUM('Q1 2028:Q4 2028'!H25)+SUM('Q1 2029:Q4 2029'!H25)+SUM('Q1 2030:Q4 2030'!H25) -> 0 | J26: =SUM('Q1 2026:Q4 2026'!I25)+SUM('Q1 2027:Q4 2027'!I25)+SUM('Q1 2028:Q4 2028'!I25)+SUM('Q1 2029:Q4 2029'!I25)+SUM('Q1 2030:Q4 2030'!I25) -> 0 | K26: =SUM('Q1 2026:Q4 2026'!L25)+SUM('Q1 2027:Q4 2027'!L25)+SUM('Q1 2028:Q4 2028'!L25)+SUM('Q1 2029:Q4 2029'!L25)+SUM('Q1 2030:Q4 2030'!L25) -> 0 | L26: =SUM('Q1 2026:Q4 2026'!M25)+SUM('Q1 2027:Q4 2027'!M25)+SUM('Q1 2028:Q4 2028'!M25)+SUM('Q1 2029:Q4 2029'!M25)+SUM('Q1 2030:Q4 2030'!M25) -> 0 | O26: Concrete | P26: 170101 | Q26: I | R26: =SUM(S170:S172) -> 0 | S26: =SUM(T170:T172) -> 0 | T26: =SUM(U170:U172) -> 0 | U26: =SUM(V170:V172) -> 0 | V26: =SUM(W170:W172) -> 0 | W26: =SUM(X170:X172) -> 0 | X26: =R26+S26+T26+U26+W26 -> 0 | Y26: =S26+U26+W26 -> 0
D27: =IF(A27="","",(VLOOKUP($A27,EWC,2,FALSE))) | E27: =IF(D27="","",(VLOOKUP($A27,EWC,3,FALSE))) | F27: =IF(A27="","",(SUM(G27:J27)+L27)) | G27: =SUM('Q1 2026:Q4 2026'!F26)+SUM('Q1 2027:Q4 2027'!F26)+SUM('Q1 2028:Q4 2028'!F26)+SUM('Q1 2029:Q4 2029'!F26)+SUM('Q1 2030:Q4 2030'!F26) -> 0 | H27: =SUM('Q1 2026:Q4 2026'!G26)+SUM('Q1 2027:Q4 2027'!G26)+SUM('Q1 2028:Q4 2028'!G26)+SUM('Q1 2029:Q4 2029'!G26)+SUM('Q1 2030:Q4 2030'!G26) -> 0 | I27: =SUM('Q1 2026:Q4 2026'!H26)+SUM('Q1 2027:Q4 2027'!H26)+SUM('Q1 2028:Q4 2028'!H26)+SUM('Q1 2029:Q4 2029'!H26)+SUM('Q1 2030:Q4 2030'!H26) -> 0 | J27: =SUM('Q1 2026:Q4 2026'!I26)+SUM('Q1 2027:Q4 2027'!I26)+SUM('Q1 2028:Q4 2028'!I26)+SUM('Q1 2029:Q4 2029'!I26)+SUM('Q1 2030:Q4 2030'!I26) -> 0 | K27: =SUM('Q1 2026:Q4 2026'!L26)+SUM('Q1 2027:Q4 2027'!L26)+SUM('Q1 2028:Q4 2028'!L26)+SUM('Q1 2029:Q4 2029'!L26)+SUM('Q1 2030:Q4 2030'!L26) -> 0 | L27: =SUM('Q1 2026:Q4 2026'!M26)+SUM('Q1 2027:Q4 2027'!M26)+SUM('Q1 2028:Q4 2028'!M26)+SUM('Q1 2029:Q4 2029'!M26)+SUM('Q1 2030:Q4 2030'!M26) -> 0 | O27: Concrete, bricks tiles and ceramics - Mixed (contaminated) | P27: 170106 | Q27: H | R27: =SUM(S173:S175) -> 0 | S27: =SUM(T173:T175) -> 0 | T27: =SUM(U173:U175) -> 0 | U27: =SUM(V173:V175) -> 0 | V27: =SUM(W173:W175) -> 0 | W27: =SUM(X173:X175) -> 0 | X27: =R27+S27+T27+U27+W27 -> 0 | Y27: =S27+U27+W27 -> 0
D28: =IF(A28="","",(VLOOKUP($A28,EWC,2,FALSE))) | E28: =IF(D28="","",(VLOOKUP($A28,EWC,3,FALSE))) | F28: =IF(A28="","",(SUM(G28:J28)+L28)) | G28: =SUM('Q1 2026:Q4 2026'!F27)+SUM('Q1 2027:Q4 2027'!F27)+SUM('Q1 2028:Q4 2028'!F27)+SUM('Q1 2029:Q4 2029'!F27)+SUM('Q1 2030:Q4 2030'!F27) -> 0 | H28: =SUM('Q1 2026:Q4 2026'!G27)+SUM('Q1 2027:Q4 2027'!G27)+SUM('Q1 2028:Q4 2028'!G27)+SUM('Q1 2029:Q4 2029'!G27)+SUM('Q1 2030:Q4 2030'!G27) -> 0 | I28: =SUM('Q1 2026:Q4 2026'!H27)+SUM('Q1 2027:Q4 2027'!H27)+SUM('Q1 2028:Q4 2028'!H27)+SUM('Q1 2029:Q4 2029'!H27)+SUM('Q1 2030:Q4 2030'!H27) -> 0 | J28: =SUM('Q1 2026:Q4 2026'!I27)+SUM('Q1 2027:Q4 2027'!I27)+SUM('Q1 2028:Q4 2028'!I27)+SUM('Q1 2029:Q4 2029'!I27)+SUM('Q1 2030:Q4 2030'!I27) -> 0 | K28: =SUM('Q1 2026:Q4 2026'!L27)+SUM('Q1 2027:Q4 2027'!L27)+SUM('Q1 2028:Q4 2028'!L27)+SUM('Q1 2029:Q4 2029'!L27)+SUM('Q1 2030:Q4 2030'!L27) -> 0 | L28: =SUM('Q1 2026:Q4 2026'!M27)+SUM('Q1 2027:Q4 2027'!M27)+SUM('Q1 2028:Q4 2028'!M27)+SUM('Q1 2029:Q4 2029'!M27)+SUM('Q1 2030:Q4 2030'!M27) -> 0 | O28: Concrete, bricks, tiles and ceramics - Mixed (uncontaminated) | P28: 170107 | Q28: NH | R28: =SUM(S176:S178) -> 0 | S28: =SUM(T176:T178) -> 0 | T28: =SUM(U176:U178) -> 0 | U28: =SUM(V176:V178) -> 0 | V28: =SUM(W176:W178) -> 0 | W28: =SUM(X176:X178) -> 0 | X28: =R28+S28+T28+U28+W28 -> 0 | Y28: =S28+U28+W28 -> 0
D29: =IF(A29="","",(VLOOKUP($A29,EWC,2,FALSE))) | E29: =IF(D29="","",(VLOOKUP($A29,EWC,3,FALSE))) | F29: =IF(A29="","",(SUM(G29:J29)+L29)) | G29: =SUM('Q1 2026:Q4 2026'!F28)+SUM('Q1 2027:Q4 2027'!F28)+SUM('Q1 2028:Q4 2028'!F28)+SUM('Q1 2029:Q4 2029'!F28)+SUM('Q1 2030:Q4 2030'!F28) -> 0 | H29: =SUM('Q1 2026:Q4 2026'!G28)+SUM('Q1 2027:Q4 2027'!G28)+SUM('Q1 2028:Q4 2028'!G28)+SUM('Q1 2029:Q4 2029'!G28)+SUM('Q1 2030:Q4 2030'!G28) -> 0 | I29: =SUM('Q1 2026:Q4 2026'!H28)+SUM('Q1 2027:Q4 2027'!H28)+SUM('Q1 2028:Q4 2028'!H28)+SUM('Q1 2029:Q4 2029'!H28)+SUM('Q1 2030:Q4 2030'!H28) -> 0 | J29: =SUM('Q1 2026:Q4 2026'!I28)+SUM('Q1 2027:Q4 2027'!I28)+SUM('Q1 2028:Q4 2028'!I28)+SUM('Q1 2029:Q4 2029'!I28)+SUM('Q1 2030:Q4 2030'!I28) -> 0 | K29: =SUM('Q1 2026:Q4 2026'!L28)+SUM('Q1 2027:Q4 2027'!L28)+SUM('Q1 2028:Q4 2028'!L28)+SUM('Q1 2029:Q4 2029'!L28)+SUM('Q1 2030:Q4 2030'!L28) -> 0 | L29: =SUM('Q1 2026:Q4 2026'!M28)+SUM('Q1 2027:Q4 2027'!M28)+SUM('Q1 2028:Q4 2028'!M28)+SUM('Q1 2029:Q4 2029'!M28)+SUM('Q1 2030:Q4 2030'!M28) -> 0 | O29: Construction and demolition wastes - Mixed (contaminated) | P29: 170903 | Q29: H | R29: =SUM(S179:S181) -> 0 | S29: =SUM(T179:T181) -> 0 | T29: =SUM(U179:U181) -> 0 | U29: =SUM(V179:V181) -> 0 | V29: =SUM(W179:W181) -> 0 | W29: =SUM(X179:X181) -> 0 | X29: =R29+S29+T29+U29+W29 -> 0 | Y29: =S29+U29+W29 -> 0
D30: =IF(A30="","",(VLOOKUP($A30,EWC,2,FALSE))) | E30: =IF(D30="","",(VLOOKUP($A30,EWC,3,FALSE))) | F30: =IF(A30="","",(SUM(G30:J30)+L30)) | G30: =SUM('Q1 2026:Q4 2026'!F29)+SUM('Q1 2027:Q4 2027'!F29)+SUM('Q1 2028:Q4 2028'!F29)+SUM('Q1 2029:Q4 2029'!F29)+SUM('Q1 2030:Q4 2030'!F29) -> 0 | H30: =SUM('Q1 2026:Q4 2026'!G29)+SUM('Q1 2027:Q4 2027'!G29)+SUM('Q1 2028:Q4 2028'!G29)+SUM('Q1 2029:Q4 2029'!G29)+SUM('Q1 2030:Q4 2030'!G29) -> 0 | I30: =SUM('Q1 2026:Q4 2026'!H29)+SUM('Q1 2027:Q4 2027'!H29)+SUM('Q1 2028:Q4 2028'!H29)+SUM('Q1 2029:Q4 2029'!H29)+SUM('Q1 2030:Q4 2030'!H29) -> 0 | J30: =SUM('Q1 2026:Q4 2026'!I29)+SUM('Q1 2027:Q4 2027'!I29)+SUM('Q1 2028:Q4 2028'!I29)+SUM('Q1 2029:Q4 2029'!I29)+SUM('Q1 2030:Q4 2030'!I29) -> 0 | K30: =SUM('Q1 2026:Q4 2026'!L29)+SUM('Q1 2027:Q4 2027'!L29)+SUM('Q1 2028:Q4 2028'!L29)+SUM('Q1 2029:Q4 2029'!L29)+SUM('Q1 2030:Q4 2030'!L29) -> 0 | L30: =SUM('Q1 2026:Q4 2026'!M29)+SUM('Q1 2027:Q4 2027'!M29)+SUM('Q1 2028:Q4 2028'!M29)+SUM('Q1 2029:Q4 2029'!M29)+SUM('Q1 2030:Q4 2030'!M29) -> 0 | O30: Construction and demolition wastes - Mixed (uncontaminated) | P30: 170904 | Q30: NH | R30: =SUM(S182:S184) -> 0 | S30: =SUM(T182:T184) -> 0 | T30: =SUM(U182:U184) -> 0 | U30: =SUM(V182:V184) -> 0 | V30: =SUM(W182:W184) -> 0 | W30: =SUM(X182:X184) -> 0 | X30: =R30+S30+T30+U30+W30 -> 0 | Y30: =S30+U30+W30 -> 0
D31: =IF(A31="","",(VLOOKUP($A31,EWC,2,FALSE))) | E31: =IF(D31="","",(VLOOKUP($A31,EWC,3,FALSE))) | F31: =IF(A31="","",(SUM(G31:J31)+L31)) | G31: =SUM('Q1 2026:Q4 2026'!F30)+SUM('Q1 2027:Q4 2027'!F30)+SUM('Q1 2028:Q4 2028'!F30)+SUM('Q1 2029:Q4 2029'!F30)+SUM('Q1 2030:Q4 2030'!F30) -> 0 | H31: =SUM('Q1 2026:Q4 2026'!G30)+SUM('Q1 2027:Q4 2027'!G30)+SUM('Q1 2028:Q4 2028'!G30)+SUM('Q1 2029:Q4 2029'!G30)+SUM('Q1 2030:Q4 2030'!G30) -> 0 | I31: =SUM('Q1 2026:Q4 2026'!H30)+SUM('Q1 2027:Q4 2027'!H30)+SUM('Q1 2028:Q4 2028'!H30)+SUM('Q1 2029:Q4 2029'!H30)+SUM('Q1 2030:Q4 2030'!H30) -> 0 | J31: =SUM('Q1 2026:Q4 2026'!I30)+SUM('Q1 2027:Q4 2027'!I30)+SUM('Q1 2028:Q4 2028'!I30)+SUM('Q1 2029:Q4 2029'!I30)+SUM('Q1 2030:Q4 2030'!I30) -> 0 | K31: =SUM('Q1 2026:Q4 2026'!L30)+SUM('Q1 2027:Q4 2027'!L30)+SUM('Q1 2028:Q4 2028'!L30)+SUM('Q1 2029:Q4 2029'!L30)+SUM('Q1 2030:Q4 2030'!L30) -> 0 | L31: =SUM('Q1 2026:Q4 2026'!M30)+SUM('Q1 2027:Q4 2027'!M30)+SUM('Q1 2028:Q4 2028'!M30)+SUM('Q1 2029:Q4 2029'!M30)+SUM('Q1 2030:Q4 2030'!M30) -> 0 | O31: Construction and demolition wastes containing mercury | P31: 170901 | Q31: H | R31: =SUM(S185:S187) -> 0 | S31: =SUM(T185:T187) -> 0 | T31: =SUM(U185:U187) -> 0 | U31: =SUM(V185:V187) -> 0 | V31: =SUM(W185:W187) -> 0 | W31: =SUM(X185:X187) -> 0 | X31: =R31+S31+T31+U31+W31 -> 0 | Y31: =S31+U31+W31 -> 0
D32: =IF(A32="","",(VLOOKUP($A32,EWC,2,FALSE))) | E32: =IF(D32="","",(VLOOKUP($A32,EWC,3,FALSE))) | F32: =IF(A32="","",(SUM(G32:J32)+L32)) | G32: =SUM('Q1 2026:Q4 2026'!F31)+SUM('Q1 2027:Q4 2027'!F31)+SUM('Q1 2028:Q4 2028'!F31)+SUM('Q1 2029:Q4 2029'!F31)+SUM('Q1 2030:Q4 2030'!F31) -> 0 | H32: =SUM('Q1 2026:Q4 2026'!G31)+SUM('Q1 2027:Q4 2027'!G31)+SUM('Q1 2028:Q4 2028'!G31)+SUM('Q1 2029:Q4 2029'!G31)+SUM('Q1 2030:Q4 2030'!G31) -> 0 | I32: =SUM('Q1 2026:Q4 2026'!H31)+SUM('Q1 2027:Q4 2027'!H31)+SUM('Q1 2028:Q4 2028'!H31)+SUM('Q1 2029:Q4 2029'!H31)+SUM('Q1 2030:Q4 2030'!H31) -> 0 | J32: =SUM('Q1 2026:Q4 2026'!I31)+SUM('Q1 2027:Q4 2027'!I31)+SUM('Q1 2028:Q4 2028'!I31)+SUM('Q1 2029:Q4 2029'!I31)+SUM('Q1 2030:Q4 2030'!I31) -> 0 | K32: =SUM('Q1 2026:Q4 2026'!L31)+SUM('Q1 2027:Q4 2027'!L31)+SUM('Q1 2028:Q4 2028'!L31)+SUM('Q1 2029:Q4 2029'!L31)+SUM('Q1 2030:Q4 2030'!L31) -> 0 | L32: =SUM('Q1 2026:Q4 2026'!M31)+SUM('Q1 2027:Q4 2027'!M31)+SUM('Q1 2028:Q4 2028'!M31)+SUM('Q1 2029:Q4 2029'!M31)+SUM('Q1 2030:Q4 2030'!M31) -> 0 | O32: Construction and demolition wastes containing PCB | P32: 170902 | Q32: H | R32: =SUM(S188:S190) -> 0 | S32: =SUM(T188:T190) -> 0 | T32: =SUM(U188:U190) -> 0 | U32: =SUM(V188:V190) -> 0 | V32: =SUM(W188:W190) -> 0 | W32: =SUM(X188:X190) -> 0 | X32: =R32+S32+T32+U32+W32 -> 0 | Y32: =S32+U32+W32 -> 0
D33: =IF(A33="","",(VLOOKUP($A33,EWC,2,FALSE))) | E33: =IF(D33="","",(VLOOKUP($A33,EWC,3,FALSE))) | F33: =IF(A33="","",(SUM(G33:J33)+L33)) | G33: =SUM('Q1 2026:Q4 2026'!F32)+SUM('Q1 2027:Q4 2027'!F32)+SUM('Q1 2028:Q4 2028'!F32)+SUM('Q1 2029:Q4 2029'!F32)+SUM('Q1 2030:Q4 2030'!F32) -> 0 | H33: =SUM('Q1 2026:Q4 2026'!G32)+SUM('Q1 2027:Q4 2027'!G32)+SUM('Q1 2028:Q4 2028'!G32)+SUM('Q1 2029:Q4 2029'!G32)+SUM('Q1 2030:Q4 2030'!G32) -> 0 | I33: =SUM('Q1 2026:Q4 2026'!H32)+SUM('Q1 2027:Q4 2027'!H32)+SUM('Q1 2028:Q4 2028'!H32)+SUM('Q1 2029:Q4 2029'!H32)+SUM('Q1 2030:Q4 2030'!H32) -> 0 | J33: =SUM('Q1 2026:Q4 2026'!I32)+SUM('Q1 2027:Q4 2027'!I32)+SUM('Q1 2028:Q4 2028'!I32)+SUM('Q1 2029:Q4 2029'!I32)+SUM('Q1 2030:Q4 2030'!I32) -> 0 | K33: =SUM('Q1 2026:Q4 2026'!L32)+SUM('Q1 2027:Q4 2027'!L32)+SUM('Q1 2028:Q4 2028'!L32)+SUM('Q1 2029:Q4 2029'!L32)+SUM('Q1 2030:Q4 2030'!L32) -> 0 | L33: =SUM('Q1 2026:Q4 2026'!M32)+SUM('Q1 2027:Q4 2027'!M32)+SUM('Q1 2028:Q4 2028'!M32)+SUM('Q1 2029:Q4 2029'!M32)+SUM('Q1 2030:Q4 2030'!M32) -> 0 | O33: Construction materials containing asbestos | P33: 170605 | Q33: H | R33: =SUM(S191:S193) -> 0 | S33: =SUM(T191:T193) -> 0 | T33: =SUM(U191:U193) -> 0 | U33: =SUM(V191:V193) -> 0 | V33: =SUM(W191:W193) -> 0 | W33: =SUM(X191:X193) -> 0 | X33: =R33+S33+T33+U33+W33 -> 0 | Y33: =S33+U33+W33 -> 0
D34: =IF(A34="","",(VLOOKUP($A34,EWC,2,FALSE))) | E34: =IF(D34="","",(VLOOKUP($A34,EWC,3,FALSE))) | F34: =IF(A34="","",(SUM(G34:J34)+L34)) | G34: =SUM('Q1 2026:Q4 2026'!F33)+SUM('Q1 2027:Q4 2027'!F33)+SUM('Q1 2028:Q4 2028'!F33)+SUM('Q1 2029:Q4 2029'!F33)+SUM('Q1 2030:Q4 2030'!F33) -> 0 | H34: =SUM('Q1 2026:Q4 2026'!G33)+SUM('Q1 2027:Q4 2027'!G33)+SUM('Q1 2028:Q4 2028'!G33)+SUM('Q1 2029:Q4 2029'!G33)+SUM('Q1 2030:Q4 2030'!G33) -> 0 | I34: =SUM('Q1 2026:Q4 2026'!H33)+SUM('Q1 2027:Q4 2027'!H33)+SUM('Q1 2028:Q4 2028'!H33)+SUM('Q1 2029:Q4 2029'!H33)+SUM('Q1 2030:Q4 2030'!H33) -> 0 | J34: =SUM('Q1 2026:Q4 2026'!I33)+SUM('Q1 2027:Q4 2027'!I33)+SUM('Q1 2028:Q4 2028'!I33)+SUM('Q1 2029:Q4 2029'!I33)+SUM('Q1 2030:Q4 2030'!I33) -> 0 | K34: =SUM('Q1 2026:Q4 2026'!L33)+SUM('Q1 2027:Q4 2027'!L33)+SUM('Q1 2028:Q4 2028'!L33)+SUM('Q1 2029:Q4 2029'!L33)+SUM('Q1 2030:Q4 2030'!L33) -> 0 | L34: =SUM('Q1 2026:Q4 2026'!M33)+SUM('Q1 2027:Q4 2027'!M33)+SUM('Q1 2028:Q4 2028'!M33)+SUM('Q1 2029:Q4 2029'!M33)+SUM('Q1 2030:Q4 2030'!M33) -> 0 | O34: Dredging spoil (uncontaminated) | P34: 170506 | Q34: NH | R34: =SUM(S194:S196) -> 0 | S34: =SUM(T194:T196) -> 0 | T34: =SUM(U194:U196) -> 0 | U34: =SUM(V194:V196) -> 0 | V34: =SUM(W194:W196) -> 0 | W34: =SUM(X194:X196) -> 0 | X34: =R34+S34+T34+U34+W34 -> 0 | Y34: =S34+U34+W34 -> 0
A35: TOTALS | F35: =SUM(F10:F34) -> 0 | G35: =SUM(G10:G34) -> 0 | H35: =SUM(H10:H34) -> 0 | I35: =SUM(I10:I34) -> 0 | J35: =SUM(J10:J34) -> 0 | K35: =SUM(K10:K34) -> 0 | L35: =SUM(L10:L34) -> 0 | O35: Dredging spoil containing dangerous substances | P35: 170505 | Q35: H | R35: =SUM(S197:S199) -> 0 | S35: =SUM(T197:T199) -> 0 | T35: =SUM(U197:U199) -> 0 | U35: =SUM(V197:V199) -> 0 | V35: =SUM(W197:W199) -> 0 | W35: =SUM(X197:X199) -> 0 | X35: =R35+S35+T35+U35+W35 -> 0 | Y35: =S35+U35+W35 -> 0
O36: Electrical equipment (non hazardous) | P36: 160214 | Q36: NH | R36: =SUM(S200:S202) -> 0 | S36: =SUM(T200:T202) -> 0 | T36: =SUM(U200:U202) -> 0 | U36: =SUM(V200:V202) -> 0 | V36: =SUM(W200:W202) -> 0 | W36: =SUM(X200:X202) -> 0 | X36: =R36+S36+T36+U36+W36 -> 0 | Y36: =S36+U36+W36 -> 0
O37: Electrical equipment containing CFC's, HFC's & HCFC's | P37: 160211 | Q37: H | R37: =SUM(S203:S205) -> 0 | S37: =SUM(T203:T205) -> 0 | T37: =SUM(U203:U205) -> 0 | U37: =SUM(V203:V205) -> 0 | V37: =SUM(W203:W205) -> 0 | W37: =SUM(X203:X205) -> 0 | X37: =R37+S37+T37+U37+W37 -> 0 | Y37: =S37+U37+W37 -> 0
O38: Electrical equipment containing dangerous substances | P38: 160213 | Q38: H | R38: =SUM(S206:S208) -> 0 | S38: =SUM(T206:T208) -> 0 | T38: =SUM(U206:U208) -> 0 | U38: =SUM(V206:V208) -> 0 | V38: =SUM(W206:W208) -> 0 | W38: =SUM(X206:X208) -> 0 | X38: =R38+S38+T38+U38+W38 -> 0 | Y38: =S38+U38+W38 -> 0
O39: Electrical equipment containing PCBs | P39: 160210 | Q39: H | R39: =SUM(S209:S211) -> 0 | S39: =SUM(T209:T211) -> 0 | T39: =SUM(U209:U211) -> 0 | U39: =SUM(V209:V211) -> 0 | V39: =SUM(W209:W211) -> 0 | W39: =SUM(X209:X211) -> 0 | X39: =R39+S39+T39+U39+W39 -> 0 | Y39: =S39+U39+W39 -> 0
O40: Feminine hygiene products | P40: 200199 | Q40: NH | R40: =SUM(S212:S214) -> 0 | S40: =SUM(T212:T214) -> 0 | T40: =SUM(U212:U214) -> 0 | U40: =SUM(V212:V214) -> 0 | V40: =SUM(W212:W214) -> 0 | W40: =SUM(X212:X214) -> 0 | X40: =R40+S40+T40+U40+W40 -> 0 | Y40: =S40+U40+W40 -> 0
O41: Fluorescent tubes and other mercury-containing waste | P41: 200121 | Q41: H | R41: =SUM(S215:S217) -> 0 | S41: =SUM(T215:T217) -> 0 | T41: =SUM(U215:U217) -> 0 | U41: =SUM(V215:V217) -> 0 | V41: =SUM(W215:W217) -> 0 | W41: =SUM(X215:X217) -> 0 | X41: =R41+S41+T41+U41+W41 -> 0 | Y41: =S41+U41+W41 -> 0
O42: Fridges, freezers containing chlorofluorocarbons | P42: 200123 | Q42: H | R42: =SUM(S218:S220) -> 0 | S42: =SUM(T218:T220) -> 0 | T42: =SUM(U218:U220) -> 0 | U42: =SUM(V218:V220) -> 0 | V42: =SUM(W218:W220) -> 0 | W42: =SUM(X218:X220) -> 0 | X42: =R42+S42+T42+U42+W42 -> 0 | Y42: =S42+U42+W42 -> 0
O43: Fuel - mixed | P43: 130703 | Q43: H | R43: =SUM(S221:S223) -> 0 | S43: =SUM(T221:T223) -> 0 | T43: =SUM(U221:U223) -> 0 | U43: =SUM(V221:V223) -> 0 | V43: =SUM(W221:W223) -> 0 | W43: =SUM(X221:X223) -> 0 | X43: =R43+S43+T43+U43+W43 -> 0 | Y43: =S43+U43+W43 -> 0
O44: Fuel - Petrol | P44: 130702 | Q44: H | R44: =SUM(S224:S226) -> 0 | S44: =SUM(T224:T226) -> 0 | T44: =SUM(U224:U226) -> 0 | U44: =SUM(V224:V226) -> 0 | V44: =SUM(W224:W226) -> 0 | W44: =SUM(X224:X226) -> 0 | X44: =R44+S44+T44+U44+W44 -> 0 | Y44: =S44+U44+W44 -> 0
O45: Fuel, oil and diesel | P45: 130701 | Q45: H | R45: =SUM(S227:S229) -> 0 | S45: =SUM(T227:T229) -> 0 | T45: =SUM(U227:U229) -> 0 | U45: =SUM(V227:V229) -> 0 | V45: =SUM(W227:W229) -> 0 | W45: =SUM(X227:X229) -> 0 | X45: =R45+S45+T45+U45+W45 -> 0 | Y45: =S45+U45+W45 -> 0
O46: Glass | P46: 170202 | Q46: I | R46: =SUM(S230:S232) -> 0 | S46: =SUM(T230:T232) -> 0 | T46: =SUM(U230:U232) -> 0 | U46: =SUM(V230:V232) -> 0 | V46: =SUM(W230:W232) -> 0 | W46: =SUM(X230:X232) -> 0 | X46: =R46+S46+T46+U46+W46 -> 0 | Y46: =S46+U46+W46 -> 0
O47: Glass / plastic / wood containing or contaminated with dangerous substances | P47: 170204 | Q47: H | R47: =SUM(S233:S235) -> 0 | S47: =SUM(T233:T235) -> 0 | T47: =SUM(U233:U235) -> 0 | U47: =SUM(V233:V235) -> 0 | V47: =SUM(W233:W235) -> 0 | W47: =SUM(X233:X235) -> 0 | X47: =R47+S47+T47+U47+W47 -> 0 | Y47: =S47+U47+W47 -> 0
O48: Grit blast waste | P48: 120117 | Q48: NH | R48: =SUM(S236:S238) -> 0 | S48: =SUM(T236:T238) -> 0 | T48: =SUM(U236:U238) -> 0 | U48: =SUM(V236:V238) -> 0 | V48: =SUM(W236:W238) -> 0 | W48: =SUM(X236:X238) -> 0 | X48: =R48+S48+T48+U48+W48 -> 0 | Y48: =S48+U48+W48 -> 0
O49: Grit Blast waste - contaminated | P49: 120116 | Q49: H | R49: =SUM(S239:S241) -> 0 | S49: =SUM(T239:T241) -> 0 | T49: =SUM(U239:U241) -> 0 | U49: =SUM(V239:V241) -> 0 | V49: =SUM(W239:W241) -> 0 | W49: =SUM(X239:X241) -> 0 | X49: =R49+S49+T49+U49+W49 -> 0 | Y49: =S49+U49+W49 -> 0
O50: Grit chambers and oil/water separators wastes - mixed | P50: 130508 | Q50: H | R50: =SUM(S242:S244) -> 0 | S50: =SUM(T242:T244) -> 0 | T50: =SUM(U242:U244) -> 0 | U50: =SUM(V242:V244) -> 0 | V50: =SUM(W242:W244) -> 0 | W50: =SUM(X242:X244) -> 0 | X50: =R50+S50+T50+U50+W50 -> 0 | Y50: =S50+U50+W50 -> 0
O51: Gully pot waste | P51: 200303 | Q51: NH | R51: =SUM(S245:S247) -> 0 | S51: =SUM(T245:T247) -> 0 | T51: =SUM(U245:U247) -> 0 | U51: =SUM(V245:V247) -> 0 | V51: =SUM(W245:W247) -> 0 | W51: =SUM(X245:X247) -> 0 | X51: =R51+S51+T51+U51+W51 -> 0 | Y51: =S51+U51+W51 -> 0
O52: Gypsum-based construction materials | P52: 170802 | Q52: NH | R52: =SUM(S248:S250) -> 0 | S52: =SUM(T248:T250) -> 0 | T52: =SUM(U248:U250) -> 0 | U52: =SUM(V248:V250) -> 0 | V52: =SUM(W248:W250) -> 0 | W52: =SUM(X248:X250) -> 0 | X52: =R52+S52+T52+U52+W52 -> 0 | Y52: =S52+U52+W52 -> 0
O53: Gypsum-based construction materials contaminated with dangerous substances | P53: 170801 | Q53: H | R53: =SUM(S251:S253) -> 0 | S53: =SUM(T251:T253) -> 0 | T53: =SUM(U251:U253) -> 0 | U53: =SUM(V251:V253) -> 0 | V53: =SUM(W251:W253) -> 0 | W53: =SUM(X251:X253) -> 0 | X53: =R53+S53+T53+U53+W53 -> 0 | Y53: =S53+U53+W53 -> 0
O54: Insulating materials (uncontaminated) | P54: 170604 | Q54: NH | R54: =SUM(S254:S256) -> 0 | S54: =SUM(T254:T256) -> 0 | T54: =SUM(U254:U256) -> 0 | U54: =SUM(V254:V256) -> 0 | V54: =SUM(W254:W256) -> 0 | W54: =SUM(X254:X256) -> 0 | X54: =R54+S54+T54+U54+W54 -> 0 | Y54: =S54+U54+W54 -> 0
O55: Insulating materials consisting of or containing dangerous materials | P55: 170603 | Q55: H | R55: =SUM(S257:S259) -> 0 | S55: =SUM(T257:T259) -> 0 | T55: =SUM(U257:U259) -> 0 | U55: =SUM(V257:V259) -> 0 | V55: =SUM(W257:W259) -> 0 | W55: =SUM(X257:X259) -> 0 | X55: =R55+S55+T55+U55+W55 -> 0 | Y55: =S55+U55+W55 -> 0
O56: Insulating materials containing asbestos | P56: 170601 | Q56: H | R56: =SUM(S260:S262) -> 0 | S56: =SUM(T260:T262) -> 0 | T56: =SUM(U260:U262) -> 0 | U56: =SUM(V260:V262) -> 0 | V56: =SUM(W260:W262) -> 0 | W56: =SUM(X260:X262) -> 0 | X56: =R56+S56+T56+U56+W56 -> 0 | Y56: =S56+U56+W56 -> 0
O57: Interceptor Sludge - uncontaminated | P57: 130503 | Q57: NH | R57: =SUM(S263:S265) -> 0 | S57: =SUM(T263:T265) -> 0 | T57: =SUM(U263:U265) -> 0 | U57: =SUM(V263:V265) -> 0 | V57: =SUM(W263:W265) -> 0 | W57: =SUM(X263:X265) -> 0 | X57: =R57+S57+T57+U57+W57 -> 0 | Y57: =S57+U57+W57 -> 0
O58: Metal - Aluminium | P58: 170402 | Q58: NH | R58: =SUM(S266:S268) -> 0 | S58: =SUM(T266:T268) -> 0 | T58: =SUM(U266:U268) -> 0 | U58: =SUM(V266:V268) -> 0 | V58: =SUM(W266:W268) -> 0 | W58: =SUM(X266:X268) -> 0 | X58: =R58+S58+T58+U58+W58 -> 0 | Y58: =S58+U58+W58 -> 0
O59: Metal - Copper, bronze, brass | P59: 170401 | Q59: NH | R59: =SUM(S269:S271) -> 0 | S59: =SUM(T269:T271) -> 0 | T59: =SUM(U269:U271) -> 0 | U59: =SUM(V269:V271) -> 0 | V59: =SUM(W269:W271) -> 0 | W59: =SUM(X269:X271) -> 0 | X59: =R59+S59+T59+U59+W59 -> 0 | Y59: =S59+U59+W59 -> 0
O60: Metal - Iron and steel | P60: 170405 | Q60: NH | R60: =SUM(S272:S274) -> 0 | S60: =SUM(T272:T274) -> 0 | T60: =SUM(U272:U274) -> 0 | U60: =SUM(V272:V274) -> 0 | V60: =SUM(W272:W274) -> 0 | W60: =SUM(X272:X274) -> 0 | X60: =R60+S60+T60+U60+W60 -> 0 | Y60: =S60+U60+W60 -> 0
O61: Metal - Lead | P61: 170403 | Q61: NH | R61: =SUM(S275:S277) -> 0 | S61: =SUM(T275:T277) -> 0 | T61: =SUM(U275:U277) -> 0 | U61: =SUM(V275:V277) -> 0 | V61: =SUM(W275:W277) -> 0 | W61: =SUM(X275:X277) -> 0 | X61: =R61+S61+T61+U61+W61 -> 0 | Y61: =S61+U61+W61 -> 0
O62: Metal - mixed | P62: 170407 | Q62: NH | R62: =SUM(S278:S280) -> 0 | S62: =SUM(T278:T280) -> 0 | T62: =SUM(U278:U280) -> 0 | U62: =SUM(V278:V280) -> 0 | V62: =SUM(W278:W280) -> 0 | W62: =SUM(X278:X280) -> 0 | X62: =R62+S62+T62+U62+W62 -> 0 | Y62: =S62+U62+W62 -> 0
O63: Metal - mixed (hazardous) | P63: 170409 | Q63: H | R63: =SUM(S281:S283) -> 0 | S63: =SUM(T281:T283) -> 0 | T63: =SUM(U281:U283) -> 0 | U63: =SUM(V281:V283) -> 0 | V63: =SUM(W281:W283) -> 0 | W63: =SUM(X281:X283) -> 0 | X63: =R63+S63+T63+U63+W63 -> 0 | Y63: =S63+U63+W63 -> 0
O64: Metal - Tin | P64: 170406 | Q64: NH | R64: =SUM(S284:S286) -> 0 | S64: =SUM(T284:T286) -> 0 | T64: =SUM(U284:U286) -> 0 | U64: =SUM(V284:V286) -> 0 | V64: =SUM(W284:W286) -> 0 | W64: =SUM(X284:X286) -> 0 | X64: =R64+S64+T64+U64+W64 -> 0 | Y64: =S64+U64+W64 -> 0
O65: Metal - Zinc | P65: 170404 | Q65: NH | R65: =SUM(S287:S289) -> 0 | S65: =SUM(T287:T289) -> 0 | T65: =SUM(U287:U289) -> 0 | U65: =SUM(V287:V289) -> 0 | V65: =SUM(W287:W289) -> 0 | W65: =SUM(X287:X289) -> 0 | X65: =R65+S65+T65+U65+W65 -> 0 | Y65: =S65+U65+W65 -> 0
O66: Oil - Engine, Hydraulic, lubricating | P66: 130205 | Q66: H | R66: =SUM(S290:S292) -> 0 | S66: =SUM(T290:T292) -> 0 | T66: =SUM(U290:U292) -> 0 | U66: =SUM(V290:V292) -> 0 | V66: =SUM(W290:W292) -> 0 | W66: =SUM(X290:X292) -> 0 | X66: =R66+S66+T66+U66+W66 -> 0 | Y66: =S66+U66+W66 -> 0
O67: Oil - hydraulic (biodegradable) | P67: 130112 | Q67: H | R67: =SUM(S293:S295) -> 0 | S67: =SUM(T293:T295) -> 0 | T67: =SUM(U293:U295) -> 0 | U67: =SUM(V293:V295) -> 0 | V67: =SUM(W293:W295) -> 0 | W67: =SUM(X293:X295) -> 0 | X67: =R67+S67+T67+U67+W67 -> 0 | Y67: =S67+U67+W67 -> 0
O68: Oil - hydraulic (synthetic) | P68: 130111 | Q68: H | R68: =SUM(S296:S298) -> 0 | S68: =SUM(T296:T298) -> 0 | T68: =SUM(U296:U298) -> 0 | U68: =SUM(V296:V298) -> 0 | V68: =SUM(W296:W298) -> 0 | W68: =SUM(X296:X298) -> 0 | X68: =R68+S68+T68+U68+W68 -> 0 | Y68: =S68+U68+W68 -> 0
O69: Oil - lubricating (biodegradable) | P69: 130207 | Q69: H | R69: =SUM(S299:S301) -> 0 | S69: =SUM(T299:T301) -> 0 | T69: =SUM(U299:U301) -> 0 | U69: =SUM(V299:V301) -> 0 | V69: =SUM(W299:W301) -> 0 | W69: =SUM(X299:X301) -> 0 | X69: =R69+S69+T69+U69+W69 -> 0 | Y69: =S69+U69+W69 -> 0
O70: Oil - lubricating (synthetic) | P70: 130206 | Q70: H | R70: =SUM(S302:S304) -> 0 | S70: =SUM(T302:T304) -> 0 | T70: =SUM(U302:U304) -> 0 | U70: =SUM(V302:V304) -> 0 | V70: =SUM(W302:W304) -> 0 | W70: =SUM(X302:X304) -> 0 | X70: =R70+S70+T70+U70+W70 -> 0 | Y70: =S70+U70+W70 -> 0
O71: Oil filters | P71: 160107 | Q71: H | R71: =SUM(S305:S307) -> 0 | S71: =SUM(T305:T307) -> 0 | T71: =SUM(U305:U307) -> 0 | U71: =SUM(V305:V307) -> 0 | V71: =SUM(W305:W307) -> 0 | W71: =SUM(X305:X307) -> 0 | X71: =R71+S71+T71+U71+W71 -> 0 | Y71: =S71+U71+W71 -> 0
O72: Oil from oil / water separators | P72: 130506 | Q72: H | R72: =SUM(S308:S310) -> 0 | S72: =SUM(T308:T310) -> 0 | T72: =SUM(U308:U310) -> 0 | U72: =SUM(V308:V310) -> 0 | V72: =SUM(W308:W310) -> 0 | W72: =SUM(X308:X310) -> 0 | X72: =R72+S72+T72+U72+W72 -> 0 | Y72: =S72+U72+W72 -> 0
O73: Oily water from oil / water separators | P73: 130507 | Q73: H | R73: =SUM(S311:S313) -> 0 | S73: =SUM(T311:T313) -> 0 | T73: =SUM(U311:U313) -> 0 | U73: =SUM(V311:V313) -> 0 | V73: =SUM(W311:W313) -> 0 | W73: =SUM(X311:X313) -> 0 | X73: =R73+S73+T73+U73+W73 -> 0 | Y73: =S73+U73+W73 -> 0
O74: Packaging - Glass | P74: 150107 | Q74: I | R74: =SUM(S314:S316) -> 0 | S74: =SUM(T314:T316) -> 0 | T74: =SUM(U314:U316) -> 0 | U74: =SUM(V314:V316) -> 0 | V74: =SUM(W314:W316) -> 0 | W74: =SUM(X314:X316) -> 0 | X74: =R74+S74+T74+U74+W74 -> 0 | Y74: =S74+U74+W74 -> 0
O75: Packaging - Metal | P75: 150104 | Q75: NH | R75: =SUM(S317:S319) -> 0 | S75: =SUM(T317:T319) -> 0 | T75: =SUM(U317:U319) -> 0 | U75: =SUM(V317:V319) -> 0 | V75: =SUM(W317:W319) -> 0 | W75: =SUM(X317:X319) -> 0 | X75: =R75+S75+T75+U75+W75 -> 0 | Y75: =S75+U75+W75 -> 0
O76: Packaging - Mixed | P76: 150106 | Q76: NH | R76: =SUM(S320:S322) -> 0 | S76: =SUM(T320:T322) -> 0 | T76: =SUM(U320:U322) -> 0 | U76: =SUM(V320:V322) -> 0 | V76: =SUM(W320:W322) -> 0 | W76: =SUM(X320:X322) -> 0 | X76: =R76+S76+T76+U76+W76 -> 0 | Y76: =S76+U76+W76 -> 0
O77: Packaging - Plastic | P77: 150102 | Q77: NH | R77: =SUM(S323:S325) -> 0 | S77: =SUM(T323:T325) -> 0 | T77: =SUM(U323:U325) -> 0 | U77: =SUM(V323:V325) -> 0 | V77: =SUM(W323:W325) -> 0 | W77: =SUM(X323:X325) -> 0 | X77: =R77+S77+T77+U77+W77 -> 0 | Y77: =S77+U77+W77 -> 0
O78: Packaging - Wood | P78: 150103 | Q78: NH | R78: =SUM(S326:S328) -> 0 | S78: =SUM(T326:T328) -> 0 | T78: =SUM(U326:U328) -> 0 | U78: =SUM(V326:V328) -> 0 | V78: =SUM(W326:W328) -> 0 | W78: =SUM(X326:X328) -> 0 | X78: =R78+S78+T78+U78+W78 -> 0 | Y78: =S78+U78+W78 -> 0
O79: Paint and varnish (non hazardous) | P79: 80112 | Q79: NH | R79: =SUM(S329:S331) -> 0 | S79: =SUM(T329:T331) -> 0 | T79: =SUM(U329:U331) -> 0 | U79: =SUM(V329:V331) -> 0 | V79: =SUM(W329:W331) -> 0 | W79: =SUM(X329:X331) -> 0 | X79: =R79+S79+T79+U79+W79 -> 0 | Y79: =S79+U79+W79 -> 0
O80: Paint and varnish containing organic solvents or other dangerous substances | P80: 80111 | Q80: H | R80: =SUM(S332:S334) -> 0 | S80: =SUM(T332:T334) -> 0 | T80: =SUM(U332:U334) -> 0 | U80: =SUM(V332:V334) -> 0 | V80: =SUM(W332:W334) -> 0 | W80: =SUM(X332:X334) -> 0 | X80: =R80+S80+T80+U80+W80 -> 0 | Y80: =S80+U80+W80 -> 0
O81: Paint or varnish remover (non hazardous) | P81: 80118 | Q81: NH | R81: =SUM(S335:S337) -> 0 | S81: =SUM(T335:T337) -> 0 | T81: =SUM(U335:U337) -> 0 | U81: =SUM(V335:V337) -> 0 | V81: =SUM(W335:W337) -> 0 | W81: =SUM(X335:X337) -> 0 | X81: =R81+S81+T81+U81+W81 -> 0 | Y81: =S81+U81+W81 -> 0
O82: Paint or varnish remover containing organic solvents or other dangerous substances | P82: 80117 | Q82: H | R82: =SUM(S338:S340) -> 0 | S82: =SUM(T338:T340) -> 0 | T82: =SUM(U338:U340) -> 0 | U82: =SUM(V338:V340) -> 0 | V82: =SUM(W338:W340) -> 0 | W82: =SUM(X338:X340) -> 0 | X82: =R82+S82+T82+U82+W82 -> 0 | Y82: =S82+U82+W82 -> 0
O83: Paper - Office | P83: 200101 | Q83: NH | R83: =SUM(S341:S343) -> 0 | S83: =SUM(T341:T343) -> 0 | T83: =SUM(U341:U343) -> 0 | U83: =SUM(V341:V343) -> 0 | V83: =SUM(W341:W343) -> 0 | W83: =SUM(X341:X343) -> 0 | X83: =R83+S83+T83+U83+W83 -> 0 | Y83: =S83+U83+W83 -> 0
O84: Paper / Cardboard packaging | P84: 150101 | Q84: NH | R84: =SUM(S344:S346) -> 0 | S84: =SUM(T344:T346) -> 0 | T84: =SUM(U344:U346) -> 0 | U84: =SUM(V344:V346) -> 0 | V84: =SUM(W344:W346) -> 0 | W84: =SUM(X344:X346) -> 0 | X84: =R84+S84+T84+U84+W84 -> 0 | Y84: =S84+U84+W84 -> 0
O85: Plastic | P85: 170203 | Q85: NH | R85: =SUM(S347:S349) -> 0 | S85: =SUM(T347:T349) -> 0 | T85: =SUM(U347:U349) -> 0 | U85: =SUM(V347:V349) -> 0 | V85: =SUM(W347:W349) -> 0 | W85: =SUM(X347:X349) -> 0 | X85: =R85+S85+T85+U85+W85 -> 0 | Y85: =S85+U85+W85 -> 0
O86: Printing toner (no hazardous contents) | P86: 80318 | Q86: NH | R86: =SUM(S350:S352) -> 0 | S86: =SUM(T350:T352) -> 0 | T86: =SUM(U350:U352) -> 0 | U86: =SUM(V350:V352) -> 0 | V86: =SUM(W350:W352) -> 0 | W86: =SUM(X350:X352) -> 0 | X86: =R86+S86+T86+U86+W86 -> 0 | Y86: =S86+U86+W86 -> 0
O87: Printing toner containing dangerous substances | P87: 80317 | Q87: H | R87: =SUM(S353:S355) -> 0 | S87: =SUM(T353:T355) -> 0 | T87: =SUM(U353:U355) -> 0 | U87: =SUM(V353:V355) -> 0 | V87: =SUM(W353:W355) -> 0 | W87: =SUM(X353:X355) -> 0 | X87: =R87+S87+T87+U87+W87 -> 0 | Y87: =S87+U87+W87 -> 0
O88: Sewage effluent | P88: 200304 | Q88: NH | R88: =SUM(S356:S358) -> 0 | S88: =SUM(T356:T358) -> 0 | T88: =SUM(U356:U358) -> 0 | U88: =SUM(V356:V358) -> 0 | V88: =SUM(W356:W358) -> 0 | W88: =SUM(X356:X358) -> 0 | X88: =R88+S88+T88+U88+W88 -> 0 | Y88: =S88+U88+W88 -> 0
O89: Sewage effluent - portaloos (Chemical) / storage tank# | P89: 161002 | Q89: NH | R89: =SUM(S359:S361) -> 0 | S89: =SUM(T359:T361) -> 0 | T89: =SUM(U359:U361) -> 0 | U89: =SUM(V359:V361) -> 0 | V89: =SUM(W359:W361) -> 0 | W89: =SUM(X359:X361) -> 0 | X89: =R89+S89+T89+U89+W89 -> 0 | Y89: =S89+U89+W89 -> 0
O90: Site Office / Welfare waste | P90: 200301 | Q90: NH | R90: =SUM(S362:S364) -> 0 | S90: =SUM(T362:T364) -> 0 | T90: =SUM(U362:U364) -> 0 | U90: =SUM(V362:V364) -> 0 | V90: =SUM(W362:W364) -> 0 | W90: =SUM(X362:X364) -> 0 | X90: =R90+S90+T90+U90+W90 -> 0 | Y90: =S90+U90+W90 -> 0
O91: Soil and stones - Hazardous | P91: 170503 | Q91: H | R91: =SUM(S365:S367) -> 0 | S91: =SUM(T365:T367) -> 0 | T91: =SUM(U365:U367) -> 0 | U91: =SUM(V365:V367) -> 0 | V91: =SUM(W365:W367) -> 0 | W91: =SUM(X365:X367) -> 0 | X91: =R91+S91+T91+U91+W91 -> 0 | Y91: =S91+U91+W91 -> 0
O92: Soil and Stones - Inert | P92: 170504 | Q92: I | R92: =SUM(S368:S370) -> 0 | S92: =SUM(T368:T370) -> 0 | T92: =SUM(U368:U370) -> 0 | U92: =SUM(V368:V370) -> 0 | V92: =SUM(W368:W370) -> 0 | W92: =SUM(X368:X370) -> 0 | X92: =R92+S92+T92+U92+W92 -> 0 | Y92: =S92+U92+W92 -> 0
O93: Spill kit (used) pads, socks etc. | P93: 150202 | Q93: H | R93: =SUM(S371:S373) -> 0 | S93: =SUM(T371:T373) -> 0 | T93: =SUM(U371:U373) -> 0 | U93: =SUM(V371:V373) -> 0 | V93: =SUM(W371:W373) -> 0 | W93: =SUM(X371:X373) -> 0 | X93: =R93+S93+T93+U93+W93 -> 0 | Y93: =S93+U93+W93 -> 0
O94: Tiles and ceramics (uncontaminated) | P94: 170103 | Q94: I | R94: =SUM(S374:S376) -> 0 | S94: =SUM(T374:T376) -> 0 | T94: =SUM(U374:U376) -> 0 | U94: =SUM(V374:V376) -> 0 | V94: =SUM(W374:W376) -> 0 | W94: =SUM(X374:X376) -> 0 | X94: =R94+S94+T94+U94+W94 -> 0 | Y94: =S94+U94+W94 -> 0
O95: Track ballast (uncontaminated) | P95: 170508 | Q95: I | R95: =SUM(S377:S379) -> 0 | S95: =SUM(T377:T379) -> 0 | T95: =SUM(U377:U379) -> 0 | U95: =SUM(V377:V379) -> 0 | V95: =SUM(W377:W379) -> 0 | W95: =SUM(X377:X379) -> 0 | X95: =R95+S95+T95+U95+W95 -> 0 | Y95: =S95+U95+W95 -> 0
O96: Track ballast containing dangerous substances | P96: 170507 | Q96: H | R96: =SUM(S380:S382) -> 0 | S96: =SUM(T380:T382) -> 0 | T96: =SUM(U380:U382) -> 0 | U96: =SUM(V380:V382) -> 0 | V96: =SUM(W380:W382) -> 0 | W96: =SUM(X380:X382) -> 0 | X96: =R96+S96+T96+U96+W96 -> 0 | Y96: =S96+U96+W96 -> 0
O97: Tyres | P97: 160103 | Q97: NH | R97: =SUM(S383:S385) -> 0 | S97: =SUM(T383:T385) -> 0 | T97: =SUM(U383:U385) -> 0 | U97: =SUM(V383:V385) -> 0 | V97: =SUM(W383:W385) -> 0 | W97: =SUM(X383:X385) -> 0 | X97: =R97+S97+T97+U97+W97 -> 0 | Y97: =S97+U97+W97 -> 0
O98: Vegetation | P98: 200201 | Q98: NH | R98: =SUM(S386:S388) -> 0 | S98: =SUM(T386:T388) -> 0 | T98: =SUM(U386:U388) -> 0 | U98: =SUM(V386:V388) -> 0 | V98: =SUM(W386:W388) -> 0 | W98: =SUM(X386:X388) -> 0 | X98: =R98+S98+T98+U98+W98 -> 0 | Y98: =S98+U98+W98 -> 0
O99: Wood | P99: 170201 | Q99: NH | R99: =SUM(S389:S391) -> 0 | S99: =SUM(T389:T391) -> 0 | T99: =SUM(U389:U391) -> 0 | U99: =SUM(V389:V391) -> 0 | V99: =SUM(W389:W391) -> 0 | W99: =SUM(X389:X391) -> 0 | X99: =R99+S99+T99+U99+W99 -> 0 | Y99: =S99+U99+W99 -> 0
O100: Sewage Treatment - Screenings | P100: 190801 | Q100: NH | R100: =SUM(S392:S394) -> 0 | S100: =SUM(T392:T394) -> 0 | T100: =SUM(U392:U394) -> 0 | U100: =SUM(V392:V394) -> 0 | V100: =SUM(W392:W394) -> 0 | W100: =SUM(X392:X394) -> 0 | X100: =R100+S100+T100+U100+W100 -> 0 | Y100: =S100+U100+W100 -> 0
O101: Sewage Treatment – Grit / Sand | P101: 190802 | Q101: NH | R101: =SUM(S395:S397) -> 0 | S101: =SUM(T395:T397) -> 0 | T101: =SUM(U395:U397) -> 0 | U101: =SUM(V395:V397) -> 0 | V101: =SUM(W395:W397) -> 0 | W101: =SUM(X395:X397) -> 0 | X101: =R101+S101+T101+U101+W101 -> 0 | Y101: =S101+U101+W101 -> 0
O102: Sewage Treatment - Sludge | P102: 190805 | Q102: NH | R102: =SUM(S398:S400) -> 0 | S102: =SUM(T398:T400) -> 0 | T102: =SUM(U398:U400) -> 0 | U102: =SUM(V398:V400) -> 0 | V102: =SUM(W398:W400) -> 0 | W102: =SUM(X398:X400) -> 0 | X102: =R102+S102+T102+U102+W102 -> 0 | Y102: =S102+U102+W102 -> 0
...

Sheet Q1 2026
A1: SITE WASTE DATA SHEET
A2: Project Name | C2: ='Project Details'!D10 -> Piccadilly Gardens Redevelopment | J2: For guidance on completion of this sheet please refer to GN-HSE-W01-101
A3: Contract Number: | C3: ='Project Details'!D11 -> HLA098 | H3: Project value: | J3: ='Project Details'!D13 -> 15000000
A4: Project Start Date: | C4: ='Project Details'!D16 -> Winter 2026 (TBC) | H4: Business Unit | J4: ='Project Details'!D38 -> Adam Liu
A5: Person in Charge of Site Works | C5: ='Project Details'!D39 -> TBC | H5: Waste Champion | J5: ='Project Details'!D42 -> TBC
A7: MATERIAL | B7: Activity | C7: EWC | D7: Waste Category | E7: Total (Tonnes) | F7: Q1 TOTALS (Tonnes) 2026
F8: Reused on-site | G8: Reused off-site | H8: Recycled on-site | I8: Recycled off-site | J8: Transfer station / MRF / EfW | K8: Permit / WML / exempt site | L8: Direct to Landfill | M8: Total Landfill
A9: ='Project Cumulative '!A10 -> Dry Mixed Recyclables (DMR - paper, cardboard, metal, plastic glass) | B9: ='Project Cumulative '!B10 -> Construction | C9: ='Project Cumulative '!D10 -> 150106 | D9: ='Project Cumulative '!E10 -> NH | E9: =SUM(F9:I9)+M9 -> 0 | F9: =SUM('Jan 26:Mar 26'!G11) -> 0 | G9: =SUM('Jan 26:Mar 26'!I11) -> 0 | H9: =SUM('Jan 26:Mar 26'!J11) -> 0 | I9: =SUM('Jan 26:Mar 26'!M11) -> 0 | L9: =SUM('Jan 26:Mar 26'!O11) -> 0 | M9: =SUM('Jan 26:Mar 26'!P11) -> 0
A10: ='Project Cumulative '!A11 -> Construction and demolition wastes - Mixed (uncontaminated) | B10: ='Project Cumulative '!B11 -> Excavation | C10: ='Project Cumulative '!D11 -> 170904 | D10: ='Project Cumulative '!E11 -> NH | E10: =SUM(F10:I10)+M10 -> 0 | F10: =SUM('Jan 26:Mar 26'!G12) -> 0 | G10: =SUM('Jan 26:Mar 26'!I12) -> 0 | H10: =SUM('Jan 26:Mar 26'!J12) -> 0 | I10: =SUM('Jan 26:Mar 26'!M12) -> 0 | L10: =SUM('Jan 26:Mar 26'!O12) -> 0 | M10: =SUM('Jan 26:Mar 26'!P12) -> 0 | U10: =IF(B10="Demolition",G10,"")
A11: ='Project Cumulative '!A12 -> Soil and Stones | B11: ='Project Cumulative '!B12 -> Excavation | C11: ='Project Cumulative '!D12 -> 170504 | D11: ='Project Cumulative '!E12 -> I | E11: =SUM(F11:I11)+M11 -> 0 | F11: =SUM('Jan 26:Mar 26'!G13) -> 0 | G11: =SUM('Jan 26:Mar 26'!I13) -> 0 | H11: =SUM('Jan 26:Mar 26'!J13) -> 0 | I11: =SUM('Jan 26:Mar 26'!M13) -> 0 | L11: =SUM('Jan 26:Mar 26'!O13) -> 0 | M11: =SUM('Jan 26:Mar 26'!P13) -> 0
A12: ='Project Cumulative '!A13 -> Bituminous mixtures not containing coal tar | B12: ='Project Cumulative '!B13 -> Excavation | C12: ='Project Cumulative '!D13 -> 170302 | D12: ='Project Cumulative '!E13 -> NH | E12: =SUM(F12:I12)+M12 -> 0 | F12: =SUM('Jan 26:Mar 26'!G14) -> 0 | G12: =SUM('Jan 26:Mar 26'!I14) -> 0 | H12: =SUM('Jan 26:Mar 26'!J14) -> 0 | I12: =SUM('Jan 26:Mar 26'!M14) -> 0 | L12: =SUM('Jan 26:Mar 26'!O14) -> 0 | M12: =SUM('Jan 26:Mar 26'!P14) -> 0
A13: ='Project Cumulative '!A14 -> Road sweepings | B13: ='Project Cumulative '!B14 -> Construction | C13: ='Project Cumulative '!D14 -> 200303 | D13: ='Project Cumulative '!E14 -> NH | E13: =SUM(F13:I13)+M13 -> 0 | F13: =SUM('Jan 26:Mar 26'!G15) -> 0 | G13: =SUM('Jan 26:Mar 26'!I15) -> 0 | H13: =SUM('Jan 26:Mar 26'!J15) -> 0 | I13: =SUM('Jan 26:Mar 26'!M15) -> 0 | L13: =SUM('Jan 26:Mar 26'!O15) -> 0 | M13: =SUM('Jan 26:Mar 26'!P15) -> 0
A14: ='Project Cumulative '!A15 -> Sewage Treatment - Sludge destined for offsite treatment | B14: ='Project Cumulative '!B15 -> Construction | C14: ='Project Cumulative '!D15 -> 161001 | D14: ='Project Cumulative '!E15 -> H | E14: =SUM(F14:I14)+M14 -> 0 | F14: =SUM('Jan 26:Mar 26'!G16) -> 0 | G14: =SUM('Jan 26:Mar 26'!I16) -> 0 | H14: =SUM('Jan 26:Mar 26'!J16) -> 0 | I14: =SUM('Jan 26:Mar 26'!M16) -> 0 | L14: =SUM('Jan 26:Mar 26'!O16) -> 0 | M14: =SUM('Jan 26:Mar 26'!P16) -> 0
A15: ='Project Cumulative '!A16 -> Construction materials containing asbestos | B15: ='Project Cumulative '!B16 -> Demolition | C15: ='Project Cumulative '!D16 -> 170605 | D15: ='Project Cumulative '!E16 -> H | E15: =SUM(F15:I15)+M15 -> 0 | F15: =SUM('Jan 26:Mar 26'!G17) -> 0 | G15: =SUM('Jan 26:Mar 26'!I17) -> 0 | H15: =SUM('Jan 26:Mar 26'!J17) -> 0 | I15: =SUM('Jan 26:Mar 26'!M17) -> 0 | L15: =SUM('Jan 26:Mar 26'!O17) -> 0 | M15: =SUM('Jan 26:Mar 26'!P17) -> 0
A16: ='Project Cumulative '!A17 -> Concrete, bricks, tiles and ceramics - Mixed (uncontaminated) | B16: ='Project Cumulative '!B17 -> Demolition | C16: ='Project Cumulative '!D17 -> 170107 | D16: ='Project Cumulative '!E17 -> NH | E16: =SUM(F16:I16)+M16 -> 0 | F16: =SUM('Jan 26:Mar 26'!G18) -> 0 | G16: =SUM('Jan 26:Mar 26'!I18) -> 0 | H16: =SUM('Jan 26:Mar 26'!J18) -> 0 | I16: =SUM('Jan 26:Mar 26'!M18) -> 0 | L16: =SUM('Jan 26:Mar 26'!O18) -> 0 | M16: =SUM('Jan 26:Mar 26'!P18) -> 0
A17: ='Project Cumulative '!A18 -> Metal - Iron and steel | B17: ='Project Cumulative '!B18 -> Demolition | C17: ='Project Cumulative '!D18 -> 170405 | D17: ='Project Cumulative '!E18 -> NH | E17: =SUM(F17:I17)+M17 -> 0 | F17: =SUM('Jan 26:Mar 26'!G19) -> 0 | G17: =SUM('Jan 26:Mar 26'!I19) -> 0 | H17: =SUM('Jan 26:Mar 26'!J19) -> 0 | I17: =SUM('Jan 26:Mar 26'!M19) -> 0 | L17: =SUM('Jan 26:Mar 26'!O19) -> 0 | M17: =SUM('Jan 26:Mar 26'!P19) -> 0
A18: ='Project Cumulative '!A19 -> 0 | B18: ='Project Cumulative '!B19 -> 0 | C18: ='Project Cumulative '!D19 | D18: ='Project Cumulative '!E19 | E18: =SUM(F18:I18)+M18 -> 0 | F18: =SUM('Jan 26:Mar 26'!G20) -> 0 | G18: =SUM('Jan 26:Mar 26'!I20) -> 0 | H18: =SUM('Jan 26:Mar 26'!J20) -> 0 | I18: =SUM('Jan 26:Mar 26'!M20) -> 0 | L18: =SUM('Jan 26:Mar 26'!O20) -> 0 | M18: =SUM('Jan 26:Mar 26'!P20) -> 0
A19: ='Project Cumulative '!A20 -> 0 | B19: ='Project Cumulative '!B20 -> 0 | C19: ='Project Cumulative '!D20 | D19: ='Project Cumulative '!E20 | E19: =SUM(F19:I19)+M19 -> 0 | F19: =SUM('Jan 26:Mar 26'!G21) -> 0 | G19: =SUM('Jan 26:Mar 26'!I21) -> 0 | H19: =SUM('Jan 26:Mar 26'!J21) -> 0 | I19: =SUM('Jan 26:Mar 26'!M21) -> 0 | L19: =SUM('Jan 26:Mar 26'!O21) -> 0 | M19: =SUM('Jan 26:Mar 26'!P21) -> 0
A20: ='Project Cumulative '!A21 -> 0 | B20: ='Project Cumulative '!B21 -> 0 | C20: ='Project Cumulative '!D21 | D20: ='Project Cumulative '!E21 | E20: =SUM(F20:I20)+M20 -> 0 | F20: =SUM('Jan 26:Mar 26'!G22) -> 0 | G20: =SUM('Jan 26:Mar 26'!I22) -> 0 | H20: =SUM('Jan 26:Mar 26'!J22) -> 0 | I20: =SUM('Jan 26:Mar 26'!M22) -> 0 | L20: =SUM('Jan 26:Mar 26'!O22) -> 0 | M20: =SUM('Jan 26:Mar 26'!P22) -> 0
A21: ='Project Cumulative '!A22 -> 0 | B21: ='Project Cumulative '!B22 -> 0 | C21: ='Project Cumulative '!D22 | D21: ='Project Cumulative '!E22 | E21: =SUM(F21:I21)+M21 -> 0 | F21: =SUM('Jan 26:Mar 26'!G23) -> 0 | G21: =SUM('Jan 26:Mar 26'!I23) -> 0 | H21: =SUM('Jan 26:Mar 26'!J23) -> 0 | I21: =SUM('Jan 26:Mar 26'!M23) -> 0 | L21: =SUM('Jan 26:Mar 26'!O23) -> 0 | M21: =SUM('Jan 26:Mar 26'!P23) -> 0
A22: ='Project Cumulative '!A23 -> 0 | B22: ='Project Cumulative '!B23 -> 0 | C22: ='Project Cumulative '!D23 | D22: ='Project Cumulative '!E23 | E22: =SUM(F22:I22)+M22 -> 0 | F22: =SUM('Jan 26:Mar 26'!G24) -> 0 | G22: =SUM('Jan 26:Mar 26'!I24) -> 0 | H22: =SUM('Jan 26:Mar 26'!J24) -> 0 | I22: =SUM('Jan 26:Mar 26'!M24) -> 0 | L22: =SUM('Jan 26:Mar 26'!O24) -> 0 | M22: =SUM('Jan 26:Mar 26'!P24) -> 0
... A33: ='Project Cumulative '!A34 -> 0 | B33: ='Project Cumulative '!B34 -> 0 | C33: ='Project Cumulative '!D34 | D33: ='Project Cumulative '!E34 | E33: =SUM(F33:I33)+M33 -> 0 | F33: =SUM('Jan 26:Mar 26'!G35) -> 0 | G33: =SUM('Jan 26:Mar 26'!I35) -> 0 | H33: =SUM('Jan 26:Mar 26'!J35) -> 0 | I33: =SUM('Jan 26:Mar 26'!M35) -> 0 | L33: =SUM('Jan 26:Mar 26'!O35) -> 0 | M33: =SUM('Jan 26:Mar 26'!P35) -> 0
A34: TOTALS | E34: =SUM(E9:E33) -> 0 | F34: =SUM(F9:F33) -> 0 | G34: =SUM(G9:G33) -> 0 | H34: =SUM(H9:H33) -> 0 | I34: =SUM(I9:I33) -> 0 | L34: =SUM(L9:L33) -> 0 | M34: =SUM(M9:M33) -> 0

Sheet Q2 2026
A1: SITE WASTE DATA SHEET
A2: Project Name | C2: ='Project Details'!D10 -> Piccadilly Gardens Redevelopment | J2: For guidance on completion of this sheet please refer to GN-HSE-W01-101
A3: Contract Number: | C3: ='Project Details'!D11 -> HLA098 | H3: Project value: | J3: ='Project Details'!D13 -> 15000000
A4: Project Start Date: | C4: ='Project Details'!D16 -> Winter 2026 (TBC) | H4: Business Unit | J4: ='Project Details'!D38 -> Adam Liu
A5: Person in Charge of Site Works | C5: ='Project Details'!D39 -> TBC | H5: Waste Champion | J5: ='Project Details'!D42 -> TBC
A7: MATERIAL | B7: Activity | C7: EWC | D7: Waste Category | E7: Total (Tonnes) | F7: Q2 TOTALS (Tonnes) 2026
F8: Reused on-site | G8: Reused off-site | H8: Recycled on-site | I8: Recycled off-site | J8: Transfer station / MRF / EfW | K8: Permit / WML / exempt site | L8: Direct to Landfill | M8: Total Landfill
A9: ='Project Cumulative '!A10 -> Dry Mixed Recyclables (DMR - paper, cardboard, metal, plastic glass) | B9: ='Project Cumulative '!B10 -> Construction | C9: ='Project Cumulative '!D10 -> 150106 | D9: ='Project Cumulative '!E10 -> NH | E9: =SUM(F9:I9)+M9 -> 0 | F9: =SUM('Apr 26:Jun 26'!G11) -> 0 | G9: =SUM('Apr 26:Jun 26'!I11) -> 0 | H9: =SUM('Apr 26:Jun 26'!J11) -> 0 | I9: =SUM('Apr 26:Jun 26'!M11) -> 0 | L9: =SUM('Apr 26:Jun 26'!O11) -> 0 | M9: =SUM('Apr 26:Jun 26'!P11) -> 0
A10: ='Project Cumulative '!A11 -> Construction and demolition wastes - Mixed (uncontaminated) | B10: ='Project Cumulative '!B11 -> Excavation | C10: ='Project Cumulative '!D11 -> 170904 | D10: ='Project Cumulative '!E11 -> NH | E10: =SUM(F10:I10)+M10 -> 0 | F10: =SUM('Apr 26:Jun 26'!G12) -> 0 | G10: =SUM('Apr 26:Jun 26'!I12) -> 0 | H10: =SUM('Apr 26:Jun 26'!J12) -> 0 | I10: =SUM('Apr 26:Jun 26'!M12) -> 0 | L10: =SUM('Apr 26:Jun 26'!O12) -> 0 | M10: =SUM('Apr 26:Jun 26'!P12) -> 0 | U10: =IF(B10="Demolition",G10,"")
A11: ='Project Cumulative '!A12 -> Soil and Stones | B11: ='Project Cumulative '!B12 -> Excavation | C11: ='Project Cumulative '!D12 -> 170504 | D11: ='Project Cumulative '!E12 -> I | E11: =SUM(F11:I11)+M11 -> 0 | F11: =SUM('Apr 26:Jun 26'!G13) -> 0 | G11: =SUM('Apr 26:Jun 26'!I13) -> 0 | H11: =SUM('Apr 26:Jun 26'!J13) -> 0 | I11: =SUM('Apr 26:Jun 26'!M13) -> 0 | L11: =SUM('Apr 26:Jun 26'!O13) -> 0 | M11: =SUM('Apr 26:Jun 26'!P13) -> 0
A12: ='Project Cumulative '!A13 -> Bituminous mixtures not containing coal tar | B12: ='Project Cumulative '!B13 -> Excavation | C12: ='Project Cumulative '!D13 -> 170302 | D12: ='Project Cumulative '!E13 -> NH | E12: =SUM(F12:I12)+M12 -> 0 | F12: =SUM('Apr 26:Jun 26'!G14) -> 0 | G12: =SUM('Apr 26:Jun 26'!I14) -> 0 | H12: =SUM('Apr 26:Jun 26'!J14) -> 0 | I12: =SUM('Apr 26:Jun 26'!M14) -> 0 | L12: =SUM('Apr 26:Jun 26'!O14) -> 0 | M12: =SUM('Apr 26:Jun 26'!P14) -> 0
A13: ='Project Cumulative '!A14 -> Road sweepings | B13: ='Project Cumulative '!B14 -> Construction | C13: ='Project Cumulative '!D14 -> 200303 | D13: ='Project Cumulative '!E14 -> NH | E13: =SUM(F13:I13)+M13 -> 0 | F13: =SUM('Apr 26:Jun 26'!G15) -> 0 | G13: =SUM('Apr 26:Jun 26'!I15) -> 0 | H13: =SUM('Apr 26:Jun 26'!J15) -> 0 | I13: =SUM('Apr 26:Jun 26'!M15) -> 0 | L13: =SUM('Apr 26:Jun 26'!O15) -> 0 | M13: =SUM('Apr 26:Jun 26'!P15) -> 0
A14: ='Project Cumulative '!A15 -> Sewage Treatment - Sludge destined for offsite treatment | B14: ='Project Cumulative '!B15 -> Construction | C14: ='Project Cumulative '!D15 -> 161001 | D14: ='Project Cumulative '!E15 -> H | E14: =SUM(F14:I14)+M14 -> 0 | F14: =SUM('Apr 26:Jun 26'!G16) -> 0 | G14: =SUM('Apr 26:Jun 26'!I16) -> 0 | H14: =SUM('Apr 26:Jun 26'!J16) -> 0 | I14: =SUM('Apr 26:Jun 26'!M16) -> 0 | L14: =SUM('Apr 26:Jun 26'!O16) -> 0 | M14: =SUM('Apr 26:Jun 26'!P16) -> 0
A15: ='Project Cumulative '!A16 -> Construction materials containing asbestos | B15: ='Project Cumulative '!B16 -> Demolition | C15: ='Project Cumulative '!D16 -> 170605 | D15: ='Project Cumulative '!E16 -> H | E15: =SUM(F15:I15)+M15 -> 0 | F15: =SUM('Apr 26:Jun 26'!G17) -> 0 | G15: =SUM('Apr 26:Jun 26'!I17) -> 0 | H15: =SUM('Apr 26:Jun 26'!J17) -> 0 | I15: =SUM('Apr 26:Jun 26'!M17) -> 0 | L15: =SUM('Apr 26:Jun 26'!O17) -> 0 | M15: =SUM('Apr 26:Jun 26'!P17) -> 0
A16: ='Project Cumulative '!A17 -> Concrete, bricks, tiles and ceramics - Mixed (uncontaminated) | B16: ='Project Cumulative '!B17 -> Demolition | C16: ='Project Cumulative '!D17 -> 170107 | D16: ='Project Cumulative '!E17 -> NH | E16: =SUM(F16:I16)+M16 -> 0 | F16: =SUM('Apr 26:Jun 26'!G18) -> 0 | G16: =SUM('Apr 26:Jun 26'!I18) -> 0 | H16: =SUM('Apr 26:Jun 26'!J18) -> 0 | I16: =SUM('Apr 26:Jun 26'!M18) -> 0 | L16: =SUM('Apr 26:Jun 26'!O18) -> 0 | M16: =SUM('Apr 26:Jun 26'!P18) -> 0
A17: ='Project Cumulative '!A18 -> Metal - Iron and steel | B17: ='Project Cumulative '!B18 -> Demolition | C17: ='Project Cumulative '!D18 -> 170405 | D17: ='Project Cumulative '!E18 -> NH | E17: =SUM(F17:I17)+M17 -> 0 | F17: =SUM('Apr 26:Jun 26'!G19) -> 0 | G17: =SUM('Apr 26:Jun 26'!I19) -> 0 | H17: =SUM('Apr 26:Jun 26'!J19) -> 0 | I17: =SUM('Apr 26:Jun 26'!M19) -> 0 | L17: =SUM('Apr 26:Jun 26'!O19) -> 0 | M17: =SUM('Apr 26:Jun 26'!P19) -> 0
A18: ='Project Cumulative '!A19 -> 0 | B18: ='Project Cumulative '!B19 -> 0 | C18: ='Project Cumulative '!D19 | D18: ='Project Cumulative '!E19 | E18: =SUM(F18:I18)+M18 -> 0 | F18: =SUM('Apr 26:Jun 26'!G20) -> 0 | G18: =SUM('Apr 26:Jun 26'!I20) -> 0 | H18: =SUM('Apr 26:Jun 26'!J20) -> 0 | I18: =SUM('Apr 26:Jun 26'!M20) -> 0 | L18: =SUM('Apr 26:Jun 26'!O20) -> 0 | M18: =SUM('Apr 26:Jun 26'!P20) -> 0
A19: ='Project Cumulative '!A20 -> 0 | B19: ='Project Cumulative '!B20 -> 0 | C19: ='Project Cumulative '!D20 | D19: ='Project Cumulative '!E20 | E19: =SUM(F19:I19)+M19 -> 0 | F19: =SUM('Apr 26:Jun 26'!G21) -> 0 | G19: =SUM('Apr 26:Jun 26'!I21) -> 0 | H19: =SUM('Apr 26:Jun 26'!J21) -> 0 | I19: =SUM('Apr 26:Jun 26'!M21) -> 0 | L19: =SUM('Apr 26:Jun 26'!O21) -> 0 | M19: =SUM('Apr 26:Jun 26'!P21) -> 0
A20: ='Project Cumulative '!A21 -> 0 | B20: ='Project Cumulative '!B21 -> 0 | C20: ='Project Cumulative '!D21 | D20: ='Project Cumulative '!E21 | E20: =SUM(F20:I20)+M20 -> 0 | F20: =SUM('Apr 26:Jun 26'!G22) -> 0 | G20: =SUM('Apr 26:Jun 26'!I22) -> 0 | H20: =SUM('Apr 26:Jun 26'!J22) -> 0 | I20: =SUM('Apr 26:Jun 26'!M22) -> 0 | L20: =SUM('Apr 26:Jun 26'!O22) -> 0 | M20: =SUM('Apr 26:Jun 26'!P22) -> 0
A21: ='Project Cumulative '!A22 -> 0 | B21: ='Project Cumulative '!B22 -> 0 | C21: ='Project Cumulative '!D22 | D21: ='Project Cumulative '!E22 | E21: =SUM(F21:I21)+M21 -> 0 | F21: =SUM('Apr 26:Jun 26'!G23) -> 0 | G21: =SUM('Apr 26:Jun 26'!I23) -> 0 | H21: =SUM('Apr 26:Jun 26'!J23) -> 0 | I21: =SUM('Apr 26:Jun 26'!M23) -> 0 | L21: =SUM('Apr 26:Jun 26'!O23) -> 0 | M21: =SUM('Apr 26:Jun 26'!P23) -> 0
A22: ='Project Cumulative '!A23 -> 0 | B22: ='Project Cumulative '!B23 -> 0 | C22: ='Project Cumulative '!D23 | D22: ='Project Cumulative '!E23 | E22: =SUM(F22:I22)+M22 -> 0 | F22: =SUM('Apr 26:Jun 26'!G24) -> 0 | G22: =SUM('Apr 26:Jun 26'!I24) -> 0 | H22: =SUM('Apr 26:Jun 26'!J24) -> 0 | I22: =SUM('Apr 26:Jun 26'!M24) -> 0 | L22: =SUM('Apr 26:Jun 26'!O24) -> 0 | M22: =SUM('Apr 26:Jun 26'!P24) -> 0
... A33: ='Project Cumulative '!A34 -> 0 | B33: ='Project Cumulative '!B34 -> 0 | C33: ='Project Cumulative '!D34 | D33: ='Project Cumulative '!E34 | E33: =SUM(F33:I33)+M33 -> 0 | F33: =SUM('Apr 26:Jun 26'!G35) -> 0 | G33: =SUM('Apr 26:Jun 26'!I35) -> 0 | H33: =SUM('Apr 26:Jun 26'!J35) -> 0 | I33: =SUM('Apr 26:Jun 26'!M35) -> 0 | L33: =SUM('Apr 26:Jun 26'!O35) -> 0 | M33: =SUM('Apr 26:Jun 26'!P35) -> 0
A34: TOTALS | E34: =SUM(E9:E33) -> 0 | F34: =SUM(F9:F33) -> 0 | G34: =SUM(G9:G33) -> 0 | H34: =SUM(H9:H33) -> 0 | I34: =SUM(I9:I33) -> 0 | L34: =SUM(L9:L33) -> 0 | M34: =SUM(M9:M33) -> 0

Sheet Q3 2026
A1: SITE WASTE DATA SHEET
A2: Project Name | C2: ='Project Details'!D10 -> Piccadilly Gardens Redevelopment | J2: For guidance on completion of this sheet please refer to GN-HSE-W01-101
A3: Contract Number: | C3: ='Project Details'!D11 -> HLA098 | H3: Project value: | J3: ='Project Details'!D13 -> 15000000
A4: Project Start Date: | C4: ='Project Details'!D16 -> Winter 2026 (TBC) | H4: Business Unit | J4: ='Project Details'!D38 -> Adam Liu
A5: Person in Charge of Site Works | C5: ='Project Details'!D39 -> TBC | H5: Waste Champion | J5: ='Project Details'!D42 -> TBC
A7: MATERIAL | B7: Activity | C7: EWC | D7: Waste Category | E7: Total (Tonnes) | F7: Q3 TOTALS (Tonnes) 2026
F8: Reused on-site | G8: Reused off-site | H8: Recycled on-site | I8: Recycled off-site | J8: Transfer station / MRF / EfW | K8: Permit / WML / exempt site | L8: Direct to Landfill | M8: Total Landfill
A9: ='Project Cumulative '!A10 -> Dry Mixed Recyclables (DMR - paper, cardboard, metal, plastic glass) | B9: ='Project Cumulative '!B10 -> Construction | C9: ='Project Cumulative '!D10 -> 150106 | D9: ='Project Cumulative '!E10 -> NH | E9: =SUM(F9:I9)+M9 -> 0 | F9: =SUM('Jul 26:Sept 26'!G11) -> 0 | G9: =SUM('Jul 26:Sept 26'!I11) -> 0 | H9: =SUM('Jul 26:Sept 26'!J11) -> 0 | I9: =SUM('Jul 26:Sept 26'!M11) -> 0 | L9: =SUM('Jul 26:Sept 26'!O11) -> 0 | M9: =SUM('Jul 26:Sept 26'!P11) -> 0
A10: ='Project Cumulative '!A11 -> Construction and demolition wastes - Mixed (uncontaminated) | B10: ='Project Cumulative '!B11 -> Excavation | C10: ='Project Cumulative '!D11 -> 170904 | D10: ='Project Cumulative '!E11 -> NH | E10: =SUM(F10:I10)+M10 -> 0 | F10: =SUM('Jul 26:Sept 26'!G12) -> 0 | G10: =SUM('Jul 26:Sept 26'!I12) -> 0 | H10: =SUM('Jul 26:Sept 26'!J12) -> 0 | I10: =SUM('Jul 26:Sept 26'!M12) -> 0 | L10: =SUM('Jul 26:Sept 26'!O12) -> 0 | M10: =SUM('Jul 26:Sept 26'!P12) -> 0 | U10: =IF(B10="Demolition",G10,"")
A11: ='Project Cumulative '!A12 -> Soil and Stones | B11: ='Project Cumulative '!B12 -> Excavation | C11: ='Project Cumulative '!D12 -> 170504 | D11: ='Project Cumulative '!E12 -> I | E11: =SUM(F11:I11)+M11 -> 0 | F11: =SUM('Jul 26:Sept 26'!G13) -> 0 | G11: =SUM('Jul 26:Sept 26'!I13) -> 0 | H11: =SUM('Jul 26:Sept 26'!J13) -> 0 | I11: =SUM('Jul 26:Sept 26'!M13) -> 0 | L11: =SUM('Jul 26:Sept 26'!O13) -> 0 | M11: =SUM('Jul 26:Sept 26'!P13) -> 0
A12: ='Project Cumulative '!A13 -> Bituminous mixtures not containing coal tar | B12: ='Project Cumulative '!B13 -> Excavation | C12: ='Project Cumulative '!D13 -> 170302 | D12: ='Project Cumulative '!E13 -> NH | E12: =SUM(F12:I12)+M12 -> 0 | F12: =SUM('Jul 26:Sept 26'!G14) -> 0 | G12: =SUM('Jul 26:Sept 26'!I14) -> 0 | H12: =SUM('Jul 26:Sept 26'!J14) -> 0 | I12: =SUM('Jul 26:Sept 26'!M14) -> 0 | L12: =SUM('Jul 26:Sept 26'!O14) -> 0 | M12: =SUM('Jul 26:Sept 26'!P14) -> 0
A13: ='Project Cumulative '!A14 -> Road sweepings | B13: ='Project Cumulative '!B14 -> Construction | C13: ='Project Cumulative '!D14 -> 200303 | D13: ='Project Cumulative '!E14 -> NH | E13: =SUM(F13:I13)+M13 -> 0 | F13: =SUM('Jul 26:Sept 26'!G15) -> 0 | G13: =SUM('Jul 26:Sept 26'!I15) -> 0 | H13: =SUM('Jul 26:Sept 26'!J15) -> 0 | I13: =SUM('Jul 26:Sept 26'!M15) -> 0 | L13: =SUM('Jul 26:Sept 26'!O15) -> 0 | M13: =SUM('Jul 26:Sept 26'!P15) -> 0
A14: ='Project Cumulative '!A15 -> Sewage Treatment - Sludge destined for offsite treatment | B14: ='Project Cumulative '!B15 -> Construction | C14: ='Project Cumulative '!D15 -> 161001 | D14: ='Project Cumulative '!E15 -> H | E14: =SUM(F14:I14)+M14 -> 0 | F14: =SUM('Jul 26:Sept 26'!G16) -> 0 | G14: =SUM('Jul 26:Sept 26'!I16) -> 0 | H14: =SUM('Jul 26:Sept 26'!J16) -> 0 | I14: =SUM('Jul 26:Sept 26'!M16) -> 0 | L14: =SUM('Jul 26:Sept 26'!O16) -> 0 | M14: =SUM('Jul 26:Sept 26'!P16) -> 0
A15: ='Project Cumulative '!A16 -> Construction materials containing asbestos | B15: ='Project Cumulative '!B16 -> Demolition | C15: ='Project Cumulative '!D16 -> 170605 | D15: ='Project Cumulative '!E16 -> H | E15: =SUM(F15:I15)+M15 -> 0 | F15: =SUM('Jul 26:Sept 26'!G17) -> 0 | G15: =SUM('Jul 26:Sept 26'!I17) -> 0 | H15: =SUM('Jul 26:Sept 26'!J17) -> 0 | I15: =SUM('Jul 26:Sept 26'!M17) -> 0 | L15: =SUM('Jul 26:Sept 26'!O17) -> 0 | M15: =SUM('Jul 26:Sept 26'!P17) -> 0
A16: ='Project Cumulative '!A17 -> Concrete, bricks, tiles and ceramics - Mixed (uncontaminated) | B16: ='Project Cumulative '!B17 -> Demolition | C16: ='Project Cumulative '!D17 -> 170107 | D16: ='Project Cumulative '!E17 -> NH | E16: =SUM(F16:I16)+M16 -> 0 | F16: =SUM('Jul 26:Sept 26'!G18) -> 0 | G16: =SUM('Jul 26:Sept 26'!I18) -> 0 | H16: =SUM('Jul 26:Sept 26'!J18) -> 0 | I16: =SUM('Jul 26:Sept 26'!M18) -> 0 | L16: =SUM('Jul 26:Sept 26'!O18) -> 0 | M16: =SUM('Jul 26:Sept 26'!P18) -> 0
A17: ='Project Cumulative '!A18 -> Metal - Iron and steel | B17: ='Project Cumulative '!B18 -> Demolition | C17: ='Project Cumulative '!D18 -> 170405 | D17: ='Project Cumulative '!E18 -> NH | E17: =SUM(F17:I17)+M17 -> 0 | F17: =SUM('Jul 26:Sept 26'!G19) -> 0 | G17: =SUM('Jul 26:Sept 26'!I19) -> 0 | H17: =SUM('Jul 26:Sept 26'!J19) -> 0 | I17: =SUM('Jul 26:Sept 26'!M19) -> 0 | L17: =SUM('Jul 26:Sept 26'!O19) -> 0 | M17: =SUM('Jul 26:Sept 26'!P19) -> 0
A18: ='Project Cumulative '!A19 -> 0 | B18: ='Project Cumulative '!B19 -> 0 | C18: ='Project Cumulative '!D19 | D18: ='Project Cumulative '!E19 | E18: =SUM(F18:I18)+M18 -> 0 | F18: =SUM('Jul 26:Sept 26'!G20) -> 0 | G18: =SUM('Jul 26:Sept 26'!I20) -> 0 | H18: =SUM('Jul 26:Sept 26'!J20) -> 0 | I18: =SUM('Jul 26:Sept 26'!M20) -> 0 | L18: =SUM('Jul 26:Sept 26'!O20) -> 0 | M18: =SUM('Jul 26:Sept 26'!P20) -> 0
A19: ='Project Cumulative '!A20 -> 0 | B19: ='Project Cumulative '!B20 -> 0 | C19: ='Project Cumulative '!D20 | D19: ='Project Cumulative '!E20 | E19: =SUM(F19:I19)+M19 -> 0 | F19: =SUM('Jul 26:Sept 26'!G21) -> 0 | G19: =SUM('Jul 26:Sept 26'!I21) -> 0 | H19: =SUM('Jul 26:Sept 26'!J21) -> 0 | I19: =SUM('Jul 26:Sept 26'!M21) -> 0 | L19: =SUM('Jul 26:Sept 26'!O21) -> 0 | M19: =SUM('Jul 26:Sept 26'!P21) -> 0
A20: ='Project Cumulative '!A21 -> 0 | B20: ='Project Cumulative '!B21 -> 0 | C20: ='Project Cumulative '!D21 | D20: ='Project Cumulative '!E21 | E20: =SUM(F20:I20)+M20 -> 0 | F20: =SUM('Jul 26:Sept 26'!G22) -> 0 | G20: =SUM('Jul 26:Sept 26'!I22) -> 0 | H20: =SUM('Jul 26:Sept 26'!J22) -> 0 | I20: =SUM('Jul 26:Sept 26'!M22) -> 0 | L20: =SUM('Jul 26:Sept 26'!O22) -> 0 | M20: =SUM('Jul 26:Sept 26'!P22) -> 0
A21: ='Project Cumulative '!A22 -> 0 | B21: ='Project Cumulative '!B22 -> 0 | C21: ='Project Cumulative '!D22 | D21: ='Project Cumulative '!E22 | E21: =SUM(F21:I21)+M21 -> 0 | F21: =SUM('Jul 26:Sept 26'!G23) -> 0 | G21: =SUM('Jul 26:Sept 26'!I23) -> 0 | H21: =SUM('Jul 26:Sept 26'!J23) -> 0 | I21: =SUM('Jul 26:Sept 26'!M23) -> 0 | L21: =SUM('Jul 26:Sept 26'!O23) -> 0 | M21: =SUM('Jul 26:Sept 26'!P23) -> 0
A22: ='Project Cumulative '!A23 -> 0 | B22: ='Project Cumulative '!B23 -> 0 | C22: ='Project Cumulative '!D23 | D22: ='Project Cumulative '!E23 | E22: =SUM(F22:I22)+M22 -> 0 | F22: =SUM('Jul 26:Sept 26'!G24) -> 0 | G22: =SUM('Jul 26:Sept 26'!I24) -> 0 | H22: =SUM('Jul 26:Sept 26'!J24) -> 0 | I22: =SUM('Jul 26:Sept 26'!M24) -> 0 | L22: =SUM('Jul 26:Sept 26'!O24) -> 0 | M22: =SUM('Jul 26:Sept 26'!P24) -> 0
