Workbook
Name Container_Size: 'Data Sheet'!$J$7:$J$44
Name Container_Volume: 'Data Sheet'!$J$7:$K$44
Name Copy_Permit: 'Data Sheet'!$H$59:$H$61
Name Division: 'Data Sheet'!$H$7:$H$8
Name EWC: 'Data Sheet'!$B$7:$E$139
Name Exemption_Desc: 'Data Sheet'!$Q$7:$Q$46
Name Exemption_Type: 'Data Sheet'!$P$7:$P$46
Name Forecast_Waste1: 'Data Sheet'!$B$144:$B$171
Name KPI: 'Data Sheet'!$N$8:$N$15
Name KPI_2: 'Waste Forecast'!$AA$455:$AG$490
Name KPI_3: 'Project Cumulative '!$O$467:$V$503
Name KPI_4: 'Project Cumulative '!$O$509:$V$532
Name KPIS_List: 'Data Sheet'!#REF!
Name Material_Stream: 'Data Sheet'!$H$27:$H$39
Name Permit_Type: 'Data Sheet'!$H$42:$H$47
Name Reporta: 'Project Cumulative '!$O$10:$O$116
Name Waste_Actions: 'Data Sheet'!$H$23:$H$24
Name Waste_Activity: 'Data Sheet'!$H$11:$H$13
Name Waste_Options: 'Data Sheet'!$H$16:$H$20
Name Waste_Report1: 'Waste Forecast'!$Y$7:$AG$110
Name Waste_Report2: 'Project Cumulative '!$O$10:$W$116
Name Waste_Type: 'Data Sheet'!$B$7:$B$140
Name WM_Facility: 'Data Sheet'!$H$50:$H$56

Sheet Cover Sheet
C9: =IF('Project Details'!D10="","",'Project Details'!D10) -> Piccadilly Gardens Redevelopment

Sheet Revision
C2: Revision History
D4: Prepared by | F4: Sam Higgins | I4: S. Higgins | L4: 46213
F5: Print Name | I5: Signed | L5: Date
D6: Reviewed by | F6: Adam Liu | I6: A. Liu | L6: 46218
F7: Print Name | I7: Signed | L7: Date
D8: Accepted by | F8: Tim Bowers | I8: T. Bowers | L8: 46220
F9: Print Name | I9: Signed | L9: Date
C11: Revision | E11: Date | F11: Details | L11: Originator | M11: Approved by
C12: 1
C13: 2
C14: 3
C15: 4
C16: 5
C17: 6
C18: 7
C19: 8
C20: 9
C21: 10
C22: 11
C23: 12
... C60: 49
D61: The SWMP should be completed in accordance with the guidance in GN-HSE-W01-101

Sheet Project Details
C1: Site Waste Management Plan (SWMP) – Project Details
C2: Full SWMP is held by the Waste Champion named below.
C3: The Client and Principal Contractor named below will take all reasonable steps to ensure that all waste from site will be dealt with in accordance with the Waste Duty of Care in section 34 of the Environmental Protection Act 1990, the Environmental Protection (Duty of Care) Regulations 1991. In addition materials will be handled efficiently and waste managed appropriately
C7: Client | D7: Manchester City Council
C8: Clients Agent / Management | D8: Anna Lucas
C9: Principal Contactor | D9: Galliford Try
C10: Project Title | D10: Piccadilly Gardens Redevelopment
C11: Project Number | D11: HLA098
C12: Project Location | D12: Piccadilly Gardens, Piccadilly, Manchester, M1 1LU
C13: Project Value | D13: 15000000
C14: Floor Space m2 | D14: 0.93ha
C16: Start Date | D16: Winter 2026 (TBC)
C17: Duration | D17: 12-18 months (TBC)
C24: Design | D24: Planit, IFDO, Civic, Hoare Lea, Arup, DFC, Irrigation Control
C25: Design Coordinator | D25: Sam Higgins
C26: Subcontractors
C28: TBC (General civils works)
C29: TBC (Hard Landscaping)
C30: TBC (Soft Landscaping)
C31: TBC (Lighting and signage)
C32: TBC (Traffic Management)
C33: TBC (Pavilion fabrication)
C34: TBC (Pavilion fit out)
C37: Contract Manager | D37: Tim Bowers
C38: Project Manager | D38: Adam Liu
B39: Person in Charge of Site Works | D39: TBC
C40: Framework (if applicable) | D40: North West Construction Hub
C41: Business Unit | D41: Construction - Local Authority
B42: Waste Management Champion | D42: TBC
C47: Divisional KPI's & Targets | F47: Target
C49: Waste diverted from landfill% (incl soils & stones) | F49: 85
C50: Waste diverted from landfill% (excl soils & stones) | F50: 90
C52: Total waste generated (incl soils & stones) tonnes per 100k project value | F52: 40
C53: Total waste generated (excl soils & stones) tonnes per 100k project value | F53: 9
C56: Optional KPI's & Targets (including CSH, BREEAM)
C57: Credits / targets for CSH, BREEAM can be found in relevant scheme manual | F57: Target
C65: Additional KPI's / Targets (if different to above) | F65: Target
C73: SWMP Waste Performance & Cost Savings
C75: Waste Forecast | E75: Waste Actual | G75: ='Project KPI''s'!E6 -> 0
C77: Cost Forecast | E77: Cost Actual
...

Sheet Waste Actions
C3: Type of Waste Action | D3: Material / Waste | E3: Action Taken | F3: Action owner
C4: Waste Management & Recovery - Construction | D4: Non Hazardous - Soils & Stones | E4: Existing Paving blocks to be offered to client for reuse and recycled off site where possible | F4: Galliford Try
C5: Waste Management & Recovery - Construction | D5: Metals | E5: Metals to be recycled off site by a licensed waste carrier | F5: Galliford Try
C6: Waste Management & Recovery - Construction | D6: Wood | E6: Wood to be reused on site where possible and surplus recycled off site by a licensed waste carrier | F6: Galliford Try
C7: Waste Management & Recovery - Construction | D7: Packaging | E7: Packaging to be recycled where possible | F7: Galliford Try
C8: Waste Management & Recovery - Construction | D8: Other hazardous waste | E8: Any asbestos found is to be disposed of through a liceensed waste carrier | F8: Galliford Try

Sheet Conversion Calculator
C3: Conversion Calculator - m3 to Tonnes
C4: Waste Type (pick from list in box below) | E4: m3 | F4: Tonnes
D5: =IF(C5="","",(VLOOKUP($C5,EWC,4,FALSE))) | F5: =IF(C5="","",IF(E5="","",(D5*E5)))
C7: To convert from m3 to tonnes, follow the steps below
C8: 1. Choose a waste type to convert from the drop down menu
C9: 2. Input a volume in m3
C10: 3. The amount in tonnes will automatically appear in the box marked 'tonnes'
C14: Conversion Calculator - Tonnes to m3
C15: Waste Type (pick from list in box below) | E15: Tonnes | F15: m3
D16: =IF(C16="","",(VLOOKUP($C16,EWC,4,FALSE))) | F16: =IF(E16="","",IF(C16="","",(E16/D16)))
C18: To convert from tonnes to m3, follow the steps below
C19: 1. Choose a waste type to convert from the drop down menu
C20: 2. Input a volume in tonnes
C21: 3. The amount in m3 will automatically appear in the box marked 'm3'
C25: Conversion Calculator - Container size to m3
C26: Container Type (pick from list in box below) | E26: Number | F26: m3
D27: =IF(C27="","",(VLOOKUP($C27,Container_Volume,2,FALSE))) | F27: =IF(E27="","",(E27*D27))
C29: To convert containers to m3
C30: 1. Choose a container from the drop down menu
C31: 2. Enter the number of containers in the 'Number' box
C32: 3. The volume in m3 will automatically appear in the box marked 'm3'
E36: Cu Yd. | F36: m3
C37: Conversion Calculator - Cu Yd. to m3 | D37: 0.76455486 | F37: =E37*D37 -> 0
C39: To convert cu yard to m3
C40: If the container / wagon / lorry does not appear in the list in the container converter use the converter above
C41: 1. Obtain the size of the container / wagon / lorry
C42: 2. Place the volume in cu yards in the box provided
C43: 3. The volume in m3 will automatically appear in the box marked 'm3'

Sheet Waste Forecast
C2: Waste Forecast is Non Mandatory - Section to be completed in accordance with contractual and / or Business Unit requirements.
O5: RUOS = Re Use Off Site | Y5: Waste / Material | Z5: EWC | AA5: Waste Category | AB5: Re used on site | AC5: Re used off site | AD5: Recycled on site | AE5: Recycled offsite | AF5: Direct to Landfill | AG5: Total Disposed to landfill | AH5: Total - Tonnes (by type) | AI5: Total Waste - Tonnes (by type)
C6: Waste / Material | D6: Activity | E6: EWC | F6: Waste / Material Category | G6: Waste / Material Management Options | H6: Quantity (Tonnes) | I6: Recycled Off Site Recycle Rates
C7: Dry Mixed Recyclables (DMR - paper, cardboard, metal, plastic glass) | D7: Construction | E7: =IF(C7="","",(VLOOKUP($C7,EWC,2,FALSE))) -> 150106 | F7: =IF(C7="","",(VLOOKUP($C7,EWC,3,FALSE))) -> NH | G7: Recycled Off Site - Transfer Station, MRF, EfW | H7: TBC | J7: =IF(AND(G7="Recycled Off Site - Transfer Station, MRF, EfW",H7>0),(N7*H7),"") -> #VALUE! | K7: =IF(AND(G7="Recycled Off Site - Transfer Station, MRF, EfW",H7>0),(H7-J7),"") -> #VALUE! | N7: =IF(H7="","",(IF($I7>0,I7,75%))) -> 0.75 | O7: =IF(OR(E7=170504,E7=170101,E7=170102,E7=170103,E7=170107),H7/2,"0") -> 0 | P7: =IF(G7="Landfill",O7,"0") -> 0 | Q7: =IF(K7="",0,K7) -> #VALUE! | R7: =IF(G7="Landfill",H7,0) -> 0 | S7: =R7-P7+Q7 -> #VALUE! | U7: =IF(G7="Re Use Off Site",H7,0) -> 0 | V7: =U7+P7 -> 0 | Y7: Adhesives and sealants (non hazardous) | Z7: 80410 | AA7: NH | AB7: =SUM(AC120:AC122) -> 0 | AC7: =SUM(AD120:AD122) -> 0 | AD7: =SUM(AE120:AE122) -> 0 | AE7: =SUM(AF120:AF122) -> 0 | AF7: =SUM(AG120:AG122) -> 0 | AG7: =SUM(AH120:AH122) -> 0 | AH7: =AB7+AC7+AD7+AE7+AJ7+AL7+AG7 -> 0 | AI7: =AC7+AE7+AJ7+AL7+AG7 -> 0
C8: Concrete, bricks, tiles and ceramics - Mixed (uncontaminated) | D8: Construction | E8: =IF(C8="","",(VLOOKUP($C8,EWC,2,FALSE))) -> 170107 | F8: =IF(C8="","",(VLOOKUP($C8,EWC,3,FALSE))) -> NH | G8: Recycled Off Site - Transfer Station, MRF, EfW | H8: TBC | J8: =IF(AND(G8="Recycled Off Site - Transfer Station, MRF, EfW",H8>0),(N8*H8),"") -> #VALUE! | K8: =IF(AND(G8="Recycled Off Site - Transfer Station, MRF, EfW",H8>0),(H8-J8),"") -> #VALUE! | N8: =IF(H8="","",(IF($I8>0,I8,75%))) -> 0.75 | O8: =IF(OR(E8=170504,E8=170101,E8=170102,E8=170103,E8=170107),H8/2,"0") -> #VALUE! | P8: =IF(G8="Landfill",O8,"0") -> 0 | Q8: =IF(K8="",0,K8) -> #VALUE! | R8: =IF(G8="Landfill",H8,0) -> 0 | S8: =R8-P8+Q8 -> #VALUE! | U8: =IF(G8="Re Use Off Site",H8,0) -> 0 | V8: =U8+P8 -> 0 | Y8: Adhesives and sealants containing dangerous substances | Z8: 80409 | AA8: H | AB8: =SUM(AC123:AC125) -> 0 | AC8: =SUM(AD123:AD125) -> 0 | AD8: =SUM(AE123:AE125) -> 0 | AE8: =SUM(AF123:AF125) -> 0 | AF8: =SUM(AG123:AG125) -> 0 | AG8: =SUM(AH123:AH125) -> 0 | AH8: =AB8+AC8+AD8+AE8+AJ8+AL8+AG8 -> 0 | AI8: =AC8+AE8+AJ8+AL8+AG8 -> 0
C9: Soil and Stones | D9: Construction | E9: =IF(C9="","",(VLOOKUP($C9,EWC,2,FALSE))) -> 170504 | F9: =IF(C9="","",(VLOOKUP($C9,EWC,3,FALSE))) -> I | G9: Recycled Off Site - Transfer Station, MRF, EfW | H9: TBC | J9: =IF(AND(G9="Recycled Off Site - Transfer Station, MRF, EfW",H9>0),(N9*H9),"") -> #VALUE! | K9: =IF(AND(G9="Recycled Off Site - Transfer Station, MRF, EfW",H9>0),(H9-J9),"") -> #VALUE! | N9: =IF(H9="","",(IF($I9>0,I9,75%))) -> 0.75 | O9: =IF(OR(E9=170504,E9=170101,E9=170102,E9=170103,E9=170107),H9/2,"0") -> #VALUE! | P9: =IF(G9="Landfill",O9,"0") -> 0 | Q9: =IF(K9="",0,K9) -> #VALUE! | R9: =IF(G9="Landfill",H9,0) -> 0 | S9: =R9-P9+Q9 -> #VALUE! | U9: =IF(G9="Re Use Off Site",H9,0) -> 0 | V9: =U9+P9 -> 0 | Y9: Adhesives and sealants containing organic solvents | Z9: 80411 | AA9: H | AB9: =SUM(AC126:AC128) -> 0 | AC9: =SUM(AD126:AD128) -> 0 | AD9: =SUM(AE126:AE128) -> 0 | AE9: =SUM(AF126:AF128) -> 0 | AF9: =SUM(AG126:AG128) -> 0 | AG9: =SUM(AH126:AH128) -> 0 | AH9: =AB9+AC9+AD9+AE9+AJ9+AL9+AG9 -> 0 | AI9: =AC9+AE9+AJ9+AL9+AG9 -> 0
C10: Bituminous mixtures not containing coal tar | D10: Construction | E10: =IF(C10="","",(VLOOKUP($C10,EWC,2,FALSE))) -> 170302 | F10: =IF(C10="","",(VLOOKUP($C10,EWC,3,FALSE))) -> NH | G10: Recycled Off Site - Transfer Station, MRF, EfW | H10: TBC | J10: =IF(AND(G10="Recycled Off Site - Transfer Station, MRF, EfW",H10>0),(N10*H10),"") -> #VALUE! | K10: =IF(AND(G10="Recycled Off Site - Transfer Station, MRF, EfW",H10>0),(H10-J10),"") -> #VALUE! | N10: =IF(H10="","",(IF($I10>0,I10,75%))) -> 0.75 | O10: =IF(OR(E10=170504,E10=170101,E10=170102,E10=170103,E10=170107),H10/2,"0") -> 0 | P10: =IF(G10="Landfill",O10,"0") -> 0 | Q10: =IF(K10="",0,K10) -> #VALUE! | R10: =IF(G10="Landfill",H10,0) -> 0 | S10: =R10-P10+Q10 -> #VALUE! | U10: =IF(G10="Re Use Off Site",H10,0) -> 0 | V10: =U10+P10 -> 0 | Y10: Aerosol cans - empty | Z10: 150111 | AA10: NH | AB10: =SUM(AC129:AC131) -> 0 | AC10: =SUM(AD129:AD131) -> 0 | AD10: =SUM(AE129:AE131) -> 0 | AE10: =SUM(AF129:AF131) -> 0 | AF10: =SUM(AG129:AG131) -> 0 | AG10: =SUM(AH129:AH131) -> 0 | AH10: =AB10+AC10+AD10+AE10+AJ10+AL10+AG10 -> 0 | AI10: =AC10+AE10+AJ10+AL10+AG10 -> 0
C11: Construction materials containing asbestos | D11: Construction | E11: =IF(C11="","",(VLOOKUP($C11,EWC,2,FALSE))) -> 170605 | F11: =IF(C11="","",(VLOOKUP($C11,EWC,3,FALSE))) -> H | G11: Landfill | H11: TBC | J11: =IF(AND(G11="Recycled Off Site - Transfer Station, MRF, EfW",H11>0),(N11*H11),"") | K11: =IF(AND(G11="Recycled Off Site - Transfer Station, MRF, EfW",H11>0),(H11-J11),"") | N11: =IF(H11="","",(IF($I11>0,I11,75%))) -> 0.75 | O11: =IF(OR(E11=170504,E11=170101,E11=170102,E11=170103,E11=170107),H11/2,"0") -> 0 | P11: =IF(G11="Landfill",O11,"0") -> 0 | Q11: =IF(K11="",0,K11) -> 0 | R11: =IF(G11="Landfill",H11,0) -> TBC | S11: =R11-P11+Q11 -> #VALUE! | U11: =IF(G11="Re Use Off Site",H11,0) -> 0 | V11: =U11+P11 -> 0 | Y11: Aerosol cans containing paint or gas | Z11: 160504 | AA11: H | AB11: =SUM(AC132:AC134) -> 0 | AC11: =SUM(AD132:AD134) -> 0 | AD11: =SUM(AE132:AE134) -> 0 | AE11: =SUM(AF132:AF134) -> 0 | AF11: =SUM(AG132:AG134) -> 0 | AG11: =SUM(AH132:AH134) -> 0 | AH11: =AB11+AC11+AD11+AE11+AJ11+AL11+AG11 -> 0 | AI11: =AC11+AE11+AJ11+AL11+AG11 -> 0
C12: Metal - mixed | D12: Construction | E12: =IF(C12="","",(VLOOKUP($C12,EWC,2,FALSE))) -> 170407 | F12: =IF(C12="","",(VLOOKUP($C12,EWC,3,FALSE))) -> NH | G12: Recycled Off Site - Transfer Station, MRF, EfW | H12: TBC | J12: =IF(AND(G12="Recycled Off Site - Transfer Station, MRF, EfW",H12>0),(N12*H12),"") -> #VALUE! | K12: =IF(AND(G12="Recycled Off Site - Transfer Station, MRF, EfW",H12>0),(H12-J12),"") -> #VALUE! | N12: =IF(H12="","",(IF($I12>0,I12,75%))) -> 0.75 | O12: =IF(OR(E12=170504,E12=170101,E12=170102,E12=170103,E12=170107),H12/2,"0") -> 0 | P12: =IF(G12="Landfill",O12,"0") -> 0 | Q12: =IF(K12="",0,K12) -> #VALUE! | R12: =IF(G12="Landfill",H12,0) -> 0 | S12: =R12-P12+Q12 -> #VALUE! | U12: =IF(G12="Re Use Off Site",H12,0) -> 0 | V12: =U12+P12 -> 0 | Y12: Batteries - alkaline | Z12: 160604 | AA12: NH | AB12: =SUM(AC135:AC137) -> 0 | AC12: =SUM(AD135:AD137) -> 0 | AD12: =SUM(AE135:AE137) -> 0 | AE12: =SUM(AF135:AF137) -> 0 | AF12: =SUM(AG135:AG137) -> 0 | AG12: =SUM(AH135:AH137) -> 0 | AH12: =AB12+AC12+AD12+AE12+AJ12+AL12+AG12 -> 0 | AI12: =AC12+AE12+AJ12+AL12+AG12 -> 0
C13: Road sweepings | D13: Construction | E13: =IF(C13="","",(VLOOKUP($C13,EWC,2,FALSE))) -> 200303 | F13: =IF(C13="","",(VLOOKUP($C13,EWC,3,FALSE))) -> NH | G13: Landfill | H13: TBC | J13: =IF(AND(G13="Recycled Off Site - Transfer Station, MRF, EfW",H13>0),(N13*H13),"") | K13: =IF(AND(G13="Recycled Off Site - Transfer Station, MRF, EfW",H13>0),(H13-J13),"") | N13: =IF(H13="","",(IF($I13>0,I13,75%))) -> 0.75 | O13: =IF(OR(E13=170504,E13=170101,E13=170102,E13=170103,E13=170107),H13/2,"0") -> 0 | P13: =IF(G13="Landfill",O13,"0") -> 0 | Q13: =IF(K13="",0,K13) -> 0 | R13: =IF(G13="Landfill",H13,0) -> TBC | S13: =R13-P13+Q13 -> #VALUE! | U13: =IF(G13="Re Use Off Site",H13,0) -> 0 | V13: =U13+P13 -> 0 | Y13: Batteries - mercury | Z13: 160603 | AA13: H | AB13: =SUM(AC138:AC140) -> 0 | AC13: =SUM(AD138:AD140) -> 0 | AD13: =SUM(AE138:AE140) -> 0 | AE13: =SUM(AF138:AF140) -> 0 | AF13: =SUM(AG138:AG140) -> 0 | AG13: =SUM(AH138:AH140) -> 0 | AH13: =AB13+AC13+AD13+AE13+AJ13+AL13+AG13 -> 0 | AI13: =AC13+AE13+AJ13+AL13+AG13 -> 0
C14: Sewage Treatment - Sludge destined for offsite treatment | D14: Construction | E14: =IF(C14="","",(VLOOKUP($C14,EWC,2,FALSE))) -> 161001 | F14: =IF(C14="","",(VLOOKUP($C14,EWC,3,FALSE))) -> H | G14: Landfill | H14: TBC | J14: =IF(AND(G14="Recycled Off Site - Transfer Station, MRF, EfW",H14>0),(N14*H14),"") | K14: =IF(AND(G14="Recycled Off Site - Transfer Station, MRF, EfW",H14>0),(H14-J14),"") | N14: =IF(H14="","",(IF($I14>0,I14,75%))) -> 0.75 | O14: =IF(OR(E14=170504,E14=170101,E14=170102,E14=170103,E14=170107),H14/2,"0") -> 0 | P14: =IF(G14="Landfill",O14,"0") -> 0 | Q14: =IF(K14="",0,K14) -> 0 | R14: =IF(G14="Landfill",H14,0) -> TBC | S14: =R14-P14+Q14 -> #VALUE! | U14: =IF(G14="Re Use Off Site",H14,0) -> 0 | V14: =U14+P14 -> 0 | Y14: Batteries - Ni-Cd | Z14: 160602 | AA14: H | AB14: =SUM(AC141:AC143) -> 0 | AC14: =SUM(AD141:AD143) -> 0 | AD14: =SUM(AE141:AE143) -> 0 | AE14: =SUM(AF141:AF143) -> 0 | AF14: =SUM(AG141:AG143) -> 0 | AG14: =SUM(AH141:AH143) -> 0 | AH14: =AB14+AC14+AD14+AE14+AJ14+AL14+AG14 -> 0 | AI14: =AC14+AE14+AJ14+AL14+AG14 -> 0
C15: Construction and demolition wastes - Mixed (uncontaminated) | D15: Construction | E15: =IF(C15="","",(VLOOKUP($C15,EWC,2,FALSE))) -> 170904 | F15: =IF(C15="","",(VLOOKUP($C15,EWC,3,FALSE))) -> NH | G15: Recycled Off Site - Transfer Station, MRF, EfW | H15: TBC | J15: =IF(AND(G15="Recycled Off Site - Transfer Station, MRF, EfW",H15>0),(N15*H15),"") -> #VALUE! | K15: =IF(AND(G15="Recycled Off Site - Transfer Station, MRF, EfW",H15>0),(H15-J15),"") -> #VALUE! | N15: =IF(H15="","",(IF($I15>0,I15,75%))) -> 0.75 | O15: =IF(OR(E15=170504,E15=170101,E15=170102,E15=170103,E15=170107),H15/2,"0") -> 0 | P15: =IF(G15="Landfill",O15,"0") -> 0 | Q15: =IF(K15="",0,K15) -> #VALUE! | R15: =IF(G15="Landfill",H15,0) -> 0 | S15: =R15-P15+Q15 -> #VALUE! | U15: =IF(G15="Re Use Off Site",H15,0) -> 0 | V15: =U15+P15 -> 0 | Y15: Batteries(Car) - lead acid | Z15: 160601 | AA15: H | AB15: =SUM(AC144:AC146) -> 0 | AC15: =SUM(AD144:AD146) -> 0 | AD15: =SUM(AE144:AE146) -> 0 | AE15: =SUM(AF144:AF146) -> 0 | AF15: =SUM(AG144:AG146) -> 0 | AG15: =SUM(AH144:AH146) -> 0 | AH15: =AB15+AC15+AD15+AE15+AJ15+AL15+AG15 -> 0 | AI15: =AC15+AE15+AJ15+AL15+AG15 -> 0
C16: Site Office / Welfare waste | D16: Construction | E16: =IF(C16="","",(VLOOKUP($C16,EWC,2,FALSE))) -> 200301 | F16: =IF(C16="","",(VLOOKUP($C16,EWC,3,FALSE))) -> NH | G16: Recycled Off Site - Transfer Station, MRF, EfW | H16: TBC | J16: =IF(AND(G16="Recycled Off Site - Transfer Station, MRF, EfW",H16>0),(N16*H16),"") -> #VALUE! | K16: =IF(AND(G16="Recycled Off Site - Transfer Station, MRF, EfW",H16>0),(H16-J16),"") -> #VALUE! | N16: =IF(H16="","",(IF($I16>0,I16,75%))) -> 0.75 | O16: =IF(OR(E16=170504,E16=170101,E16=170102,E16=170103,E16=170107),H16/2,"0") -> 0 | P16: =IF(G16="Landfill",O16,"0") -> 0 | Q16: =IF(K16="",0,K16) -> #VALUE! | R16: =IF(G16="Landfill",H16,0) -> 0 | S16: =R16-P16+Q16 -> #VALUE! | U16: =IF(G16="Re Use Off Site",H16,0) -> 0 | V16: =U16+P16 -> 0 | Y16: Bitumen emulsion | Z16: 130802 | AA16: H | AB16: =SUM(AC147:AC149) -> 0 | AC16: =SUM(AD147:AD149) -> 0 | AD16: =SUM(AE147:AE149) -> 0 | AE16: =SUM(AF147:AF149) -> 0 | AF16: =SUM(AG147:AG149) -> 0 | AG16: =SUM(AH147:AH149) -> 0 | AH16: =AB16+AC16+AD16+AE16+AJ16+AL16+AG16 -> 0 | AI16: =AC16+AE16+AJ16+AL16+AG16 -> 0
C17: Wood | D17: Construction | E17: =IF(C17="","",(VLOOKUP($C17,EWC,2,FALSE))) -> 170201 | F17: =IF(C17="","",(VLOOKUP($C17,EWC,3,FALSE))) -> NH | G17: Recycled Off Site - Transfer Station, MRF, EfW | H17: TBC | J17: =IF(AND(G17="Recycled Off Site - Transfer Station, MRF, EfW",H17>0),(N17*H17),"") -> #VALUE! | K17: =IF(AND(G17="Recycled Off Site - Transfer Station, MRF, EfW",H17>0),(H17-J17),"") -> #VALUE! | N17: =IF(H17="","",(IF($I17>0,I17,75%))) -> 0.75 | O17: =IF(OR(E17=170504,E17=170101,E17=170102,E17=170103,E17=170107),H17/2,"0") -> 0 | P17: =IF(G17="Landfill",O17,"0") -> 0 | Q17: =IF(K17="",0,K17) -> #VALUE! | R17: =IF(G17="Landfill",H17,0) -> 0 | S17: =R17-P17+Q17 -> #VALUE! | U17: =IF(G17="Re Use Off Site",H17,0) -> 0 | V17: =U17+P17 -> 0 | Y17: Bituminous mixtures containing coal tar | Z17: 170301 | AA17: H | AB17: =SUM(AC150:AC152) -> 0 | AC17: =SUM(AD150:AD152) -> 0 | AD17: =SUM(AE150:AE152) -> 0 | AE17: =SUM(AF150:AF152) -> 0 | AF17: =SUM(AG150:AG152) -> 0 | AG17: =SUM(AH150:AH152) -> 0 | AH17: =AB17+AC17+AD17+AE17+AJ17+AL17+AG17 -> 0 | AI17: =AC17+AE17+AJ17+AL17+AG17 -> 0
E18: =IF(C18="","",(VLOOKUP($C18,EWC,2,FALSE))) | F18: =IF(C18="","",(VLOOKUP($C18,EWC,3,FALSE))) | J18: =IF(AND(G18="Recycled Off Site - Transfer Station, MRF, EfW",H18>0),(N18*H18),"") | K18: =IF(AND(G18="Recycled Off Site - Transfer Station, MRF, EfW",H18>0),(H18-J18),"") | N18: =IF(H18="","",(IF($I18>0,I18,75%))) | O18: =IF(OR(E18=170504,E18=170101,E18=170102,E18=170103,E18=170107),H18/2,"0") -> 0 | P18: =IF(G18="Landfill",O18,"0") -> 0 | Q18: =IF(K18="",0,K18) -> 0 | R18: =IF(G18="Landfill",H18,0) -> 0 | S18: =R18-P18+Q18 -> 0 | U18: =IF(G18="Re Use Off Site",H18,0) -> 0 | V18: =U18+P18 -> 0 | Y18: Bituminous mixtures not containing coal tar | Z18: 170302 | AA18: NH | AB18: =SUM(AC153:AC155) -> 0 | AC18: =SUM(AD153:AD155) -> 0 | AD18: =SUM(AE153:AE155) -> 0 | AE18: =SUM(AF153:AF155) -> #VALUE! | AF18: =SUM(AG153:AG155) -> 0 | AG18: =SUM(AH153:AH155) -> #VALUE! | AH18: =AB18+AC18+AD18+AE18+AJ18+AL18+AG18 -> #VALUE! | AI18: =AC18+AE18+AJ18+AL18+AG18 -> #VALUE!
E19: =IF(C19="","",(VLOOKUP($C19,EWC,2,FALSE))) | F19: =IF(C19="","",(VLOOKUP($C19,EWC,3,FALSE))) | J19: =IF(AND(G19="Recycled Off Site - Transfer Station, MRF, EfW",H19>0),(N19*H19),"") | K19: =IF(AND(G19="Recycled Off Site - Transfer Station, MRF, EfW",H19>0),(H19-J19),"") | N19: =IF(H19="","",(IF($I19>0,I19,75%))) | O19: =IF(OR(E19=170504,E19=170101,E19=170102,E19=170103,E19=170107),H19/2,"0") -> 0 | P19: =IF(G19="Landfill",O19,"0") -> 0 | Q19: =IF(K19="",0,K19) -> 0 | R19: =IF(G19="Landfill",H19,0) -> 0 | S19: =R19-P19+Q19 -> 0 | U19: =IF(G19="Re Use Off Site",H19,0) -> 0 | V19: =U19+P19 -> 0 | Y19: Bricks | Z19: 170102 | AA19: I | AB19: =SUM(AC156:AC158) -> 0 | AC19: =SUM(AD156:AD158) -> 0 | AD19: =SUM(AE156:AE158) -> 0 | AE19: =SUM(AF156:AF158) -> 0 | AF19: =SUM(AG156:AG158) -> 0 | AG19: =SUM(AH156:AH158) -> 0 | AH19: =AB19+AC19+AD19+AE19+AJ19+AL19+AG19 -> 0 | AI19: =AC19+AE19+AJ19+AL19+AG19 -> 0
E20: =IF(C20="","",(VLOOKUP($C20,EWC,2,FALSE))) | F20: =IF(C20="","",(VLOOKUP($C20,EWC,3,FALSE))) | J20: =IF(AND(G20="Recycled Off Site - Transfer Station, MRF, EfW",H20>0),(N20*H20),"") | K20: =IF(AND(G20="Recycled Off Site - Transfer Station, MRF, EfW",H20>0),(H20-J20),"") | N20: =IF(H20="","",(IF($I20>0,I20,75%))) | O20: =IF(OR(E20=170504,E20=170101,E20=170102,E20=170103,E20=170107),H20/2,"0") -> 0 | P20: =IF(G20="Landfill",O20,"0") -> 0 | Q20: =IF(K20="",0,K20) -> 0 | R20: =IF(G20="Landfill",H20,0) -> 0 | S20: =R20-P20+Q20 -> 0 | U20: =IF(G20="Re Use Off Site",H20,0) -> 0 | V20: =U20+P20 -> 0 | Y20: Cables | Z20: 170411 | AA20: NH | AB20: =SUM(AC159:AC161) -> 0 | AC20: =SUM(AD159:AD161) -> 0 | AD20: =SUM(AE159:AE161) -> 0 | AE20: =SUM(AF159:AF161) -> 0 | AF20: =SUM(AG159:AG161) -> 0 | AG20: =SUM(AH159:AH161) -> 0 | AH20: =AB20+AC20+AD20+AE20+AJ20+AL20+AG20 -> 0 | AI20: =AC20+AE20+AJ20+AL20+AG20 -> 0
E21: =IF(C21="","",(VLOOKUP($C21,EWC,2,FALSE))) | F21: =IF(C21="","",(VLOOKUP($C21,EWC,3,FALSE))) | J21: =IF(AND(G21="Recycled Off Site - Transfer Station, MRF, EfW",H21>0),(N21*H21),"") | K21: =IF(AND(G21="Recycled Off Site - Transfer Station, MRF, EfW",H21>0),(H21-J21),"") | N21: =IF(H21="","",(IF($I21>0,I21,75%))) | O21: =IF(OR(E21=170504,E21=170101,E21=170102,E21=170103,E21=170107),H21/2,"0") -> 0 | P21: =IF(G21="Landfill",O21,"0") -> 0 | Q21: =IF(K21="",0,K21) -> 0 | R21: =IF(G21="Landfill",H21,0) -> 0 | S21: =R21-P21+Q21 -> 0 | U21: =IF(G21="Re Use Off Site",H21,0) -> 0 | V21: =U21+P21 -> 0 | Y21: Cables containing oil, coal tar and other dangerous substances | Z21: 170410 | AA21: H | AB21: =SUM(AC162:AC164) -> 0 | AC21: =SUM(AD162:AD164) -> 0 | AD21: =SUM(AE162:AE164) -> 0 | AE21: =SUM(AF162:AF164) -> 0 | AF21: =SUM(AG162:AG164) -> 0 | AG21: =SUM(AH162:AH164) -> 0 | AH21: =AB21+AC21+AD21+AE21+AJ21+AL21+AG21 -> 0 | AI21: =AC21+AE21+AJ21+AL21+AG21 -> 0
E22: =IF(C22="","",(VLOOKUP($C22,EWC,2,FALSE))) | F22: =IF(C22="","",(VLOOKUP($C22,EWC,3,FALSE))) | J22: =IF(AND(G22="Recycled Off Site - Transfer Station, MRF, EfW",H22>0),(N22*H22),"") | K22: =IF(AND(G22="Recycled Off Site - Transfer Station, MRF, EfW",H22>0),(H22-J22),"") | N22: =IF(H22="","",(IF($I22>0,I22,75%))) | O22: =IF(OR(E22=170504,E22=170101,E22=170102,E22=170103,E22=170107),H22/2,"0") -> 0 | P22: =IF(G22="Landfill",O22,"0") -> 0 | Q22: =IF(K22="",0,K22) -> 0 | R22: =IF(G22="Landfill",H22,0) -> 0 | S22: =R22-P22+Q22 -> 0 | U22: =IF(G22="Re Use Off Site",H22,0) -> 0 | V22: =U22+P22 -> 0 | Y22: Coal tar and tarred products | Z22: 170303 | AA22: H | AB22: =SUM(AC165:AC167) -> 0 | AC22: =SUM(AD165:AD167) -> 0 | AD22: =SUM(AE165:AE167) -> 0 | AE22: =SUM(AF165:AF167) -> 0 | AF22: =SUM(AG165:AG167) -> 0 | AG22: =SUM(AH165:AH167) -> 0 | AH22: =AB22+AC22+AD22+AE22+AJ22+AL22+AG22 -> 0 | AI22: =AC22+AE22+AJ22+AL22+AG22 -> 0
E23: =IF(C23="","",(VLOOKUP($C23,EWC,2,FALSE))) | F23: =IF(C23="","",(VLOOKUP($C23,EWC,3,FALSE))) | J23: =IF(AND(G23="Recycled Off Site - Transfer Station, MRF, EfW",H23>0),(N23*H23),"") | K23: =IF(AND(G23="Recycled Off Site - Transfer Station, MRF, EfW",H23>0),(H23-J23),"") | N23: =IF(H23="","",(IF($I23>0,I23,75%))) | O23: =IF(OR(E23=170504,E23=170101,E23=170102,E23=170103,E23=170107),H23/2,"0") -> 0 | P23: =IF(G23="Landfill",O23,"0") -> 0 | Q23: =IF(K23="",0,K23) -> 0 | R23: =IF(G23="Landfill",H23,0) -> 0 | S23: =R23-P23+Q23 -> 0 | U23: =IF(G23="Re Use Off Site",H23,0) -> 0 | V23: =U23+P23 -> 0 | Y23: Concrete | Z23: 170101 | AA23: I | AB23: =SUM(AC168:AC170) -> 0 | AC23: =SUM(AD168:AD170) -> 0 | AD23: =SUM(AE168:AE170) -> 0 | AE23: =SUM(AF168:AF170) -> 0 | AF23: =SUM(AG168:AG170) -> 0 | AG23: =SUM(AH168:AH170) -> 0 | AH23: =AB23+AC23+AD23+AE23+AJ23+AL23+AG23 -> 0 | AI23: =AC23+AE23+AJ23+AL23+AG23 -> 0
E24: =IF(C24="","",(VLOOKUP($C24,EWC,2,FALSE))) | F24: =IF(C24="","",(VLOOKUP($C24,EWC,3,FALSE))) | J24: =IF(AND(G24="Recycled Off Site - Transfer Station, MRF, EfW",H24>0),(N24*H24),"") | K24: =IF(AND(G24="Recycled Off Site - Transfer Station, MRF, EfW",H24>0),(H24-J24),"") | N24: =IF(H24="","",(IF($I24>0,I24,75%))) | O24: =IF(OR(E24=170504,E24=170101,E24=170102,E24=170103,E24=170107),H24/2,"0") -> 0 | P24: =IF(G24="Landfill",O24,"0") -> 0 | Q24: =IF(K24="",0,K24) -> 0 | R24: =IF(G24="Landfill",H24,0) -> 0 | S24: =R24-P24+Q24 -> 0 | U24: =IF(G24="Re Use Off Site",H24,0) -> 0 | V24: =U24+P24 -> 0 | Y24: Concrete, bricks tiles and ceramics - Mixed (contaminated) | Z24: 170106 | AA24: H | AB24: =SUM(AC171:AC173) -> 0 | AC24: =SUM(AD171:AD173) -> 0 | AD24: =SUM(AE171:AE173) -> 0 | AE24: =SUM(AF171:AF173) -> 0 | AF24: =SUM(AG171:AG173) -> 0 | AG24: =SUM(AH171:AH173) -> 0 | AH24: =AB24+AC24+AD24+AE24+AJ24+AL24+AG24 -> 0 | AI24: =AC24+AE24+AJ24+AL24+AG24 -> 0
E25: =IF(C25="","",(VLOOKUP($C25,EWC,2,FALSE))) | F25: =IF(C25="","",(VLOOKUP($C25,EWC,3,FALSE))) | J25: =IF(AND(G25="Recycled Off Site - Transfer Station, MRF, EfW",H25>0),(N25*H25),"") | K25: =IF(AND(G25="Recycled Off Site - Transfer Station, MRF, EfW",H25>0),(H25-J25),"") | N25: =IF(H25="","",(IF($I25>0,I25,75%))) | O25: =IF(OR(E25=170504,E25=170101,E25=170102,E25=170103,E25=170107),H25/2,"0") -> 0 | P25: =IF(G25="Landfill",O25,"0") -> 0 | Q25: =IF(K25="",0,K25) -> 0 | R25: =IF(G25="Landfill",H25,0) -> 0 | S25: =R25-P25+Q25 -> 0 | U25: =IF(G25="Re Use Off Site",H25,0) -> 0 | V25: =U25+P25 -> 0 | Y25: Concrete, bricks, tiles and ceramics - Mixed (uncontaminated) | Z25: 170107 | AA25: NH | AB25: =SUM(AC174:AC176) -> 0 | AC25: =SUM(AD174:AD176) -> 0 | AD25: =SUM(AE174:AE176) -> 0 | AE25: =SUM(AF174:AF176) -> #VALUE! | AF25: =SUM(AG174:AG176) -> 0 | AG25: =SUM(AH174:AH176) -> #VALUE! | AH25: =AB25+AC25+AD25+AE25+AJ25+AL25+AG25 -> #VALUE! | AI25: =AC25+AE25+AJ25+AL25+AG25 -> #VALUE!
E26: =IF(C26="","",(VLOOKUP($C26,EWC,2,FALSE))) | F26: =IF(C26="","",(VLOOKUP($C26,EWC,3,FALSE))) | J26: =IF(AND(G26="Recycled Off Site - Transfer Station, MRF, EfW",H26>0),(N26*H26),"") | K26: =IF(AND(G26="Recycled Off Site - Transfer Station, MRF, EfW",H26>0),(H26-J26),"") | N26: =IF(H26="","",(IF($I26>0,I26,75%))) | O26: =IF(OR(E26=170504,E26=170101,E26=170102,E26=170103,E26=170107),H26/2,"0") -> 0 | P26: =IF(G26="Landfill",O26,"0") -> 0 | Q26: =IF(K26="",0,K26) -> 0 | R26: =IF(G26="Landfill",H26,0) -> 0 | S26: =R26-P26+Q26 -> 0 | U26: =IF(G26="Re Use Off Site",H26,0) -> 0 | V26: =U26+P26 -> 0 | Y26: Construction and demolition wastes - Mixed (contaminated) | Z26: 170903 | AA26: H | AB26: =SUM(AC177:AC179) -> 0 | AC26: =SUM(AD177:AD179) -> 0 | AD26: =SUM(AE177:AE179) -> 0 | AE26: =SUM(AF177:AF179) -> 0 | AF26: =SUM(AG177:AG179) -> 0 | AG26: =SUM(AH177:AH179) -> 0 | AH26: =AB26+AC26+AD26+AE26+AJ26+AL26+AG26 -> 0 | AI26: =AC26+AE26+AJ26+AL26+AG26 -> 0
E27: =IF(C27="","",(VLOOKUP($C27,EWC,2,FALSE))) | F27: =IF(C27="","",(VLOOKUP($C27,EWC,3,FALSE))) | J27: =IF(AND(G27="Recycled Off Site - Transfer Station, MRF, EfW",H27>0),(N27*H27),"") | K27: =IF(AND(G27="Recycled Off Site - Transfer Station, MRF, EfW",H27>0),(H27-J27),"") | N27: =IF(H27="","",(IF($I27>0,I27,75%))) | O27: =IF(OR(E27=170504,E27=170101,E27=170102,E27=170103,E27=170107),H27/2,"0") -> 0 | P27: =IF(G27="Landfill",O27,"0") -> 0 | Q27: =IF(K27="",0,K27) -> 0 | R27: =IF(G27="Landfill",H27,0) -> 0 | S27: =R27-P27+Q27 -> 0 | U27: =IF(G27="Re Use Off Site",H27,0) -> 0 | V27: =U27+P27 -> 0 | Y27: Construction and demolition wastes - Mixed (uncontaminated) | Z27: 170904 | AA27: NH | AB27: =SUM(AC180:AC182) -> 0 | AC27: =SUM(AD180:AD182) -> 0 | AD27: =SUM(AE180:AE182) -> 0 | AE27: =SUM(AF180:AF182) -> #VALUE! | AF27: =SUM(AG180:AG182) -> 0 | AG27: =SUM(AH180:AH182) -> #VALUE! | AH27: =AB27+AC27+AD27+AE27+AJ27+AL27+AG27 -> #VALUE! | AI27: =AC27+AE27+AJ27+AL27+AG27 -> #VALUE!
E28: =IF(C28="","",(VLOOKUP($C28,EWC,2,FALSE))) | F28: =IF(C28="","",(VLOOKUP($C28,EWC,3,FALSE))) | J28: =IF(AND(G28="Recycled Off Site - Transfer Station, MRF, EfW",H28>0),(N28*H28),"") | K28: =IF(AND(G28="Recycled Off Site - Transfer Station, MRF, EfW",H28>0),(H28-J28),"") | N28: =IF(H28="","",(IF($I28>0,I28,75%))) | O28: =IF(OR(E28=170504,E28=170101,E28=170102,E28=170103,E28=170107),H28/2,"0") -> 0 | P28: =IF(G28="Landfill",O28,"0") -> 0 | Q28: =IF(K28="",0,K28) -> 0 | R28: =IF(G28="Landfill",H28,0) -> 0 | S28: =R28-P28+Q28 -> 0 | U28: =IF(G28="Re Use Off Site",H28,0) -> 0 | V28: =U28+P28 -> 0 | Y28: Construction and demolition wastes containing mercury | Z28: 170901 | AA28: H | AB28: =SUM(AC183:AC185) -> 0 | AC28: =SUM(AD183:AD185) -> 0 | AD28: =SUM(AE183:AE185) -> 0 | AE28: =SUM(AF183:AF185) -> 0 | AF28: =SUM(AG183:AG185) -> 0 | AG28: =SUM(AH183:AH185) -> 0 | AH28: =AB28+AC28+AD28+AE28+AJ28+AL28+AG28 -> 0 | AI28: =AC28+AE28+AJ28+AL28+AG28 -> 0
E29: =IF(C29="","",(VLOOKUP($C29,EWC,2,FALSE))) | F29: =IF(C29="","",(VLOOKUP($C29,EWC,3,FALSE))) | J29: =IF(AND(G29="Recycled Off Site - Transfer Station, MRF, EfW",H29>0),(N29*H29),"") | K29: =IF(AND(G29="Recycled Off Site - Transfer Station, MRF, EfW",H29>0),(H29-J29),"") | N29: =IF(H29="","",(IF($I29>0,I29,75%))) | O29: =IF(OR(E29=170504,E29=170101,E29=170102,E29=170103,E29=170107),H29/2,"0") -> 0 | P29: =IF(G29="Landfill",O29,"0") -> 0 | Q29: =IF(K29="",0,K29) -> 0 | R29: =IF(G29="Landfill",H29,0) -> 0 | S29: =R29-P29+Q29 -> 0 | U29: =IF(G29="Re Use Off Site",H29,0) -> 0 | V29: =U29+P29 -> 0 | Y29: Construction and demolition wastes containing PCB | Z29: 170902 | AA29: H | AB29: =SUM(AC186:AC188) -> 0 | AC29: =SUM(AD186:AD188) -> 0 | AD29: =SUM(AE186:AE188) -> 0 | AE29: =SUM(AF186:AF188) -> 0 | AF29: =SUM(AG186:AG188) -> 0 | AG29: =SUM(AH186:AH188) -> 0 | AH29: =AB29+AC29+AD29+AE29+AJ29+AL29+AG29 -> 0 | AI29: =AC29+AE29+AJ29+AL29+AG29 -> 0
E30: =IF(C30="","",(VLOOKUP($C30,EWC,2,FALSE))) | F30: =IF(C30="","",(VLOOKUP($C30,EWC,3,FALSE))) | J30: =IF(AND(G30="Recycled Off Site - Transfer Station, MRF, EfW",H30>0),(N30*H30),"") | K30: =IF(AND(G30="Recycled Off Site - Transfer Station, MRF, EfW",H30>0),(H30-J30),"") | N30: =IF(H30="","",(IF($I30>0,I30,75%))) | O30: =IF(OR(E30=170504,E30=170101,E30=170102,E30=170103,E30=170107),H30/2,"0") -> 0 | P30: =IF(G30="Landfill",O30,"0") -> 0 | Q30: =IF(K30="",0,K30) -> 0 | R30: =IF(G30="Landfill",H30,0) -> 0 | S30: =R30-P30+Q30 -> 0 | U30: =IF(G30="Re Use Off Site",H30,0) -> 0 | V30: =U30+P30 -> 0 | Y30: Construction materials containing asbestos | Z30: 170605 | AA30: H | AB30: =SUM(AC189:AC191) -> 0 | AC30: =SUM(AD189:AD191) -> 0 | AD30: =SUM(AE189:AE191) -> 0 | AE30: =SUM(AF189:AF191) -> 0 | AF30: =SUM(AG189:AG191) -> 0 | AG30: =SUM(AH189:AH191) -> #VALUE! | AH30: =AB30+AC30+AD30+AE30+AJ30+AL30+AG30 -> #VALUE! | AI30: =AC30+AE30+AJ30+AL30+AG30 -> #VALUE!
Q31: =IF(K31="",0,K31) -> 0 | Y31: Dredging spoil (uncontaminated) | Z31: 170506 | AA31: NH | AB31: =SUM(AC192:AC194) -> 0 | AC31: =SUM(AD192:AD194) -> 0 | AD31: =SUM(AE192:AE194) -> 0 | AE31: =SUM(AF192:AF194) -> 0 | AF31: =SUM(AG192:AG194) -> 0 | AG31: =SUM(AH192:AH194) -> 0 | AH31: =AB31+AC31+AD31+AE31+AJ31+AL31+AG31 -> 0 | AI31: =AC31+AE31+AJ31+AL31+AG31 -> 0
Y32: Dredging spoil containing dangerous substances | Z32: 170505 | AA32: H | AB32: =SUM(AC195:AC197) -> 0 | AC32: =SUM(AD195:AD197) -> 0 | AD32: =SUM(AE195:AE197) -> 0 | AE32: =SUM(AF195:AF197) -> 0 | AF32: =SUM(AG195:AG197) -> 0 | AG32: =SUM(AH195:AH197) -> 0 | AH32: =AB32+AC32+AD32+AE32+AJ32+AL32+AG32 -> 0 | AI32: =AC32+AE32+AJ32+AL32+AG32 -> 0
Y33: Electrical equipment (non hazardous) | Z33: 160214 | AA33: NH | AB33: =SUM(AC198:AC200) -> 0 | AC33: =SUM(AD198:AD200) -> 0 | AD33: =SUM(AE198:AE200) -> 0 | AE33: =SUM(AF198:AF200) -> 0 | AF33: =SUM(AG198:AG200) -> 0 | AG33: =SUM(AH198:AH200) -> 0 | AH33: =AB33+AC33+AD33+AE33+AJ33+AL33+AG33 -> 0 | AI33: =AC33+AE33+AJ33+AL33+AG33 -> 0
Y34: Electrical equipment containing CFC's, HFC's & HCFC's | Z34: 160211 | AA34: H | AB34: =SUM(AC201:AC203) -> 0 | AC34: =SUM(AD201:AD203) -> 0 | AD34: =SUM(AE201:AE203) -> 0 | AE34: =SUM(AF201:AF203) -> 0 | AF34: =SUM(AG201:AG203) -> 0 | AG34: =SUM(AH201:AH203) -> 0 | AH34: =AB34+AC34+AD34+AE34+AJ34+AL34+AG34 -> 0 | AI34: =AC34+AE34+AJ34+AL34+AG34 -> 0
Y35: Electrical equipment containing dangerous substances | Z35: 160213 | AA35: H | AB35: =SUM(AC204:AC206) -> 0 | AC35: =SUM(AD204:AD206) -> 0 | AD35: =SUM(AE204:AE206) -> 0 | AE35: =SUM(AF204:AF206) -> 0 | AF35: =SUM(AG204:AG206) -> 0 | AG35: =SUM(AH204:AH206) -> 0 | AH35: =AB35+AC35+AD35+AE35+AJ35+AL35+AG35 -> 0 | AI35: =AC35+AE35+AJ35+AL35+AG35 -> 0
Y36: Electrical equipment containing PCBs | Z36: 160210 | AA36: H | AB36: =SUM(AC207:AC209) -> 0 | AC36: =SUM(AD207:AD209) -> 0 | AD36: =SUM(AE207:AE209) -> 0 | AE36: =SUM(AF207:AF209) -> 0 | AF36: =SUM(AG207:AG209) -> 0 | AG36: =SUM(AH207:AH209) -> 0 | AH36: =AB36+AC36+AD36+AE36+AJ36+AL36+AG36 -> 0 | AI36: =AC36+AE36+AJ36+AL36+AG36 -> 0
Y37: Feminine hygiene products | Z37: 200199 | AA37: NH | AB37: =SUM(AC210:AC212) -> 0 | AC37: =SUM(AD210:AD212) -> 0 | AD37: =SUM(AE210:AE212) -> 0 | AE37: =SUM(AF210:AF212) -> 0 | AF37: =SUM(AG210:AG212) -> 0 | AG37: =SUM(AH210:AH212) -> 0 | AH37: =AB37+AC37+AD37+AE37+AJ37+AL37+AG37 -> 0 | AI37: =AC37+AE37+AJ37+AL37+AG37 -> 0
Y38: Fluorescent tubes and other mercury-containing waste | Z38: 200121 | AA38: H | AB38: =SUM(AC213:AC215) -> 0 | AC38: =SUM(AD213:AD215) -> 0 | AD38: =SUM(AE213:AE215) -> 0 | AE38: =SUM(AF213:AF215) -> 0 | AF38: =SUM(AG213:AG215) -> 0 | AG38: =SUM(AH213:AH215) -> 0 | AH38: =AB38+AC38+AD38+AE38+AJ38+AL38+AG38 -> 0 | AI38: =AC38+AE38+AJ38+AL38+AG38 -> 0
Y39: Fridges, freezers containing chlorofluorocarbons | Z39: 200123 | AA39: H | AB39: =SUM(AC216:AC218) -> 0 | AC39: =SUM(AD216:AD218) -> 0 | AD39: =SUM(AE216:AE218) -> 0 | AE39: =SUM(AF216:AF218) -> 0 | AF39: =SUM(AG216:AG218) -> 0 | AG39: =SUM(AH216:AH218) -> 0 | AH39: =AB39+AC39+AD39+AE39+AJ39+AL39+AG39 -> 0 | AI39: =AC39+AE39+AJ39+AL39+AG39 -> 0
Y40: Fuel - mixed | Z40: 130703 | AA40: H | AB40: =SUM(AC219:AC221) -> 0 | AC40: =SUM(AD219:AD221) -> 0 | AD40: =SUM(AE219:AE221) -> 0 | AE40: =SUM(AF219:AF221) -> 0 | AF40: =SUM(AG219:AG221) -> 0 | AG40: =SUM(AH219:AH221) -> 0 | AH40: =AB40+AC40+AD40+AE40+AJ40+AL40+AG40 -> 0 | AI40: =AC40+AE40+AJ40+AL40+AG40 -> 0
Y41: Fuel - Petrol | Z41: 130702 | AA41: H | AB41: =SUM(AC222:AC224) -> 0 | AC41: =SUM(AD222:AD224) -> 0 | AD41: =SUM(AE222:AE224) -> 0 | AE41: =SUM(AF222:AF224) -> 0 | AF41: =SUM(AG222:AG224) -> 0 | AG41: =SUM(AH222:AH224) -> 0 | AH41: =AB41+AC41+AD41+AE41+AJ41+AL41+AG41 -> 0 | AI41: =AC41+AE41+AJ41+AL41+AG41 -> 0
Y42: Fuel, oil and diesel | Z42: 130701 | AA42: H | AB42: =SUM(AC225:AC227) -> 0 | AC42: =SUM(AD225:AD227) -> 0 | AD42: =SUM(AE225:AE227) -> 0 | AE42: =SUM(AF225:AF227) -> 0 | AF42: =SUM(AG225:AG227) -> 0 | AG42: =SUM(AH225:AH227) -> 0 | AH42: =AB42+AC42+AD42+AE42+AJ42+AL42+AG42 -> 0 | AI42: =AC42+AE42+AJ42+AL42+AG42 -> 0
Y43: Glass | Z43: 170202 | AA43: I | AB43: =SUM(AC228:AC230) -> 0 | AC43: =SUM(AD228:AD230) -> 0 | AD43: =SUM(AE228:AE230) -> 0 | AE43: =SUM(AF228:AF230) -> 0 | AF43: =SUM(AG228:AG230) -> 0 | AG43: =SUM(AH228:AH230) -> 0 | AH43: =AB43+AC43+AD43+AE43+AJ43+AL43+AG43 -> 0 | AI43: =AC43+AE43+AJ43+AL43+AG43 -> 0
...

Sheet Legislative Checks
B2: Project Name | E2: ='Project Details'!D10 -> Piccadilly Gardens Redevelopment
B3: Contract Number | E3: ='Project Details'!D11 -> HLA098 | L3: Business Unit | N3: ='Project Details'!D38 -> Adam Liu
B4: Project Start Date | E4: ='Project Details'!D16 -> Winter 2026 (TBC)
B5: Person in Charge of Site Works | E5: ='Project Details'!D39 -> TBC | L5: Waste Champion | N5: ='Project Details'!D42 -> TBC
C8: Waste Carriers / Brokers / Waste Management Facilities / Part E Returns
F9: Waste Carrier | J9: Waste Broker (If applicable) | N9: Waste Management Facility
C11: Waste Stream | D11: EWC | E11: Waste Producer Business Unit or Subcontractor | F11: Name | G11: Registration No. | H11: Expiry Date (dd/mm/yyyy) | I11: Date checked with Regulator (dd/mm/yyyy) | J11: Name | K11: Registration No. | L11: Expiry Date (dd/mm/yyyy) | M11: Date checked with Regulator (dd/mm/yyyy) | N11: Name | O11: Type of Site | P11: Permit / WML / EASR / Exempt No. | Q11: Copy of Permit / Licence / Exemption obtained? | R11: Hazardous Waste | T11: Waste Carrier Registration | Z11: Waste Broker Registration
R12: HWCN / SWCN Part E Obtained from Suppler | T12: close | U12: Error 1 | V12: Error2 | W12: Expired | X12: Has data | Z12: close | AA12: Error 1 | AB12: Error2 | AC12: Expired | AD12: Has data
C13: Site Office / Welfare waste | D13: =IF(C13="","",(VLOOKUP($C13,EWC,2,FALSE))) -> 200301 | E13: Galliford Try | Q13: NO | R13: NO | T13: =IF(H13<($X$39+30),1,0) -> 1 | U13: =IF(W13+X13=2,1,0) -> 0 | V13: =IF(T13+X13=2,1,0) -> 0 | W13: =IF(H13<$X$39,1,0) -> 1 | X13: =IF(H13>0,1,0) -> 0 | Z13: =IF(L13<($X$39+30),1,0) -> 1 | AA13: =IF(AC13+AD13=2,1,0) -> 0 | AB13: =IF(Z13+AD13=2,1,0) -> 0 | AC13: =IF(L13<$X$39,1,0) -> 1 | AD13: =IF(L13>0,1,0) -> 0
C14: Metal - mixed | D14: =IF(C14="","",(VLOOKUP($C14,EWC,2,FALSE))) -> 170407 | E14: Galliford Try | Q14: NO | R14: NO | T14: =IF(H14<($X$39+30),1,0) -> 1 | U14: =IF(W14+X14=2,1,0) -> 0 | V14: =IF(T14+X14=2,1,0) -> 0 | W14: =IF(H14<$X$39,1,0) -> 1 | X14: =IF(H14>0,1,0) -> 0 | Z14: =IF(L14<($X$39+30),1,0) -> 1 | AA14: =IF(AC14+AD14=2,1,0) -> 0 | AB14: =IF(Z14+AD14=2,1,0) -> 0 | AC14: =IF(L14<$X$39,1,0) -> 1 | AD14: =IF(L14>0,1,0) -> 0
C15: Soil and Stones | D15: =IF(C15="","",(VLOOKUP($C15,EWC,2,FALSE))) -> 170504 | E15: Galliford Try | Q15: NO | R15: NO | T15: =IF(H15<($X$39+30),1,0) -> 1 | U15: =IF(W15+X15=2,1,0) -> 0 | V15: =IF(T15+X15=2,1,0) -> 0 | W15: =IF(H15<$X$39,1,0) -> 1 | X15: =IF(H15>0,1,0) -> 0 | Z15: =IF(L15<($X$39+30),1,0) -> 1 | AA15: =IF(AC15+AD15=2,1,0) -> 0 | AB15: =IF(Z15+AD15=2,1,0) -> 0 | AC15: =IF(L15<$X$39,1,0) -> 1 | AD15: =IF(L15>0,1,0) -> 0
C16: Bituminous mixtures not containing coal tar | D16: =IF(C16="","",(VLOOKUP($C16,EWC,2,FALSE))) -> 170302 | E16: Galliford Try | Q16: NO | R16: NO | T16: =IF(H16<($X$39+30),1,0) -> 1 | U16: =IF(W16+X16=2,1,0) -> 0 | V16: =IF(T16+X16=2,1,0) -> 0 | W16: =IF(H16<$X$39,1,0) -> 1 | X16: =IF(H16>0,1,0) -> 0 | Z16: =IF(L16<($X$39+30),1,0) -> 1 | AA16: =IF(AC16+AD16=2,1,0) -> 0 | AB16: =IF(Z16+AD16=2,1,0) -> 0 | AC16: =IF(L16<$X$39,1,0) -> 1 | AD16: =IF(L16>0,1,0) -> 0
C17: Road sweepings | D17: =IF(C17="","",(VLOOKUP($C17,EWC,2,FALSE))) -> 200303 | E17: Galliford Try | Q17: NO | R17: NO | T17: =IF(H17<($X$39+30),1,0) -> 1 | U17: =IF(W17+X17=2,1,0) -> 0 | V17: =IF(T17+X17=2,1,0) -> 0 | W17: =IF(H17<$X$39,1,0) -> 1 | X17: =IF(H17>0,1,0) -> 0 | Z17: =IF(L17<($X$39+30),1,0) -> 1 | AA17: =IF(AC17+AD17=2,1,0) -> 0 | AB17: =IF(Z17+AD17=2,1,0) -> 0 | AC17: =IF(L17<$X$39,1,0) -> 1 | AD17: =IF(L17>0,1,0) -> 0
C18: Sewage Treatment - Sludge destined for offsite treatment | D18: =IF(C18="","",(VLOOKUP($C18,EWC,2,FALSE))) -> 161001 | E18: Galliford Try | Q18: NO | R18: NO | T18: =IF(H18<($X$39+30),1,0) -> 1 | U18: =IF(W18+X18=2,1,0) -> 0 | V18: =IF(T18+X18=2,1,0) -> 0 | W18: =IF(H18<$X$39,1,0) -> 1 | X18: =IF(H18>0,1,0) -> 0 | Z18: =IF(L18<($X$39+30),1,0) -> 1 | AA18: =IF(AC18+AD18=2,1,0) -> 0 | AB18: =IF(Z18+AD18=2,1,0) -> 0 | AC18: =IF(L18<$X$39,1,0) -> 1 | AD18: =IF(L18>0,1,0) -> 0
C19: Construction and demolition wastes - Mixed (uncontaminated) | D19: =IF(C19="","",(VLOOKUP($C19,EWC,2,FALSE))) -> 170904 | E19: Galliford Try | Q19: NO | R19: NO | T19: =IF(H19<($X$39+30),1,0) -> 1 | U19: =IF(W19+X19=2,1,0) -> 0 | V19: =IF(T19+X19=2,1,0) -> 0 | W19: =IF(H19<$X$39,1,0) -> 1 | X19: =IF(H19>0,1,0) -> 0 | Z19: =IF(L19<($X$39+30),1,0) -> 1 | AA19: =IF(AC19+AD19=2,1,0) -> 0 | AB19: =IF(Z19+AD19=2,1,0) -> 0 | AC19: =IF(L19<$X$39,1,0) -> 1 | AD19: =IF(L19>0,1,0) -> 0
C20: Construction materials containing asbestos | D20: =IF(C20="","",(VLOOKUP($C20,EWC,2,FALSE))) -> 170605 | E20: Galliford Try | Q20: NO | R20: NO | T20: =IF(H20<($X$39+30),1,0) -> 1 | U20: =IF(W20+X20=2,1,0) -> 0 | V20: =IF(T20+X20=2,1,0) -> 0 | W20: =IF(H20<$X$39,1,0) -> 1 | X20: =IF(H20>0,1,0) -> 0 | Z20: =IF(L20<($X$39+30),1,0) -> 1 | AA20: =IF(AC20+AD20=2,1,0) -> 0 | AB20: =IF(Z20+AD20=2,1,0) -> 0 | AC20: =IF(L20<$X$39,1,0) -> 1 | AD20: =IF(L20>0,1,0) -> 0
C21: Concrete, bricks, tiles and ceramics - Mixed (uncontaminated) | D21: =IF(C21="","",(VLOOKUP($C21,EWC,2,FALSE))) -> 170107 | E21: Galliford Try | Q21: NO | R21: NO | T21: =IF(H21<($X$39+30),1,0) -> 1 | U21: =IF(W21+X21=2,1,0) -> 0 | V21: =IF(T21+X21=2,1,0) -> 0 | W21: =IF(H21<$X$39,1,0) -> 1 | X21: =IF(H21>0,1,0) -> 0 | Z21: =IF(L21<($X$39+30),1,0) -> 1 | AA21: =IF(AC21+AD21=2,1,0) -> 0 | AB21: =IF(Z21+AD21=2,1,0) -> 0 | AC21: =IF(L21<$X$39,1,0) -> 1 | AD21: =IF(L21>0,1,0) -> 0
C22: Concrete, bricks, tiles and ceramics - Mixed (uncontaminated) | D22: =IF(C22="","",(VLOOKUP($C22,EWC,2,FALSE))) -> 170107 | E22: Galliford Try | Q22: NO | R22: NO | T22: =IF(H22<($X$39+30),1,0) -> 1 | U22: =IF(W22+X22=2,1,0) -> 0 | V22: =IF(T22+X22=2,1,0) -> 0 | W22: =IF(H22<$X$39,1,0) -> 1 | X22: =IF(H22>0,1,0) -> 0 | Z22: =IF(L22<($X$39+30),1,0) -> 1 | AA22: =IF(AC22+AD22=2,1,0) -> 0 | AB22: =IF(Z22+AD22=2,1,0) -> 0 | AC22: =IF(L22<$X$39,1,0) -> 1 | AD22: =IF(L22>0,1,0) -> 0
C23: Construction materials containing asbestos | D23: =IF(C23="","",(VLOOKUP($C23,EWC,2,FALSE))) -> 170605 | E23: Galliford Try | Q23: NO | R23: NO | T23: =IF(H23<($X$39+30),1,0) -> 1 | U23: =IF(W23+X23=2,1,0) -> 0 | V23: =IF(T23+X23=2,1,0) -> 0 | W23: =IF(H23<$X$39,1,0) -> 1 | X23: =IF(H23>0,1,0) -> 0 | Z23: =IF(L23<($X$39+30),1,0) -> 1 | AA23: =IF(AC23+AD23=2,1,0) -> 0 | AB23: =IF(Z23+AD23=2,1,0) -> 0 | AC23: =IF(L23<$X$39,1,0) -> 1 | AD23: =IF(L23>0,1,0) -> 0
C24: Wood | D24: =IF(C24="","",(VLOOKUP($C24,EWC,2,FALSE))) -> 170201 | E24: Galliford Try | Q24: NO | R24: NO | T24: =IF(H24<($X$39+30),1,0) -> 1 | U24: =IF(W24+X24=2,1,0) -> 0 | V24: =IF(T24+X24=2,1,0) -> 0 | W24: =IF(H24<$X$39,1,0) -> 1 | X24: =IF(H24>0,1,0) -> 0 | Z24: =IF(L24<($X$39+30),1,0) -> 1 | AA24: =IF(AC24+AD24=2,1,0) -> 0 | AB24: =IF(Z24+AD24=2,1,0) -> 0 | AC24: =IF(L24<$X$39,1,0) -> 1 | AD24: =IF(L24>0,1,0) -> 0
C25: Dry Mixed Recyclables (DMR - paper, cardboard, metal, plastic glass) | D25: =IF(C25="","",(VLOOKUP($C25,EWC,2,FALSE))) -> 150106 | E25: Galliford Try | Q25: NO | R25: NO | T25: =IF(H25<($X$39+30),1,0) -> 1 | U25: =IF(W25+X25=2,1,0) -> 0 | V25: =IF(T25+X25=2,1,0) -> 0 | W25: =IF(H25<$X$39,1,0) -> 1 | X25: =IF(H25>0,1,0) -> 0 | Z25: =IF(L25<($X$39+30),1,0) -> 1 | AA25: =IF(AC25+AD25=2,1,0) -> 0 | AB25: =IF(Z25+AD25=2,1,0) -> 0 | AC25: =IF(L25<$X$39,1,0) -> 1 | AD25: =IF(L25>0,1,0) -> 0
D26: =IF(C26="","",(VLOOKUP($C26,EWC,2,FALSE))) | Q26: NO | R26: NO | T26: =IF(H26<($X$39+30),1,0) -> 1 | U26: =IF(W26+X26=2,1,0) -> 0 | V26: =IF(T26+X26=2,1,0) -> 0 | W26: =IF(H26<$X$39,1,0) -> 1 | X26: =IF(H26>0,1,0) -> 0 | Z26: =IF(L26<($X$39+30),1,0) -> 1 | AA26: =IF(AC26+AD26=2,1,0) -> 0 | AB26: =IF(Z26+AD26=2,1,0) -> 0 | AC26: =IF(L26<$X$39,1,0) -> 1 | AD26: =IF(L26>0,1,0) -> 0
D27: =IF(C27="","",(VLOOKUP($C27,EWC,2,FALSE))) | Q27: NO | R27: NO | T27: =IF(H27<($X$39+30),1,0) -> 1 | U27: =IF(W27+X27=2,1,0) -> 0 | V27: =IF(T27+X27=2,1,0) -> 0 | W27: =IF(H27<$X$39,1,0) -> 1 | X27: =IF(H27>0,1,0) -> 0 | Z27: =IF(L27<($X$39+30),1,0) -> 1 | AA27: =IF(AC27+AD27=2,1,0) -> 0 | AB27: =IF(Z27+AD27=2,1,0) -> 0 | AC27: =IF(L27<$X$39,1,0) -> 1 | AD27: =IF(L27>0,1,0) -> 0
D28: =IF(C28="","",(VLOOKUP($C28,EWC,2,FALSE))) | Q28: NO | R28: NO | T28: =IF(H28<($X$39+30),1,0) -> 1 | U28: =IF(W28+X28=2,1,0) -> 0 | V28: =IF(T28+X28=2,1,0) -> 0 | W28: =IF(H28<$X$39,1,0) -> 1 | X28: =IF(H28>0,1,0) -> 0 | Z28: =IF(L28<($X$39+30),1,0) -> 1 | AA28: =IF(AC28+AD28=2,1,0) -> 0 | AB28: =IF(Z28+AD28=2,1,0) -> 0 | AC28: =IF(L28<$X$39,1,0) -> 1 | AD28: =IF(L28>0,1,0) -> 0
Q29: NO | R29: NO
D30: =IF(C30="","",(VLOOKUP($C30,EWC,2,FALSE))) | Q30: NO | R30: NO | T30: =IF(H30<($X$39+30),1,0) -> 1 | U30: =IF(W30+X30=2,1,0) -> 0 | V30: =IF(T30+X30=2,1,0) -> 0 | W30: =IF(H30<$X$39,1,0) -> 1 | X30: =IF(H30>0,1,0) -> 0 | Z30: =IF(L30<($X$39+30),1,0) -> 1 | AA30: =IF(AC30+AD30=2,1,0) -> 0 | AB30: =IF(Z30+AD30=2,1,0) -> 0 | AC30: =IF(L30<$X$39,1,0) -> 1 | AD30: =IF(L30>0,1,0) -> 0
D31: =IF(C31="","",(VLOOKUP($C31,EWC,2,FALSE))) | Q31: NO | R31: NO | T31: =IF(H31<($X$39+30),1,0) -> 1 | U31: =IF(W31+X31=2,1,0) -> 0 | V31: =IF(T31+X31=2,1,0) -> 0 | W31: =IF(H31<$X$39,1,0) -> 1 | X31: =IF(H31>0,1,0) -> 0 | Z31: =IF(L31<($X$39+30),1,0) -> 1 | AA31: =IF(AC31+AD31=2,1,0) -> 0 | AB31: =IF(Z31+AD31=2,1,0) -> 0 | AC31: =IF(L31<$X$39,1,0) -> 1 | AD31: =IF(L31>0,1,0) -> 0
D32: =IF(C32="","",(VLOOKUP($C32,EWC,2,FALSE))) | Q32: NO | R32: NO | T32: =IF(H32<($X$39+30),1,0) -> 1 | U32: =IF(W32+X32=2,1,0) -> 0 | V32: =IF(T32+X32=2,1,0) -> 0 | W32: =IF(H32<$X$39,1,0) -> 1 | X32: =IF(H32>0,1,0) -> 0 | Z32: =IF(L32<($X$39+30),1,0) -> 1 | AA32: =IF(AC32+AD32=2,1,0) -> 0 | AB32: =IF(Z32+AD32=2,1,0) -> 0 | AC32: =IF(L32<$X$39,1,0) -> 1 | AD32: =IF(L32>0,1,0) -> 0
D33: =IF(C33="","",(VLOOKUP($C33,EWC,2,FALSE))) | Q33: NO | R33: NO | T33: =IF(H33<($X$39+30),1,0) -> 1 | U33: =IF(W33+X33=2,1,0) -> 0 | V33: =IF(T33+X33=2,1,0) -> 0 | W33: =IF(H33<$X$39,1,0) -> 1 | X33: =IF(H33>0,1,0) -> 0 | Z33: =IF(L33<($X$39+30),1,0) -> 1 | AA33: =IF(AC33+AD33=2,1,0) -> 0 | AB33: =IF(Z33+AD33=2,1,0) -> 0 | AC33: =IF(L33<$X$39,1,0) -> 1 | AD33: =IF(L33>0,1,0) -> 0
C37: Environmental Permits / Licences / Exemptions / Registrations required for site work. | I37: Hazardous Waste Premises Notification No. (Wales only)
C39: Type of Permitted / Licenced / Exempt / Activity | D39: Exemption Type | E39: Exemption Reference | F39: Exemption Description | I39: Activity on Site Requiring a Permit / Licence / Exemption | N39: Waste Type | O39: EWC Code | P39: Max Quantity of Waste to be used (tonnes) | Q39: Expiry Date (dd/mm/yyyy) (if applicable) | X39: =NOW() -> 46246.631
F40: =IF(D40="","",VLOOKUP($D40,'Data Sheet'!$P$7:$Q$46,2,FALSE)) | O40: =IF(N40="","",(VLOOKUP($N40,EWC,2,FALSE)))
E41: =IF(D41="","",VLOOKUP(D41,'Data Sheet'!$R$2:$S$42,2,FALSE)) | F41: =IF(D41="","",VLOOKUP($D41,'Data Sheet'!$P$7:$Q$46,2,FALSE)) | O41: =IF(N41="","",(VLOOKUP($N41,EWC,2,FALSE)))
E42: =IF(D42="","",VLOOKUP(D42,'Data Sheet'!$R$2:$S$42,2,FALSE)) | F42: =IF(D42="","",VLOOKUP($D42,'Data Sheet'!$P$7:$Q$46,2,FALSE)) | O42: =IF(N42="","",(VLOOKUP($N42,EWC,2,FALSE)))
E43: =IF(D43="","",VLOOKUP(D43,'Data Sheet'!$R$2:$S$42,2,FALSE)) | F43: =IF(D43="","",VLOOKUP($D43,'Data Sheet'!$P$7:$Q$46,2,FALSE)) | O43: =IF(N43="","",(VLOOKUP($N43,EWC,2,FALSE)))
E44: =IF(D44="","",VLOOKUP(D44,'Data Sheet'!$R$2:$S$42,2,FALSE)) | F44: =IF(D44="","",VLOOKUP($D44,'Data Sheet'!$P$7:$Q$46,2,FALSE)) | O44: =IF(N44="","",(VLOOKUP($N44,EWC,2,FALSE)))
E45: =IF(D45="","",VLOOKUP(D45,'Data Sheet'!$R$2:$S$42,2,FALSE)) | F45: =IF(D45="","",VLOOKUP($D45,'Data Sheet'!$P$7:$Q$46,2,FALSE)) | O45: =IF(N45="","",(VLOOKUP($N45,EWC,2,FALSE)))
E46: =IF(D46="","",VLOOKUP(D46,'Data Sheet'!$R$2:$S$42,2,FALSE)) | F46: =IF(D46="","",VLOOKUP($D46,'Data Sheet'!$P$7:$Q$46,2,FALSE)) | O46: =IF(N46="","",(VLOOKUP($N46,EWC,2,FALSE)))
E47: =IF(D47="","",VLOOKUP(D47,'Data Sheet'!$R$2:$S$42,2,FALSE)) | F47: =IF(D47="","",VLOOKUP($D47,'Data Sheet'!$P$7:$Q$46,2,FALSE)) | O47: =IF(N47="","",(VLOOKUP($N47,EWC,2,FALSE)))
E48: =IF(D48="","",VLOOKUP(D48,'Data Sheet'!$R$2:$S$42,2,FALSE)) | F48: =IF(D48="","",VLOOKUP($D48,'Data Sheet'!$P$7:$Q$46,2,FALSE)) | O48: =IF(N48="","",(VLOOKUP($N48,EWC,2,FALSE)))

Sheet Exemption Tracking
C2: Exemption Tracking is only needs to be completed where you are using waste exemptions and need to record the quantity been reused.. Each waste stream within the exemption needs to be recorded seperately
J5: Record Dates and Total Volumes moved on that day in the boxes below (volume in tonnes)
C6: Waste / Material | D6: Activity | E6: EWC | F6: Waste / Material Category | G6: Waste Exemption | H6: Exemption Number | I6: Allowable Waste under Exemption (tonnes) | J6: Date | K6: Date | L6: Date | M6: Date | N6: Date | O6: Date | P6: Date | Q6: Date | R6: Date | S6: Date | T6: Date | U6: Date | V6: Date | W6: Date | X6: Date | Y6: Date | Z6: Date | AA6: Date | AB6: Date | AC6: Date | AD6: Date | AE6: Date | AF6: Date | AG6: Date | AH6: Date | AI6: Date | AJ6: Date | AK6: Date | AL6: Date | AM6: Date | AP6: Red | AQ6: Amber | AR6: Anticipated
C7: =IF('Legislative Checks'!N40="","",'Legislative Checks'!N40) | E7: =IF(C7="","",(VLOOKUP($C7,EWC,2,FALSE))) | F7: =IF(C7="","",(VLOOKUP($C7,EWC,3,FALSE))) | G7: =IF('Legislative Checks'!D40="","",'Legislative Checks'!D40) | H7: =IF('Legislative Checks'!E40="","",'Legislative Checks'!E40) | R7: 0 | S7: 0 | AP7: =SUM(J7:AM7) -> 0 | AQ7: =SUM(I7*0.75) -> 0 | AR7: ='Legislative Checks'!P40 -> 0
C8: =IF('Legislative Checks'!N41="","",'Legislative Checks'!N41) | E8: =IF(C8="","",(VLOOKUP($C8,EWC,2,FALSE))) | F8: =IF(C8="","",(VLOOKUP($C8,EWC,3,FALSE))) | G8: =IF('Legislative Checks'!D41="","",'Legislative Checks'!D41) | H8: =IF('Legislative Checks'!E41="","",'Legislative Checks'!E41) | AP8: =SUM(J8:AM8) -> 0 | AQ8: =SUM(I8*0.75) -> 0 | AR8: ='Legislative Checks'!P41 -> 0
C9: =IF('Legislative Checks'!N42="","",'Legislative Checks'!N42) | E9: =IF(C9="","",(VLOOKUP($C9,EWC,2,FALSE))) | F9: =IF(C9="","",(VLOOKUP($C9,EWC,3,FALSE))) | G9: =IF('Legislative Checks'!D42="","",'Legislative Checks'!D42) | H9: =IF('Legislative Checks'!E42="","",'Legislative Checks'!E42) | AP9: =SUM(J9:AM9) -> 0 | AQ9: =SUM(I9*0.75) -> 0 | AR9: ='Legislative Checks'!P42 -> 0
C10: =IF('Legislative Checks'!N43="","",'Legislative Checks'!N43) | E10: =IF(C10="","",(VLOOKUP($C10,EWC,2,FALSE))) | F10: =IF(C10="","",(VLOOKUP($C10,EWC,3,FALSE))) | G10: =IF('Legislative Checks'!D43="","",'Legislative Checks'!D43) | H10: =IF('Legislative Checks'!E43="","",'Legislative Checks'!E43) | AP10: =SUM(J10:AM10) -> 0 | AQ10: =SUM(I10*0.75) -> 0 | AR10: ='Legislative Checks'!P43 -> 0
C11: =IF('Legislative Checks'!N44="","",'Legislative Checks'!N44) | E11: =IF(C11="","",(VLOOKUP($C11,EWC,2,FALSE))) | F11: =IF(C11="","",(VLOOKUP($C11,EWC,3,FALSE))) | G11: =IF('Legislative Checks'!D44="","",'Legislative Checks'!D44) | H11: =IF('Legislative Checks'!E44="","",'Legislative Checks'!E44) | AP11: =SUM(J11:AM11) -> 0 | AQ11: =SUM(I11*0.75) -> 0 | AR11: ='Legislative Checks'!P44 -> 0
C12: =IF('Legislative Checks'!N45="","",'Legislative Checks'!N45) | E12: =IF(C12="","",(VLOOKUP($C12,EWC,2,FALSE))) | F12: =IF(C12="","",(VLOOKUP($C12,EWC,3,FALSE))) | G12: =IF('Legislative Checks'!D45="","",'Legislative Checks'!D45) | H12: =IF('Legislative Checks'!E45="","",'Legislative Checks'!E45) | AP12: =SUM(J12:AM12) -> 0 | AQ12: =SUM(I12*0.75) -> 0 | AR12: ='Legislative Checks'!P45 -> 0
C13: =IF('Legislative Checks'!N46="","",'Legislative Checks'!N46) | E13: =IF(C13="","",(VLOOKUP($C13,EWC,2,FALSE))) | F13: =IF(C13="","",(VLOOKUP($C13,EWC,3,FALSE))) | G13: =IF('Legislative Checks'!D46="","",'Legislative Checks'!D46) | H13: =IF('Legislative Checks'!E46="","",'Legislative Checks'!E46) | AP13: =SUM(J13:AM13) -> 0 | AQ13: =SUM(I13*0.75) -> 0 | AR13: ='Legislative Checks'!P46 -> 0

Sheet Waste Tracking
C2: Waste Tracking only needs to be completed if there is a contractual requirement to record individual waste movements offsite, it is voluntary for all other projects
C6: Waste / Material | D6: Activity | E6: EWC | F6: Waste / Material Category | G6: GT Waste Transfer Note Reference | H6: Supplier Transfer Note Reference | I6: Weight Taken offsite (tonnes) | J6: Date of Transfer | K6: Time of Transfer | L6: Accepted at Disposal Site | M6: ViewPoint | N6: Client Portal
E7: =IF(C7="","",(VLOOKUP($C7,EWC,2,FALSE))) | F7: =IF(C7="","",(VLOOKUP($C7,EWC,3,FALSE))) | L7: NO | M7: NO | N7: NO
E5825: =IF(C5825="","",(VLOOKUP($C5825,EWC,2,FALSE))) | F5825: =IF(C5825="","",(VLOOKUP($C5825,EWC,3,FALSE)))
E5886: =IF(C5886="","",(VLOOKUP($C5886,EWC,2,FALSE))) | F5886: =IF(C5886="","",(VLOOKUP($C5886,EWC,3,FALSE)))
E5887: =IF(C5887="","",(VLOOKUP($C5887,EWC,2,FALSE))) | F5887: =IF(C5887="","",(VLOOKUP($C5887,EWC,3,FALSE)))
E5888: =IF(C5888="","",(VLOOKUP($C5888,EWC,2,FALSE))) | F5888: =IF(C5888="","",(VLOOKUP($C5888,EWC,3,FALSE)))
E5889: =IF(C5889="","",(VLOOKUP($C5889,EWC,2,FALSE))) | F5889: =IF(C5889="","",(VLOOKUP($C5889,EWC,3,FALSE)))
E5890: =IF(C5890="","",(VLOOKUP($C5890,EWC,2,FALSE))) | F5890: =IF(C5890="","",(VLOOKUP($C5890,EWC,3,FALSE)))
E5891: =IF(C5891="","",(VLOOKUP($C5891,EWC,2,FALSE))) | F5891: =IF(C5891="","",(VLOOKUP($C5891,EWC,3,FALSE)))
E5892: =IF(C5892="","",(VLOOKUP($C5892,EWC,2,FALSE))) | F5892: =IF(C5892="","",(VLOOKUP($C5892,EWC,3,FALSE)))
E5893: =IF(C5893="","",(VLOOKUP($C5893,EWC,2,FALSE))) | F5893: =IF(C5893="","",(VLOOKUP($C5893,EWC,3,FALSE)))
E5894: =IF(C5894="","",(VLOOKUP($C5894,EWC,2,FALSE))) | F5894: =IF(C5894="","",(VLOOKUP($C5894,EWC,3,FALSE)))
E5895: =IF(C5895="","",(VLOOKUP($C5895,EWC,2,FALSE))) | F5895: =IF(C5895="","",(VLOOKUP($C5895,EWC,3,FALSE)))
E5896: =IF(C5896="","",(VLOOKUP($C5896,EWC,2,FALSE))) | F5896: =IF(C5896="","",(VLOOKUP($C5896,EWC,3,FALSE)))
... E5907: =IF(C5907="","",(VLOOKUP($C5907,EWC,2,FALSE))) | F5907: =IF(C5907="","",(VLOOKUP($C5907,EWC,3,FALSE)))

Sheet Data Sheet
B2: This lookup is used for drop down for EWC codes on the legislative tabs, project culminative, quarterly and monthly tabs. Note: Conversion Factor is used in the conversion calculator tab for different material types (uses vlookup and references CF) | H2: Various drop down lookups used on several tabs | J2: This lookups are used in the conversion calculator as both lookups and arrays for calculations | N2: This is the KPI lookup on the Project Details page, the information is also used to update the lookups on the Project KPI's Tab. The split between Building, Infrastructure and Specialist Services is not currently used in the tabs. | P2: This lookup is used in the Legislative Checks Tab to provide the lookup for the exemption type and also the waste exemption description. The description is a lookup from the type. | S2: This data is used on th Project KPI's reporting tab to generate the two bar charts and the pie chart below.
B5: Waste Description | C5: EWC | D5: Type | E5: Conversion Factor | F5: Updates | H5: Division | J5: Container_Size | K5: Container_Volume | N5: KPI's | P5: Exemption Type | Q5: Description | S5: Chart Data
B7: Aerosol cans containing paint or gas | C7: 160504 | D7: H | E7: 0.3 | H7: Infrastructure | J7: Drum 205 ltr | K7: 0.205 | N7: KPI list | P7: U1 | Q7: Using waste in construction | S7: Bar Charts
B8: Bituminous mixtures containing coal tar | C8: 170301 | D8: H | E8: 0.9 | H8: Building | J8: Drum 25 ltr | K8: 0.025 | M8: 1 | N8: BRE - Construction waste (tonnes) generated per 100m2 gross floor area | P8: U6 | Q8: Using sludge to ressed a waste water treatment plant | S8: Waste diverted from landfill (including soils and stones)%
B9: Bituminous mixtures not containing coal tar | C9: 170302 | D9: NH | E9: 0.82 | J9: Front-end loader 10 yd3 | K9: 7.6455486 | M9: 2 | N9: BRE - Construction (non hazardous) waste diverted from landfill % | P9: U7 | Q9: using effluence to clean a highway gravel bed | S9: Target | T9: ='Project KPI''s'!D8 -> 85
B10: Bricks | C10: 170102 | D10: I | E10: 1.2 | H10: Waste Activity | J10: Front-end loader 12 yds | K10: 9.1746583 | M10: 3 | N10: BRE - Demolition (non hazardous) waste diverted from landfill % | P10: U8 | Q10: Using waste for a specific purpose | S10: Actual | T10: ='Project KPI''s'!E8 -> #DIV/0!
B11: Concrete | C11: 170101 | D11: I | E11: 1.27 | H11: Demolition | J11: Front-end loader 2 yd3 | K11: 1.5291097 | M11: 4 | N11: BRE - Excavation (non hazardous) waste diverted from landfill % | P11: U10 | Q11: spreading waste to benefit agricultural land
B12: Concrete, bricks, tiles and ceramics - Mixed (uncontaminated) | C12: 170107 | D12: NH | E12: 1.24 | H12: Construction | J12: Front-end loader 4yd3 | K12: 3.0582194 | M12: 5 | N12: BRE INF - Waste from demolition / deconstruction works reused on site (%) | P12: U12 | Q12: using mulch | S12: Waste diverted from landfill (excluding soils and stones)%
B13: Construction and demolition wastes - Mixed (uncontaminated) | C13: 170904 | D13: NH | E13: 0.32 | H13: Excavation | J13: Front-end loader 6 yd3 | K13: 4.5873291 | M13: 6 | N13: BRE INF - Excavated material beneficially reused on site (%) | P13: S1 | Q13: Storing waste in secure containers | S13: Target | T13: ='Project KPI''s'!D9 -> 90
B14: Construction materials containing asbestos | C14: 170605 | D14: H | E14: 0.31 | J14: Front-end loader 8yds | K14: 6.1164389 | M14: 7 | N14: BRE INF - Inert wastes diverted from landfill (%) | P14: S2 | Q14: Storing waste at a secure site | S14: Actual | T14: ='Project KPI''s'!E9 -> #DIV/0!
B15: Dry Mixed Recyclables (DMR - paper, cardboard, metal, plastic glass) | C15: 150106 | D15: NH | E15: 0.21 | H15: Waste Forecast Tab Drop Down (Waste Material Options) | J15: IBC Container (drum) 1000 ltr | K15: 1 | M15: 8 | N15: BRE INF - Non-hazardous wastes diverted from landfill (%) | P15: S3 | Q15: Storing sludge
B16: Glass | C16: 170202 | D16: I | E16: 0.61 | H16: Re Use On Site | J16: Midi skip 4 yd3 | K16: 3.0582194 | M16: 9 | P16: T1 | Q16: Treating certain waste to reuse or recycle | S16: Pie Chart
B17: Gypsum-based construction materials - Plasterboard | C17: 170802 | D17: NH | E17: 0.33 | H17: Re Use Off Site | J17: Midi skip 5 yd3 | K17: 3.8227743 | M17: 10 | P17: T4 | Q17: Storing and preparing waste for further treatment | S17: Soil & stones | T17: =Reporting!J22+Reporting!N22+Reporting!T22+Reporting!J23+Reporting!N23+Reporting!T23 -> 0
B18: Insulating materials (uncontaminated) | C18: 170604 | D18: NH | E18: 0.25 | H18: Recycled On Site | J18: Midi skip 6yd3 | K18: 4.5873291 | P18: T5 | Q18: Screening and Blending Waste | S18: Concrete, Bricks Tiles | T18: =Reporting!J24+Reporting!N24+Reporting!T24 -> 0
B19: Metal - mixed | C19: 170407 | D19: NH | E19: 0.42 | H19: Recycled Off Site - Transfer Station, MRF, EfW | J19: Mini skip 2 yd3 | K19: 1.5291097 | N19: Building | P19: T6 | Q19: Treating waste wood and plant matter | S19: Plasterboard | T19: =Reporting!J25+Reporting!N25+Reporting!T25 -> 0
B20: Packaging - Contaminated | C20: 150110 | D20: H | E20: 0.23 | H20: Landfill | J20: Open RORO 20 yd3 | K20: 15.291097 | M20: 1 | N20: Diversion from Landfill (%) | P20: T9 | Q20: Recovering Scrap Metal | S20: Metals | T20: =Reporting!J26+Reporting!N26+Reporting!T26 -> 0
B21: Packaging - Mixed | C21: 150106 | D21: NH | E21: 0.21 | J21: Open RORO 25 yd3 | K21: 19.113871 | M21: 2 | N21: Wastes produced (in tonnes) per £100k project value | P21: T11 | Q21: Repairing or refurbishing waste electrical and electronic equipment | S21: Wood | T21: =Reporting!J27+Reporting!N27+Reporting!T27 -> 0
