Workbook

Sheet SOI
B8: Planning application number: TBC
B9: Value of scheme (nearest £1M): £14
B10: Expected start & end date construction phase (mm/yy to mm/yy) 06/2022 to 06/2024 | I10: Q4 2025 | J10: Q4 2026
B11: Expected start date operation / end use phase if applicable (mm/yy to mm/yy) Q1 2027
B12: Undertaking to Manchester City Council General With this agreement The Applicant ASK Real Estate confirms its intent to maximise local labour benefits resulting from the above development. This applies to the construction phase and (if applicable and within the remit of the Applicant) to the end-use operation phase. Construction phase The Applicant will also submit for approval in writing by the Council as the Local Planning Authority 1) a proposal that outlines what local labour activities and targets The Applicant will endeavour to deliver and 2) a final report detailing the local labour results. The Applicant also agrees to provide quarterly local labour updates to the Council’s Work and Skills Team. End use / Operation phase The Applicant, if end user, will also submit for approval in writing by the Council as the Local Planning Authority 1) a proposal that outlines what local labour activities and targets The Applicant will endeavour to deliver and 2) a final report detailing the local labour results. If The Applicant is not the end user The Applicant agrees to introduce the Work and Skills Team to the end user(s) if appropriate and if the end user(s) are known. Scope of agreement The Applicant agrees to explore working together with The Councils Work and Skills Team in maximising local labour benefits which may include local promotion of vacancies, using local recruitment services, sourcing local suppliers and contractors and introductions to local schools and community organisations. The Applicant will ensure there is sufficient lead in time for the Work and Skills Team and its partners to put in place appropriate solutions. Nothing in this undertaking shall be deemed to impose on The Applicant any obligation or require any action that would contravene any UK employment law or UK anti-discrimination law. The Applicant reserves the right to recruit staff, source suppliers and sub-contractor and develop links with schools and community groups as business needs dictates. Authorised Signatory Name: Neil Pickup Position in organisation: Project Director Name organisation: Ask Real Estate Limited Signed: N Pickup Date: 26/11/25

Sheet LLP Const
A1: Local Labour Proposal Template for Construction This worksheet can be used as a stand alone local labour proposal - please refer to the Local Labour Guidance Note. Please complete sections "Workforce", "Apprenticeships" and "Supply Chain" and chose from the other sections activities you also want to deliver: add an indicative target and use column "Delivery" to add detail (who, when, how). Please use works sheets "Report Yr" to submit your final report and to submit Progress Reports as agreed. If you have any questions about this form or would like to discuss your local labour proposal(s) please contact your nominated officer or email business@manchester.gov.uk.
A2: Development scheme details | B2: Planning application number: | E2: =SOI!G8 -> 0 | G2: Value of scheme (nearest £1M): | I2: £14m | J2: Expected start and end date: [mm/yy to mm/yy]: | L2: Q4 2026 to Q4 2027 (current est.)
A3: Local labour Proposal submitted by | B3: Name organisation: | E3: TBC | G3: Name contact: | I3: TBC | J3: Email address and telephone number of contact: | L3: TBC
A4: WORKFORCE | B4: Total Indicative Target | C4: PLEASE OUTLINE WHEN AND HOW YOU WILL DELIVER THIS ACTIVITY INCLUDING DETAILS OF ANY EXTERNAL ORGANISATIONS YOU PLAN TO USE. THE WORK AND SKILLS TEAM CAN SUPPORT YOU WITH ANY OF THESE ACTIVITIES AND INTRODUCE YOU TO LOCAL PROVIDERS.
A5: Number of new jobs expected to be created by the development | B5: 4 | C5: The Contractor will target new appointments in the following disciplines - Site Operative, Gate Supervisor, Administrator / Document controller and Hoist Operator, plus an apprentice as included below. This will be in addition to our supply chain commitments. To deliver this we will work closely with our other Manchester Construction Sites to create a co-ordinated approach. It is our desire that MBP project will become a focal point for community and employment engagement and its important location should help wth this. In addition to direct recruitment, we will seek to engage with and support local employment and training initiatives and offer direct resources in support. In order to achieve this we commit to the following:
A6: % of these new jobs expected to be taken up by Manchester residents | B6: 0.65
C7: To specifically target appointments from School Leavers entering a challenging job market, skilled people currently out of work, NEET, Looked after Children, Care Leavers and Youth Offenders.
C8: To support the self-employed.
C9: To work closely with Manchester Youth Employment Group, a group created by MCC to bring together key partners from across the City to support 14 - 24 yr olds into Work Experience, Training, Employment and Apprenticeships.
C10: Work with Manchester Connect and its connected resouces. Publicise our initiatives and site based resources to this group.
C11: Provide on site resources such as meet the builder introductions, site visits, trade specific demonstrations, 1 to 1 discussions with our professional team, the opportunity to try out activities in a safe, controlled site environment.
C12: Offer short term placements on site for Manchester Adult education Services to help prepare their Clients for full time work.
C13: Liase with Manchester College to identify candidates for construction roles with the contractor and offer resources for workshops, student engagement and expert advise.
C14: Record our performance against the above commitments and report back to MCC in regular consultation sessions.
A16: Number of existing staff expected to work on the development | B16: 10 | C16: These numbers are governed by the specialist team set up to deliver this project. These individuals are members of the Main Contractor team, from local offices. This team will be based on site. The selection of the team is governed by the required experience and the availability, given the multiple sites were are delivering accross the North West. However we do make every effort to locate personnel from within the Manchester Post Code Map.
A17: % of these existing staff expected to be Manchester residents | B17: 0.75
A18: APPRENTICESHIPS | B18: Total Indicative Target | C18: See above
A19: Number of new apprentices expected to be recruited for the development | B19: 2 | C19: We are confident in the capabilities of our local network and joint approach with our supply chain, that we will provide well-supported and successful apprenticeship opportunities. Working with the councils’ work and skills lead, we will forecast opportunities, taking a timely and well-executed approach to ensuring that local people benefit, and are well supported to access placements. We will target Manchester Residents as the first port of call for any Apprenticeships, targeting those school leavers who have specifically missed out on some of their education in the past 4 months due to COVID 19. We will do this by engaging with Manchester Colleges and Sixth forms such as MMU, Lorreto and Connell Academy.
A20: Number of new apprentice weeks expected to be offered (if you are not able to offer full apprenticeships) | B20: 104 | C20: (2 x apprentices circa 52wk delivery programme)
A21: % of these new apprenticeship roles expected to be taken up by Manchester residents | B21: 1
A22: Number of existing apprentices expected to work on the development | B22: 2 | C22: A joint approach through with the Main Contractor and their supply chain, will provide well-supported and successful apprenticeship opportunities for both new and existing apprentices
A23: Number of existing apprentice weeks expected to be working on the development (if you are not able to offer full apprenticeships) | B23: 104 | C23: (2 x apprentices circa 52wk delivery programme)
A24: % of these existing apprenticeship roles expected to be Manchester residents | B24: 1
A25: SUPPLY CHAIN | B25: Total Indicative Target | C25: .
A26: Number of sub contactors expected to work on the development including those not working on site | B26: 20-25 | C26: We will support the selection of Manchester sub contractors where the appropriate specialism and competitiveness allows. There are some key disciplines where we do not have a Manchester based contractor available for selection. We will encourage and support the use of local suppliers of materials, plant and services to support these sub-contractors. We will share our supply chain data of North West supply chain partners to support selection. We will attend meet the buyer events and manage an ongoing supply Chain, which encourages local relationships.We will direct contractors to local concrete batching plants for supply and will favour the use of local disposal tips for excavated arisings from site. We will utilise resourses such as Constructionline, Chamber of Commerce etc to target local selection publicise the project through our supply chain and attract local suppliers and service providers.
A27: % of these subcontractors expected to be from the City of Manchester (approx 0 - 5 mile radius) | B27: 20
A28: % of subcontractors expected to be from Greater Manchester (approx 5 - 20 mile radius from the development) | B28: 40
A29: Number of Meet The Buyer events | B29: 1
A31: DEVELOPING YOUR STAFF | B31: Total Indicative Target | C31: See above
A32: % of above staff receiving CSCS card training | B32: 1 | C32: All operatives and staff will be CSCS / CPCS certified, each selected sub-contractor will be responsible for ensuring that these cards are renewed as required. This will require an ongoing programme of training and testing across the entire workforce over the duration of the project.
A33: Number of staff receiving other training | B33: 10 | C33: Further information will be provided once we are in contract with our supply chain
A34: Number of students / graduates / interns expected to be working/trained on the development | B34: TBC | C34: Further information will be provided once we are in contract with our supply chain and once we have engaged with local colleges.
A35: LEARNING AND EMPLOYABILITY | B35: Total Indicative Target | C35: See above
A36: Off site careers activities (e.g. career/sector talks; mock interviews; reading/writing /numeracy support) | B36: 1 | C36: The Contractor will make a targeted access available to our extensive resources, which can be provided virtually through meet the builder virtual events, virtual training, engagement and on line information. It is anticipated that the contractor will hold / attend various events throughout the project, by visiting local schools and colleges in Manchester(where appropriate) to promote careers in the construction industry, support local career fairs and offer World of Work sessions to help with CV writing, provide mock interviews and career guidance.
A37: On site careers activities (e.g. site tours / taster days) | B37: 1 | C37: Aim to have a school visit site for career in construction advice, site tour, update on the project every two months as a minumum
A38: Developing a strategic relationship with a secondary school/college | B38: 1 | C38: The contractor will work closely with our other Construction Sites to create a co-ordinated approach. In order to achieve this we commit to the following:
A39: Work experience for under 18s | B39: 2 | C39: Look to commit one place every 6 months
A40: Professional development for teaching /careers/employment staff | B40: 2 | C40: To specifically target appointments from School Leavers entering a challenging job market, skilled people currently out of work, NEET, Looked after Children, Care Leavers and Youth Offenders.
A41: Projects with Further and Higher Education | B41: 2 | C41: Liase with Manchester College to identify candidates for construction roles within Main Contractor and offer resources for workshops, student engagement and expert advise.
A42: Work placements for over 18s | B42: 2 | C42: To work closely with Manchester Youth Employment Group, a group created by MCC to bring together key partners from across the City to support 14 - 24 yr olds into Work Experience, Training, Employment and Apprenticeships.
A43: Volunteer opportunities | B43: 2 | C43: The main contractor will look to engage with local communities and work alongside key local partners, community groups and third sector organisations, Main-contractor and sub-contractor teams will allocated members of staff to community projects, donating time, expertise and materials into a co-created venture, which will seek to develop and improve existing community assets.
A44: Work trials
A45: Other - please specify:
A46: WORKING WITH THE COMMUNITY | C46: See above
A47: Community projects with skills and employability outcomes | B47: 1 | C47: Once the Main Contract is placed we will target community projects which we feel are available and appropriate at the time and provide further advice in due course.
A48: Other community projects | B48: 0
A49: SUPPORTING LOCAL BUSINESS GROWTH | B49: Total Indicative Target | C49: See above
A50: Mentor a business | B50: TBC | C50: Once the Main Contract is placed we will target a business which is part of the project delivery supply chain and seek to mentor and develop them throguh the project. This will be one of the smaller businesses whou could benefit form this process. Further details will be issued in due course.
A51: Offer opportunities to a social enterprise | B51: 0
A52: Join/support a local business network | B52: 0
A53: OTHER PROPOSED ACTIVITIES (PLEASE DESCRIBE) | B53: Total Indicative Target | C53: See above

Sheet LLP End Use
A1: Local Labour Proposal Template for End-Use This worksheet can be used as a stand alone local labour proposal - please refer to the Local Labour Guidance Note. Please complete sections "Workforce", "Apprenticeships" and "Supply Chain" and chose from other sections activities you also want to deliver: add an indicative target and use column "Delivery" to add detail (who, when, how). Please use works sheets "Report Yr" to submit your final report and to submit Progress Reports as agreed. If you have any questions about this form or would like to discuss your local labour proposal(s) please contact your nominated officer or email business@manchester.gov.uk.
A2: Development scheme details | B2: Planning application number: | E2: =SOI!G8 -> 0 | G2: Value of scheme (nearest £1M): | I2: =SOI!G9 -> 0 | J2: Expected start and end date: [mm/yy to mm/yy]: | L2: =SOI!G11 -> 0
A3: Local labour Proposal submitted by | B3: Name organisation: | G3: Name contact: | J3: Email address and telephone number of contact:
A4: WORKFORCE | B4: Total Indicative Target | C4: PLEASE OUTLINE WHEN AND HOW YOU WILL DELIVER THIS ACTIVITY INCLUDING DETAILS OF ANY EXTERNAL ORGANISATIONS YOU PLAN TO USE. THE WORK AND SKILLS TEAM CAN SUPPORT YOU WITH ANY OF THESE ACTIVITIES AND INTRODUCE YOU TO LOCAL PROVIDERS.
A5: Number of new jobs expected to be created by the development
A6: % of these new jobs expected to be taken up by Manchester residents
A7: Number of existing staff expected to work on the development
A8: % of these existing staff expected to be Manchester residents
A9: APPRENTICESHIPS | B9: Total Indicative Target | C9: See above
A10: Number of new apprentices expected to be recruited for the development
A11: Number of new apprentice weeks expected to be offered (if you are not able to offer full apprenticeships)
A12: % of these new apprenticeship roles expected to be taken up by Manchester residents
A13: Number of existing apprentices expected to work on the development
A14: Number of existing apprentice weeks expected to be working on the development (if you are not able to offer full apprenticeships)
A15: % of these existing apprenticeship roles expected to be Manchester residents
A16: SUPPLY CHAIN | B16: Total Indicative Target | C16: See above
A17: Number of sub contactors expected to work on the development including those not working on site
A18: % of these subcontractors expected to be from the City of Manchester (approx 0 - 5 mile radius)
A19: % of subcontractors expected to be from Greater Manchester (approx 5 - 20 mile radius from the development)
A20: Number of Meet The Buyer events
A24: DEVELOPING YOUR STAFF | B24: Total Indicative Target | C24: See above
A25: % of above staff receiving CSCS card training
A26: Number of staff receiving other training
A27: Number of students / graduates / interns expected to be working/trained on the development
A29: LEARNING AND EMPLOYABILITY | B29: Total Indicative Target | C29: See above
A30: Off site careers activities (e.g. career/sector talks; mock interviews; reading/writing /numeracy support)
A31: On site careers activities (e.g. site tours / taster days)
A32: Developing a strategic relationship with a secondary school/college
A33: Work experience for under 18s
A34: Professional development for teaching /careers/employment staff
A35: Projects with Further and Higher Education
A36: Work placements for over 18s
A37: Volunteer opportunities
A38: Work trials
A39: Other - please specify:
A40: WORKING WITH THE COMMUNITY | B40: Total Indicative Target | C40: See above
A41: Community projects with skills and employability outcomes
A42: Other community projects
A43: SUPPORTING LOCAL BUSINESS GROWTH | B43: Total Indicative Target | C43: See above
A44: Mentor a business
A45: Offer opportunities to a social enterprise
A46: Join/support a local business network
A47: OTHER PROPOSED ACTIVITIES (PLEASE DESCRIBE) | B47: Total Indicative Target | C47: See above

Sheet Const Report Yr 1
A1: Local Labour Construction - Yr 1 | B1: Please use this form to: - To profile your targets especially for your main recruitment(s), apprenticeship intake(s) and procuring sub-contractors/suppliers. - Record actual delivery of targets to date - Add any good news stories you would like us to hear about and promote - Submit this form on the second Monday of the month ending period 1 (Apr - Jun), 2 (Jul - Sept), 3 (Oct - Dec) and 4 (Jan - Mar)
A2: Please complete report details | B2: Planning reference: | D2: =SOI!G8 -> 0 | F2: Monitoring period [mm/yy to mm/yy]: | J2: Prepared by [name & email]:
A3: WORKFORCE | B3: Total Indicative Target | C3: Indicative target yr 1 | D3: Qtr 1 Forecast | E3: Qtr 1 Actual to date | F3: Qtr 2 Forecast | G3: Qtr 2 Actual to date | H3: Qtr 3 Forecast | I3: Qtr 3 Actual to date | J3: Qtr 4 Forecast | K3: Qtr 4 Actual to date | L3: Comments (please use this column to provide details of the activity including those suggested - use a separate sheet where appropriate)
A4: ='LLP Const'!A5 -> Number of new jobs expected to be created by the development | B4: ='LLP Const'!B5 -> 4 | L4: Please also provide a breakdown of jobs by full postcode
A5: ='LLP Const'!A6 -> % of these new jobs expected to be taken up by Manchester residents | B5: ='LLP Const'!B6 -> 0.65
A6: ='LLP Const'!A16 -> Number of existing staff expected to work on the development | B6: ='LLP Const'!B16 -> 10 | L6: Please also provide a breakdown of jobs by full postcode
A7: ='LLP Const'!A17 -> % of these existing staff expected to be Manchester residents | B7: ='LLP Const'!B17 -> 0.75
A8: APPRENTICESHIPS | B8: Total Indicative Target | C8: Indicative target yr 1 | D8: Qtr 1 Forecast | E8: Qtr 1 Actual to date | F8: Qtr 2 Forecast | G8: Qtr 2 Actual to date | H8: Qtr 3 Forecast | I8: Qtr 3 Actual to date | J8: Qtr 4 Forecast | K8: Qtr 4 Actual to date | L8: =L3 -> Comments (please use this column to provide details of the activity including those suggested - use a separate sheet where appropriate)
A9: ='LLP Const'!A19 -> Number of new apprentices expected to be recruited for the development | B9: ='LLP Const'!B19 -> 2 | L9: Please also provide a breakdown by type and level of apprentices and a breakdown by full postcode
A10: ='LLP Const'!A20 -> Number of new apprentice weeks expected to be offered (if you are not able to offer full apprenticeships) | B10: ='LLP Const'!B20 -> 104
A11: ='LLP Const'!A21 -> % of these new apprenticeship roles expected to be taken up by Manchester residents | B11: ='LLP Const'!B21 -> 1
A12: ='LLP Const'!A22 -> Number of existing apprentices expected to work on the development | B12: ='LLP Const'!B22 -> 2 | L12: Please also provide a breakdown of type and level of apprentices and a breakdown by full postcode
A13: ='LLP Const'!A23 -> Number of existing apprentice weeks expected to be working on the development (if you are not able to offer full apprenticeships) | B13: ='LLP Const'!B23 -> 104
A14: ='LLP Const'!A24 -> % of these existing apprenticeship roles expected to be Manchester residents | B14: ='LLP Const'!B24 -> 1
A15: SUPPLY CHAIN | B15: Total Indicative Target | C15: Indicative target yr 1 | D15: Qtr 1 Forecast | E15: Qtr 1 Actual to date | F15: Qtr 2 Forecast | G15: Qtr 2 Actual to date | H15: Qtr 3 Forecast | I15: Qtr 3 Actual to date | J15: Qtr 4 Forecast | K15: Qtr 4 Actual to date | L15: =L3 -> Comments (please use this column to provide details of the activity including those suggested - use a separate sheet where appropriate)
A16: ='LLP Const'!A26 -> Number of sub contactors expected to work on the development including those not working on site | B16: ='LLP Const'!B26 -> 20-25 | L16: Please provide a breakdown of suppliers by full postcode
A17: ='LLP Const'!A27 -> % of these subcontractors expected to be from the City of Manchester (approx 0 - 5 mile radius) | B17: ='LLP Const'!B27 -> 20
A18: ='LLP Const'!A28 -> % of subcontractors expected to be from Greater Manchester (approx 5 - 20 mile radius from the development) | B18: ='LLP Const'!B28 -> 40
A19: ='LLP Const'!A30 -> 0 | B19: ='LLP Const'!B30 -> 0 | L19: Please provide details (date; venue; number of suppliers attending)
A20: DEVELOPING YOUR STAFF | B20: Total Indicative Target | C20: Indicative target yr 1 | D20: Qtr 1 Forecast | E20: Qtr 1 Actual to date | F20: Qtr 2 Forecast | G20: Qtr 2 Actual to date | H20: Qtr 3 Forecast | I20: Qtr 3 Actual to date | J20: Qtr 4 Forecast | K20: Qtr 4 Actual to date | L20: =L3 -> Comments (please use this column to provide details of the activity including those suggested - use a separate sheet where appropriate)
A21: ='LLP Const'!A32 -> % of above staff receiving CSCS card training | B21: ='LLP Const'!B32 -> 1
A22: ='LLP Const'!A33 -> Number of staff receiving other training | B22: ='LLP Const'!B33 -> 10
A23: ='LLP Const'!A34 -> Number of students / graduates / interns expected to be working/trained on the development | B23: ='LLP Const'!B34 -> TBC | L23: Please provide full postcodes
A24: LEARNING AND EMPLOYABILITY | B24: Total Indicative Target | C24: Indicative target yr 1 | D24: Qtr 1 Forecast | E24: Qtr 1 Actual to date | F24: Qtr 2 Forecast | G24: Qtr 2 Actual to date | H24: Qtr 3 Forecast | I24: Qtr 3 Actual to date | J24: Qtr 4 Forecast | K24: Qtr 4 Actual to date | L24: =L3 -> Comments (please use this column to provide details of the activity including those suggested - use a separate sheet where appropriate)
A25: ='LLP Const'!A36 -> Off site careers activities (e.g. career/sector talks; mock interviews; reading/writing /numeracy support) | B25: ='LLP Const'!B36 -> 1 | L25: Please provide details of these activities including dates, name of school, number of pupils taking part, any follow up activities
A26: ='LLP Const'!A37 -> On site careers activities (e.g. site tours / taster days) | B26: ='LLP Const'!B37 -> 1 | L26: Please provide details of these activities including dates, name of school, number of pupils taking part, any follow up activities
A27: ='LLP Const'!A38 -> Developing a strategic relationship with a secondary school/college | B27: ='LLP Const'!B38 -> 1 | L27: Please describe nature of relationship
A28: ='LLP Const'!A39 -> Work experience for under 18s | B28: ='LLP Const'!B39 -> 2 | L28: Please provide a breakdown by postcode
A29: ='LLP Const'!A40 -> Professional development for teaching /careers/employment staff | B29: ='LLP Const'!B40 -> 2 | L29: Please provide details of topics and number of teaching/training staff/name of their employers
A30: ='LLP Const'!A41 -> Projects with Further and Higher Education | B30: ='LLP Const'!B41 -> 2 | L30: Please provide details of topics and names of organisations
A31: ='LLP Const'!A42 -> Work placements for over 18s | B31: ='LLP Const'!B42 -> 2 | L31: Please provide a breakdown by postcode
A32: ='LLP Const'!A43 -> Volunteer opportunities | B32: ='LLP Const'!B43 -> 2 | L32: Please provide details of roles and breakdown by postcodes
A33: ='LLP Const'!A44 -> Work trials | B33: ='LLP Const'!B44 -> 0 | L33: Please provide details of positions/postcodes
A34: ='LLP Const'!A45 -> Other - please specify: | B34: ='LLP Const'!B45 -> 0
A35: WORKING WITH THE COMMUNITY | B35: Total Indicative Target | C35: Indicative target yr 1 | D35: Qtr 1 Forecast | E35: Qtr 1 Actual to date | F35: Qtr 2 Forecast | G35: Qtr 2 Actual to date | H35: Qtr 3 Forecast | I35: Qtr 3 Actual to date | J35: Qtr 4 Forecast | K35: Qtr 4 Actual to date | L35: =L3 -> Comments (please use this column to provide details of the activity including those suggested - use a separate sheet where appropriate)
A36: ='LLP Const'!A47 -> Community projects with skills and employability outcomes | B36: ='LLP Const'!B47 -> 1 | L36: Please provide name(s) of organisations supported, the nature of support and number of residents taking part
A37: ='LLP Const'!A48 -> Other community projects | B37: ='LLP Const'!B48 -> 0 | L37: Please provide name(s) of organisations supported, the nature of support and number of residents taking part
A38: SUPPORTING LOCAL BUSINESS GROWTH | B38: Total Indicative Target | C38: Indicative target yr 1 | D38: Qtr 1 Forecast | E38: Qtr 1 Actual to date | F38: Qtr 2 Forecast | G38: Qtr 2 Actual to date | H38: Qtr 3 Forecast | I38: Qtr 3 Actual to date | J38: Qtr 4 Forecast | K38: Qtr 4 Actual to date | L38: =L3 -> Comments (please use this column to provide details of the activity including those suggested - use a separate sheet where appropriate)
A39: ='LLP Const'!A50 -> Mentor a business | B39: ='LLP Const'!B50 -> TBC | L39: Please provide name and postcode of the business
A40: ='LLP Const'!A51 -> Offer opportunities to a social enterprise | B40: ='LLP Const'!B51 -> 0
A41: ='LLP Const'!A52 -> Join/support a local business network | B41: ='LLP Const'!B52 -> 0 | L41: Please provide details nof support given
A42: OTHER PROPOSED ACTIVITIES | B42: Total Indicative Target | C42: Indicative target yr 1 | D42: Qtr 1 Forecast | E42: Qtr 1 Actual to date | F42: Qtr 2 Forecast | G42: Qtr 2 Actual to date | H42: Qtr 3 Forecast | I42: Qtr 3 Actual to date | J42: Qtr 4 Forecast | K42: Qtr 4 Actual to date | L42: =L3 -> Comments (please use this column to provide details of the activity including those suggested - use a separate sheet where appropriate)
A43: ='LLP Const'!A54 -> 0 | B43: ='LLP Const'!B48 -> 0
A44: CELEBRATING SUCCESS | B44: We want to hear your good news stories so if you have something to shout about tell us in this section.

Sheet Const Report Yr 2 & Final
B1: Local Labour Construction Yr 2 and Final Report | C1: Please use this form to: - To profile your targets especially those for your main recruitment(s), apprenticeship intake(s) and procuring sub-contractors/suppliers. - Record actual delivery of targets to date - Add any good news stories you would like us to hear about and promote - Submit this form on the second Monday of the month ending period 1 (Apr - Jun), 2 (Jul - Sept), 3 (Oct - Dec) and 4 (Jan - Mar) - Your final construction report figures will auto-complete in column "Final Actuals 2 Years" - please add any comments and submit this final report to the Planning Portal at the time stipulated in the Local Labour Condition or otherwise agreed in writing
B2: Please complete report details | C2: Planning reference: | E2: =SOI!G8 -> 0 | G2: Monitoring period [mm/yy to mm/yy]: | K2: Prepared by [name & email]:
B3: WORKFORCE | C3: Total Indicative Target | D3: Actual yr 1 | E3: Indicative target yr 2 | F3: Qtr 1 Forecast | G3: Qtr 1 Actual to date | H3: Qtr 2 Forecast | I3: Qtr 2 Actual to date | J3: Qtr 3 Forecast | K3: Qtr 3 Actual to date | L3: Qtr 4 Forecast | M3: Qtr 4 Actual to date | N3: FINAL ACTUALS 2 YEARS | O3: ='Const Report Yr 1'!L3 -> Comments (please use this column to provide details of the activity including those suggested - use a separate sheet where appropriate)
B4: ='LLP Const'!A5 -> Number of new jobs expected to be created by the development | C4: ='LLP Const'!B5 -> 4 | D4: ='Const Report Yr 1'!K4 -> 0 | E4: =C4-D4 -> 4 | N4: =D4+M4 -> 0 | O4: Please also provide a breakdown of jobs by full postcode
B5: ='LLP Const'!A6 -> % of these new jobs expected to be taken up by Manchester residents | C5: ='LLP Const'!B6 -> 0.65 | D5: ='Const Report Yr 1'!K5 -> 0 | E5: =C5-D5 -> 0.65 | N5: =D5+M5 -> 0
B6: ='LLP Const'!A16 -> Number of existing staff expected to work on the development | C6: ='LLP Const'!B16 -> 10 | D6: ='Const Report Yr 1'!K6 -> 0 | E6: =C6-D6 -> 10 | N6: =D6+M6 -> 0 | O6: Please also provide a breakdown of jobs by full postcode
B7: ='LLP Const'!A17 -> % of these existing staff expected to be Manchester residents | C7: ='LLP Const'!B17 -> 0.75 | D7: ='Const Report Yr 1'!K7 -> 0 | E7: =C7-D7 -> 0.75 | N7: =D7+M7 -> 0
B8: ='LLP Const'!A18 -> APPRENTICESHIPS | C8: Total Indicative Target | D8: Actual yr 1 | E8: Indicative target yr 2 | F8: Qtr 1 Forecast | G8: Qtr 1 Actual | H8: Qtr 2 Forecast | I8: Qtr 2 Actual | J8: Qtr 3 Forecast | K8: Qtr 3 Actual | L8: Qtr 4 Forecast | M8: Qtr 4 Actual to date | N8: ACTUAL OVER 2 YEARS | O8: =O3 -> Comments (please use this column to provide details of the activity including those suggested - use a separate sheet where appropriate)
B9: ='LLP Const'!A19 -> Number of new apprentices expected to be recruited for the development | C9: ='LLP Const'!B19 -> 2 | D9: ='Const Report Yr 1'!K9 -> 0 | E9: =C9-D9 -> 2 | N9: =D9+M9 -> 0 | O9: Please provide a breakdown of type and level of apprentices separately and a breakdown by full postcode
B10: ='LLP Const'!A20 -> Number of new apprentice weeks expected to be offered (if you are not able to offer full apprenticeships) | C10: ='LLP Const'!B20 -> 104 | D10: ='Const Report Yr 1'!K10 -> 0 | E10: =C10-D10 -> 104 | N10: =D10+M10 -> 0
B11: ='LLP Const'!A21 -> % of these new apprenticeship roles expected to be taken up by Manchester residents | C11: ='LLP Const'!B21 -> 1 | D11: ='Const Report Yr 1'!K11 -> 0 | E11: =C11-D11 -> 1 | N11: =D11+M11 -> 0
B12: ='LLP Const'!A22 -> Number of existing apprentices expected to work on the development | C12: ='LLP Const'!B22 -> 2 | D12: ='Const Report Yr 1'!K12 -> 0 | E12: =C12-D12 -> 2 | N12: =D12+M12 -> 0 | O12: Please provide a breakdown of type and level of apprentices separately and a breakdown by full postcode
B13: ='LLP Const'!A23 -> Number of existing apprentice weeks expected to be working on the development (if you are not able to offer full apprenticeships) | C13: ='LLP Const'!B23 -> 104 | D13: ='Const Report Yr 1'!K13 -> 0 | E13: =C13-D13 -> 104 | N13: =D13+M13 -> 0
B14: ='LLP Const'!A24 -> % of these existing apprenticeship roles expected to be Manchester residents | C14: ='LLP Const'!B24 -> 1 | D14: ='Const Report Yr 1'!K14 -> 0 | E14: =C14-D14 -> 1 | N14: =D14+M14 -> 0
B15: ='LLP Const'!A25 -> SUPPLY CHAIN | C15: Total Indicative Target | D15: Actual yr 1 | E15: Indicative target yr 2 | F15: Qtr 1 Forecast | G15: Qtr 1 Actual | H15: Qtr 2 Forecast | I15: Qtr 2 Actual | J15: Qtr 3 Forecast | K15: Qtr 3 Actual | L15: Qtr 4 Forecast | M15: Qtr 4 Actual to date | N15: ACTUAL OVER 2 YEARS | O15: =O3 -> Comments (please use this column to provide details of the activity including those suggested - use a separate sheet where appropriate)
B16: ='LLP Const'!A26 -> Number of sub contactors expected to work on the development including those not working on site | C16: ='LLP Const'!B26 -> 20-25 | D16: ='Const Report Yr 1'!K16 -> 0 | E16: =C16-D16 -> #VALUE! | N16: =D16+M16 -> 0 | O16: Please provide a breakdown of suppliers by full postcode
B17: ='LLP Const'!A27 -> % of these subcontractors expected to be from the City of Manchester (approx 0 - 5 mile radius) | C17: ='LLP Const'!B27 -> 20 | D17: ='Const Report Yr 1'!K17 -> 0 | E17: =C17-D17 -> 20 | N17: =D17+M17 -> 0
B18: ='LLP Const'!A28 -> % of subcontractors expected to be from Greater Manchester (approx 5 - 20 mile radius from the development) | C18: ='LLP Const'!B28 -> 40 | D18: ='Const Report Yr 1'!K18 -> 0 | E18: =C18-D18 -> 40 | N18: =D18+M18 -> 0
B19: ='LLP Const'!A30 -> 0 | C19: ='LLP Const'!B30 -> 0 | D19: ='Const Report Yr 1'!K19 -> 0 | E19: =C19-D19 -> 0 | N19: =D19+M19 -> 0 | O19: Please provide details (date; venue; number of suppliers attending)
B20: ='LLP Const'!A31 -> DEVELOPING YOUR STAFF | C20: Total Indicative Target | D20: Actual yr 1 | E20: Indicative target yr 2 | F20: Qtr 1 Forecast | G20: Qtr 1 Actual | H20: Qtr 2 Forecast | I20: Qtr 2 Actual | J20: Qtr 3 Forecast | K20: Qtr 3 Actual | L20: Qtr 4 Forecast | M20: Qtr 4 Actual to date | N20: ACTUAL OVER 2 YEARS | O20: =O3 -> Comments (please use this column to provide details of the activity including those suggested - use a separate sheet where appropriate)
B21: ='LLP Const'!A32 -> % of above staff receiving CSCS card training | C21: ='LLP Const'!B32 -> 1 | D21: ='Const Report Yr 1'!K21 -> 0 | E21: =C21-D21 -> 1 | N21: =D21+M21 -> 0
B22: ='LLP Const'!A33 -> Number of staff receiving other training | C22: ='LLP Const'!B33 -> 10 | D22: ='Const Report Yr 1'!K22 -> 0 | E22: =C22-D22 -> 10 | N22: =D22+M22 -> 0
B23: ='LLP Const'!A34 -> Number of students / graduates / interns expected to be working/trained on the development | C23: ='LLP Const'!B34 -> TBC | D23: ='Const Report Yr 1'!K23 -> 0 | E23: =C23-D23 -> #VALUE! | N23: =D23+M23 -> 0 | O23: Please provide full potscodes
B24: ='LLP Const'!A35 -> LEARNING AND EMPLOYABILITY | C24: Total Indicative Target | D24: Actual yr 1 | E24: Indicative target yr 2 | F24: Qtr 1 Forecast | G24: Qtr 1 Actual | H24: Qtr 2 Forecast | I24: Qtr 2 Actual | J24: Qtr 3 Forecast | K24: Qtr 3 Actual | L24: Qtr 4 Forecast | M24: Qtr 4 Actual to date | N24: ACTUAL OVER 2 YEARS | O24: =O3 -> Comments (please use this column to provide details of the activity including those suggested - use a separate sheet where appropriate)
B25: ='LLP Const'!A36 -> Off site careers activities (e.g. career/sector talks; mock interviews; reading/writing /numeracy support) | C25: ='LLP Const'!B36 -> 1 | D25: ='Const Report Yr 1'!K25 -> 0 | E25: =C25-D25 -> 1 | N25: =D25+M25 -> 0 | O25: Please provide details of these activities including dates, name of school, number of pupils taking part, any follow up activities
B26: ='LLP Const'!A37 -> On site careers activities (e.g. site tours / taster days) | C26: ='LLP Const'!B37 -> 1 | D26: ='Const Report Yr 1'!K26 -> 0 | E26: =C26-D26 -> 1 | N26: =D26+M26 -> 0 | O26: Please provide details of these activities including dates, name of school, number of pupils taking part, any follow up activities
B27: ='LLP Const'!A38 -> Developing a strategic relationship with a secondary school/college | C27: ='LLP Const'!B38 -> 1 | D27: ='Const Report Yr 1'!K27 -> 0 | E27: =C27-D27 -> 1 | N27: =D27+M27 -> 0 | O27: Please describe nature of relationship
B28: ='LLP Const'!A39 -> Work experience for under 18s | C28: ='LLP Const'!B39 -> 2 | D28: ='Const Report Yr 1'!K28 -> 0 | E28: =C28-D28 -> 2 | N28: =D28+M28 -> 0 | O28: Please provide a breakdown by postcode
B29: ='LLP Const'!A40 -> Professional development for teaching /careers/employment staff | C29: ='LLP Const'!B40 -> 2 | D29: ='Const Report Yr 1'!K29 -> 0 | E29: =C29-D29 -> 2 | N29: =D29+M29 -> 0 | O29: Please provide details of topics and number of teaching/training staff/name of their employers
B30: ='LLP Const'!A41 -> Projects with Further and Higher Education | C30: ='LLP Const'!B41 -> 2 | D30: ='Const Report Yr 1'!K30 -> 0 | E30: =C30-D30 -> 2 | N30: =D30+M30 -> 0 | O30: Please provide details of topics and names of organisations
B31: ='LLP Const'!A42 -> Work placements for over 18s | C31: ='LLP Const'!B42 -> 2 | D31: ='Const Report Yr 1'!K31 -> 0 | E31: =C31-D31 -> 2 | N31: =D31+M31 -> 0 | O31: Please provide a breakdown by postcode
B32: ='LLP Const'!A43 -> Volunteer opportunities | C32: ='LLP Const'!B43 -> 2 | D32: ='Const Report Yr 1'!K32 -> 0 | E32: =C32-D32 -> 2 | N32: =D32+M32 -> 0 | O32: Please provide details of roles and breakdown by postcodes
B33: ='LLP Const'!A44 -> Work trials | C33: ='LLP Const'!B44 -> 0 | D33: ='Const Report Yr 1'!K33 -> 0 | E33: =C33-D33 -> 0 | N33: =D33+M33 -> 0 | O33: Please provide details of positions/postcodes
B34: ='LLP Const'!A45 -> Other - please specify: | C34: ='LLP Const'!B45 -> 0 | D34: ='Const Report Yr 1'!K34 -> 0 | E34: =C34-D34 -> 0 | N34: =D34+M34 -> 0
B35: ='LLP Const'!A46 -> WORKING WITH THE COMMUNITY | C35: Total Indicative Target | D35: Actual yr 1 | E35: Indicative target yr 2 | F35: Qtr 1 Forecast | G35: Qtr 1 Actual | H35: Qtr 2 Forecast | I35: Qtr 2 Actual | J35: Qtr 3 Forecast | K35: Qtr 3 Actual | L35: Qtr 4 Forecast | M35: Qtr 4 Actual to date | N35: ACTUAL OVER 2 YEARS | O35: =O3 -> Comments (please use this column to provide details of the activity including those suggested - use a separate sheet where appropriate)
B36: ='LLP Const'!A47 -> Community projects with skills and employability outcomes | C36: ='LLP Const'!B47 -> 1 | D36: ='Const Report Yr 1'!K36 -> 0 | E36: =C36-D36 -> 1 | N36: =D36+M36 -> 0 | O36: Please provide name(s) of organisations supported, the nature of that support and number of residents taking part/benefitting
B37: ='LLP Const'!A48 -> Other community projects | C37: ='LLP Const'!B48 -> 0 | D37: ='Const Report Yr 1'!K37 -> 0 | E37: =C37-D37 -> 0 | N37: =D37+M37 -> 0 | O37: Please provide name(s) of organisations supported, the nature of that support and number of residents taking part/benefitting
B38: ='LLP Const'!A49 -> SUPPORTING LOCAL BUSINESS GROWTH | C38: Total Indicative Target | D38: Actual yr 1 | E38: Indicative target yr 2 | F38: Qtr 1 Forecast | G38: Qtr 1 Actual | H38: Qtr 2 Forecast | I38: Qtr 2 Actual | J38: Qtr 3 Forecast | K38: Qtr 3 Actual | L38: Qtr 4 Forecast | M38: Qtr 4 Actual to date | N38: ACTUAL OVER 2 YEARS | O38: =O3 -> Comments (please use this column to provide details of the activity including those suggested - use a separate sheet where appropriate)
B39: ='LLP Const'!A50 -> Mentor a business | C39: ='LLP Const'!B50 -> TBC | D39: ='Const Report Yr 1'!K39 -> 0 | E39: =C39-D39 -> #VALUE! | N39: =D39+M39 -> 0 | O39: Please provide name and postcode of the business
B40: ='LLP Const'!A51 -> Offer opportunities to a social enterprise | C40: ='LLP Const'!B51 -> 0 | D40: ='Const Report Yr 1'!K40 -> 0 | E40: =C40-D40 -> 0 | N40: =D40+M40 -> 0
B41: ='LLP Const'!A52 -> Join/support a local business network | C41: ='LLP Const'!B52 -> 0 | D41: ='Const Report Yr 1'!K41 -> 0 | E41: =C41-D41 -> 0 | N41: =D41+M41 -> 0 | O41: Please provide details of support given
B42: ='LLP Const'!A53 -> OTHER PROPOSED ACTIVITIES (PLEASE DESCRIBE) | C42: Total Indicative Target | D42: Actual yr 1 | E42: Indicative target yr 2 | F42: Qtr 1 Forecast | G42: Qtr 1 Actual | H42: Qtr 2 Forecast | I42: Qtr 2 Actual | J42: Qtr 3 Forecast | K42: Qtr 3 Actual | L42: Qtr 4 Forecast | M42: Qtr 4 Actual to date | N42: ACTUAL OVER 2 YEARS | O42: =O3 -> Comments (please use this column to provide details of the activity including those suggested - use a separate sheet where appropriate)
B43: ='LLP Const'!A54 -> 0 | C43: ='LLP Const'!B48 -> 0 | D43: ='Const Report Yr 1'!K43 -> 0 | E43: =C43-D43 -> 0 | N43: =D43+M43 -> 0 | O43: Please provide names/postcodes of organisations, number of residents taking part and type of activity
B44: CELEBRATING SUCCESS | C44: We want to hear your good news stories so if you have something to shout about tell us in this section.

Sheet End Use Report
A1: End Use Final Report | B1: Please complete and submit this End Use report to the Planning Portal at the time stipulated in the Local Labour Condition or otherwise agreed in writing with the City Council.
A2: Please report details | B2: Planning reference: | D2: =SOI!G8 -> 0 | F2: Delivery [mm/yy to mm/yy]: | J2: Prepared by [name & email]:
A3: WORKFORCE | B3: Total Indicative Target | C3: Actual Delivered | D3: ='Const Report Yr 1'!L3 -> Comments (please use this column to provide details of the activity including those suggested - use a separate sheet where appropriate)
A4: ='LLP Const'!A5 -> Number of new jobs expected to be created by the development | B4: ='LLP End Use'!B5 -> 0 | D4: Please also provide a breakdown of jobs by full postcode
A5: ='LLP Const'!A6 -> % of these new jobs expected to be taken up by Manchester residents | B5: ='LLP End Use'!B6 -> 0
A6: ='LLP Const'!A16 -> Number of existing staff expected to work on the development | B6: ='LLP End Use'!B7 -> 0 | D6: Please also provide a breakdown of jobs by full postcode
A7: ='LLP Const'!A17 -> % of these existing staff expected to be Manchester residents | B7: ='LLP End Use'!B8 -> 0
A8: APPRENTICESHIPS | B8: Total Indicative Target | C8: Actual Delivered | D8: ='Const Report Yr 1'!L3 -> Comments (please use this column to provide details of the activity including those suggested - use a separate sheet where appropriate)
A9: ='LLP Const'!A19 -> Number of new apprentices expected to be recruited for the development | B9: ='LLP End Use'!B10 -> 0 | D9: Please provide a breakdown by type and level of apprentices separately and a breakdown by full postcode
A10: ='LLP Const'!A20 -> Number of new apprentice weeks expected to be offered (if you are not able to offer full apprenticeships) | B10: ='LLP End Use'!B11 -> 0
A11: ='LLP Const'!A21 -> % of these new apprenticeship roles expected to be taken up by Manchester residents | B11: ='LLP End Use'!B12 -> 0
A12: ='LLP Const'!A22 -> Number of existing apprentices expected to work on the development | B12: ='LLP End Use'!B13 -> 0 | D12: Please provide a breakdown of type and level of apprentices separately and a breakdown by full postcode
A13: ='LLP Const'!A23 -> Number of existing apprentice weeks expected to be working on the development (if you are not able to offer full apprenticeships) | B13: ='LLP End Use'!B14 -> 0
A14: ='LLP Const'!A24 -> % of these existing apprenticeship roles expected to be Manchester residents | B14: ='LLP End Use'!B15 -> 0
A15: SUPPLY CHAIN | B15: Total Indicative Target | C15: Actual Delivered | D15: ='Const Report Yr 1'!L3 -> Comments (please use this column to provide details of the activity including those suggested - use a separate sheet where appropriate)
A16: ='LLP Const'!A26 -> Number of sub contactors expected to work on the development including those not working on site | B16: ='LLP End Use'!B17 -> 0 | D16: Please provide a breakdown of suppliers by full postcode
A17: ='LLP Const'!A27 -> % of these subcontractors expected to be from the City of Manchester (approx 0 - 5 mile radius) | B17: ='LLP End Use'!B18 -> 0
A18: ='LLP Const'!A28 -> % of subcontractors expected to be from Greater Manchester (approx 5 - 20 mile radius from the development) | B18: ='LLP End Use'!B19 -> 0
A19: ='LLP Const'!A30 -> 0 | B19: ='LLP End Use'!#REF! -> #REF! | D19: Please provide details (date; venue; number of suppliers attending)
A20: DEVELOPING YOUR STAFF | B20: Total Indicative Target | C20: Actual Delivered | D20: ='Const Report Yr 1'!L3 -> Comments (please use this column to provide details of the activity including those suggested - use a separate sheet where appropriate)
A21: ='LLP Const'!A32 -> % of above staff receiving CSCS card training | B21: ='LLP End Use'!B25 -> 0
A22: ='LLP Const'!A33 -> Number of staff receiving other training | B22: ='LLP End Use'!B26 -> 0
A23: ='LLP Const'!A34 -> Number of students / graduates / interns expected to be working/trained on the development | B23: ='LLP End Use'!B28 -> 0 | D23: Please provide full postcodes
A24: LEARNING AND EMPLOYABILITY | B24: Total Indicative Target | C24: Actual Delivered | D24: ='Const Report Yr 1'!L3 -> Comments (please use this column to provide details of the activity including those suggested - use a separate sheet where appropriate)
A25: ='LLP Const'!A36 -> Off site careers activities (e.g. career/sector talks; mock interviews; reading/writing /numeracy support) | B25: ='LLP End Use'!B30 -> 0 | D25: Please provide details of these activities including dates, name of school, number of pupils taking part, any follow up activities
A26: ='LLP Const'!A37 -> On site careers activities (e.g. site tours / taster days) | B26: ='LLP End Use'!B31 -> 0 | D26: Please provide details of these activities including dates, name of school, number of pupils taking part, any follow up activities
A27: ='LLP Const'!A38 -> Developing a strategic relationship with a secondary school/college | B27: ='LLP End Use'!B32 -> 0 | D27: Please describe nature of relationship
A28: ='LLP Const'!A39 -> Work experience for under 18s | B28: ='LLP End Use'!B33 -> 0 | D28: Please provide a breakdown by postcode
A29: ='LLP Const'!A40 -> Professional development for teaching /careers/employment staff | B29: ='LLP End Use'!B34 -> 0 | D29: Please provide details of topics and number of teaching/training staff/name of their employers
A30: ='LLP Const'!A41 -> Projects with Further and Higher Education | B30: ='LLP End Use'!B35 -> 0 | D30: Please provide details of topics and names of organisations
A31: ='LLP Const'!A42 -> Work placements for over 18s | B31: ='LLP End Use'!B36 -> 0 | D31: Please provide a breakdown by postcode
A32: ='LLP Const'!A43 -> Volunteer opportunities | B32: ='LLP End Use'!B37 -> 0 | D32: Please provide details of roles and breakdown by postcodes
A33: ='LLP Const'!A44 -> Work trials | B33: ='LLP End Use'!B38 -> 0 | D33: Please provide details of positions/postcodes
A34: ='LLP Const'!A45 -> Other - please specify: | B34: ='LLP End Use'!B39 -> 0
A35: WORKING WITH THE COMMUNITY | B35: Total Indicative Target | C35: Actual Delivered | D35: ='Const Report Yr 1'!L3 -> Comments (please use this column to provide details of the activity including those suggested - use a separate sheet where appropriate)
A36: ='LLP Const'!A47 -> Community projects with skills and employability outcomes | B36: ='LLP End Use'!B41 -> 0 | D36: Please provide name(s) of organisations supported, the nature of support and number of residents taking part
A37: ='LLP Const'!A48 -> Other community projects | B37: ='LLP End Use'!B42 -> 0 | D37: Please provide name(s) of organisations supported, the nature of support and number of residents taking part
A38: SUPPORTING LOCAL BUSINESS GROWTH | B38: Total Indicative Target | C38: Actual Delivered | D38: ='Const Report Yr 1'!L3 -> Comments (please use this column to provide details of the activity including those suggested - use a separate sheet where appropriate)
A39: ='LLP Const'!A50 -> Mentor a business | B39: ='LLP End Use'!B44 -> 0
A40: ='LLP Const'!A51 -> Offer opportunities to a social enterprise | B40: ='LLP End Use'!B45 -> 0
A41: ='LLP Const'!A52 -> Join/support a local business network | B41: ='LLP End Use'!B46 -> 0 | D41: Please provide details nof support given
A42: OTHER PROPOSED ACTIVITIES | B42: Total Indicative Target | C42: Actual Delivered | D42: ='Const Report Yr 1'!L3 -> Comments (please use this column to provide details of the activity including those suggested - use a separate sheet where appropriate)
A43: ='LLP End Use'!A48 -> 0 | B43: ='LLP End Use'!B48 -> 0
A44: CELEBRATING SUCCESS | B44: We want to hear your good news stories so if you have something to shout about tell us in this section.
