Workbook

Sheet Census MSOA
A1: MSOA | B1: Number | C1: _%
A2: Manchester 001 | B2: 6 | C2: =B2/$B$90 -> 0.0072551391
A3: Manchester 002 | B3: 6 | C3: =B3/$B$90 -> 0.0072551391
A4: Manchester 003 | B4: 6 | C4: =B4/$B$90 -> 0.0072551391
A5: Manchester 004 | B5: 1 | C5: =B5/$B$90 -> 0.0012091898
A6: Manchester 005 | B6: 8 | C6: =B6/$B$90 -> 0.0096735187
A7: Manchester 006 | B7: 38 | C7: =B7/$B$90 -> 0.045949214
A8: Manchester 007 | B8: 8 | C8: =B8/$B$90 -> 0.0096735187
A9: Manchester 008 | B9: 12 | C9: =B9/$B$90 -> 0.014510278
A10: Manchester 009 | B10: 17 | C10: =B10/$B$90 -> 0.020556227
A11: Manchester 012 | B11: 19 | C11: =B11/$B$90 -> 0.022974607
A12: Manchester 013 | B12: 18 | C12: =B12/$B$90 -> 0.021765417
A13: Manchester 015 | B13: 40 | C13: =B13/$B$90 -> 0.048367594
... A89: Tameside 028 | B89: 5 | C89: =B89/$B$90 -> 0.0060459492
B90: =SUM(B2:B89) -> 827 | C90: =SUM(C2:C89) -> 1

Sheet A
A1: MSOA | B1: Number | C1: _%
A2: Manchester 054 | B2: =VLOOKUP(A2,'Census MSOA'!A:B,2,FALSE) -> 78 | C2: =VLOOKUP(A2,'Census MSOA'!A:C,3,FALSE) -> 0.094316808
A3: Manchester 059 | B3: =VLOOKUP(A3,'Census MSOA'!A:B,2,FALSE) -> 2 | C3: =VLOOKUP(A3,'Census MSOA'!A:C,3,FALSE) -> 0.0024183797
A4: Manchester 060 | B4: =VLOOKUP(A4,'Census MSOA'!A:B,2,FALSE) -> 25 | C4: =VLOOKUP(A4,'Census MSOA'!A:C,3,FALSE) -> 0.030229746
B5: =SUM(B2:B4) -> 105 | C5: =SUM(C2:C4) -> 0.12696493

Sheet B
A1: MSOA | B1: Number | C1: _%
A2: None

Sheet B1
A1: MSOA | B1: Number | C1: _% | D1: Grimshaw Lane
A2: None

Sheet C
A1: MSOA | B1: Number | C1: _%
A2: Manchester 004 | B2: =VLOOKUP(A2,'Census MSOA'!A:B,2,FALSE) -> 1 | C2: =VLOOKUP(A2,'Census MSOA'!A:C,3,FALSE) -> 0.0012091898
A3: Manchester 009 | B3: =VLOOKUP(A3,'Census MSOA'!A:B,2,FALSE) -> 17 | C3: =VLOOKUP(A3,'Census MSOA'!A:C,3,FALSE) -> 0.020556227
A4: Manchester 056 | B4: =VLOOKUP(A4,'Census MSOA'!A:B,2,FALSE) -> 13 | C4: =VLOOKUP(A4,'Census MSOA'!A:C,3,FALSE) -> 0.015719468
A5: Manchester 058 | B5: =VLOOKUP(A5,'Census MSOA'!A:B,2,FALSE) -> 12 | C5: =VLOOKUP(A5,'Census MSOA'!A:C,3,FALSE) -> 0.014510278
B6: =SUM(B2:B5) -> 43 | C6: =SUM(C2:C5) -> 0.051995163

Sheet D
A1: MSOA | B1: Number | C1: _%
A2: Manchester 001 | B2: =VLOOKUP(A2,'Census MSOA'!A:B,2,FALSE) -> 6 | C2: =VLOOKUP(A2,'Census MSOA'!A:C,3,FALSE) -> 0.0072551391
A3: Manchester 002 | B3: =VLOOKUP(A3,'Census MSOA'!A:B,2,FALSE) -> 6 | C3: =VLOOKUP(A3,'Census MSOA'!A:C,3,FALSE) -> 0.0072551391
A4: Manchester 003 | B4: =VLOOKUP(A4,'Census MSOA'!A:B,2,FALSE) -> 6 | C4: =VLOOKUP(A4,'Census MSOA'!A:C,3,FALSE) -> 0.0072551391
A5: Manchester 006 | B5: =VLOOKUP(A5,'Census MSOA'!A:B,2,FALSE) -> 38 | C5: =VLOOKUP(A5,'Census MSOA'!A:C,3,FALSE) -> 0.045949214
A6: Manchester 007 | B6: =VLOOKUP(A6,'Census MSOA'!A:B,2,FALSE) -> 8 | C6: =VLOOKUP(A6,'Census MSOA'!A:C,3,FALSE) -> 0.0096735187
A7: Oldham 015 | B7: =VLOOKUP(A7,'Census MSOA'!A:B,2,FALSE) -> 11 | C7: =VLOOKUP(A7,'Census MSOA'!A:C,3,FALSE) -> 0.013301088
B8: =SUM(B2:B7) -> 75 | C8: =SUM(C2:C7) -> 0.090689238

Sheet E
A1: MSOA | B1: Number | C1: _%
A2: None

Sheet F
A1: MSOA | B1: Number | C1: _%
A2: Manchester 005 | B2: =VLOOKUP(A2,'Census MSOA'!A:B,2,FALSE) -> 8 | C2: =VLOOKUP(A2,'Census MSOA'!A:C,3,FALSE) -> 0.0096735187
A3: Oldham 008 | B3: =VLOOKUP(A3,'Census MSOA'!A:B,2,FALSE) -> 2 | C3: =VLOOKUP(A3,'Census MSOA'!A:C,3,FALSE) -> 0.0024183797
A4: Oldham 017 | B4: =VLOOKUP(A4,'Census MSOA'!A:B,2,FALSE) -> 5 | C4: =VLOOKUP(A4,'Census MSOA'!A:C,3,FALSE) -> 0.0060459492
A5: Oldham 028 | B5: =VLOOKUP(A5,'Census MSOA'!A:B,2,FALSE) -> 31 | C5: =VLOOKUP(A5,'Census MSOA'!A:C,3,FALSE) -> 0.037484885
C6: =SUM(C2:C5) -> 0.055622733

Sheet G
A1: MSOA | B1: Number | C1: _%
A2: Oldham 032 | B2: =VLOOKUP(A2,'Census MSOA'!A:B,2,FALSE) -> 31 | C2: =VLOOKUP(A2,'Census MSOA'!A:C,3,FALSE) -> 0.037484885
A3: Oldham 031 | B3: =VLOOKUP(A3,'Census MSOA'!A:B,2,FALSE) -> 15 | C3: =VLOOKUP(A3,'Census MSOA'!A:C,3,FALSE) -> 0.018137848
A4: Oldham 027 | B4: =VLOOKUP(A4,'Census MSOA'!A:B,2,FALSE) -> 13 | C4: =VLOOKUP(A4,'Census MSOA'!A:C,3,FALSE) -> 0.015719468
A5: Oldham 016 | B5: =VLOOKUP(A5,'Census MSOA'!A:B,2,FALSE) -> 11 | C5: =VLOOKUP(A5,'Census MSOA'!A:C,3,FALSE) -> 0.013301088
A6: Oldham 024 | B6: =VLOOKUP(A6,'Census MSOA'!A:B,2,FALSE) -> 10 | C6: =VLOOKUP(A6,'Census MSOA'!A:C,3,FALSE) -> 0.012091898
A7: Oldham 014 | B7: =VLOOKUP(A7,'Census MSOA'!A:B,2,FALSE) -> 8 | C7: =VLOOKUP(A7,'Census MSOA'!A:C,3,FALSE) -> 0.0096735187
A8: Oldham 029 | B8: =VLOOKUP(A8,'Census MSOA'!A:B,2,FALSE) -> 7 | C8: =VLOOKUP(A8,'Census MSOA'!A:C,3,FALSE) -> 0.0084643289
A9: Oldham 022 | B9: =VLOOKUP(A9,'Census MSOA'!A:B,2,FALSE) -> 6 | C9: =VLOOKUP(A9,'Census MSOA'!A:C,3,FALSE) -> 0.0072551391
A10: Oldham 009 | B10: =VLOOKUP(A10,'Census MSOA'!A:B,2,FALSE) -> 5 | C10: =VLOOKUP(A10,'Census MSOA'!A:C,3,FALSE) -> 0.0060459492
A11: Oldham 030 | B11: =VLOOKUP(A11,'Census MSOA'!A:B,2,FALSE) -> 5 | C11: =VLOOKUP(A11,'Census MSOA'!A:C,3,FALSE) -> 0.0060459492
A12: Oldham 002 | B12: =VLOOKUP(A12,'Census MSOA'!A:B,2,FALSE) -> 4 | C12: =VLOOKUP(A12,'Census MSOA'!A:C,3,FALSE) -> 0.0048367594
A13: Tameside 005 | B13: =VLOOKUP(A13,'Census MSOA'!A:B,2,FALSE) -> 3 | C13: =VLOOKUP(A13,'Census MSOA'!A:C,3,FALSE) -> 0.0036275695
... A20: Tameside 006 | B20: =VLOOKUP(A20,'Census MSOA'!A:B,2,FALSE) -> 1 | C20: =VLOOKUP(A20,'Census MSOA'!A:C,3,FALSE) -> 0.0012091898
B21: =SUM(B2:B20) -> 128 | C21: =SUM(C2:C20) -> 0.1547763

Sheet H
A1: MSOA | B1: Number | C1: _%
A2: Oldham 034 | B2: =VLOOKUP(A2,'Census MSOA'!A:B,2,FALSE) -> 4 | C2: =VLOOKUP(A2,'Census MSOA'!A:C,3,FALSE) -> 0.0048367594

Sheet I1
A1: MSOA | B1: Number | C1: _% | E1: Back Bridge Road
A2: Manchester 015 | B2: =VLOOKUP(A2,'Census MSOA'!A:B,2,FALSE) -> 40 | C2: =VLOOKUP(A2,'Census MSOA'!A:C,3,FALSE) -> 0.048367594
A3: Tameside 013 | B3: =VLOOKUP(A3,'Census MSOA'!A:B,2,FALSE) -> 22 | C3: =VLOOKUP(A3,'Census MSOA'!A:C,3,FALSE) -> 0.026602177
A4: Manchester 012 | B4: =VLOOKUP(A4,'Census MSOA'!A:B,2,FALSE) -> 19 | C4: =VLOOKUP(A4,'Census MSOA'!A:C,3,FALSE) -> 0.022974607
A5: Manchester 017 | B5: =VLOOKUP(A5,'Census MSOA'!A:B,2,FALSE) -> 12 | C5: =VLOOKUP(A5,'Census MSOA'!A:C,3,FALSE) -> 0.014510278
A6: Tameside 010 | B6: =VLOOKUP(A6,'Census MSOA'!A:B,2,FALSE) -> 6 | C6: =VLOOKUP(A6,'Census MSOA'!A:C,3,FALSE) -> 0.0072551391
A7: Tameside 017 | B7: =VLOOKUP(A7,'Census MSOA'!A:B,2,FALSE) -> 6 | C7: =VLOOKUP(A7,'Census MSOA'!A:C,3,FALSE) -> 0.0072551391
A8: Tameside 028 | B8: =VLOOKUP(A8,'Census MSOA'!A:B,2,FALSE) -> 5 | C8: =VLOOKUP(A8,'Census MSOA'!A:C,3,FALSE) -> 0.0060459492
A9: Tameside 021 | B9: =VLOOKUP(A9,'Census MSOA'!A:B,2,FALSE) -> 4 | C9: =VLOOKUP(A9,'Census MSOA'!A:C,3,FALSE) -> 0.0048367594
A10: Manchester 023 | B10: =VLOOKUP(A10,'Census MSOA'!A:B,2,FALSE) -> 3 | C10: =VLOOKUP(A10,'Census MSOA'!A:C,3,FALSE) -> 0.0036275695
A11: Tameside 012 | B11: =VLOOKUP(A11,'Census MSOA'!A:B,2,FALSE) -> 3 | C11: =VLOOKUP(A11,'Census MSOA'!A:C,3,FALSE) -> 0.0036275695
A12: Tameside 025 | B12: =VLOOKUP(A12,'Census MSOA'!A:B,2,FALSE) -> 3 | C12: =VLOOKUP(A12,'Census MSOA'!A:C,3,FALSE) -> 0.0036275695
A13: Tameside 007 | B13: =VLOOKUP(A13,'Census MSOA'!A:B,2,FALSE) -> 2 | C13: =VLOOKUP(A13,'Census MSOA'!A:C,3,FALSE) -> 0.0024183797
... A20: Tameside 026 | B20: =VLOOKUP(A20,'Census MSOA'!A:B,2,FALSE) -> 1 | C20: =VLOOKUP(A20,'Census MSOA'!A:C,3,FALSE) -> 0.0012091898
B21: =SUM(B2:B20) -> 135 | C21: =SUM(C2:C20) -> 0.16324063

Sheet J
A1: MSOA | B1: Number | C1: _%
A2: Manchester 022 | B2: =VLOOKUP(A2,'Census MSOA'!A:B,2,FALSE) -> 27 | C2: =VLOOKUP(A2,'Census MSOA'!A:C,3,FALSE) -> 0.032648126
A3: Manchester 053 | B3: =VLOOKUP(A3,'Census MSOA'!A:B,2,FALSE) -> 19 | C3: =VLOOKUP(A3,'Census MSOA'!A:C,3,FALSE) -> 0.022974607
A4: Manchester 020 | B4: =VLOOKUP(A4,'Census MSOA'!A:B,2,FALSE) -> 16 | C4: =VLOOKUP(A4,'Census MSOA'!A:C,3,FALSE) -> 0.019347037
A5: Manchester 026 | B5: =VLOOKUP(A5,'Census MSOA'!A:B,2,FALSE) -> 6 | C5: =VLOOKUP(A5,'Census MSOA'!A:C,3,FALSE) -> 0.0072551391
A6: Manchester 052 | B6: =VLOOKUP(A6,'Census MSOA'!A:B,2,FALSE) -> 6 | C6: =VLOOKUP(A6,'Census MSOA'!A:C,3,FALSE) -> 0.0072551391
A7: Manchester 046 | B7: =VLOOKUP(A7,'Census MSOA'!A:B,2,FALSE) -> 5 | C7: =VLOOKUP(A7,'Census MSOA'!A:C,3,FALSE) -> 0.0060459492
A8: Manchester 036 | B8: =VLOOKUP(A8,'Census MSOA'!A:B,2,FALSE) -> 4 | C8: =VLOOKUP(A8,'Census MSOA'!A:C,3,FALSE) -> 0.0048367594
A9: Manchester 049 | B9: =VLOOKUP(A9,'Census MSOA'!A:B,2,FALSE) -> 4 | C9: =VLOOKUP(A9,'Census MSOA'!A:C,3,FALSE) -> 0.0048367594
A10: Manchester 027 | B10: =VLOOKUP(A10,'Census MSOA'!A:B,2,FALSE) -> 3 | C10: =VLOOKUP(A10,'Census MSOA'!A:C,3,FALSE) -> 0.0036275695
A11: Manchester 031 | B11: =VLOOKUP(A11,'Census MSOA'!A:B,2,FALSE) -> 3 | C11: =VLOOKUP(A11,'Census MSOA'!A:C,3,FALSE) -> 0.0036275695
A12: Manchester 045 | B12: =VLOOKUP(A12,'Census MSOA'!A:B,2,FALSE) -> 3 | C12: =VLOOKUP(A12,'Census MSOA'!A:C,3,FALSE) -> 0.0036275695
A13: Manchester 050 | B13: =VLOOKUP(A13,'Census MSOA'!A:B,2,FALSE) -> 3 | C13: =VLOOKUP(A13,'Census MSOA'!A:C,3,FALSE) -> 0.0036275695
... A17: Manchester 043 | B17: =VLOOKUP(A17,'Census MSOA'!A:B,2,FALSE) -> 2 | C17: =VLOOKUP(A17,'Census MSOA'!A:C,3,FALSE) -> 0.0024183797
C18: =SUM(C2:C17) -> 0.12938331

Sheet K
A1: MSOA | B1: Number | C1: _%
A2: Manchester 013 | B2: =VLOOKUP(A2,'Census MSOA'!A:C,2,FALSE) -> 18 | C2: =VLOOKUP(A2,'Census MSOA'!A:C,3,FALSE) -> 0.021765417
A3: Manchester 018 | B3: =VLOOKUP(A3,'Census MSOA'!A:C,2,FALSE) -> 44 | C3: =VLOOKUP(A3,'Census MSOA'!A:C,3,FALSE) -> 0.053204353
A4: Manchester 019 | B4: =VLOOKUP(A4,'Census MSOA'!A:C,2,FALSE) -> 20 | C4: =VLOOKUP(A4,'Census MSOA'!A:C,3,FALSE) -> 0.024183797
A5: Manchester 024 | B5: =VLOOKUP(A5,'Census MSOA'!A:C,2,FALSE) -> 4 | C5: =VLOOKUP(A5,'Census MSOA'!A:C,3,FALSE) -> 0.0048367594
A6: Manchester 025 | B6: =VLOOKUP(A6,'Census MSOA'!A:C,2,FALSE) -> 4 | C6: =VLOOKUP(A6,'Census MSOA'!A:C,3,FALSE) -> 0.0048367594
A7: Manchester 028 | B7: =VLOOKUP(A7,'Census MSOA'!A:C,2,FALSE) -> 3 | C7: =VLOOKUP(A7,'Census MSOA'!A:C,3,FALSE) -> 0.0036275695
A8: Manchester 033 | B8: =VLOOKUP(A8,'Census MSOA'!A:C,2,FALSE) -> 2 | C8: =VLOOKUP(A8,'Census MSOA'!A:C,3,FALSE) -> 0.0024183797
A9: Manchester 035 | B9: =VLOOKUP(A9,'Census MSOA'!A:C,2,FALSE) -> 1 | C9: =VLOOKUP(A9,'Census MSOA'!A:C,3,FALSE) -> 0.0012091898
A10: Manchester 039 | B10: =VLOOKUP(A10,'Census MSOA'!A:C,2,FALSE) -> 4 | C10: =VLOOKUP(A10,'Census MSOA'!A:C,3,FALSE) -> 0.0048367594
A11: Manchester 044 | B11: =VLOOKUP(A11,'Census MSOA'!A:C,2,FALSE) -> 1 | C11: =VLOOKUP(A11,'Census MSOA'!A:C,3,FALSE) -> 0.0012091898
A12: Manchester 047 | B12: =VLOOKUP(A12,'Census MSOA'!A:C,2,FALSE) -> 3 | C12: =VLOOKUP(A12,'Census MSOA'!A:C,3,FALSE) -> 0.0036275695
A13: Manchester 048 | B13: =VLOOKUP(A13,'Census MSOA'!A:C,2,FALSE) -> 3 | C13: =VLOOKUP(A13,'Census MSOA'!A:C,3,FALSE) -> 0.0036275695
... A16: Manchester 057 | B16: =VLOOKUP(A16,'Census MSOA'!A:C,2,FALSE) -> 13 | C16: =VLOOKUP(A16,'Census MSOA'!A:C,3,FALSE) -> 0.015719468
B17: =SUM(B2:B18) -> 172 | C17: =SUM(C2:C16) -> 0.20798065

Sheet Summary
A1: Zone | B1: Percent
A2: A | B2: 0.14
A3: B | B3: =B!C2 -> 0
A4: B1 | B4: ='B1'!C2 -> 0
A5: C | B5: ='C'!C6 -> 0.051995163
A6: D | B6: =D!C8 -> 0.090689238
A7: E | B7: =E!C2 -> 0
A8: F | B8: =F!C6 -> 0.055622733
A9: G | B9: =G!C21 -> 0.1547763
A10: H | B10: 0.01
A11: I | B11: 0
A12: I1 | B12: ='I1'!C21 -> 0.16324063
A13: J | B13: =J!C18 -> 0.12938331
A14: K | B14: =K!C17 -> 0.20798065
B15: =SUM(B2:B14) -> 1.003688
