Workbook

Sheet Schedule
B1: Total Supervisor | C1: Total SIA | D1: Total non-SIA | F1: NOTES
A2: BUILD daytimes | B2: ='BUILD daytimes'!Q2 -> 0 | C2: ='BUILD daytimes'!Q3 -> 2 | D2: ='BUILD daytimes'!Q4 -> 0 | F2: Assumes that everyone arrives and is paid for 30 mins before the start of the shift
A3: BUILD overnights | B3: ='BUILD overnights'!Q2 -> 0 | C3: ='BUILD overnights'!Q3 -> 1 | D3: ='BUILD overnights'!Q4 -> 0 | F3: Assumes that there is someone in the FI Security office overnight from 14th June onwards
A4: LIVE early mornings | B4: ='LIVE early mornings'!Q2 -> 1 | C4: ='LIVE early mornings'!Q3 -> 2 | D4: ='LIVE early mornings'!Q4 -> 1 | F4: Assumes one Supervisor at all times we're open to the public
A5: LIVE daytimes | B5: ='LIVE daytimes'!Q2 -> 1 | C5: ='LIVE daytimes'!Q3 -> 7 | D5: ='LIVE daytimes'!Q4 -> 2 | F5: Assumes that any Security requirements outside the perimeter of FS are covered by a separate building Security budget
A6: LIVE daytimes (Sat and Sun) | B6: ='LIVE daytimes (SatSun)'!Q2 -> 1 | C6: ='LIVE daytimes (SatSun)'!Q3 -> 8 | D6: ='LIVE daytimes (SatSun)'!Q4 -> 2 | F6: Assumes that we're NOT bag searching for entry into the hospitality area on weekday daytimes as they are all invited guests. Evenings and weekends there is an additional SIA to cover the public bar / assist with bag checks
A7: LIVE evenings | B7: ='LIVE evenings'!Q2 -> 1 | C7: ='LIVE evenings'!Q3 -> 10 | D7: ='LIVE evenings'!Q4 -> 4 | F7: All LIVE evening shifts finish 30 mins after closing time
A8: LIVE overnights / Site closed | B8: ='LIVE overnights'!Q2 -> 0 | C8: ='LIVE overnights'!Q3 -> 1 | D8: ='LIVE overnights'!Q4 -> 0 | F8: All LIVE morning shifts start at the public site opening
A10: Supervisor rate per hour | B10: 21.5
A11: SIA rate per hour | B11: 18.5
A12: Non-SIA rate per hour | B12: 17.5
A14: DATE | B14: START TIME | C14: FINISH TIME | D14: ACTIVITY | E14: NO. OF HOURS | F14: Total Supervisor | G14: Total SIA | H14: Total non-SIA | I14: Total cost
A15: 45090 | B15: 0.33333333 | C15: 0.83333333 | D15: =A$2 -> BUILD daytimes | E15: =(C15-B15+(C15<B15))*24 -> 12 | F15: =IF($D15=$A$2,B$2,IF($D15=$A$3,B$3,IF($D15=$A$5,B$5,IF($D15=$A$7,B$7,IF($D15=$A$8,B$8,IF($D15=$A$6,B$6,IF($D15=$A$4,B$4,"FALSE"))))))) -> 0 | G15: =IF($D15=$A$2,C$2,IF($D15=$A$3,C$3,IF($D15=$A$5,C$5,IF($D15=$A$7,C$7,IF($D15=$A$8,C$8,IF($D15=$A$6,C$6,IF($D15=$A$4,C$4,"FALSE"))))))) -> 2 | H15: =IF($D15=$A$2,D$2,IF($D15=$A$3,D$3,IF($D15=$A$5,D$5,IF($D15=$A$7,D$7,IF($D15=$A$8,D$8,IF($D15=$A$6,D$6,IF($D15=$A$4,D$4,"FALSE"))))))) -> 0 | I15: =(F15*(E15+0.5)*$B$10)+(G15*(E15+0.5)*$B$11)+(H15*(E15+0.5)*$B$12) -> 462.5
B16: =C15 -> 0.83333333 | C16: 0.33333333 | D16: =A$3 -> BUILD overnights | E16: =(C16-B16+(C16<B16))*24 -> 12 | F16: =IF($D16=$A$2,B$2,IF($D16=$A$3,B$3,IF($D16=$A$5,B$5,IF($D16=$A$7,B$7,IF($D16=$A$8,B$8,IF($D16=$A$6,B$6,IF($D16=$A$4,B$4,"FALSE"))))))) -> 0 | G16: =IF($D16=$A$2,C$2,IF($D16=$A$3,C$3,IF($D16=$A$5,C$5,IF($D16=$A$7,C$7,IF($D16=$A$8,C$8,IF($D16=$A$6,C$6,IF($D16=$A$4,C$4,"FALSE"))))))) -> 1 | H16: =IF($D16=$A$2,D$2,IF($D16=$A$3,D$3,IF($D16=$A$5,D$5,IF($D16=$A$7,D$7,IF($D16=$A$8,D$8,IF($D16=$A$6,D$6,IF($D16=$A$4,D$4,"FALSE"))))))) -> 0 | I16: =(F16*(E16+0.5)*$B$10)+(G16*(E16+0.5)*$B$11)+(H16*(E16+0.5)*$B$12) -> 231.25
A17: 45091 | B17: 0.33333333 | C17: 0.83333333 | D17: =A$2 -> BUILD daytimes | E17: =(C17-B17+(C17<B17))*24 -> 12 | F17: =IF($D17=$A$2,B$2,IF($D17=$A$3,B$3,IF($D17=$A$5,B$5,IF($D17=$A$7,B$7,IF($D17=$A$8,B$8,IF($D17=$A$6,B$6,IF($D17=$A$4,B$4,"FALSE"))))))) -> 0 | G17: =IF($D17=$A$2,C$2,IF($D17=$A$3,C$3,IF($D17=$A$5,C$5,IF($D17=$A$7,C$7,IF($D17=$A$8,C$8,IF($D17=$A$6,C$6,IF($D17=$A$4,C$4,"FALSE"))))))) -> 2 | H17: =IF($D17=$A$2,D$2,IF($D17=$A$3,D$3,IF($D17=$A$5,D$5,IF($D17=$A$7,D$7,IF($D17=$A$8,D$8,IF($D17=$A$6,D$6,IF($D17=$A$4,D$4,"FALSE"))))))) -> 0 | I17: =(F17*(E17+0.5)*$B$10)+(G17*(E17+0.5)*$B$11)+(H17*(E17+0.5)*$B$12) -> 462.5
B18: =C17 -> 0.83333333 | C18: 0.33333333 | D18: =A$3 -> BUILD overnights | E18: =(C18-B18+(C18<B18))*24 -> 12 | F18: =IF($D18=$A$2,B$2,IF($D18=$A$3,B$3,IF($D18=$A$5,B$5,IF($D18=$A$7,B$7,IF($D18=$A$8,B$8,IF($D18=$A$6,B$6,IF($D18=$A$4,B$4,"FALSE"))))))) -> 0 | G18: =IF($D18=$A$2,C$2,IF($D18=$A$3,C$3,IF($D18=$A$5,C$5,IF($D18=$A$7,C$7,IF($D18=$A$8,C$8,IF($D18=$A$6,C$6,IF($D18=$A$4,C$4,"FALSE"))))))) -> 1 | H18: =IF($D18=$A$2,D$2,IF($D18=$A$3,D$3,IF($D18=$A$5,D$5,IF($D18=$A$7,D$7,IF($D18=$A$8,D$8,IF($D18=$A$6,D$6,IF($D18=$A$4,D$4,"FALSE"))))))) -> 0 | I18: =(F18*(E18+0.5)*$B$10)+(G18*(E18+0.5)*$B$11)+(H18*(E18+0.5)*$B$12) -> 231.25
A19: 45092 | B19: =C18 -> 0.33333333 | C19: 0.83333333 | D19: =A$2 -> BUILD daytimes | E19: =(C19-B19+(C19<B19))*24 -> 12 | F19: =IF($D19=$A$2,B$2,IF($D19=$A$3,B$3,IF($D19=$A$5,B$5,IF($D19=$A$7,B$7,IF($D19=$A$8,B$8,IF($D19=$A$6,B$6,IF($D19=$A$4,B$4,"FALSE"))))))) -> 0 | G19: =IF($D19=$A$2,C$2,IF($D19=$A$3,C$3,IF($D19=$A$5,C$5,IF($D19=$A$7,C$7,IF($D19=$A$8,C$8,IF($D19=$A$6,C$6,IF($D19=$A$4,C$4,"FALSE"))))))) -> 2 | H19: =IF($D19=$A$2,D$2,IF($D19=$A$3,D$3,IF($D19=$A$5,D$5,IF($D19=$A$7,D$7,IF($D19=$A$8,D$8,IF($D19=$A$6,D$6,IF($D19=$A$4,D$4,"FALSE"))))))) -> 0 | I19: =(F19*(E19+0.5)*$B$10)+(G19*(E19+0.5)*$B$11)+(H19*(E19+0.5)*$B$12) -> 462.5
B20: =C19 -> 0.83333333 | C20: 0.33333333 | D20: =A$3 -> BUILD overnights | E20: =(C20-B20+(C20<B20))*24 -> 12 | F20: =IF($D20=$A$2,B$2,IF($D20=$A$3,B$3,IF($D20=$A$5,B$5,IF($D20=$A$7,B$7,IF($D20=$A$8,B$8,IF($D20=$A$6,B$6,IF($D20=$A$4,B$4,"FALSE"))))))) -> 0 | G20: =IF($D20=$A$2,C$2,IF($D20=$A$3,C$3,IF($D20=$A$5,C$5,IF($D20=$A$7,C$7,IF($D20=$A$8,C$8,IF($D20=$A$6,C$6,IF($D20=$A$4,C$4,"FALSE"))))))) -> 1 | H20: =IF($D20=$A$2,D$2,IF($D20=$A$3,D$3,IF($D20=$A$5,D$5,IF($D20=$A$7,D$7,IF($D20=$A$8,D$8,IF($D20=$A$6,D$6,IF($D20=$A$4,D$4,"FALSE"))))))) -> 0 | I20: =(F20*(E20+0.5)*$B$10)+(G20*(E20+0.5)*$B$11)+(H20*(E20+0.5)*$B$12) -> 231.25
A21: 45093 | B21: =C20 -> 0.33333333 | C21: 0.83333333 | D21: =A$2 -> BUILD daytimes | E21: =(C21-B21+(C21<B21))*24 -> 12 | F21: =IF($D21=$A$2,B$2,IF($D21=$A$3,B$3,IF($D21=$A$5,B$5,IF($D21=$A$7,B$7,IF($D21=$A$8,B$8,IF($D21=$A$6,B$6,IF($D21=$A$4,B$4,"FALSE"))))))) -> 0 | G21: =IF($D21=$A$2,C$2,IF($D21=$A$3,C$3,IF($D21=$A$5,C$5,IF($D21=$A$7,C$7,IF($D21=$A$8,C$8,IF($D21=$A$6,C$6,IF($D21=$A$4,C$4,"FALSE"))))))) -> 2 | H21: =IF($D21=$A$2,D$2,IF($D21=$A$3,D$3,IF($D21=$A$5,D$5,IF($D21=$A$7,D$7,IF($D21=$A$8,D$8,IF($D21=$A$6,D$6,IF($D21=$A$4,D$4,"FALSE"))))))) -> 0 | I21: =(F21*(E21+0.5)*$B$10)+(G21*(E21+0.5)*$B$11)+(H21*(E21+0.5)*$B$12) -> 462.5
B22: =C21 -> 0.83333333 | C22: 0.33333333 | D22: =A$3 -> BUILD overnights | E22: =(C22-B22+(C22<B22))*24 -> 12 | F22: =IF($D22=$A$2,B$2,IF($D22=$A$3,B$3,IF($D22=$A$5,B$5,IF($D22=$A$7,B$7,IF($D22=$A$8,B$8,IF($D22=$A$6,B$6,IF($D22=$A$4,B$4,"FALSE"))))))) -> 0 | G22: =IF($D22=$A$2,C$2,IF($D22=$A$3,C$3,IF($D22=$A$5,C$5,IF($D22=$A$7,C$7,IF($D22=$A$8,C$8,IF($D22=$A$6,C$6,IF($D22=$A$4,C$4,"FALSE"))))))) -> 1 | H22: =IF($D22=$A$2,D$2,IF($D22=$A$3,D$3,IF($D22=$A$5,D$5,IF($D22=$A$7,D$7,IF($D22=$A$8,D$8,IF($D22=$A$6,D$6,IF($D22=$A$4,D$4,"FALSE"))))))) -> 0 | I22: =(F22*(E22+0.5)*$B$10)+(G22*(E22+0.5)*$B$11)+(H22*(E22+0.5)*$B$12) -> 231.25
A23: 45094 | B23: =C22 -> 0.33333333 | C23: 0.83333333 | D23: =A$2 -> BUILD daytimes | E23: =(C23-B23+(C23<B23))*24 -> 12 | F23: =IF($D23=$A$2,B$2,IF($D23=$A$3,B$3,IF($D23=$A$5,B$5,IF($D23=$A$7,B$7,IF($D23=$A$8,B$8,IF($D23=$A$6,B$6,IF($D23=$A$4,B$4,"FALSE"))))))) -> 0 | G23: =IF($D23=$A$2,C$2,IF($D23=$A$3,C$3,IF($D23=$A$5,C$5,IF($D23=$A$7,C$7,IF($D23=$A$8,C$8,IF($D23=$A$6,C$6,IF($D23=$A$4,C$4,"FALSE"))))))) -> 2 | H23: =IF($D23=$A$2,D$2,IF($D23=$A$3,D$3,IF($D23=$A$5,D$5,IF($D23=$A$7,D$7,IF($D23=$A$8,D$8,IF($D23=$A$6,D$6,IF($D23=$A$4,D$4,"FALSE"))))))) -> 0 | I23: =(F23*(E23+0.5)*$B$10)+(G23*(E23+0.5)*$B$11)+(H23*(E23+0.5)*$B$12) -> 462.5
B24: =C23 -> 0.83333333 | C24: 0.041666667 | D24: =A$3 -> BUILD overnights | E24: =(C24-B24+(C24<B24))*24 -> 5 | F24: =IF($D24=$A$2,B$2,IF($D24=$A$3,B$3,IF($D24=$A$5,B$5,IF($D24=$A$7,B$7,IF($D24=$A$8,B$8,IF($D24=$A$6,B$6,IF($D24=$A$4,B$4,"FALSE"))))))) -> 0 | G24: =IF($D24=$A$2,C$2,IF($D24=$A$3,C$3,IF($D24=$A$5,C$5,IF($D24=$A$7,C$7,IF($D24=$A$8,C$8,IF($D24=$A$6,C$6,IF($D24=$A$4,C$4,"FALSE"))))))) -> 1 | H24: =IF($D24=$A$2,D$2,IF($D24=$A$3,D$3,IF($D24=$A$5,D$5,IF($D24=$A$7,D$7,IF($D24=$A$8,D$8,IF($D24=$A$6,D$6,IF($D24=$A$4,D$4,"FALSE"))))))) -> 0 | I24: =(F24*(E24+0.5)*$B$10)+(G24*(E24+0.5)*$B$11)+(H24*(E24+0.5)*$B$12) -> 101.75
A25: 45095 | B25: =C24 -> 0.041666667 | C25: 0 | D25: =A$3 -> BUILD overnights | E25: =(C25-B25+(C25<B25))*24 -> 23 | F25: =IF($D25=$A$2,B$2,IF($D25=$A$3,B$3,IF($D25=$A$5,B$5,IF($D25=$A$7,B$7,IF($D25=$A$8,B$8,IF($D25=$A$6,B$6,IF($D25=$A$4,B$4,"FALSE"))))))) -> 0 | G25: =IF($D25=$A$2,C$2,IF($D25=$A$3,C$3,IF($D25=$A$5,C$5,IF($D25=$A$7,C$7,IF($D25=$A$8,C$8,IF($D25=$A$6,C$6,IF($D25=$A$4,C$4,"FALSE"))))))) -> 1 | H25: =IF($D25=$A$2,D$2,IF($D25=$A$3,D$3,IF($D25=$A$5,D$5,IF($D25=$A$7,D$7,IF($D25=$A$8,D$8,IF($D25=$A$6,D$6,IF($D25=$A$4,D$4,"FALSE"))))))) -> 0 | I25: =(F25*(E25+0.5)*$B$10)+(G25*(E25+0.5)*$B$11)+(H25*(E25+0.5)*$B$12) -> 434.75
A26: 45096 | B26: =C25 -> 0 | C26: 0.33333333 | D26: =A$3 -> BUILD overnights | E26: =(C26-B26+(C26<B26))*24 -> 8 | F26: =IF($D26=$A$2,B$2,IF($D26=$A$3,B$3,IF($D26=$A$5,B$5,IF($D26=$A$7,B$7,IF($D26=$A$8,B$8,IF($D26=$A$6,B$6,IF($D26=$A$4,B$4,"FALSE"))))))) -> 0 | G26: =IF($D26=$A$2,C$2,IF($D26=$A$3,C$3,IF($D26=$A$5,C$5,IF($D26=$A$7,C$7,IF($D26=$A$8,C$8,IF($D26=$A$6,C$6,IF($D26=$A$4,C$4,"FALSE"))))))) -> 1 | H26: =IF($D26=$A$2,D$2,IF($D26=$A$3,D$3,IF($D26=$A$5,D$5,IF($D26=$A$7,D$7,IF($D26=$A$8,D$8,IF($D26=$A$6,D$6,IF($D26=$A$4,D$4,"FALSE"))))))) -> 0 | I26: =(F26*(E26+0.5)*$B$10)+(G26*(E26+0.5)*$B$11)+(H26*(E26+0.5)*$B$12) -> 157.25
B27: =C26 -> 0.33333333 | C27: 0.83333333 | D27: =A$2 -> BUILD daytimes | E27: =(C27-B27+(C27<B27))*24 -> 12 | F27: =IF($D27=$A$2,B$2,IF($D27=$A$3,B$3,IF($D27=$A$5,B$5,IF($D27=$A$7,B$7,IF($D27=$A$8,B$8,IF($D27=$A$6,B$6,IF($D27=$A$4,B$4,"FALSE"))))))) -> 0 | G27: =IF($D27=$A$2,C$2,IF($D27=$A$3,C$3,IF($D27=$A$5,C$5,IF($D27=$A$7,C$7,IF($D27=$A$8,C$8,IF($D27=$A$6,C$6,IF($D27=$A$4,C$4,"FALSE"))))))) -> 2 | H27: =IF($D27=$A$2,D$2,IF($D27=$A$3,D$3,IF($D27=$A$5,D$5,IF($D27=$A$7,D$7,IF($D27=$A$8,D$8,IF($D27=$A$6,D$6,IF($D27=$A$4,D$4,"FALSE"))))))) -> 0 | I27: =(F27*(E27+0.5)*$B$10)+(G27*(E27+0.5)*$B$11)+(H27*(E27+0.5)*$B$12) -> 462.5
B28: =C27 -> 0.83333333 | C28: 0.33333333 | D28: =A$3 -> BUILD overnights | E28: =(C28-B28+(C28<B28))*24 -> 12 | F28: =IF($D28=$A$2,B$2,IF($D28=$A$3,B$3,IF($D28=$A$5,B$5,IF($D28=$A$7,B$7,IF($D28=$A$8,B$8,IF($D28=$A$6,B$6,IF($D28=$A$4,B$4,"FALSE"))))))) -> 0 | G28: =IF($D28=$A$2,C$2,IF($D28=$A$3,C$3,IF($D28=$A$5,C$5,IF($D28=$A$7,C$7,IF($D28=$A$8,C$8,IF($D28=$A$6,C$6,IF($D28=$A$4,C$4,"FALSE"))))))) -> 1 | H28: =IF($D28=$A$2,D$2,IF($D28=$A$3,D$3,IF($D28=$A$5,D$5,IF($D28=$A$7,D$7,IF($D28=$A$8,D$8,IF($D28=$A$6,D$6,IF($D28=$A$4,D$4,"FALSE"))))))) -> 0 | I28: =(F28*(E28+0.5)*$B$10)+(G28*(E28+0.5)*$B$11)+(H28*(E28+0.5)*$B$12) -> 231.25
A29: 45097 | B29: =C28 -> 0.33333333 | C29: 0.83333333 | D29: =A$2 -> BUILD daytimes | E29: =(C29-B29+(C29<B29))*24 -> 12 | F29: =IF($D29=$A$2,B$2,IF($D29=$A$3,B$3,IF($D29=$A$5,B$5,IF($D29=$A$7,B$7,IF($D29=$A$8,B$8,IF($D29=$A$6,B$6,IF($D29=$A$4,B$4,"FALSE"))))))) -> 0 | G29: =IF($D29=$A$2,C$2,IF($D29=$A$3,C$3,IF($D29=$A$5,C$5,IF($D29=$A$7,C$7,IF($D29=$A$8,C$8,IF($D29=$A$6,C$6,IF($D29=$A$4,C$4,"FALSE"))))))) -> 2 | H29: =IF($D29=$A$2,D$2,IF($D29=$A$3,D$3,IF($D29=$A$5,D$5,IF($D29=$A$7,D$7,IF($D29=$A$8,D$8,IF($D29=$A$6,D$6,IF($D29=$A$4,D$4,"FALSE"))))))) -> 0 | I29: =(F29*(E29+0.5)*$B$10)+(G29*(E29+0.5)*$B$11)+(H29*(E29+0.5)*$B$12) -> 462.5
B30: =C29 -> 0.83333333 | C30: 0.33333333 | D30: =A$3 -> BUILD overnights | E30: =(C30-B30+(C30<B30))*24 -> 12 | F30: =IF($D30=$A$2,B$2,IF($D30=$A$3,B$3,IF($D30=$A$5,B$5,IF($D30=$A$7,B$7,IF($D30=$A$8,B$8,IF($D30=$A$6,B$6,IF($D30=$A$4,B$4,"FALSE"))))))) -> 0 | G30: =IF($D30=$A$2,C$2,IF($D30=$A$3,C$3,IF($D30=$A$5,C$5,IF($D30=$A$7,C$7,IF($D30=$A$8,C$8,IF($D30=$A$6,C$6,IF($D30=$A$4,C$4,"FALSE"))))))) -> 1 | H30: =IF($D30=$A$2,D$2,IF($D30=$A$3,D$3,IF($D30=$A$5,D$5,IF($D30=$A$7,D$7,IF($D30=$A$8,D$8,IF($D30=$A$6,D$6,IF($D30=$A$4,D$4,"FALSE"))))))) -> 0 | I30: =(F30*(E30+0.5)*$B$10)+(G30*(E30+0.5)*$B$11)+(H30*(E30+0.5)*$B$12) -> 231.25
A31: 45098 | B31: =C30 -> 0.33333333 | C31: 0.83333333 | D31: =A$2 -> BUILD daytimes | E31: =(C31-B31+(C31<B31))*24 -> 12 | F31: =IF($D31=$A$2,B$2,IF($D31=$A$3,B$3,IF($D31=$A$5,B$5,IF($D31=$A$7,B$7,IF($D31=$A$8,B$8,IF($D31=$A$6,B$6,IF($D31=$A$4,B$4,"FALSE"))))))) -> 0 | G31: =IF($D31=$A$2,C$2,IF($D31=$A$3,C$3,IF($D31=$A$5,C$5,IF($D31=$A$7,C$7,IF($D31=$A$8,C$8,IF($D31=$A$6,C$6,IF($D31=$A$4,C$4,"FALSE"))))))) -> 2 | H31: =IF($D31=$A$2,D$2,IF($D31=$A$3,D$3,IF($D31=$A$5,D$5,IF($D31=$A$7,D$7,IF($D31=$A$8,D$8,IF($D31=$A$6,D$6,IF($D31=$A$4,D$4,"FALSE"))))))) -> 0 | I31: =(F31*(E31+0.5)*$B$10)+(G31*(E31+0.5)*$B$11)+(H31*(E31+0.5)*$B$12) -> 462.5
B32: =C31 -> 0.83333333 | C32: 0.33333333 | D32: =A$3 -> BUILD overnights | E32: =(C32-B32+(C32<B32))*24 -> 12 | F32: =IF($D32=$A$2,B$2,IF($D32=$A$3,B$3,IF($D32=$A$5,B$5,IF($D32=$A$7,B$7,IF($D32=$A$8,B$8,IF($D32=$A$6,B$6,IF($D32=$A$4,B$4,"FALSE"))))))) -> 0 | G32: =IF($D32=$A$2,C$2,IF($D32=$A$3,C$3,IF($D32=$A$5,C$5,IF($D32=$A$7,C$7,IF($D32=$A$8,C$8,IF($D32=$A$6,C$6,IF($D32=$A$4,C$4,"FALSE"))))))) -> 1 | H32: =IF($D32=$A$2,D$2,IF($D32=$A$3,D$3,IF($D32=$A$5,D$5,IF($D32=$A$7,D$7,IF($D32=$A$8,D$8,IF($D32=$A$6,D$6,IF($D32=$A$4,D$4,"FALSE"))))))) -> 0 | I32: =(F32*(E32+0.5)*$B$10)+(G32*(E32+0.5)*$B$11)+(H32*(E32+0.5)*$B$12) -> 231.25
A33: 45099 | B33: =C32 -> 0.33333333 | C33: 0.83333333 | D33: =A$2 -> BUILD daytimes | E33: =(C33-B33+(C33<B33))*24 -> 12 | F33: =IF($D33=$A$2,B$2,IF($D33=$A$3,B$3,IF($D33=$A$5,B$5,IF($D33=$A$7,B$7,IF($D33=$A$8,B$8,IF($D33=$A$6,B$6,IF($D33=$A$4,B$4,"FALSE"))))))) -> 0 | G33: =IF($D33=$A$2,C$2,IF($D33=$A$3,C$3,IF($D33=$A$5,C$5,IF($D33=$A$7,C$7,IF($D33=$A$8,C$8,IF($D33=$A$6,C$6,IF($D33=$A$4,C$4,"FALSE"))))))) -> 2 | H33: =IF($D33=$A$2,D$2,IF($D33=$A$3,D$3,IF($D33=$A$5,D$5,IF($D33=$A$7,D$7,IF($D33=$A$8,D$8,IF($D33=$A$6,D$6,IF($D33=$A$4,D$4,"FALSE"))))))) -> 0 | I33: =(F33*(E33+0.5)*$B$10)+(G33*(E33+0.5)*$B$11)+(H33*(E33+0.5)*$B$12) -> 462.5
B34: =C33 -> 0.83333333 | C34: 0.33333333 | D34: =A$3 -> BUILD overnights | E34: =(C34-B34+(C34<B34))*24 -> 12 | F34: =IF($D34=$A$2,B$2,IF($D34=$A$3,B$3,IF($D34=$A$5,B$5,IF($D34=$A$7,B$7,IF($D34=$A$8,B$8,IF($D34=$A$6,B$6,IF($D34=$A$4,B$4,"FALSE"))))))) -> 0 | G34: =IF($D34=$A$2,C$2,IF($D34=$A$3,C$3,IF($D34=$A$5,C$5,IF($D34=$A$7,C$7,IF($D34=$A$8,C$8,IF($D34=$A$6,C$6,IF($D34=$A$4,C$4,"FALSE"))))))) -> 1 | H34: =IF($D34=$A$2,D$2,IF($D34=$A$3,D$3,IF($D34=$A$5,D$5,IF($D34=$A$7,D$7,IF($D34=$A$8,D$8,IF($D34=$A$6,D$6,IF($D34=$A$4,D$4,"FALSE"))))))) -> 0 | I34: =(F34*(E34+0.5)*$B$10)+(G34*(E34+0.5)*$B$11)+(H34*(E34+0.5)*$B$12) -> 231.25
A35: 45100 | B35: =C34 -> 0.33333333 | C35: 0.83333333 | D35: =A$2 -> BUILD daytimes | E35: =(C35-B35+(C35<B35))*24 -> 12 | F35: =IF($D35=$A$2,B$2,IF($D35=$A$3,B$3,IF($D35=$A$5,B$5,IF($D35=$A$7,B$7,IF($D35=$A$8,B$8,IF($D35=$A$6,B$6,IF($D35=$A$4,B$4,"FALSE"))))))) -> 0 | G35: =IF($D35=$A$2,C$2,IF($D35=$A$3,C$3,IF($D35=$A$5,C$5,IF($D35=$A$7,C$7,IF($D35=$A$8,C$8,IF($D35=$A$6,C$6,IF($D35=$A$4,C$4,"FALSE"))))))) -> 2 | H35: =IF($D35=$A$2,D$2,IF($D35=$A$3,D$3,IF($D35=$A$5,D$5,IF($D35=$A$7,D$7,IF($D35=$A$8,D$8,IF($D35=$A$6,D$6,IF($D35=$A$4,D$4,"FALSE"))))))) -> 0 | I35: =(F35*(E35+0.5)*$B$10)+(G35*(E35+0.5)*$B$11)+(H35*(E35+0.5)*$B$12) -> 462.5
B36: =C35 -> 0.83333333 | C36: 0.33333333 | D36: =A$3 -> BUILD overnights | E36: =(C36-B36+(C36<B36))*24 -> 12 | F36: =IF($D36=$A$2,B$2,IF($D36=$A$3,B$3,IF($D36=$A$5,B$5,IF($D36=$A$7,B$7,IF($D36=$A$8,B$8,IF($D36=$A$6,B$6,IF($D36=$A$4,B$4,"FALSE"))))))) -> 0 | G36: =IF($D36=$A$2,C$2,IF($D36=$A$3,C$3,IF($D36=$A$5,C$5,IF($D36=$A$7,C$7,IF($D36=$A$8,C$8,IF($D36=$A$6,C$6,IF($D36=$A$4,C$4,"FALSE"))))))) -> 1 | H36: =IF($D36=$A$2,D$2,IF($D36=$A$3,D$3,IF($D36=$A$5,D$5,IF($D36=$A$7,D$7,IF($D36=$A$8,D$8,IF($D36=$A$6,D$6,IF($D36=$A$4,D$4,"FALSE"))))))) -> 0 | I36: =(F36*(E36+0.5)*$B$10)+(G36*(E36+0.5)*$B$11)+(H36*(E36+0.5)*$B$12) -> 231.25
A37: 45101 | B37: =C36 -> 0.33333333 | C37: 0.83333333 | D37: =A$2 -> BUILD daytimes | E37: =(C37-B37+(C37<B37))*24 -> 12 | F37: =IF($D37=$A$2,B$2,IF($D37=$A$3,B$3,IF($D37=$A$5,B$5,IF($D37=$A$7,B$7,IF($D37=$A$8,B$8,IF($D37=$A$6,B$6,IF($D37=$A$4,B$4,"FALSE"))))))) -> 0 | G37: =IF($D37=$A$2,C$2,IF($D37=$A$3,C$3,IF($D37=$A$5,C$5,IF($D37=$A$7,C$7,IF($D37=$A$8,C$8,IF($D37=$A$6,C$6,IF($D37=$A$4,C$4,"FALSE"))))))) -> 2 | H37: =IF($D37=$A$2,D$2,IF($D37=$A$3,D$3,IF($D37=$A$5,D$5,IF($D37=$A$7,D$7,IF($D37=$A$8,D$8,IF($D37=$A$6,D$6,IF($D37=$A$4,D$4,"FALSE"))))))) -> 0 | I37: =(F37*(E37+0.5)*$B$10)+(G37*(E37+0.5)*$B$11)+(H37*(E37+0.5)*$B$12) -> 462.5
B38: =C37 -> 0.83333333 | C38: 0.041666667 | D38: =A$3 -> BUILD overnights | E38: =(C38-B38+(C38<B38))*24 -> 5 | F38: =IF($D38=$A$2,B$2,IF($D38=$A$3,B$3,IF($D38=$A$5,B$5,IF($D38=$A$7,B$7,IF($D38=$A$8,B$8,IF($D38=$A$6,B$6,IF($D38=$A$4,B$4,"FALSE"))))))) -> 0 | G38: =IF($D38=$A$2,C$2,IF($D38=$A$3,C$3,IF($D38=$A$5,C$5,IF($D38=$A$7,C$7,IF($D38=$A$8,C$8,IF($D38=$A$6,C$6,IF($D38=$A$4,C$4,"FALSE"))))))) -> 1 | H38: =IF($D38=$A$2,D$2,IF($D38=$A$3,D$3,IF($D38=$A$5,D$5,IF($D38=$A$7,D$7,IF($D38=$A$8,D$8,IF($D38=$A$6,D$6,IF($D38=$A$4,D$4,"FALSE"))))))) -> 0 | I38: =(F38*(E38+0.5)*$B$10)+(G38*(E38+0.5)*$B$11)+(H38*(E38+0.5)*$B$12) -> 101.75
A39: 45102 | B39: =C38 -> 0.041666667 | C39: 0 | D39: =A$3 -> BUILD overnights | E39: =(C39-B39+(C39<B39))*24 -> 23 | F39: =IF($D39=$A$2,B$2,IF($D39=$A$3,B$3,IF($D39=$A$5,B$5,IF($D39=$A$7,B$7,IF($D39=$A$8,B$8,IF($D39=$A$6,B$6,IF($D39=$A$4,B$4,"FALSE"))))))) -> 0 | G39: =IF($D39=$A$2,C$2,IF($D39=$A$3,C$3,IF($D39=$A$5,C$5,IF($D39=$A$7,C$7,IF($D39=$A$8,C$8,IF($D39=$A$6,C$6,IF($D39=$A$4,C$4,"FALSE"))))))) -> 1 | H39: =IF($D39=$A$2,D$2,IF($D39=$A$3,D$3,IF($D39=$A$5,D$5,IF($D39=$A$7,D$7,IF($D39=$A$8,D$8,IF($D39=$A$6,D$6,IF($D39=$A$4,D$4,"FALSE"))))))) -> 0 | I39: =(F39*(E39+0.5)*$B$10)+(G39*(E39+0.5)*$B$11)+(H39*(E39+0.5)*$B$12) -> 434.75
A40: 45103 | B40: =C39 -> 0 | C40: 0.33333333 | D40: =A$3 -> BUILD overnights | E40: =(C40-B40+(C40<B40))*24 -> 8 | F40: =IF($D40=$A$2,B$2,IF($D40=$A$3,B$3,IF($D40=$A$5,B$5,IF($D40=$A$7,B$7,IF($D40=$A$8,B$8,IF($D40=$A$6,B$6,IF($D40=$A$4,B$4,"FALSE"))))))) -> 0 | G40: =IF($D40=$A$2,C$2,IF($D40=$A$3,C$3,IF($D40=$A$5,C$5,IF($D40=$A$7,C$7,IF($D40=$A$8,C$8,IF($D40=$A$6,C$6,IF($D40=$A$4,C$4,"FALSE"))))))) -> 1 | H40: =IF($D40=$A$2,D$2,IF($D40=$A$3,D$3,IF($D40=$A$5,D$5,IF($D40=$A$7,D$7,IF($D40=$A$8,D$8,IF($D40=$A$6,D$6,IF($D40=$A$4,D$4,"FALSE"))))))) -> 0 | I40: =(F40*(E40+0.5)*$B$10)+(G40*(E40+0.5)*$B$11)+(H40*(E40+0.5)*$B$12) -> 157.25
B41: =C40 -> 0.33333333 | C41: 0.83333333 | D41: =A$2 -> BUILD daytimes | E41: =(C41-B41+(C41<B41))*24 -> 12 | F41: =IF($D41=$A$2,B$2,IF($D41=$A$3,B$3,IF($D41=$A$5,B$5,IF($D41=$A$7,B$7,IF($D41=$A$8,B$8,IF($D41=$A$6,B$6,IF($D41=$A$4,B$4,"FALSE"))))))) -> 0 | G41: =IF($D41=$A$2,C$2,IF($D41=$A$3,C$3,IF($D41=$A$5,C$5,IF($D41=$A$7,C$7,IF($D41=$A$8,C$8,IF($D41=$A$6,C$6,IF($D41=$A$4,C$4,"FALSE"))))))) -> 2 | H41: =IF($D41=$A$2,D$2,IF($D41=$A$3,D$3,IF($D41=$A$5,D$5,IF($D41=$A$7,D$7,IF($D41=$A$8,D$8,IF($D41=$A$6,D$6,IF($D41=$A$4,D$4,"FALSE"))))))) -> 0 | I41: =(F41*(E41+0.5)*$B$10)+(G41*(E41+0.5)*$B$11)+(H41*(E41+0.5)*$B$12) -> 462.5
B42: =C41 -> 0.83333333 | C42: 0.33333333 | D42: =A$3 -> BUILD overnights | E42: =(C42-B42+(C42<B42))*24 -> 12 | F42: =IF($D42=$A$2,B$2,IF($D42=$A$3,B$3,IF($D42=$A$5,B$5,IF($D42=$A$7,B$7,IF($D42=$A$8,B$8,IF($D42=$A$6,B$6,IF($D42=$A$4,B$4,"FALSE"))))))) -> 0 | G42: =IF($D42=$A$2,C$2,IF($D42=$A$3,C$3,IF($D42=$A$5,C$5,IF($D42=$A$7,C$7,IF($D42=$A$8,C$8,IF($D42=$A$6,C$6,IF($D42=$A$4,C$4,"FALSE"))))))) -> 1 | H42: =IF($D42=$A$2,D$2,IF($D42=$A$3,D$3,IF($D42=$A$5,D$5,IF($D42=$A$7,D$7,IF($D42=$A$8,D$8,IF($D42=$A$6,D$6,IF($D42=$A$4,D$4,"FALSE"))))))) -> 0 | I42: =(F42*(E42+0.5)*$B$10)+(G42*(E42+0.5)*$B$11)+(H42*(E42+0.5)*$B$12) -> 231.25
A43: 45104 | B43: =C42 -> 0.33333333 | C43: 0.83333333 | D43: =A$2 -> BUILD daytimes | E43: =(C43-B43+(C43<B43))*24 -> 12 | F43: =IF($D43=$A$2,B$2,IF($D43=$A$3,B$3,IF($D43=$A$5,B$5,IF($D43=$A$7,B$7,IF($D43=$A$8,B$8,IF($D43=$A$6,B$6,IF($D43=$A$4,B$4,"FALSE"))))))) -> 0 | G43: =IF($D43=$A$2,C$2,IF($D43=$A$3,C$3,IF($D43=$A$5,C$5,IF($D43=$A$7,C$7,IF($D43=$A$8,C$8,IF($D43=$A$6,C$6,IF($D43=$A$4,C$4,"FALSE"))))))) -> 2 | H43: =IF($D43=$A$2,D$2,IF($D43=$A$3,D$3,IF($D43=$A$5,D$5,IF($D43=$A$7,D$7,IF($D43=$A$8,D$8,IF($D43=$A$6,D$6,IF($D43=$A$4,D$4,"FALSE"))))))) -> 0 | I43: =(F43*(E43+0.5)*$B$10)+(G43*(E43+0.5)*$B$11)+(H43*(E43+0.5)*$B$12) -> 462.5
B44: =C43 -> 0.83333333 | C44: 0.33333333 | D44: =A$3 -> BUILD overnights | E44: =(C44-B44+(C44<B44))*24 -> 12 | F44: =IF($D44=$A$2,B$2,IF($D44=$A$3,B$3,IF($D44=$A$5,B$5,IF($D44=$A$7,B$7,IF($D44=$A$8,B$8,IF($D44=$A$6,B$6,IF($D44=$A$4,B$4,"FALSE"))))))) -> 0 | G44: =IF($D44=$A$2,C$2,IF($D44=$A$3,C$3,IF($D44=$A$5,C$5,IF($D44=$A$7,C$7,IF($D44=$A$8,C$8,IF($D44=$A$6,C$6,IF($D44=$A$4,C$4,"FALSE"))))))) -> 1 | H44: =IF($D44=$A$2,D$2,IF($D44=$A$3,D$3,IF($D44=$A$5,D$5,IF($D44=$A$7,D$7,IF($D44=$A$8,D$8,IF($D44=$A$6,D$6,IF($D44=$A$4,D$4,"FALSE"))))))) -> 0 | I44: =(F44*(E44+0.5)*$B$10)+(G44*(E44+0.5)*$B$11)+(H44*(E44+0.5)*$B$12) -> 231.25
A45: 45105 | B45: =C44 -> 0.33333333 | C45: 0.70833333 | D45: =A2 -> BUILD daytimes | E45: =(C45-B45+(C45<B45))*24 -> 9 | F45: =IF($D45=$A$2,B$2,IF($D45=$A$3,B$3,IF($D45=$A$5,B$5,IF($D45=$A$7,B$7,IF($D45=$A$8,B$8,IF($D45=$A$6,B$6,IF($D45=$A$4,B$4,"FALSE"))))))) -> 0 | G45: =IF($D45=$A$2,C$2,IF($D45=$A$3,C$3,IF($D45=$A$5,C$5,IF($D45=$A$7,C$7,IF($D45=$A$8,C$8,IF($D45=$A$6,C$6,IF($D45=$A$4,C$4,"FALSE"))))))) -> 2 | H45: =IF($D45=$A$2,D$2,IF($D45=$A$3,D$3,IF($D45=$A$5,D$5,IF($D45=$A$7,D$7,IF($D45=$A$8,D$8,IF($D45=$A$6,D$6,IF($D45=$A$4,D$4,"FALSE"))))))) -> 0 | I45: =(F45*(E45+0.5)*$B$10)+(G45*(E45+0.5)*$B$11)+(H45*(E45+0.5)*$B$12) -> 351.5
B46: =C45 -> 0.70833333 | C46: 0.91666667 | D46: =A7 -> LIVE evenings | E46: =(C46-B46+(C46<B46))*24 -> 5 | F46: =IF($D46=$A$2,B$2,IF($D46=$A$3,B$3,IF($D46=$A$5,B$5,IF($D46=$A$7,B$7,IF($D46=$A$8,B$8,IF($D46=$A$6,B$6,IF($D46=$A$4,B$4,"FALSE"))))))) -> 1 | G46: =IF($D46=$A$2,C$2,IF($D46=$A$3,C$3,IF($D46=$A$5,C$5,IF($D46=$A$7,C$7,IF($D46=$A$8,C$8,IF($D46=$A$6,C$6,IF($D46=$A$4,C$4,"FALSE"))))))) -> 10 | H46: =IF($D46=$A$2,D$2,IF($D46=$A$3,D$3,IF($D46=$A$5,D$5,IF($D46=$A$7,D$7,IF($D46=$A$8,D$8,IF($D46=$A$6,D$6,IF($D46=$A$4,D$4,"FALSE"))))))) -> 4 | I46: =(F46*(E46+0.5)*$B$10)+(G46*(E46+0.5)*$B$11)+(H46*(E46+0.5)*$B$12) -> 1520.75
B47: =C46 -> 0.91666667 | C47: 0.33333333 | D47: =A3 -> BUILD overnights | E47: =(C47-B47+(C47<B47))*24 -> 10 | F47: =IF($D47=$A$2,B$2,IF($D47=$A$3,B$3,IF($D47=$A$5,B$5,IF($D47=$A$7,B$7,IF($D47=$A$8,B$8,IF($D47=$A$6,B$6,IF($D47=$A$4,B$4,"FALSE"))))))) -> 0 | G47: =IF($D47=$A$2,C$2,IF($D47=$A$3,C$3,IF($D47=$A$5,C$5,IF($D47=$A$7,C$7,IF($D47=$A$8,C$8,IF($D47=$A$6,C$6,IF($D47=$A$4,C$4,"FALSE"))))))) -> 1 | H47: =IF($D47=$A$2,D$2,IF($D47=$A$3,D$3,IF($D47=$A$5,D$5,IF($D47=$A$7,D$7,IF($D47=$A$8,D$8,IF($D47=$A$6,D$6,IF($D47=$A$4,D$4,"FALSE"))))))) -> 0 | I47: =(F47*(E47+0.5)*$B$10)+(G47*(E47+0.5)*$B$11)+(H47*(E47+0.5)*$B$12) -> 194.25
A48: 45106 | B48: =C47 -> 0.33333333 | C48: 0.83333333 | D48: =A2 -> BUILD daytimes | E48: =(C48-B48+(C48<B48))*24 -> 12 | F48: =IF($D48=$A$2,B$2,IF($D48=$A$3,B$3,IF($D48=$A$5,B$5,IF($D48=$A$7,B$7,IF($D48=$A$8,B$8,IF($D48=$A$6,B$6,IF($D48=$A$4,B$4,"FALSE"))))))) -> 0 | G48: =IF($D48=$A$2,C$2,IF($D48=$A$3,C$3,IF($D48=$A$5,C$5,IF($D48=$A$7,C$7,IF($D48=$A$8,C$8,IF($D48=$A$6,C$6,IF($D48=$A$4,C$4,"FALSE"))))))) -> 2 | H48: =IF($D48=$A$2,D$2,IF($D48=$A$3,D$3,IF($D48=$A$5,D$5,IF($D48=$A$7,D$7,IF($D48=$A$8,D$8,IF($D48=$A$6,D$6,IF($D48=$A$4,D$4,"FALSE"))))))) -> 0 | I48: =(F48*(E48+0.5)*$B$10)+(G48*(E48+0.5)*$B$11)+(H48*(E48+0.5)*$B$12) -> 462.5
B49: =C48 -> 0.83333333 | C49: 0.083333333 | D49: =A7 -> LIVE evenings | E49: =(C49-B49+(C49<B49))*24 -> 6 | F49: =IF($D49=$A$2,B$2,IF($D49=$A$3,B$3,IF($D49=$A$5,B$5,IF($D49=$A$7,B$7,IF($D49=$A$8,B$8,IF($D49=$A$6,B$6,IF($D49=$A$4,B$4,"FALSE"))))))) -> 1 | G49: =IF($D49=$A$2,C$2,IF($D49=$A$3,C$3,IF($D49=$A$5,C$5,IF($D49=$A$7,C$7,IF($D49=$A$8,C$8,IF($D49=$A$6,C$6,IF($D49=$A$4,C$4,"FALSE"))))))) -> 10 | H49: =IF($D49=$A$2,D$2,IF($D49=$A$3,D$3,IF($D49=$A$5,D$5,IF($D49=$A$7,D$7,IF($D49=$A$8,D$8,IF($D49=$A$6,D$6,IF($D49=$A$4,D$4,"FALSE"))))))) -> 4 | I49: =(F49*(E49+0.5)*$B$10)+(G49*(E49+0.5)*$B$11)+(H49*(E49+0.5)*$B$12) -> 1797.25
A50: 45107 | B50: =C49 -> 0.083333333 | C50: 0.5 | D50: =A8 -> LIVE overnights / Site closed | E50: =(C50-B50+(C50<B50))*24 -> 10 | F50: =IF($D50=$A$2,B$2,IF($D50=$A$3,B$3,IF($D50=$A$5,B$5,IF($D50=$A$7,B$7,IF($D50=$A$8,B$8,IF($D50=$A$6,B$6,IF($D50=$A$4,B$4,"FALSE"))))))) -> 0 | G50: =IF($D50=$A$2,C$2,IF($D50=$A$3,C$3,IF($D50=$A$5,C$5,IF($D50=$A$7,C$7,IF($D50=$A$8,C$8,IF($D50=$A$6,C$6,IF($D50=$A$4,C$4,"FALSE"))))))) -> 1 | H50: =IF($D50=$A$2,D$2,IF($D50=$A$3,D$3,IF($D50=$A$5,D$5,IF($D50=$A$7,D$7,IF($D50=$A$8,D$8,IF($D50=$A$6,D$6,IF($D50=$A$4,D$4,"FALSE"))))))) -> 0 | I50: =(F50*(E50+0.5)*$B$10)+(G50*(E50+0.5)*$B$11)+(H50*(E50+0.5)*$B$12) -> 194.25
B51: =C50 -> 0.5 | C51: 0.75 | D51: =A$5 -> LIVE daytimes | E51: =(C51-B51+(C51<B51))*24 -> 6 | F51: =IF($D51=$A$2,B$2,IF($D51=$A$3,B$3,IF($D51=$A$5,B$5,IF($D51=$A$7,B$7,IF($D51=$A$8,B$8,IF($D51=$A$6,B$6,IF($D51=$A$4,B$4,"FALSE"))))))) -> 1 | G51: =IF($D51=$A$2,C$2,IF($D51=$A$3,C$3,IF($D51=$A$5,C$5,IF($D51=$A$7,C$7,IF($D51=$A$8,C$8,IF($D51=$A$6,C$6,IF($D51=$A$4,C$4,"FALSE"))))))) -> 7 | H51: =IF($D51=$A$2,D$2,IF($D51=$A$3,D$3,IF($D51=$A$5,D$5,IF($D51=$A$7,D$7,IF($D51=$A$8,D$8,IF($D51=$A$6,D$6,IF($D51=$A$4,D$4,"FALSE"))))))) -> 2 | I51: =(F51*(E51+0.5)*$B$10)+(G51*(E51+0.5)*$B$11)+(H51*(E51+0.5)*$B$12) -> 1209
B52: =C51 -> 0.75 | C52: 0.10416667 | D52: =A$7 -> LIVE evenings | E52: =(C52-B52+(C52<B52))*24 -> 8.5 | F52: =IF($D52=$A$2,B$2,IF($D52=$A$3,B$3,IF($D52=$A$5,B$5,IF($D52=$A$7,B$7,IF($D52=$A$8,B$8,IF($D52=$A$6,B$6,IF($D52=$A$4,B$4,"FALSE"))))))) -> 1 | G52: =IF($D52=$A$2,C$2,IF($D52=$A$3,C$3,IF($D52=$A$5,C$5,IF($D52=$A$7,C$7,IF($D52=$A$8,C$8,IF($D52=$A$6,C$6,IF($D52=$A$4,C$4,"FALSE"))))))) -> 10 | H52: =IF($D52=$A$2,D$2,IF($D52=$A$3,D$3,IF($D52=$A$5,D$5,IF($D52=$A$7,D$7,IF($D52=$A$8,D$8,IF($D52=$A$6,D$6,IF($D52=$A$4,D$4,"FALSE"))))))) -> 4 | I52: =(F52*(E52+0.5)*$B$10)+(G52*(E52+0.5)*$B$11)+(H52*(E52+0.5)*$B$12) -> 2488.5
A53: 45108 | B53: =C52 -> 0.10416667 | C53: 0.41666667 | D53: =A$8 -> LIVE overnights / Site closed | E53: =(C53-B53+(C53<B53))*24 -> 7.5 | F53: =IF($D53=$A$2,B$2,IF($D53=$A$3,B$3,IF($D53=$A$5,B$5,IF($D53=$A$7,B$7,IF($D53=$A$8,B$8,IF($D53=$A$6,B$6,IF($D53=$A$4,B$4,"FALSE"))))))) -> 0 | G53: =IF($D53=$A$2,C$2,IF($D53=$A$3,C$3,IF($D53=$A$5,C$5,IF($D53=$A$7,C$7,IF($D53=$A$8,C$8,IF($D53=$A$6,C$6,IF($D53=$A$4,C$4,"FALSE"))))))) -> 1 | H53: =IF($D53=$A$2,D$2,IF($D53=$A$3,D$3,IF($D53=$A$5,D$5,IF($D53=$A$7,D$7,IF($D53=$A$8,D$8,IF($D53=$A$6,D$6,IF($D53=$A$4,D$4,"FALSE"))))))) -> 0 | I53: =(F53*(E53+0.5)*$B$10)+(G53*(E53+0.5)*$B$11)+(H53*(E53+0.5)*$B$12) -> 148
B54: =C53 -> 0.41666667 | C54: 0.75 | D54: LIVE daytimes (Sat and Sun) | E54: =(C54-B54+(C54<B54))*24 -> 8 | F54: =IF($D54=$A$2,B$2,IF($D54=$A$3,B$3,IF($D54=$A$5,B$5,IF($D54=$A$7,B$7,IF($D54=$A$8,B$8,IF($D54=$A$6,B$6,IF($D54=$A$4,B$4,"FALSE"))))))) -> 1 | G54: =IF($D54=$A$2,C$2,IF($D54=$A$3,C$3,IF($D54=$A$5,C$5,IF($D54=$A$7,C$7,IF($D54=$A$8,C$8,IF($D54=$A$6,C$6,IF($D54=$A$4,C$4,"FALSE"))))))) -> 8 | H54: =IF($D54=$A$2,D$2,IF($D54=$A$3,D$3,IF($D54=$A$5,D$5,IF($D54=$A$7,D$7,IF($D54=$A$8,D$8,IF($D54=$A$6,D$6,IF($D54=$A$4,D$4,"FALSE"))))))) -> 2 | I54: =(F54*(E54+0.5)*$B$10)+(G54*(E54+0.5)*$B$11)+(H54*(E54+0.5)*$B$12) -> 1738.25
B55: =C54 -> 0.75 | C55: 0.10416667 | D55: =A$7 -> LIVE evenings | E55: =(C55-B55+(C55<B55))*24 -> 8.5 | F55: =IF($D55=$A$2,B$2,IF($D55=$A$3,B$3,IF($D55=$A$5,B$5,IF($D55=$A$7,B$7,IF($D55=$A$8,B$8,IF($D55=$A$6,B$6,IF($D55=$A$4,B$4,"FALSE"))))))) -> 1 | G55: =IF($D55=$A$2,C$2,IF($D55=$A$3,C$3,IF($D55=$A$5,C$5,IF($D55=$A$7,C$7,IF($D55=$A$8,C$8,IF($D55=$A$6,C$6,IF($D55=$A$4,C$4,"FALSE"))))))) -> 10 | H55: =IF($D55=$A$2,D$2,IF($D55=$A$3,D$3,IF($D55=$A$5,D$5,IF($D55=$A$7,D$7,IF($D55=$A$8,D$8,IF($D55=$A$6,D$6,IF($D55=$A$4,D$4,"FALSE"))))))) -> 4 | I55: =(F55*(E55+0.5)*$B$10)+(G55*(E55+0.5)*$B$11)+(H55*(E55+0.5)*$B$12) -> 2488.5
A56: 45109 | B56: =C55 -> 0.10416667 | C56: 0.41666667 | D56: =A$8 -> LIVE overnights / Site closed | E56: =(C56-B56+(C56<B56))*24 -> 7.5 | F56: =IF($D56=$A$2,B$2,IF($D56=$A$3,B$3,IF($D56=$A$5,B$5,IF($D56=$A$7,B$7,IF($D56=$A$8,B$8,IF($D56=$A$6,B$6,IF($D56=$A$4,B$4,"FALSE"))))))) -> 0 | G56: =IF($D56=$A$2,C$2,IF($D56=$A$3,C$3,IF($D56=$A$5,C$5,IF($D56=$A$7,C$7,IF($D56=$A$8,C$8,IF($D56=$A$6,C$6,IF($D56=$A$4,C$4,"FALSE"))))))) -> 1 | H56: =IF($D56=$A$2,D$2,IF($D56=$A$3,D$3,IF($D56=$A$5,D$5,IF($D56=$A$7,D$7,IF($D56=$A$8,D$8,IF($D56=$A$6,D$6,IF($D56=$A$4,D$4,"FALSE"))))))) -> 0 | I56: =(F56*(E56+0.5)*$B$10)+(G56*(E56+0.5)*$B$11)+(H56*(E56+0.5)*$B$12) -> 148
B57: =C56 -> 0.41666667 | C57: 0.75 | D57: LIVE daytimes (Sat and Sun) | E57: =(C57-B57+(C57<B57))*24 -> 8 | F57: =IF($D57=$A$2,B$2,IF($D57=$A$3,B$3,IF($D57=$A$5,B$5,IF($D57=$A$7,B$7,IF($D57=$A$8,B$8,IF($D57=$A$6,B$6,IF($D57=$A$4,B$4,"FALSE"))))))) -> 1 | G57: =IF($D57=$A$2,C$2,IF($D57=$A$3,C$3,IF($D57=$A$5,C$5,IF($D57=$A$7,C$7,IF($D57=$A$8,C$8,IF($D57=$A$6,C$6,IF($D57=$A$4,C$4,"FALSE"))))))) -> 8 | H57: =IF($D57=$A$2,D$2,IF($D57=$A$3,D$3,IF($D57=$A$5,D$5,IF($D57=$A$7,D$7,IF($D57=$A$8,D$8,IF($D57=$A$6,D$6,IF($D57=$A$4,D$4,"FALSE"))))))) -> 2 | I57: =(F57*(E57+0.5)*$B$10)+(G57*(E57+0.5)*$B$11)+(H57*(E57+0.5)*$B$12) -> 1738.25
B58: =C57 -> 0.75 | C58: 0.020833333 | D58: =A$7 -> LIVE evenings | E58: =(C58-B58+(C58<B58))*24 -> 6.5 | F58: =IF($D58=$A$2,B$2,IF($D58=$A$3,B$3,IF($D58=$A$5,B$5,IF($D58=$A$7,B$7,IF($D58=$A$8,B$8,IF($D58=$A$6,B$6,IF($D58=$A$4,B$4,"FALSE"))))))) -> 1 | G58: =IF($D58=$A$2,C$2,IF($D58=$A$3,C$3,IF($D58=$A$5,C$5,IF($D58=$A$7,C$7,IF($D58=$A$8,C$8,IF($D58=$A$6,C$6,IF($D58=$A$4,C$4,"FALSE"))))))) -> 10 | H58: =IF($D58=$A$2,D$2,IF($D58=$A$3,D$3,IF($D58=$A$5,D$5,IF($D58=$A$7,D$7,IF($D58=$A$8,D$8,IF($D58=$A$6,D$6,IF($D58=$A$4,D$4,"FALSE"))))))) -> 4 | I58: =(F58*(E58+0.5)*$B$10)+(G58*(E58+0.5)*$B$11)+(H58*(E58+0.5)*$B$12) -> 1935.5
A59: 45110 | B59: =C58 -> 0.020833333 | C59: 0 | D59: =A8 -> LIVE overnights / Site closed | E59: =(C59-B59+(C59<B59))*24 -> 23.5 | F59: =IF($D59=$A$2,B$2,IF($D59=$A$3,B$3,IF($D59=$A$5,B$5,IF($D59=$A$7,B$7,IF($D59=$A$8,B$8,IF($D59=$A$6,B$6,IF($D59=$A$4,B$4,"FALSE"))))))) -> 0 | G59: =IF($D59=$A$2,C$2,IF($D59=$A$3,C$3,IF($D59=$A$5,C$5,IF($D59=$A$7,C$7,IF($D59=$A$8,C$8,IF($D59=$A$6,C$6,IF($D59=$A$4,C$4,"FALSE"))))))) -> 1 | H59: =IF($D59=$A$2,D$2,IF($D59=$A$3,D$3,IF($D59=$A$5,D$5,IF($D59=$A$7,D$7,IF($D59=$A$8,D$8,IF($D59=$A$6,D$6,IF($D59=$A$4,D$4,"FALSE"))))))) -> 0 | I59: =(F59*(E59+0.5)*$B$10)+(G59*(E59+0.5)*$B$11)+(H59*(E59+0.5)*$B$12) -> 444
A60: 45111 | B60: =C59 -> 0 | C60: 0.5 | D60: LIVE overnights / Site closed | E60: =(C60-B60+(C60<B60))*24 -> 12 | F60: =IF($D60=$A$2,B$2,IF($D60=$A$3,B$3,IF($D60=$A$5,B$5,IF($D60=$A$7,B$7,IF($D60=$A$8,B$8,IF($D60=$A$6,B$6,IF($D60=$A$4,B$4,"FALSE"))))))) -> 0 | G60: =IF($D60=$A$2,C$2,IF($D60=$A$3,C$3,IF($D60=$A$5,C$5,IF($D60=$A$7,C$7,IF($D60=$A$8,C$8,IF($D60=$A$6,C$6,IF($D60=$A$4,C$4,"FALSE"))))))) -> 1 | H60: =IF($D60=$A$2,D$2,IF($D60=$A$3,D$3,IF($D60=$A$5,D$5,IF($D60=$A$7,D$7,IF($D60=$A$8,D$8,IF($D60=$A$6,D$6,IF($D60=$A$4,D$4,"FALSE"))))))) -> 0 | I60: =(F60*(E60+0.5)*$B$10)+(G60*(E60+0.5)*$B$11)+(H60*(E60+0.5)*$B$12) -> 231.25
B61: =C60 -> 0.5 | C61: 0.75 | D61: =A$5 -> LIVE daytimes | E61: =(C61-B61+(C61<B61))*24 -> 6 | F61: =IF($D61=$A$2,B$2,IF($D61=$A$3,B$3,IF($D61=$A$5,B$5,IF($D61=$A$7,B$7,IF($D61=$A$8,B$8,IF($D61=$A$6,B$6,IF($D61=$A$4,B$4,"FALSE"))))))) -> 1 | G61: =IF($D61=$A$2,C$2,IF($D61=$A$3,C$3,IF($D61=$A$5,C$5,IF($D61=$A$7,C$7,IF($D61=$A$8,C$8,IF($D61=$A$6,C$6,IF($D61=$A$4,C$4,"FALSE"))))))) -> 7 | H61: =IF($D61=$A$2,D$2,IF($D61=$A$3,D$3,IF($D61=$A$5,D$5,IF($D61=$A$7,D$7,IF($D61=$A$8,D$8,IF($D61=$A$6,D$6,IF($D61=$A$4,D$4,"FALSE"))))))) -> 2 | I61: =(F61*(E61+0.5)*$B$10)+(G61*(E61+0.5)*$B$11)+(H61*(E61+0.5)*$B$12) -> 1209
B62: =C61 -> 0.75 | C62: 0.020833333 | D62: =A$7 -> LIVE evenings | E62: =(C62-B62+(C62<B62))*24 -> 6.5 | F62: =IF($D62=$A$2,B$2,IF($D62=$A$3,B$3,IF($D62=$A$5,B$5,IF($D62=$A$7,B$7,IF($D62=$A$8,B$8,IF($D62=$A$6,B$6,IF($D62=$A$4,B$4,"FALSE"))))))) -> 1 | G62: =IF($D62=$A$2,C$2,IF($D62=$A$3,C$3,IF($D62=$A$5,C$5,IF($D62=$A$7,C$7,IF($D62=$A$8,C$8,IF($D62=$A$6,C$6,IF($D62=$A$4,C$4,"FALSE"))))))) -> 10 | H62: =IF($D62=$A$2,D$2,IF($D62=$A$3,D$3,IF($D62=$A$5,D$5,IF($D62=$A$7,D$7,IF($D62=$A$8,D$8,IF($D62=$A$6,D$6,IF($D62=$A$4,D$4,"FALSE"))))))) -> 4 | I62: =(F62*(E62+0.5)*$B$10)+(G62*(E62+0.5)*$B$11)+(H62*(E62+0.5)*$B$12) -> 1935.5
A63: 45112 | B63: =C62 -> 0.020833333 | C63: 0.5 | D63: =A$8 -> LIVE overnights / Site closed | E63: =(C63-B63+(C63<B63))*24 -> 11.5 | F63: =IF($D63=$A$2,B$2,IF($D63=$A$3,B$3,IF($D63=$A$5,B$5,IF($D63=$A$7,B$7,IF($D63=$A$8,B$8,IF($D63=$A$6,B$6,IF($D63=$A$4,B$4,"FALSE"))))))) -> 0 | G63: =IF($D63=$A$2,C$2,IF($D63=$A$3,C$3,IF($D63=$A$5,C$5,IF($D63=$A$7,C$7,IF($D63=$A$8,C$8,IF($D63=$A$6,C$6,IF($D63=$A$4,C$4,"FALSE"))))))) -> 1 | H63: =IF($D63=$A$2,D$2,IF($D63=$A$3,D$3,IF($D63=$A$5,D$5,IF($D63=$A$7,D$7,IF($D63=$A$8,D$8,IF($D63=$A$6,D$6,IF($D63=$A$4,D$4,"FALSE"))))))) -> 0 | I63: =(F63*(E63+0.5)*$B$10)+(G63*(E63+0.5)*$B$11)+(H63*(E63+0.5)*$B$12) -> 222
B64: =C63 -> 0.5 | C64: 0.75 | D64: =A$5 -> LIVE daytimes | E64: =(C64-B64+(C64<B64))*24 -> 6 | F64: =IF($D64=$A$2,B$2,IF($D64=$A$3,B$3,IF($D64=$A$5,B$5,IF($D64=$A$7,B$7,IF($D64=$A$8,B$8,IF($D64=$A$6,B$6,IF($D64=$A$4,B$4,"FALSE"))))))) -> 1 | G64: =IF($D64=$A$2,C$2,IF($D64=$A$3,C$3,IF($D64=$A$5,C$5,IF($D64=$A$7,C$7,IF($D64=$A$8,C$8,IF($D64=$A$6,C$6,IF($D64=$A$4,C$4,"FALSE"))))))) -> 7 | H64: =IF($D64=$A$2,D$2,IF($D64=$A$3,D$3,IF($D64=$A$5,D$5,IF($D64=$A$7,D$7,IF($D64=$A$8,D$8,IF($D64=$A$6,D$6,IF($D64=$A$4,D$4,"FALSE"))))))) -> 2 | I64: =(F64*(E64+0.5)*$B$10)+(G64*(E64+0.5)*$B$11)+(H64*(E64+0.5)*$B$12) -> 1209
B65: =C64 -> 0.75 | C65: 0.020833333 | D65: =A$7 -> LIVE evenings | E65: =(C65-B65+(C65<B65))*24 -> 6.5 | F65: =IF($D65=$A$2,B$2,IF($D65=$A$3,B$3,IF($D65=$A$5,B$5,IF($D65=$A$7,B$7,IF($D65=$A$8,B$8,IF($D65=$A$6,B$6,IF($D65=$A$4,B$4,"FALSE"))))))) -> 1 | G65: =IF($D65=$A$2,C$2,IF($D65=$A$3,C$3,IF($D65=$A$5,C$5,IF($D65=$A$7,C$7,IF($D65=$A$8,C$8,IF($D65=$A$6,C$6,IF($D65=$A$4,C$4,"FALSE"))))))) -> 10 | H65: =IF($D65=$A$2,D$2,IF($D65=$A$3,D$3,IF($D65=$A$5,D$5,IF($D65=$A$7,D$7,IF($D65=$A$8,D$8,IF($D65=$A$6,D$6,IF($D65=$A$4,D$4,"FALSE"))))))) -> 4 | I65: =(F65*(E65+0.5)*$B$10)+(G65*(E65+0.5)*$B$11)+(H65*(E65+0.5)*$B$12) -> 1935.5
A66: 45113 | B66: =C65 -> 0.020833333 | C66: 0.5 | D66: =A$8 -> LIVE overnights / Site closed | E66: =(C66-B66+(C66<B66))*24 -> 11.5 | F66: =IF($D66=$A$2,B$2,IF($D66=$A$3,B$3,IF($D66=$A$5,B$5,IF($D66=$A$7,B$7,IF($D66=$A$8,B$8,IF($D66=$A$6,B$6,IF($D66=$A$4,B$4,"FALSE"))))))) -> 0 | G66: =IF($D66=$A$2,C$2,IF($D66=$A$3,C$3,IF($D66=$A$5,C$5,IF($D66=$A$7,C$7,IF($D66=$A$8,C$8,IF($D66=$A$6,C$6,IF($D66=$A$4,C$4,"FALSE"))))))) -> 1 | H66: =IF($D66=$A$2,D$2,IF($D66=$A$3,D$3,IF($D66=$A$5,D$5,IF($D66=$A$7,D$7,IF($D66=$A$8,D$8,IF($D66=$A$6,D$6,IF($D66=$A$4,D$4,"FALSE"))))))) -> 0 | I66: =(F66*(E66+0.5)*$B$10)+(G66*(E66+0.5)*$B$11)+(H66*(E66+0.5)*$B$12) -> 222
B67: =C66 -> 0.5 | C67: 0.75 | D67: =A$5 -> LIVE daytimes | E67: =(C67-B67+(C67<B67))*24 -> 6 | F67: =IF($D67=$A$2,B$2,IF($D67=$A$3,B$3,IF($D67=$A$5,B$5,IF($D67=$A$7,B$7,IF($D67=$A$8,B$8,IF($D67=$A$6,B$6,IF($D67=$A$4,B$4,"FALSE"))))))) -> 1 | G67: =IF($D67=$A$2,C$2,IF($D67=$A$3,C$3,IF($D67=$A$5,C$5,IF($D67=$A$7,C$7,IF($D67=$A$8,C$8,IF($D67=$A$6,C$6,IF($D67=$A$4,C$4,"FALSE"))))))) -> 7 | H67: =IF($D67=$A$2,D$2,IF($D67=$A$3,D$3,IF($D67=$A$5,D$5,IF($D67=$A$7,D$7,IF($D67=$A$8,D$8,IF($D67=$A$6,D$6,IF($D67=$A$4,D$4,"FALSE"))))))) -> 2 | I67: =(F67*(E67+0.5)*$B$10)+(G67*(E67+0.5)*$B$11)+(H67*(E67+0.5)*$B$12) -> 1209
B68: =C67 -> 0.75 | C68: 0.0625 | D68: =A$7 -> LIVE evenings | E68: =(C68-B68+(C68<B68))*24 -> 7.5 | F68: =IF($D68=$A$2,B$2,IF($D68=$A$3,B$3,IF($D68=$A$5,B$5,IF($D68=$A$7,B$7,IF($D68=$A$8,B$8,IF($D68=$A$6,B$6,IF($D68=$A$4,B$4,"FALSE"))))))) -> 1 | G68: =IF($D68=$A$2,C$2,IF($D68=$A$3,C$3,IF($D68=$A$5,C$5,IF($D68=$A$7,C$7,IF($D68=$A$8,C$8,IF($D68=$A$6,C$6,IF($D68=$A$4,C$4,"FALSE"))))))) -> 10 | H68: =IF($D68=$A$2,D$2,IF($D68=$A$3,D$3,IF($D68=$A$5,D$5,IF($D68=$A$7,D$7,IF($D68=$A$8,D$8,IF($D68=$A$6,D$6,IF($D68=$A$4,D$4,"FALSE"))))))) -> 4 | I68: =(F68*(E68+0.5)*$B$10)+(G68*(E68+0.5)*$B$11)+(H68*(E68+0.5)*$B$12) -> 2212
A69: 45114 | B69: =C68 -> 0.0625 | C69: 0.5 | D69: =A$8 -> LIVE overnights / Site closed | E69: =(C69-B69+(C69<B69))*24 -> 10.5 | F69: =IF($D69=$A$2,B$2,IF($D69=$A$3,B$3,IF($D69=$A$5,B$5,IF($D69=$A$7,B$7,IF($D69=$A$8,B$8,IF($D69=$A$6,B$6,IF($D69=$A$4,B$4,"FALSE"))))))) -> 0 | G69: =IF($D69=$A$2,C$2,IF($D69=$A$3,C$3,IF($D69=$A$5,C$5,IF($D69=$A$7,C$7,IF($D69=$A$8,C$8,IF($D69=$A$6,C$6,IF($D69=$A$4,C$4,"FALSE"))))))) -> 1 | H69: =IF($D69=$A$2,D$2,IF($D69=$A$3,D$3,IF($D69=$A$5,D$5,IF($D69=$A$7,D$7,IF($D69=$A$8,D$8,IF($D69=$A$6,D$6,IF($D69=$A$4,D$4,"FALSE"))))))) -> 0 | I69: =(F69*(E69+0.5)*$B$10)+(G69*(E69+0.5)*$B$11)+(H69*(E69+0.5)*$B$12) -> 203.5
B70: =C69 -> 0.5 | C70: 0.75 | D70: =A$5 -> LIVE daytimes | E70: =(C70-B70+(C70<B70))*24 -> 6 | F70: =IF($D70=$A$2,B$2,IF($D70=$A$3,B$3,IF($D70=$A$5,B$5,IF($D70=$A$7,B$7,IF($D70=$A$8,B$8,IF($D70=$A$6,B$6,IF($D70=$A$4,B$4,"FALSE"))))))) -> 1 | G70: =IF($D70=$A$2,C$2,IF($D70=$A$3,C$3,IF($D70=$A$5,C$5,IF($D70=$A$7,C$7,IF($D70=$A$8,C$8,IF($D70=$A$6,C$6,IF($D70=$A$4,C$4,"FALSE"))))))) -> 7 | H70: =IF($D70=$A$2,D$2,IF($D70=$A$3,D$3,IF($D70=$A$5,D$5,IF($D70=$A$7,D$7,IF($D70=$A$8,D$8,IF($D70=$A$6,D$6,IF($D70=$A$4,D$4,"FALSE"))))))) -> 2 | I70: =(F70*(E70+0.5)*$B$10)+(G70*(E70+0.5)*$B$11)+(H70*(E70+0.5)*$B$12) -> 1209
B71: =C70 -> 0.75 | C71: 0.10416667 | D71: =A$7 -> LIVE evenings | E71: =(C71-B71+(C71<B71))*24 -> 8.5 | F71: =IF($D71=$A$2,B$2,IF($D71=$A$3,B$3,IF($D71=$A$5,B$5,IF($D71=$A$7,B$7,IF($D71=$A$8,B$8,IF($D71=$A$6,B$6,IF($D71=$A$4,B$4,"FALSE"))))))) -> 1 | G71: =IF($D71=$A$2,C$2,IF($D71=$A$3,C$3,IF($D71=$A$5,C$5,IF($D71=$A$7,C$7,IF($D71=$A$8,C$8,IF($D71=$A$6,C$6,IF($D71=$A$4,C$4,"FALSE"))))))) -> 10 | H71: =IF($D71=$A$2,D$2,IF($D71=$A$3,D$3,IF($D71=$A$5,D$5,IF($D71=$A$7,D$7,IF($D71=$A$8,D$8,IF($D71=$A$6,D$6,IF($D71=$A$4,D$4,"FALSE"))))))) -> 4 | I71: =(F71*(E71+0.5)*$B$10)+(G71*(E71+0.5)*$B$11)+(H71*(E71+0.5)*$B$12) -> 2488.5
A72: 45115 | B72: =C71 -> 0.10416667 | C72: 0.41666667 | D72: =A$8 -> LIVE overnights / Site closed | E72: =(C72-B72+(C72<B72))*24 -> 7.5 | F72: =IF($D72=$A$2,B$2,IF($D72=$A$3,B$3,IF($D72=$A$5,B$5,IF($D72=$A$7,B$7,IF($D72=$A$8,B$8,IF($D72=$A$6,B$6,IF($D72=$A$4,B$4,"FALSE"))))))) -> 0 | G72: =IF($D72=$A$2,C$2,IF($D72=$A$3,C$3,IF($D72=$A$5,C$5,IF($D72=$A$7,C$7,IF($D72=$A$8,C$8,IF($D72=$A$6,C$6,IF($D72=$A$4,C$4,"FALSE"))))))) -> 1 | H72: =IF($D72=$A$2,D$2,IF($D72=$A$3,D$3,IF($D72=$A$5,D$5,IF($D72=$A$7,D$7,IF($D72=$A$8,D$8,IF($D72=$A$6,D$6,IF($D72=$A$4,D$4,"FALSE"))))))) -> 0 | I72: =(F72*(E72+0.5)*$B$10)+(G72*(E72+0.5)*$B$11)+(H72*(E72+0.5)*$B$12) -> 148
B73: =C72 -> 0.41666667 | C73: 0.75 | D73: LIVE daytimes (Sat and Sun) | E73: =(C73-B73+(C73<B73))*24 -> 8 | F73: =IF($D73=$A$2,B$2,IF($D73=$A$3,B$3,IF($D73=$A$5,B$5,IF($D73=$A$7,B$7,IF($D73=$A$8,B$8,IF($D73=$A$6,B$6,IF($D73=$A$4,B$4,"FALSE"))))))) -> 1 | G73: =IF($D73=$A$2,C$2,IF($D73=$A$3,C$3,IF($D73=$A$5,C$5,IF($D73=$A$7,C$7,IF($D73=$A$8,C$8,IF($D73=$A$6,C$6,IF($D73=$A$4,C$4,"FALSE"))))))) -> 8 | H73: =IF($D73=$A$2,D$2,IF($D73=$A$3,D$3,IF($D73=$A$5,D$5,IF($D73=$A$7,D$7,IF($D73=$A$8,D$8,IF($D73=$A$6,D$6,IF($D73=$A$4,D$4,"FALSE"))))))) -> 2 | I73: =(F73*(E73+0.5)*$B$10)+(G73*(E73+0.5)*$B$11)+(H73*(E73+0.5)*$B$12) -> 1738.25
B74: =C73 -> 0.75 | C74: 0.10416667 | D74: =A$7 -> LIVE evenings | E74: =(C74-B74+(C74<B74))*24 -> 8.5 | F74: =IF($D74=$A$2,B$2,IF($D74=$A$3,B$3,IF($D74=$A$5,B$5,IF($D74=$A$7,B$7,IF($D74=$A$8,B$8,IF($D74=$A$6,B$6,IF($D74=$A$4,B$4,"FALSE"))))))) -> 1 | G74: =IF($D74=$A$2,C$2,IF($D74=$A$3,C$3,IF($D74=$A$5,C$5,IF($D74=$A$7,C$7,IF($D74=$A$8,C$8,IF($D74=$A$6,C$6,IF($D74=$A$4,C$4,"FALSE"))))))) -> 10 | H74: =IF($D74=$A$2,D$2,IF($D74=$A$3,D$3,IF($D74=$A$5,D$5,IF($D74=$A$7,D$7,IF($D74=$A$8,D$8,IF($D74=$A$6,D$6,IF($D74=$A$4,D$4,"FALSE"))))))) -> 4 | I74: =(F74*(E74+0.5)*$B$10)+(G74*(E74+0.5)*$B$11)+(H74*(E74+0.5)*$B$12) -> 2488.5
A75: 45116 | B75: =C74 -> 0.10416667 | C75: 0.41666667 | D75: =A$8 -> LIVE overnights / Site closed | E75: =(C75-B75+(C75<B75))*24 -> 7.5 | F75: =IF($D75=$A$2,B$2,IF($D75=$A$3,B$3,IF($D75=$A$5,B$5,IF($D75=$A$7,B$7,IF($D75=$A$8,B$8,IF($D75=$A$6,B$6,IF($D75=$A$4,B$4,"FALSE"))))))) -> 0 | G75: =IF($D75=$A$2,C$2,IF($D75=$A$3,C$3,IF($D75=$A$5,C$5,IF($D75=$A$7,C$7,IF($D75=$A$8,C$8,IF($D75=$A$6,C$6,IF($D75=$A$4,C$4,"FALSE"))))))) -> 1 | H75: =IF($D75=$A$2,D$2,IF($D75=$A$3,D$3,IF($D75=$A$5,D$5,IF($D75=$A$7,D$7,IF($D75=$A$8,D$8,IF($D75=$A$6,D$6,IF($D75=$A$4,D$4,"FALSE"))))))) -> 0 | I75: =(F75*(E75+0.5)*$B$10)+(G75*(E75+0.5)*$B$11)+(H75*(E75+0.5)*$B$12) -> 148
B76: =C75 -> 0.41666667 | C76: 0.75 | D76: LIVE daytimes (Sat and Sun) | E76: =(C76-B76+(C76<B76))*24 -> 8 | F76: =IF($D76=$A$2,B$2,IF($D76=$A$3,B$3,IF($D76=$A$5,B$5,IF($D76=$A$7,B$7,IF($D76=$A$8,B$8,IF($D76=$A$6,B$6,IF($D76=$A$4,B$4,"FALSE"))))))) -> 1 | G76: =IF($D76=$A$2,C$2,IF($D76=$A$3,C$3,IF($D76=$A$5,C$5,IF($D76=$A$7,C$7,IF($D76=$A$8,C$8,IF($D76=$A$6,C$6,IF($D76=$A$4,C$4,"FALSE"))))))) -> 8 | H76: =IF($D76=$A$2,D$2,IF($D76=$A$3,D$3,IF($D76=$A$5,D$5,IF($D76=$A$7,D$7,IF($D76=$A$8,D$8,IF($D76=$A$6,D$6,IF($D76=$A$4,D$4,"FALSE"))))))) -> 2 | I76: =(F76*(E76+0.5)*$B$10)+(G76*(E76+0.5)*$B$11)+(H76*(E76+0.5)*$B$12) -> 1738.25
B77: =C76 -> 0.75 | C77: 0.020833333 | D77: =A$7 -> LIVE evenings | E77: =(C77-B77+(C77<B77))*24 -> 6.5 | F77: =IF($D77=$A$2,B$2,IF($D77=$A$3,B$3,IF($D77=$A$5,B$5,IF($D77=$A$7,B$7,IF($D77=$A$8,B$8,IF($D77=$A$6,B$6,IF($D77=$A$4,B$4,"FALSE"))))))) -> 1 | G77: =IF($D77=$A$2,C$2,IF($D77=$A$3,C$3,IF($D77=$A$5,C$5,IF($D77=$A$7,C$7,IF($D77=$A$8,C$8,IF($D77=$A$6,C$6,IF($D77=$A$4,C$4,"FALSE"))))))) -> 10 | H77: =IF($D77=$A$2,D$2,IF($D77=$A$3,D$3,IF($D77=$A$5,D$5,IF($D77=$A$7,D$7,IF($D77=$A$8,D$8,IF($D77=$A$6,D$6,IF($D77=$A$4,D$4,"FALSE"))))))) -> 4 | I77: =(F77*(E77+0.5)*$B$10)+(G77*(E77+0.5)*$B$11)+(H77*(E77+0.5)*$B$12) -> 1935.5
A78: 45117 | B78: =C77 -> 0.020833333 | C78: 0 | D78: =A$8 -> LIVE overnights / Site closed | E78: =(C78-B78+(C78<B78))*24 -> 23.5 | F78: =IF($D78=$A$2,B$2,IF($D78=$A$3,B$3,IF($D78=$A$5,B$5,IF($D78=$A$7,B$7,IF($D78=$A$8,B$8,IF($D78=$A$6,B$6,IF($D78=$A$4,B$4,"FALSE"))))))) -> 0 | G78: =IF($D78=$A$2,C$2,IF($D78=$A$3,C$3,IF($D78=$A$5,C$5,IF($D78=$A$7,C$7,IF($D78=$A$8,C$8,IF($D78=$A$6,C$6,IF($D78=$A$4,C$4,"FALSE"))))))) -> 1 | H78: =IF($D78=$A$2,D$2,IF($D78=$A$3,D$3,IF($D78=$A$5,D$5,IF($D78=$A$7,D$7,IF($D78=$A$8,D$8,IF($D78=$A$6,D$6,IF($D78=$A$4,D$4,"FALSE"))))))) -> 0 | I78: =(F78*(E78+0.5)*$B$10)+(G78*(E78+0.5)*$B$11)+(H78*(E78+0.5)*$B$12) -> 444
A79: 45118 | B79: =C78 -> 0 | C79: 0.5 | D79: LIVE overnights / Site closed | E79: =(C79-B79+(C79<B79))*24 -> 12 | F79: =IF($D79=$A$2,B$2,IF($D79=$A$3,B$3,IF($D79=$A$5,B$5,IF($D79=$A$7,B$7,IF($D79=$A$8,B$8,IF($D79=$A$6,B$6,IF($D79=$A$4,B$4,"FALSE"))))))) -> 0 | G79: =IF($D79=$A$2,C$2,IF($D79=$A$3,C$3,IF($D79=$A$5,C$5,IF($D79=$A$7,C$7,IF($D79=$A$8,C$8,IF($D79=$A$6,C$6,IF($D79=$A$4,C$4,"FALSE"))))))) -> 1 | H79: =IF($D79=$A$2,D$2,IF($D79=$A$3,D$3,IF($D79=$A$5,D$5,IF($D79=$A$7,D$7,IF($D79=$A$8,D$8,IF($D79=$A$6,D$6,IF($D79=$A$4,D$4,"FALSE"))))))) -> 0 | I79: =(F79*(E79+0.5)*$B$10)+(G79*(E79+0.5)*$B$11)+(H79*(E79+0.5)*$B$12) -> 231.25
B80: =C79 -> 0.5 | C80: 0.75 | D80: =A$5 -> LIVE daytimes | E80: =(C80-B80+(C80<B80))*24 -> 6 | F80: =IF($D80=$A$2,B$2,IF($D80=$A$3,B$3,IF($D80=$A$5,B$5,IF($D80=$A$7,B$7,IF($D80=$A$8,B$8,IF($D80=$A$6,B$6,IF($D80=$A$4,B$4,"FALSE"))))))) -> 1 | G80: =IF($D80=$A$2,C$2,IF($D80=$A$3,C$3,IF($D80=$A$5,C$5,IF($D80=$A$7,C$7,IF($D80=$A$8,C$8,IF($D80=$A$6,C$6,IF($D80=$A$4,C$4,"FALSE"))))))) -> 7 | H80: =IF($D80=$A$2,D$2,IF($D80=$A$3,D$3,IF($D80=$A$5,D$5,IF($D80=$A$7,D$7,IF($D80=$A$8,D$8,IF($D80=$A$6,D$6,IF($D80=$A$4,D$4,"FALSE"))))))) -> 2 | I80: =(F80*(E80+0.5)*$B$10)+(G80*(E80+0.5)*$B$11)+(H80*(E80+0.5)*$B$12) -> 1209
B81: =C80 -> 0.75 | C81: 0.020833333 | D81: =A$7 -> LIVE evenings | E81: =(C81-B81+(C81<B81))*24 -> 6.5 | F81: =IF($D81=$A$2,B$2,IF($D81=$A$3,B$3,IF($D81=$A$5,B$5,IF($D81=$A$7,B$7,IF($D81=$A$8,B$8,IF($D81=$A$6,B$6,IF($D81=$A$4,B$4,"FALSE"))))))) -> 1 | G81: =IF($D81=$A$2,C$2,IF($D81=$A$3,C$3,IF($D81=$A$5,C$5,IF($D81=$A$7,C$7,IF($D81=$A$8,C$8,IF($D81=$A$6,C$6,IF($D81=$A$4,C$4,"FALSE"))))))) -> 10 | H81: =IF($D81=$A$2,D$2,IF($D81=$A$3,D$3,IF($D81=$A$5,D$5,IF($D81=$A$7,D$7,IF($D81=$A$8,D$8,IF($D81=$A$6,D$6,IF($D81=$A$4,D$4,"FALSE"))))))) -> 4 | I81: =(F81*(E81+0.5)*$B$10)+(G81*(E81+0.5)*$B$11)+(H81*(E81+0.5)*$B$12) -> 1935.5
A82: 45119 | B82: =C81 -> 0.020833333 | C82: 0.5 | D82: =A$8 -> LIVE overnights / Site closed | E82: =(C82-B82+(C82<B82))*24 -> 11.5 | F82: =IF($D82=$A$2,B$2,IF($D82=$A$3,B$3,IF($D82=$A$5,B$5,IF($D82=$A$7,B$7,IF($D82=$A$8,B$8,IF($D82=$A$6,B$6,IF($D82=$A$4,B$4,"FALSE"))))))) -> 0 | G82: =IF($D82=$A$2,C$2,IF($D82=$A$3,C$3,IF($D82=$A$5,C$5,IF($D82=$A$7,C$7,IF($D82=$A$8,C$8,IF($D82=$A$6,C$6,IF($D82=$A$4,C$4,"FALSE"))))))) -> 1 | H82: =IF($D82=$A$2,D$2,IF($D82=$A$3,D$3,IF($D82=$A$5,D$5,IF($D82=$A$7,D$7,IF($D82=$A$8,D$8,IF($D82=$A$6,D$6,IF($D82=$A$4,D$4,"FALSE"))))))) -> 0 | I82: =(F82*(E82+0.5)*$B$10)+(G82*(E82+0.5)*$B$11)+(H82*(E82+0.5)*$B$12) -> 222
B83: =C82 -> 0.5 | C83: 0.75 | D83: =A$5 -> LIVE daytimes | E83: =(C83-B83+(C83<B83))*24 -> 6 | F83: =IF($D83=$A$2,B$2,IF($D83=$A$3,B$3,IF($D83=$A$5,B$5,IF($D83=$A$7,B$7,IF($D83=$A$8,B$8,IF($D83=$A$6,B$6,IF($D83=$A$4,B$4,"FALSE"))))))) -> 1 | G83: =IF($D83=$A$2,C$2,IF($D83=$A$3,C$3,IF($D83=$A$5,C$5,IF($D83=$A$7,C$7,IF($D83=$A$8,C$8,IF($D83=$A$6,C$6,IF($D83=$A$4,C$4,"FALSE"))))))) -> 7 | H83: =IF($D83=$A$2,D$2,IF($D83=$A$3,D$3,IF($D83=$A$5,D$5,IF($D83=$A$7,D$7,IF($D83=$A$8,D$8,IF($D83=$A$6,D$6,IF($D83=$A$4,D$4,"FALSE"))))))) -> 2 | I83: =(F83*(E83+0.5)*$B$10)+(G83*(E83+0.5)*$B$11)+(H83*(E83+0.5)*$B$12) -> 1209
B84: =C83 -> 0.75 | C84: 0.020833333 | D84: =A$7 -> LIVE evenings | E84: =(C84-B84+(C84<B84))*24 -> 6.5 | F84: =IF($D84=$A$2,B$2,IF($D84=$A$3,B$3,IF($D84=$A$5,B$5,IF($D84=$A$7,B$7,IF($D84=$A$8,B$8,IF($D84=$A$6,B$6,IF($D84=$A$4,B$4,"FALSE"))))))) -> 1 | G84: =IF($D84=$A$2,C$2,IF($D84=$A$3,C$3,IF($D84=$A$5,C$5,IF($D84=$A$7,C$7,IF($D84=$A$8,C$8,IF($D84=$A$6,C$6,IF($D84=$A$4,C$4,"FALSE"))))))) -> 10 | H84: =IF($D84=$A$2,D$2,IF($D84=$A$3,D$3,IF($D84=$A$5,D$5,IF($D84=$A$7,D$7,IF($D84=$A$8,D$8,IF($D84=$A$6,D$6,IF($D84=$A$4,D$4,"FALSE"))))))) -> 4 | I84: =(F84*(E84+0.5)*$B$10)+(G84*(E84+0.5)*$B$11)+(H84*(E84+0.5)*$B$12) -> 1935.5
A85: 45120 | B85: =C84 -> 0.020833333 | C85: 0.5 | D85: =A$8 -> LIVE overnights / Site closed | E85: =(C85-B85+(C85<B85))*24 -> 11.5 | F85: =IF($D85=$A$2,B$2,IF($D85=$A$3,B$3,IF($D85=$A$5,B$5,IF($D85=$A$7,B$7,IF($D85=$A$8,B$8,IF($D85=$A$6,B$6,IF($D85=$A$4,B$4,"FALSE"))))))) -> 0 | G85: =IF($D85=$A$2,C$2,IF($D85=$A$3,C$3,IF($D85=$A$5,C$5,IF($D85=$A$7,C$7,IF($D85=$A$8,C$8,IF($D85=$A$6,C$6,IF($D85=$A$4,C$4,"FALSE"))))))) -> 1 | H85: =IF($D85=$A$2,D$2,IF($D85=$A$3,D$3,IF($D85=$A$5,D$5,IF($D85=$A$7,D$7,IF($D85=$A$8,D$8,IF($D85=$A$6,D$6,IF($D85=$A$4,D$4,"FALSE"))))))) -> 0 | I85: =(F85*(E85+0.5)*$B$10)+(G85*(E85+0.5)*$B$11)+(H85*(E85+0.5)*$B$12) -> 222
B86: =C85 -> 0.5 | C86: 0.75 | D86: =A$5 -> LIVE daytimes | E86: =(C86-B86+(C86<B86))*24 -> 6 | F86: =IF($D86=$A$2,B$2,IF($D86=$A$3,B$3,IF($D86=$A$5,B$5,IF($D86=$A$7,B$7,IF($D86=$A$8,B$8,IF($D86=$A$6,B$6,IF($D86=$A$4,B$4,"FALSE"))))))) -> 1 | G86: =IF($D86=$A$2,C$2,IF($D86=$A$3,C$3,IF($D86=$A$5,C$5,IF($D86=$A$7,C$7,IF($D86=$A$8,C$8,IF($D86=$A$6,C$6,IF($D86=$A$4,C$4,"FALSE"))))))) -> 7 | H86: =IF($D86=$A$2,D$2,IF($D86=$A$3,D$3,IF($D86=$A$5,D$5,IF($D86=$A$7,D$7,IF($D86=$A$8,D$8,IF($D86=$A$6,D$6,IF($D86=$A$4,D$4,"FALSE"))))))) -> 2 | I86: =(F86*(E86+0.5)*$B$10)+(G86*(E86+0.5)*$B$11)+(H86*(E86+0.5)*$B$12) -> 1209
B87: =C86 -> 0.75 | C87: 0.0625 | D87: =A$7 -> LIVE evenings | E87: =(C87-B87+(C87<B87))*24 -> 7.5 | F87: =IF($D87=$A$2,B$2,IF($D87=$A$3,B$3,IF($D87=$A$5,B$5,IF($D87=$A$7,B$7,IF($D87=$A$8,B$8,IF($D87=$A$6,B$6,IF($D87=$A$4,B$4,"FALSE"))))))) -> 1 | G87: =IF($D87=$A$2,C$2,IF($D87=$A$3,C$3,IF($D87=$A$5,C$5,IF($D87=$A$7,C$7,IF($D87=$A$8,C$8,IF($D87=$A$6,C$6,IF($D87=$A$4,C$4,"FALSE"))))))) -> 10 | H87: =IF($D87=$A$2,D$2,IF($D87=$A$3,D$3,IF($D87=$A$5,D$5,IF($D87=$A$7,D$7,IF($D87=$A$8,D$8,IF($D87=$A$6,D$6,IF($D87=$A$4,D$4,"FALSE"))))))) -> 4 | I87: =(F87*(E87+0.5)*$B$10)+(G87*(E87+0.5)*$B$11)+(H87*(E87+0.5)*$B$12) -> 2212
A88: 45121 | B88: =C87 -> 0.0625 | C88: 0.5 | D88: =A$8 -> LIVE overnights / Site closed | E88: =(C88-B88+(C88<B88))*24 -> 10.5 | F88: =IF($D88=$A$2,B$2,IF($D88=$A$3,B$3,IF($D88=$A$5,B$5,IF($D88=$A$7,B$7,IF($D88=$A$8,B$8,IF($D88=$A$6,B$6,IF($D88=$A$4,B$4,"FALSE"))))))) -> 0 | G88: =IF($D88=$A$2,C$2,IF($D88=$A$3,C$3,IF($D88=$A$5,C$5,IF($D88=$A$7,C$7,IF($D88=$A$8,C$8,IF($D88=$A$6,C$6,IF($D88=$A$4,C$4,"FALSE"))))))) -> 1 | H88: =IF($D88=$A$2,D$2,IF($D88=$A$3,D$3,IF($D88=$A$5,D$5,IF($D88=$A$7,D$7,IF($D88=$A$8,D$8,IF($D88=$A$6,D$6,IF($D88=$A$4,D$4,"FALSE"))))))) -> 0 | I88: =(F88*(E88+0.5)*$B$10)+(G88*(E88+0.5)*$B$11)+(H88*(E88+0.5)*$B$12) -> 203.5
B89: =C88 -> 0.5 | C89: 0.75 | D89: =A$5 -> LIVE daytimes | E89: =(C89-B89+(C89<B89))*24 -> 6 | F89: =IF($D89=$A$2,B$2,IF($D89=$A$3,B$3,IF($D89=$A$5,B$5,IF($D89=$A$7,B$7,IF($D89=$A$8,B$8,IF($D89=$A$6,B$6,IF($D89=$A$4,B$4,"FALSE"))))))) -> 1 | G89: =IF($D89=$A$2,C$2,IF($D89=$A$3,C$3,IF($D89=$A$5,C$5,IF($D89=$A$7,C$7,IF($D89=$A$8,C$8,IF($D89=$A$6,C$6,IF($D89=$A$4,C$4,"FALSE"))))))) -> 7 | H89: =IF($D89=$A$2,D$2,IF($D89=$A$3,D$3,IF($D89=$A$5,D$5,IF($D89=$A$7,D$7,IF($D89=$A$8,D$8,IF($D89=$A$6,D$6,IF($D89=$A$4,D$4,"FALSE"))))))) -> 2 | I89: =(F89*(E89+0.5)*$B$10)+(G89*(E89+0.5)*$B$11)+(H89*(E89+0.5)*$B$12) -> 1209
B90: =C89 -> 0.75 | C90: 0.10416667 | D90: =A$7 -> LIVE evenings | E90: =(C90-B90+(C90<B90))*24 -> 8.5 | F90: =IF($D90=$A$2,B$2,IF($D90=$A$3,B$3,IF($D90=$A$5,B$5,IF($D90=$A$7,B$7,IF($D90=$A$8,B$8,IF($D90=$A$6,B$6,IF($D90=$A$4,B$4,"FALSE"))))))) -> 1 | G90: =IF($D90=$A$2,C$2,IF($D90=$A$3,C$3,IF($D90=$A$5,C$5,IF($D90=$A$7,C$7,IF($D90=$A$8,C$8,IF($D90=$A$6,C$6,IF($D90=$A$4,C$4,"FALSE"))))))) -> 10 | H90: =IF($D90=$A$2,D$2,IF($D90=$A$3,D$3,IF($D90=$A$5,D$5,IF($D90=$A$7,D$7,IF($D90=$A$8,D$8,IF($D90=$A$6,D$6,IF($D90=$A$4,D$4,"FALSE"))))))) -> 4 | I90: =(F90*(E90+0.5)*$B$10)+(G90*(E90+0.5)*$B$11)+(H90*(E90+0.5)*$B$12) -> 2488.5
A91: 45122 | B91: =C90 -> 0.10416667 | C91: 0.41666667 | D91: =A$8 -> LIVE overnights / Site closed | E91: =(C91-B91+(C91<B91))*24 -> 7.5 | F91: =IF($D91=$A$2,B$2,IF($D91=$A$3,B$3,IF($D91=$A$5,B$5,IF($D91=$A$7,B$7,IF($D91=$A$8,B$8,IF($D91=$A$6,B$6,IF($D91=$A$4,B$4,"FALSE"))))))) -> 0 | G91: =IF($D91=$A$2,C$2,IF($D91=$A$3,C$3,IF($D91=$A$5,C$5,IF($D91=$A$7,C$7,IF($D91=$A$8,C$8,IF($D91=$A$6,C$6,IF($D91=$A$4,C$4,"FALSE"))))))) -> 1 | H91: =IF($D91=$A$2,D$2,IF($D91=$A$3,D$3,IF($D91=$A$5,D$5,IF($D91=$A$7,D$7,IF($D91=$A$8,D$8,IF($D91=$A$6,D$6,IF($D91=$A$4,D$4,"FALSE"))))))) -> 0 | I91: =(F91*(E91+0.5)*$B$10)+(G91*(E91+0.5)*$B$11)+(H91*(E91+0.5)*$B$12) -> 148
B92: =C91 -> 0.41666667 | C92: 0.75 | D92: LIVE daytimes (Sat and Sun) | E92: =(C92-B92+(C92<B92))*24 -> 8 | F92: =IF($D92=$A$2,B$2,IF($D92=$A$3,B$3,IF($D92=$A$5,B$5,IF($D92=$A$7,B$7,IF($D92=$A$8,B$8,IF($D92=$A$6,B$6,IF($D92=$A$4,B$4,"FALSE"))))))) -> 1 | G92: =IF($D92=$A$2,C$2,IF($D92=$A$3,C$3,IF($D92=$A$5,C$5,IF($D92=$A$7,C$7,IF($D92=$A$8,C$8,IF($D92=$A$6,C$6,IF($D92=$A$4,C$4,"FALSE"))))))) -> 8 | H92: =IF($D92=$A$2,D$2,IF($D92=$A$3,D$3,IF($D92=$A$5,D$5,IF($D92=$A$7,D$7,IF($D92=$A$8,D$8,IF($D92=$A$6,D$6,IF($D92=$A$4,D$4,"FALSE"))))))) -> 2 | I92: =(F92*(E92+0.5)*$B$10)+(G92*(E92+0.5)*$B$11)+(H92*(E92+0.5)*$B$12) -> 1738.25
B93: =C92 -> 0.75 | C93: 0.10416667 | D93: =A$7 -> LIVE evenings | E93: =(C93-B93+(C93<B93))*24 -> 8.5 | F93: =IF($D93=$A$2,B$2,IF($D93=$A$3,B$3,IF($D93=$A$5,B$5,IF($D93=$A$7,B$7,IF($D93=$A$8,B$8,IF($D93=$A$6,B$6,IF($D93=$A$4,B$4,"FALSE"))))))) -> 1 | G93: =IF($D93=$A$2,C$2,IF($D93=$A$3,C$3,IF($D93=$A$5,C$5,IF($D93=$A$7,C$7,IF($D93=$A$8,C$8,IF($D93=$A$6,C$6,IF($D93=$A$4,C$4,"FALSE"))))))) -> 10 | H93: =IF($D93=$A$2,D$2,IF($D93=$A$3,D$3,IF($D93=$A$5,D$5,IF($D93=$A$7,D$7,IF($D93=$A$8,D$8,IF($D93=$A$6,D$6,IF($D93=$A$4,D$4,"FALSE"))))))) -> 4 | I93: =(F93*(E93+0.5)*$B$10)+(G93*(E93+0.5)*$B$11)+(H93*(E93+0.5)*$B$12) -> 2488.5
A94: 45123 | B94: =C93 -> 0.10416667 | C94: 0.41666667 | D94: =A$8 -> LIVE overnights / Site closed | E94: =(C94-B94+(C94<B94))*24 -> 7.5 | F94: =IF($D94=$A$2,B$2,IF($D94=$A$3,B$3,IF($D94=$A$5,B$5,IF($D94=$A$7,B$7,IF($D94=$A$8,B$8,IF($D94=$A$6,B$6,IF($D94=$A$4,B$4,"FALSE"))))))) -> 0 | G94: =IF($D94=$A$2,C$2,IF($D94=$A$3,C$3,IF($D94=$A$5,C$5,IF($D94=$A$7,C$7,IF($D94=$A$8,C$8,IF($D94=$A$6,C$6,IF($D94=$A$4,C$4,"FALSE"))))))) -> 1 | H94: =IF($D94=$A$2,D$2,IF($D94=$A$3,D$3,IF($D94=$A$5,D$5,IF($D94=$A$7,D$7,IF($D94=$A$8,D$8,IF($D94=$A$6,D$6,IF($D94=$A$4,D$4,"FALSE"))))))) -> 0 | I94: =(F94*(E94+0.5)*$B$10)+(G94*(E94+0.5)*$B$11)+(H94*(E94+0.5)*$B$12) -> 148
B95: =C94 -> 0.41666667 | C95: 0.75 | D95: LIVE daytimes (Sat and Sun) | E95: =(C95-B95+(C95<B95))*24 -> 8 | F95: =IF($D95=$A$2,B$2,IF($D95=$A$3,B$3,IF($D95=$A$5,B$5,IF($D95=$A$7,B$7,IF($D95=$A$8,B$8,IF($D95=$A$6,B$6,IF($D95=$A$4,B$4,"FALSE"))))))) -> 1 | G95: =IF($D95=$A$2,C$2,IF($D95=$A$3,C$3,IF($D95=$A$5,C$5,IF($D95=$A$7,C$7,IF($D95=$A$8,C$8,IF($D95=$A$6,C$6,IF($D95=$A$4,C$4,"FALSE"))))))) -> 8 | H95: =IF($D95=$A$2,D$2,IF($D95=$A$3,D$3,IF($D95=$A$5,D$5,IF($D95=$A$7,D$7,IF($D95=$A$8,D$8,IF($D95=$A$6,D$6,IF($D95=$A$4,D$4,"FALSE"))))))) -> 2 | I95: =(F95*(E95+0.5)*$B$10)+(G95*(E95+0.5)*$B$11)+(H95*(E95+0.5)*$B$12) -> 1738.25
B96: =C95 -> 0.75 | C96: 0.020833333 | D96: =A$7 -> LIVE evenings | E96: =(C96-B96+(C96<B96))*24 -> 6.5 | F96: =IF($D96=$A$2,B$2,IF($D96=$A$3,B$3,IF($D96=$A$5,B$5,IF($D96=$A$7,B$7,IF($D96=$A$8,B$8,IF($D96=$A$6,B$6,IF($D96=$A$4,B$4,"FALSE"))))))) -> 1 | G96: =IF($D96=$A$2,C$2,IF($D96=$A$3,C$3,IF($D96=$A$5,C$5,IF($D96=$A$7,C$7,IF($D96=$A$8,C$8,IF($D96=$A$6,C$6,IF($D96=$A$4,C$4,"FALSE"))))))) -> 10 | H96: =IF($D96=$A$2,D$2,IF($D96=$A$3,D$3,IF($D96=$A$5,D$5,IF($D96=$A$7,D$7,IF($D96=$A$8,D$8,IF($D96=$A$6,D$6,IF($D96=$A$4,D$4,"FALSE"))))))) -> 4 | I96: =(F96*(E96+0.5)*$B$10)+(G96*(E96+0.5)*$B$11)+(H96*(E96+0.5)*$B$12) -> 1935.5
A97: 45124 | B97: =C96 -> 0.020833333 | C97: 0.33333333 | D97: =A$8 -> LIVE overnights / Site closed | E97: =(C97-B97+(C97<B97))*24 -> 7.5 | F97: =IF($D97=$A$2,B$2,IF($D97=$A$3,B$3,IF($D97=$A$5,B$5,IF($D97=$A$7,B$7,IF($D97=$A$8,B$8,IF($D97=$A$6,B$6,IF($D97=$A$4,B$4,"FALSE"))))))) -> 0 | G97: =IF($D97=$A$2,C$2,IF($D97=$A$3,C$3,IF($D97=$A$5,C$5,IF($D97=$A$7,C$7,IF($D97=$A$8,C$8,IF($D97=$A$6,C$6,IF($D97=$A$4,C$4,"FALSE"))))))) -> 1 | H97: =IF($D97=$A$2,D$2,IF($D97=$A$3,D$3,IF($D97=$A$5,D$5,IF($D97=$A$7,D$7,IF($D97=$A$8,D$8,IF($D97=$A$6,D$6,IF($D97=$A$4,D$4,"FALSE"))))))) -> 0 | I97: =(F97*(E97+0.5)*$B$10)+(G97*(E97+0.5)*$B$11)+(H97*(E97+0.5)*$B$12) -> 148
B98: =C97 -> 0.33333333 | C98: 0.83333333 | D98: =A$2 -> BUILD daytimes | E98: =(C98-B98+(C98<B98))*24 -> 12 | F98: =IF($D98=$A$2,B$2,IF($D98=$A$3,B$3,IF($D98=$A$5,B$5,IF($D98=$A$7,B$7,IF($D98=$A$8,B$8,IF($D98=$A$6,B$6,IF($D98=$A$4,B$4,"FALSE"))))))) -> 0 | G98: =IF($D98=$A$2,C$2,IF($D98=$A$3,C$3,IF($D98=$A$5,C$5,IF($D98=$A$7,C$7,IF($D98=$A$8,C$8,IF($D98=$A$6,C$6,IF($D98=$A$4,C$4,"FALSE"))))))) -> 2 | H98: =IF($D98=$A$2,D$2,IF($D98=$A$3,D$3,IF($D98=$A$5,D$5,IF($D98=$A$7,D$7,IF($D98=$A$8,D$8,IF($D98=$A$6,D$6,IF($D98=$A$4,D$4,"FALSE"))))))) -> 0 | I98: =(F98*(E98+0.5)*$B$10)+(G98*(E98+0.5)*$B$11)+(H98*(E98+0.5)*$B$12) -> 462.5
B99: =C98 -> 0.83333333 | C99: 0.33333333 | D99: =A$3 -> BUILD overnights | E99: =(C99-B99+(C99<B99))*24 -> 12 | F99: =IF($D99=$A$2,B$2,IF($D99=$A$3,B$3,IF($D99=$A$5,B$5,IF($D99=$A$7,B$7,IF($D99=$A$8,B$8,IF($D99=$A$6,B$6,IF($D99=$A$4,B$4,"FALSE"))))))) -> 0 | G99: =IF($D99=$A$2,C$2,IF($D99=$A$3,C$3,IF($D99=$A$5,C$5,IF($D99=$A$7,C$7,IF($D99=$A$8,C$8,IF($D99=$A$6,C$6,IF($D99=$A$4,C$4,"FALSE"))))))) -> 1 | H99: =IF($D99=$A$2,D$2,IF($D99=$A$3,D$3,IF($D99=$A$5,D$5,IF($D99=$A$7,D$7,IF($D99=$A$8,D$8,IF($D99=$A$6,D$6,IF($D99=$A$4,D$4,"FALSE"))))))) -> 0 | I99: =(F99*(E99+0.5)*$B$10)+(G99*(E99+0.5)*$B$11)+(H99*(E99+0.5)*$B$12) -> 231.25
A100: 45125 | B100: =C99 -> 0.33333333 | C100: 0.83333333 | D100: =A$2 -> BUILD daytimes | E100: =(C100-B100+(C100<B100))*24 -> 12 | F100: =IF($D100=$A$2,B$2,IF($D100=$A$3,B$3,IF($D100=$A$5,B$5,IF($D100=$A$7,B$7,IF($D100=$A$8,B$8,IF($D100=$A$6,B$6,IF($D100=$A$4,B$4,"FALSE"))))))) -> 0 | G100: =IF($D100=$A$2,C$2,IF($D100=$A$3,C$3,IF($D100=$A$5,C$5,IF($D100=$A$7,C$7,IF($D100=$A$8,C$8,IF($D100=$A$6,C$6,IF($D100=$A$4,C$4,"FALSE"))))))) -> 2 | H100: =IF($D100=$A$2,D$2,IF($D100=$A$3,D$3,IF($D100=$A$5,D$5,IF($D100=$A$7,D$7,IF($D100=$A$8,D$8,IF($D100=$A$6,D$6,IF($D100=$A$4,D$4,"FALSE"))))))) -> 0 | I100: =(F100*(E100+0.5)*$B$10)+(G100*(E100+0.5)*$B$11)+(H100*(E100+0.5)*$B$12) -> 462.5
B101: =C100 -> 0.83333333 | C101: 0.33333333 | D101: =A$3 -> BUILD overnights | E101: =(C101-B101+(C101<B101))*24 -> 12 | F101: =IF($D101=$A$2,B$2,IF($D101=$A$3,B$3,IF($D101=$A$5,B$5,IF($D101=$A$7,B$7,IF($D101=$A$8,B$8,IF($D101=$A$6,B$6,IF($D101=$A$4,B$4,"FALSE"))))))) -> 0 | G101: =IF($D101=$A$2,C$2,IF($D101=$A$3,C$3,IF($D101=$A$5,C$5,IF($D101=$A$7,C$7,IF($D101=$A$8,C$8,IF($D101=$A$6,C$6,IF($D101=$A$4,C$4,"FALSE"))))))) -> 1 | H101: =IF($D101=$A$2,D$2,IF($D101=$A$3,D$3,IF($D101=$A$5,D$5,IF($D101=$A$7,D$7,IF($D101=$A$8,D$8,IF($D101=$A$6,D$6,IF($D101=$A$4,D$4,"FALSE"))))))) -> 0 | I101: =(F101*(E101+0.5)*$B$10)+(G101*(E101+0.5)*$B$11)+(H101*(E101+0.5)*$B$12) -> 231.25
A102: 45126 | B102: =C101 -> 0.33333333 | C102: 0.83333333 | D102: =A$2 -> BUILD daytimes | E102: =(C102-B102+(C102<B102))*24 -> 12 | F102: =IF($D102=$A$2,B$2,IF($D102=$A$3,B$3,IF($D102=$A$5,B$5,IF($D102=$A$7,B$7,IF($D102=$A$8,B$8,IF($D102=$A$6,B$6,IF($D102=$A$4,B$4,"FALSE"))))))) -> 0 | G102: =IF($D102=$A$2,C$2,IF($D102=$A$3,C$3,IF($D102=$A$5,C$5,IF($D102=$A$7,C$7,IF($D102=$A$8,C$8,IF($D102=$A$6,C$6,IF($D102=$A$4,C$4,"FALSE"))))))) -> 2 | H102: =IF($D102=$A$2,D$2,IF($D102=$A$3,D$3,IF($D102=$A$5,D$5,IF($D102=$A$7,D$7,IF($D102=$A$8,D$8,IF($D102=$A$6,D$6,IF($D102=$A$4,D$4,"FALSE"))))))) -> 0 | I102: =(F102*(E102+0.5)*$B$10)+(G102*(E102+0.5)*$B$11)+(H102*(E102+0.5)*$B$12) -> 462.5
...

Sheet BUILD daytimes
P2: Total Supervisor | Q2: 0
P3: Total SIA | Q3: 2
P4: Total non-SIA | Q4: 0

Sheet BUILD overnights
P2: Total Supervisor | Q2: 0
P3: Total SIA | Q3: 1
P4: Total non-SIA | Q4: 0

Sheet LIVE early mornings
P2: Total Supervisor | Q2: 1
P3: Total SIA | Q3: 2
P4: Total non-SIA | Q4: 1
P6: Total | Q6: =SUM(Q2:Q5) -> 4

Sheet LIVE daytimes
P2: Total Supervisor | Q2: 1
P3: Total SIA | Q3: 7
P4: Total non-SIA | Q4: 2
P6: Total | Q6: =SUM(Q2:Q5) -> 10

Sheet LIVE daytimes (SatSun)
P2: Total Supervisor | Q2: 1
P3: Total SIA | Q3: 8
P4: Total non-SIA | Q4: 2
P6: Total | Q6: =SUM(Q2:Q5) -> 11

Sheet LIVE evenings
P2: Total Supervisor | Q2: 1
P3: Total SIA | Q3: 10
P4: Total non-SIA | Q4: 4
P6: Total | Q6: =SUM(Q2:Q5) -> 15

Sheet LIVE overnights
P2: Total Supervisor | Q2: 0
P3: Total SIA | Q3: 1
P4: Total non-SIA | Q4: 0
