Workbook

Sheet Schedule
B1: Total Supervisor | C1: Total SIA | D1: Total non-SIA | F1: NOTES
A2: BUILD daytimes | B2: ='BUILD daytimes'!Q2 -> 0 | C2: ='BUILD daytimes'!Q3 -> 2 | D2: ='BUILD daytimes'!Q4 -> 0 | F2: Assumes that everyone arrives and is paid for 30 mins before the start of the shift
A3: BUILD overnights | B3: ='BUILD overnights'!Q2 -> 0 | C3: ='BUILD overnights'!Q3 -> 1 | D3: ='BUILD overnights'!Q4 -> 0 | F3: Assumes that there is someone in the FI Security office overnight from 14th June onwards
A4: LIVE early mornings | B4: ='LIVE early mornings'!Q2 -> 1 | C4: ='LIVE early mornings'!Q3 -> 2 | D4: ='LIVE early mornings'!Q4 -> 1 | F4: Assumes one Supervisor at all times we're open to the public
A5: LIVE daytimes | B5: ='LIVE daytimes'!Q2 -> 1 | C5: ='LIVE daytimes'!Q3 -> 7 | D5: ='LIVE daytimes'!Q4 -> 2 | F5: Assumes that any Security requirements outside the perimeter of FS are covered by a separate building Security budget
A6: LIVE daytimes (Sat and Sun) | B6: ='LIVE daytimes (SatSun)'!Q2 -> 1 | C6: ='LIVE daytimes (SatSun)'!Q3 -> 8 | D6: ='LIVE daytimes (SatSun)'!Q4 -> 2 | F6: Assumes that we're NOT bag searching for entry into the hospitality area on weekday daytimes as they are all invited guests. Evenings and weekends there is an additional SIA to cover the public bar / assist with bag checks
A7: LIVE evenings | B7: ='LIVE evenings'!Q2 -> 1 | C7: ='LIVE evenings'!Q3 -> 10 | D7: ='LIVE evenings'!Q4 -> 4 | F7: All LIVE evening shifts finish 30 mins after closing time
A8: LIVE overnights / Site closed | B8: ='LIVE overnights'!Q2 -> 0 | C8: ='LIVE overnights'!Q3 -> 1 | D8: ='LIVE overnights'!Q4 -> 0 | F8: All LIVE morning shifts start at the public site opening
A10: Supervisor rate per hour | B10: 21.5
A11: SIA rate per hour | B11: 18.5
A12: Non-SIA rate per hour | B12: 17.5
A14: DATE | B14: START TIME | C14: FINISH TIME | D14: ACTIVITY | E14: NO. OF HOURS | F14: Total Supervisor | G14: Total SIA | H14: Total non-SIA | I14: Total cost
A15: 45090 | B15: 0.33333333 | C15: 0.83333333 | D15: =A$2 -> BUILD daytimes | E15: =(C15-B15+(C15<B15))*24 -> 12 | F15: =IF($D15=$A$2,B$2,IF($D15=$A$3,B$3,IF($D15=$A$5,B$5,IF($D15=$A$7,B$7,IF($D15=$A$8,B$8,IF($D15=$A$6,B$6,IF($D15=$A$4,B$4,"FALSE"))))))) -> 0 | G15: =IF($D15=$A$2,C$2,IF($D15=$A$3,C$3,IF($D15=$A$5,C$5,IF($D15=$A$7,C$7,IF($D15=$A$8,C$8,IF($D15=$A$6,C$6,IF($D15=$A$4,C$4,"FALSE"))))))) -> 2 | H15: =IF($D15=$A$2,D$2,IF($D15=$A$3,D$3,IF($D15=$A$5,D$5,IF($D15=$A$7,D$7,IF($D15=$A$8,D$8,IF($D15=$A$6,D$6,IF($D15=$A$4,D$4,"FALSE"))))))) -> 0 | I15: =(F15*(E15+0.5)*$B$10)+(G15*(E15+0.5)*$B$11)+(H15*(E15+0.5)*$B$12) -> 462.5
B16: =C15 -> 0.83333333 | C16: 0.33333333 | D16: =A$3 -> BUILD overnights | E16: =(C16-B16+(C16<B16))*24 -> 12 | F16: =IF($D16=$A$2,B$2,IF($D16=$A$3,B$3,IF($D16=$A$5,B$5,IF($D16=$A$7,B$7,IF($D16=$A$8,B$8,IF($D16=$A$6,B$6,IF($D16=$A$4,B$4,"FALSE"))))))) -> 0 | G16: =IF($D16=$A$2,C$2,IF($D16=$A$3,C$3,IF($D16=$A$5,C$5,IF($D16=$A$7,C$7,IF($D16=$A$8,C$8,IF($D16=$A$6,C$6,IF($D16=$A$4,C$4,"FALSE"))))))) -> 1 | H16: =IF($D16=$A$2,D$2,IF($D16=$A$3,D$3,IF($D16=$A$5,D$5,IF($D16=$A$7,D$7,IF($D16=$A$8,D$8,IF($D16=$A$6,D$6,IF($D16=$A$4,D$4,"FALSE"))))))) -> 0 | I16: =(F16*(E16+0.5)*$B$10)+(G16*(E16+0.5)*$B$11)+(H16*(E16+0.5)*$B$12) -> 231.25
A17: 45091 | B17: 0.33333333 | C17: 0.83333333 | D17: =A$2 -> BUILD daytimes | E17: =(C17-B17+(C17<B17))*24 -> 12 | F17: =IF($D17=$A$2,B$2,IF($D17=$A$3,B$3,IF($D17=$A$5,B$5,IF($D17=$A$7,B$7,IF($D17=$A$8,B$8,IF($D17=$A$6,B$6,IF($D17=$A$4,B$4,"FALSE"))))))) -> 0 | G17: =IF($D17=$A$2,C$2,IF($D17=$A$3,C$3,IF($D17=$A$5,C$5,IF($D17=$A$7,C$7,IF($D17=$A$8,C$8,IF($D17=$A$6,C$6,IF($D17=$A$4,C$4,"FALSE"))))))) -> 2 | H17: =IF($D17=$A$2,D$2,IF($D17=$A$3,D$3,IF($D17=$A$5,D$5,IF($D17=$A$7,D$7,IF($D17=$A$8,D$8,IF($D17=$A$6,D$6,IF($D17=$A$4,D$4,"FALSE"))))))) -> 0 | I17: =(F17*(E17+0.5)*$B$10)+(G17*(E17+0.5)*$B$11)+(H17*(E17+0.5)*$B$12) -> 462.5
B18: =C17 -> 0.83333333 | C18: 0.33333333 | D18: =A$3 -> BUILD overnights | E18: =(C18-B18+(C18<B18))*24 -> 12 | F18: =IF($D18=$A$2,B$2,IF($D18=$A$3,B$3,IF($D18=$A$5,B$5,IF($D18=$A$7,B$7,IF($D18=$A$8,B$8,IF($D18=$A$6,B$6,IF($D18=$A$4,B$4,"FALSE"))))))) -> 0 | G18: =IF($D18=$A$2,C$2,IF($D18=$A$3,C$3,IF($D18=$A$5,C$5,IF($D18=$A$7,C$7,IF($D18=$A$8,C$8,IF($D18=$A$6,C$6,IF($D18=$A$4,C$4,"FALSE"))))))) -> 1 | H18: =IF($D18=$A$2,D$2,IF($D18=$A$3,D$3,IF($D18=$A$5,D$5,IF($D18=$A$7,D$7,IF($D18=$A$8,D$8,IF($D18=$A$6,D$6,IF($D18=$A$4,D$4,"FALSE"))))))) -> 0 | I18: =(F18*(E18+0.5)*$B$10)+(G18*(E18+0.5)*$B$11)+(H18*(E18+0.5)*$B$12) -> 231.25
A19: 45092 | B19: =C18 -> 0.33333333 | C19: 0.83333333 | D19: =A$2 -> BUILD daytimes | E19: =(C19-B19+(C19<B19))*24 -> 12 | F19: =IF($D19=$A$2,B$2,IF($D19=$A$3,B$3,IF($D19=$A$5,B$5,IF($D19=$A$7,B$7,IF($D19=$A$8,B$8,IF($D19=$A$6,B$6,IF($D19=$A$4,B$4,"FALSE"))))))) -> 0 | G19: =IF($D19=$A$2,C$2,IF($D19=$A$3,C$3,IF($D19=$A$5,C$5,IF($D19=$A$7,C$7,IF($D19=$A$8,C$8,IF($D19=$A$6,C$6,IF($D19=$A$4,C$4,"FALSE"))))))) -> 2 | H19: =IF($D19=$A$2,D$2,IF($D19=$A$3,D$3,IF($D19=$A$5,D$5,IF($D19=$A$7,D$7,IF($D19=$A$8,D$8,IF($D19=$A$6,D$6,IF($D19=$A$4,D$4,"FALSE"))))))) -> 0 | I19: =(F19*(E19+0.5)*$B$10)+(G19*(E19+0.5)*$B$11)+(H19*(E19+0.5)*$B$12) -> 462.5
B20: =C19 -> 0.83333333 | C20: 0.33333333 | D20: =A$3 -> BUILD overnights | E20: =(C20-B20+(C20<B20))*24 -> 12 | F20: =IF($D20=$A$2,B$2,IF($D20=$A$3,B$3,IF($D20=$A$5,B$5,IF($D20=$A$7,B$7,IF($D20=$A$8,B$8,IF($D20=$A$6,B$6,IF($D20=$A$4,B$4,"FALSE"))))))) -> 0 | G20: =IF($D20=$A$2,C$2,IF($D20=$A$3,C$3,IF($D20=$A$5,C$5,IF($D20=$A$7,C$7,IF($D20=$A$8,C$8,IF($D20=$A$6,C$6,IF($D20=$A$4,C$4,"FALSE"))))))) -> 1 | H20: =IF($D20=$A$2,D$2,IF($D20=$A$3,D$3,IF($D20=$A$5,D$5,IF($D20=$A$7,D$7,IF($D20=$A$8,D$8,IF($D20=$A$6,D$6,IF($D20=$A$4,D$4,"FALSE"))))))) -> 0 | I20: =(F20*(E20+0.5)*$B$10)+(G20*(E20+0.5)*$B$11)+(H20*(E20+0.5)*$B$12) -> 231.25
A21: 45093 | B21: =C20 -> 0.33333333 | C21: 0.83333333 | D21: =A$2 -> BUILD daytimes | E21: =(C21-B21+(C21<B21))*24 -> 12 | F21: =IF($D21=$A$2,B$2,IF($D21=$A$3,B$3,IF($D21=$A$5,B$5,IF($D21=$A$7,B$7,IF($D21=$A$8,B$8,IF($D21=$A$6,B$6,IF($D21=$A$4,B$4,"FALSE"))))))) -> 0 | G21: =IF($D21=$A$2,C$2,IF($D21=$A$3,C$3,IF($D21=$A$5,C$5,IF($D21=$A$7,C$7,IF($D21=$A$8,C$8,IF($D21=$A$6,C$6,IF($D21=$A$4,C$4,"FALSE"))))))) -> 2 | H21: =IF($D21=$A$2,D$2,IF($D21=$A$3,D$3,IF($D21=$A$5,D$5,IF($D21=$A$7,D$7,IF($D21=$A$8,D$8,IF($D21=$A$6,D$6,IF($D21=$A$4,D$4,"FALSE"))))))) -> 0 | I21: =(F21*(E21+0.5)*$B$10)+(G21*(E21+0.5)*$B$11)+(H21*(E21+0.5)*$B$12) -> 462.5
B22: =C21 -> 0.83333333 | C22: 0.33333333 | D22: =A$3 -> BUILD overnights | E22: =(C22-B22+(C22<B22))*24 -> 12 | F22: =IF($D22=$A$2,B$2,IF($D22=$A$3,B$3,IF($D22=$A$5,B$5,IF($D22=$A$7,B$7,IF($D22=$A$8,B$8,IF($D22=$A$6,B$6,IF($D22=$A$4,B$4,"FALSE"))))))) -> 0 | G22: =IF($D22=$A$2,C$2,IF($D22=$A$3,C$3,IF($D22=$A$5,C$5,IF($D22=$A$7,C$7,IF($D22=$A$8,C$8,IF($D22=$A$6,C$6,IF($D22=$A$4,C$4,"FALSE"))))))) -> 1 | H22: =IF($D22=$A$2,D$2,IF($D22=$A$3,D$3,IF($D22=$A$5,D$5,IF($D22=$A$7,D$7,IF($D22=$A$8,D$8,IF($D22=$A$6,D$6,IF($D22=$A$4,D$4,"FALSE"))))))) -> 0 | I22: =(F22*(E22+0.5)*$B$10)+(G22*(E22+0.5)*$B$11)+(H22*(E22+0.5)*$B$12) -> 231.25
A23: 45094 | B23: =C22 -> 0.33333333 | C23: 0.83333333 | D23: =A$2 -> BUILD daytimes | E23: =(C23-B23+(C23<B23))*24 -> 12 | F23: =IF($D23=$A$2,B$2,IF($D23=$A$3,B$3,IF($D23=$A$5,B$5,IF($D23=$A$7,B$7,IF($D23=$A$8,B$8,IF($D23=$A$6,B$6,IF($D23=$A$4,B$4,"FALSE"))))))) -> 0 | G23: =IF($D23=$A$2,C$2,IF($D23=$A$3,C$3,IF($D23=$A$5,C$5,IF($D23=$A$7,C$7,IF($D23=$A$8,C$8,IF($D23=$A$6,C$6,IF($D23=$A$4,C$4,"FALSE"))))))) -> 2 | H23: =IF($D23=$A$2,D$2,IF($D23=$A$3,D$3,IF($D23=$A$5,D$5,IF($D23=$A$7,D$7,IF($D23=$A$8,D$8,IF($D23=$A$6,D$6,IF($D23=$A$4,D$4,"FALSE"))))))) -> 0 | I23: =(F23*(E23+0.5)*$B$10)+(G23*(E23+0.5)*$B$11)+(H23*(E23+0.5)*$B$12) -> 462.5
B24: =C23 -> 0.83333333 | C24: 0.041666667 | D24: =A$3 -> BUILD overnights | E24: =(C24-B24+(C24<B24))*24 -> 5 | F24: =IF($D24=$A$2,B$2,IF($D24=$A$3,B$3,IF($D24=$A$5,B$5,IF($D24=$A$7,B$7,IF($D24=$A$8,B$8,IF($D24=$A$6,B$6,IF($D24=$A$4,B$4,"FALSE"))))))) -> 0 | G24: =IF($D24=$A$2,C$2,IF($D24=$A$3,C$3,IF($D24=$A$5,C$5,IF($D24=$A$7,C$7,IF($D24=$A$8,C$8,IF($D24=$A$6,C$6,IF($D24=$A$4,C$4,"FALSE"))))))) -> 1 | H24: =IF($D24=$A$2,D$2,IF($D24=$A$3,D$3,IF($D24=$A$5,D$5,IF($D24=$A$7,D$7,IF($D24=$A$8,D$8,IF($D24=$A$6,D$6,IF($D24=$A$4,D$4,"FALSE"))))))) -> 0 | I24: =(F24*(E24+0.5)*$B$10)+(G24*(E24+0.5)*$B$11)+(H24*(E24+0.5)*$B$12) -> 101.75
A25: 45095 | B25: =C24 -> 0.041666667 | C25: 0 | D25: =A$3 -> BUILD overnights | E25: =(C25-B25+(C25<B25))*24 -> 23 | F25: =IF($D25=$A$2,B$2,IF($D25=$A$3,B$3,IF($D25=$A$5,B$5,IF($D25=$A$7,B$7,IF($D25=$A$8,B$8,IF($D25=$A$6,B$6,IF($D25=$A$4,B$4,"FALSE"))))))) -> 0 | G25: =IF($D25=$A$2,C$2,IF($D25=$A$3,C$3,IF($D25=$A$5,C$5,IF($D25=$A$7,C$7,IF($D25=$A$8,C$8,IF($D25=$A$6,C$6,IF($D25=$A$4,C$4,"FALSE"))))))) -> 1 | H25: =IF($D25=$A$2,D$2,IF($D25=$A$3,D$3,IF($D25=$A$5,D$5,IF($D25=$A$7,D$7,IF($D25=$A$8,D$8,IF($D25=$A$6,D$6,IF($D25=$A$4,D$4,"FALSE"))))))) -> 0 | I25: =(F25*(E25+0.5)*$B$10)+(G25*(E25+0.5)*$B$11)+(H25*(E25+0.5)*$B$12) -> 434.75
A26: 45096 | B26: =C25 -> 0 | C26: 0.33333333 | D26: =A$3 -> BUILD overnights | E26: =(C26-B26+(C26<B26))*24 -> 8 | F26: =IF($D26=$A$2,B$2,IF($D26=$A$3,B$3,IF($D26=$A$5,B$5,IF($D26=$A$7,B$7,IF($D26=$A$8,B$8,IF($D26=$A$6,B$6,IF($D26=$A$4,B$4,"FALSE"))))))) -> 0 | G26: =IF($D26=$A$2,C$2,IF($D26=$A$3,C$3,IF($D26=$A$5,C$5,IF($D26=$A$7,C$7,IF($D26=$A$8,C$8,IF($D26=$A$6,C$6,IF($D26=$A$4,C$4,"FALSE"))))))) -> 1 | H26: =IF($D26=$A$2,D$2,IF($D26=$A$3,D$3,IF($D26=$A$5,D$5,IF($D26=$A$7,D$7,IF($D26=$A$8,D$8,IF($D26=$A$6,D$6,IF($D26=$A$4,D$4,"FALSE"))))))) -> 0 | I26: =(F26*(E26+0.5)*$B$10)+(G26*(E26+0.5)*$B$11)+(H26*(E26+0.5)*$B$12) -> 157.25
B27: =C26 -> 0.33333333 | C27: 0.83333333 | D27: =A$2 -> BUILD daytimes | E27: =(C27-B27+(C27<B27))*24 -> 12 | F27: =IF($D27=$A$2,B$2,IF($D27=$A$3,B$3,IF($D27=$A$5,B$5,IF($D27=$A$7,B$7,IF($D27=$A$8,B$8,IF($D27=$A$6,B$6,IF($D27=$A$4,B$4,"FALSE"))))))) -> 0 | G27: =IF($D27=$A$2,C$2,IF($D27=$A$3,C$3,IF($D27=$A$5,C$5,IF($D27=$A$7,C$7,IF($D27=$A$8,C$8,IF($D27=$A$6,C$6,IF($D27=$A$4,C$4,"FALSE"))))))) -> 2 | H27: =IF($D27=$A$2,D$2,IF($D27=$A$3,D$3,IF($D27=$A$5,D$5,IF($D27=$A$7,D$7,IF($D27=$A$8,D$8,IF($D27=$A$6,D$6,IF($D27=$A$4,D$4,"FALSE"))))))) -> 0 | I27: =(F27*(E27+0.5)*$B$10)+(G27*(E27+0.5)*$B$11)+(H27*(E27+0.5)*$B$12) -> 462.5
B28: =C27 -> 0.83333333 | C28: 0.33333333 | D28: =A$3 -> BUILD overnights | E28: =(C28-B28+(C28<B28))*24 -> 12 | F28: =IF($D28=$A$2,B$2,IF($D28=$A$3,B$3,IF($D28=$A$5,B$5,IF($D28=$A$7,B$7,IF($D28=$A$8,B$8,IF($D28=$A$6,B$6,IF($D28=$A$4,B$4,"FALSE"))))))) -> 0 | G28: =IF($D28=$A$2,C$2,IF($D28=$A$3,C$3,IF($D28=$A$5,C$5,IF($D28=$A$7,C$7,IF($D28=$A$8,C$8,IF($D28=$A$6,C$6,IF($D28=$A$4,C$4,"FALSE"))))))) -> 1 | H28: =IF($D28=$A$2,D$2,IF($D28=$A$3,D$3,IF($D28=$A$5,D$5,IF($D28=$A$7,D$7,IF($D28=$A$8,D$8,IF($D28=$A$6,D$6,IF($D28=$A$4,D$4,"FALSE"))))))) -> 0 | I28: =(F28*(E28+0.5)*$B$10)+(G28*(E28+0.5)*$B$11)+(H28*(E28+0.5)*$B$12) -> 231.25
A29: 45097 | B29: =C28 -> 0.33333333 | C29: 0.83333333 | D29: =A$2 -> BUILD daytimes | E29: =(C29-B29+(C29<B29))*24 -> 12 | F29: =IF($D29=$A$2,B$2,IF($D29=$A$3,B$3,IF($D29=$A$5,B$5,IF($D29=$A$7,B$7,IF($D29=$A$8,B$8,IF($D29=$A$6,B$6,IF($D29=$A$4,B$4,"FALSE"))))))) -> 0 | G29: =IF($D29=$A$2,C$2,IF($D29=$A$3,C$3,IF($D29=$A$5,C$5,IF($D29=$A$7,C$7,IF($D29=$A$8,C$8,IF($D29=$A$6,C$6,IF($D29=$A$4,C$4,"FALSE"))))))) -> 2 | H29: =IF($D29=$A$2,D$2,IF($D29=$A$3,D$3,IF($D29=$A$5,D$5,IF($D29=$A$7,D$7,IF($D29=$A$8,D$8,IF($D29=$A$6,D$6,IF($D29=$A$4,D$4,"FALSE"))))))) -> 0 | I29: =(F29*(E29+0.5)*$B$10)+(G29*(E29+0.5)*$B$11)+(H29*(E29+0.5)*$B$12) -> 462.5
B30: =C29 -> 0.83333333 | C30: 0.33333333 | D30: =A$3 -> BUILD overnights | E30: =(C30-B30+(C30<B30))*24 -> 12 | F30: =IF($D30=$A$2,B$2,IF($D30=$A$3,B$3,IF($D30=$A$5,B$5,IF($D30=$A$7,B$7,IF($D30=$A$8,B$8,IF($D30=$A$6,B$6,IF($D30=$A$4,B$4,"FALSE"))))))) -> 0 | G30: =IF($D30=$A$2,C$2,IF($D30=$A$3,C$3,IF($D30=$A$5,C$5,IF($D30=$A$7,C$7,IF($D30=$A$8,C$8,IF($D30=$A$6,C$6,IF($D30=$A$4,C$4,"FALSE"))))))) -> 1 | H30: =IF($D30=$A$2,D$2,IF($D30=$A$3,D$3,IF($D30=$A$5,D$5,IF($D30=$A$7,D$7,IF($D30=$A$8,D$8,IF($D30=$A$6,D$6,IF($D30=$A$4,D$4,"FALSE"))))))) -> 0 | I30: =(F30*(E30+0.5)*$B$10)+(G30*(E30+0.5)*$B$11)+(H30*(E30+0.5)*$B$12) -> 231.25
A31: 45098 | B31: =C30 -> 0.33333333 | C31: 0.83333333 | D31: =A$2 -> BUILD daytimes | E31: =(C31-B31+(C31<B31))*24 -> 12 | F31: =IF($D31=$A$2,B$2,IF($D31=$A$3,B$3,IF($D31=$A$5,B$5,IF($D31=$A$7,B$7,IF($D31=$A$8,B$8,IF($D31=$A$6,B$6,IF($D31=$A$4,B$4,"FALSE"))))))) -> 0 | G31: =IF($D31=$A$2,C$2,IF($D31=$A$3,C$3,IF($D31=$A$5,C$5,IF($D31=$A$7,C$7,IF($D31=$A$8,C$8,IF($D31=$A$6,C$6,IF($D31=$A$4,C$4,"FALSE"))))))) -> 2 | H31: =IF($D31=$A$2,D$2,IF($D31=$A$3,D$3,IF($D31=$A$5,D$5,IF($D31=$A$7,D$7,IF($D31=$A$8,D$8,IF($D31=$A$6,D$6,IF($D31=$A$4,D$4,"FALSE"))))))) -> 0 | I31: =(F31*(E31+0.5)*$B$10)+(G31*(E31+0.5)*$B$11)+(H31*(E31+0.5)*$B$12) -> 462.5
B32: =C31 -> 0.83333333 | C32: 0.33333333 | D32: =A$3 -> BUILD overnights | E32: =(C32-B32+(C32<B32))*24 -> 12 | F32: =IF($D32=$A$2,B$2,IF($D32=$A$3,B$3,IF($D32=$A$5,B$5,IF($D32=$A$7,B$7,IF($D32=$A$8,B$8,IF($D32=$A$6,B$6,IF($D32=$A$4,B$4,"FALSE"))))))) -> 0 | G32: =IF($D32=$A$2,C$2,IF($D32=$A$3,C$3,IF($D32=$A$5,C$5,IF($D32=$A$7,C$7,IF($D32=$A$8,C$8,IF($D32=$A$6,C$6,IF($D32=$A$4,C$4,"FALSE"))))))) -> 1 | H32: =IF($D32=$A$2,D$2,IF($D32=$A$3,D$3,IF($D32=$A$5,D$5,IF($D32=$A$7,D$7,IF($D32=$A$8,D$8,IF($D32=$A$6,D$6,IF($D32=$A$4,D$4,"FALSE"))))))) -> 0 | I32: =(F32*(E32+0.5)*$B$10)+(G32*(E32+0.5)*$B$11)+(H32*(E32+0.5)*$B$12) -> 231.25
A33: 45099 | B33: =C32 -> 0.33333333 | C33: 0.83333333 | D33: =A$2 -> BUILD daytimes | E33: =(C33-B33+(C33<B33))*24 -> 12 | F33: =IF($D33=$A$2,B$2,IF($D33=$A$3,B$3,IF($D33=$A$5,B$5,IF($D33=$A$7,B$7,IF($D33=$A$8,B$8,IF($D33=$A$6,B$6,IF($D33=$A$4,B$4,"FALSE"))))))) -> 0 | G33: =IF($D33=$A$2,C$2,IF($D33=$A$3,C$3,IF($D33=$A$5,C$5,IF($D33=$A$7,C$7,IF($D33=$A$8,C$8,IF($D33=$A$6,C$6,IF($D33=$A$4,C$4,"FALSE"))))))) -> 2 | H33: =IF($D33=$A$2,D$2,IF($D33=$A$3,D$3,IF($D33=$A$5,D$5,IF($D33=$A$7,D$7,IF($D33=$A$8,D$8,IF($D33=$A$6,D$6,IF($D33=$A$4,D$4,"FALSE"))))))) -> 0 | I33: =(F33*(E33+0.5)*$B$10)+(G33*(E33+0.5)*$B$11)+(H33*(E33+0.5)*$B$12) -> 462.5
B34: =C33 -> 0.83333333 | C34: 0.33333333 | D34: =A$3 -> BUILD overnights | E34: =(C34-B34+(C34<B34))*24 -> 12 | F34: =IF($D34=$A$2,B$2,IF($D34=$A$3,B$3,IF($D34=$A$5,B$5,IF($D34=$A$7,B$7,IF($D34=$A$8,B$8,IF($D34=$A$6,B$6,IF($D34=$A$4,B$4,"FALSE"))))))) -> 0 | G34: =IF($D34=$A$2,C$2,IF($D34=$A$3,C$3,IF($D34=$A$5,C$5,IF($D34=$A$7,C$7,IF($D34=$A$8,C$8,IF($D34=$A$6,C$6,IF($D34=$A$4,C$4,"FALSE"))))))) -> 1 | H34: =IF($D34=$A$2,D$2,IF($D34=$A$3,D$3,IF($D34=$A$5,D$5,IF($D34=$A$7,D$7,IF($D34=$A$8,D$8,IF($D34=$A$6,D$6,IF($D34=$A$4,D$4,"FALSE"))))))) -> 0 | I34: =(F34*(E34+0.5)*$B$10)+(G34*(E34+0.5)*$B$11)+(H34*(E34+0.5)*$B$12) -> 231.25
A35: 45100 | B35: =C34 -> 0.33333333 | C35: 0.83333333 | D35: =A$2 -> BUILD daytimes | E35: =(C35-B35+(C35<B35))*24 -> 12 | F35: =IF($D35=$A$2,B$2,IF($D35=$A$3,B$3,IF($D35=$A$5,B$5,IF($D35=$A$7,B$7,IF($D35=$A$8,B$8,IF($D35=$A$6,B$6,IF($D35=$A$4,B$4,"FALSE"))))))) -> 0 | G35: =IF($D35=$A$2,C$2,IF($D35=$A$3,C$3,IF($D35=$A$5,C$5,IF($D35=$A$7,C$7,IF($D35=$A$8,C$8,IF($D35=$A$6,C$6,IF($D35=$A$4,C$4,"FALSE"))))))) -> 2 | H35: =IF($D35=$A$2,D$2,IF($D35=$A$3,D$3,IF($D35=$A$5,D$5,IF($D35=$A$7,D$7,IF($D35=$A$8,D$8,IF($D35=$A$6,D$6,IF($D35=$A$4,D$4,"FALSE"))))))) -> 0 | I35: =(F35*(E35+0.5)*$B$10)+(G35*(E35+0.5)*$B$11)+(H35*(E35+0.5)*$B$12) -> 462.5
B36: =C35 -> 0.83333333 | C36: 0.33333333 | D36: =A$3 -> BUILD overnights | E36: =(C36-B36+(C36<B36))*24 -> 12 | F36: =IF($D36=$A$2,B$2,IF($D36=$A$3,B$3,IF($D36=$A$5,B$5,IF($D36=$A$7,B$7,IF($D36=$A$8,B$8,IF($D36=$A$6,B$6,IF($D36=$A$4,B$4,"FALSE"))))))) -> 0 | G36: =IF($D36=$A$2,C$2,IF($D36=$A$3,C$3,IF($D36=$A$5,C$5,IF($D36=$A$7,C$7,IF($D36=$A$8,C$8,IF($D36=$A$6,C$6,IF($D36=$A$4,C$4,"FALSE"))))))) -> 1 | H36: =IF($D36=$A$2,D$2,IF($D36=$A$3,D$3,IF($D36=$A$5,D$5,IF($D36=$A$7,D$7,IF($D36=$A$8,D$8,IF($D36=$A$6,D$6,IF($D36=$A$4,D$4,"FALSE"))))))) -> 0 | I36: =(F36*(E36+0.5)*$B$10)+(G36*(E36+0.5)*$B$11)+(H36*(E36+0.5)*$B$12) -> 231.25
A37: 45101 | B37: =C36 -> 0.33333333 | C37: 0.83333333 | D37: =A$2 -> BUILD daytimes | E37: =(C37-B37+(C37<B37))*24 -> 12 | F37: =IF($D37=$A$2,B$2,IF($D37=$A$3,B$3,IF($D37=$A$5,B$5,IF($D37=$A$7,B$7,IF($D37=$A$8,B$8,IF($D37=$A$6,B$6,IF($D37=$A$4,B$4,"FALSE"))))))) -> 0 | G37: =IF($D37=$A$2,C$2,IF($D37=$A$3,C$3,IF($D37=$A$5,C$5,IF($D37=$A$7,C$7,IF($D37=$A$8,C$8,IF($D37=$A$6,C$6,IF($D37=$A$4,C$4,"FALSE"))))))) -> 2 | H37: =IF($D37=$A$2,D$2,IF($D37=$A$3,D$3,IF($D37=$A$5,D$5,IF($D37=$A$7,D$7,IF($D37=$A$8,D$8,IF($D37=$A$6,D$6,IF($D37=$A$4,D$4,"FALSE"))))))) -> 0 | I37: =(F37*(E37+0.5)*$B$10)+(G37*(E37+0.5)*$B$11)+(H37*(E37+0.5)*$B$12) -> 462.5
B38: =C37 -> 0.83333333 | C38: 0.041666667 | D38: =A$3 -> BUILD overnights | E38: =(C38-B38+(C38<B38))*24 -> 5 | F38: =IF($D38=$A$2,B$2,IF($D38=$A$3,B$3,IF($D38=$A$5,B$5,IF($D38=$A$7,B$7,IF($D38=$A$8,B$8,IF($D38=$A$6,B$6,IF($D38=$A$4,B$4,"FALSE"))))))) -> 0 | G38: =IF($D38=$A$2,C$2,IF($D38=$A$3,C$3,IF($D38=$A$5,C$5,IF($D38=$A$7,C$7,IF($D38=$A$8,C$8,IF($D38=$A$6,C$6,IF($D38=$A$4,C$4,"FALSE"))))))) -> 1 | H38: =IF($D38=$A$2,D$2,IF($D38=$A$3,D$3,IF($D38=$A$5,D$5,IF($D38=$A$7,D$7,IF($D38=$A$8,D$8,IF($D38=$A$6,D$6,IF($D38=$A$4,D$4,"FALSE"))))))) -> 0 | I38: =(F38*(E38+0.5)*$B$10)+(G38*(E38+0.5)*$B$11)+(H38*(E38+0.5)*$B$12) -> 101.75
A39: 45102 | B39: =C38 -> 0.041666667 | C39: 0 | D39: =A$3 -> BUILD overnights | E39: =(C39-B39+(C39<B39))*24 -> 23 | F39: =IF($D39=$A$2,B$2,IF($D39=$A$3,B$3,IF($D39=$A$5,B$5,IF($D39=$A$7,B$7,IF($D39=$A$8,B$8,IF($D39=$A$6,B$6,IF($D39=$A$4,B$4,"FALSE"))))))) -> 0 | G39: =IF($D39=$A$2,C$2,IF($D39=$A$3,C$3,IF($D39=$A$5,C$5,IF($D39=$A$7,C$7,IF($D39=$A$8,C$8,IF($D39=$A$6,C$6,IF($D39=$A$4,C$4,"FALSE"))))))) -> 1 | H39: =IF($D39=$A$2,D$2,IF($D39=$A$3,D$3,IF($D39=$A$5,D$5,IF($D39=$A$7,D$7,IF($D39=$A$8,D$8,IF($D39=$A$6,D$6,IF($D39=$A$4,D$4,"FALSE"))))))) -> 0 | I39: =(F39*(E39+0.5)*$B$10)+(G39*(E39+0.5)*$B$11)+(H39*(E39+0.5)*$B$12) -> 434.75
A40: 45103 | B40: =C39 -> 0 | C40: 0.33333333 | D40: =A$3 -> BUILD overnights | E40: =(C40-B40+(C40<B40))*24 -> 8 | F40: =IF($D40=$A$2,B$2,IF($D40=$A$3,B$3,IF($D40=$A$5,B$5,IF($D40=$A$7,B$7,IF($D40=$A$8,B$8,IF($D40=$A$6,B$6,IF($D40=$A$4,B$4,"FALSE"))))))) -> 0 | G40: =IF($D40=$A$2,C$2,IF($D40=$A$3,C$3,IF($D40=$A$5,C$5,IF($D40=$A$7,C$7,IF($D40=$A$8,C$8,IF($D40=$A$6,C$6,IF($D40=$A$4,C$4,"FALSE"))))))) -> 1 | H40: =IF($D40=$A$2,D$2,IF($D40=$A$3,D$3,IF($D40=$A$5,D$5,IF($D40=$A$7,D$7,IF($D40=$A$8,D$8,IF($D40=$A$6,D$6,IF($D40=$A$4,D$4,"FALSE"))))))) -> 0 | I40: =(F40*(E40+0.5)*$B$10)+(G40*(E40+0.5)*$B$11)+(H40*(E40+0.5)*$B$12) -> 157.25
B41: =C40 -> 0.33333333 | C41: 0.83333333 | D41: =A$2 -> BUILD daytimes | E41: =(C41-B41+(C41<B41))*24 -> 12 | F41: =IF($D41=$A$2,B$2,IF($D41=$A$3,B$3,IF($D41=$A$5,B$5,IF($D41=$A$7,B$7,IF($D41=$A$8,B$8,IF($D41=$A$6,B$6,IF($D41=$A$4,B$4,"FALSE"))))))) -> 0 | G41: =IF($D41=$A$2,C$2,IF($D41=$A$3,C$3,IF($D41=$A$5,C$5,IF($D41=$A$7,C$7,IF($D41=$A$8,C$8,IF($D41=$A$6,C$6,IF($D41=$A$4,C$4,"FALSE"))))))) -> 2 | H41: =IF($D41=$A$2,D$2,IF($D41=$A$3,D$3,IF($D41=$A$5,D$5,IF($D41=$A$7,D$7,IF($D41=$A$8,D$8,IF($D41=$A$6,D$6,IF($D41=$A$4,D$4,"FALSE"))))))) -> 0 | I41: =(F41*(E41+0.5)*$B$10)+(G41*(E41+0.5)*$B$11)+(H41*(E41+0.5)*$B$12) -> 462.5
B42: =C41 -> 0.83333333 | C42: 0.33333333 | D42: =A$3 -> BUILD overnights | E42: =(C42-B42+(C42<B42))*24 -> 12 | F42: =IF($D42=$A$2,B$2,IF($D42=$A$3,B$3,IF($D42=$A$5,B$5,IF($D42=$A$7,B$7,IF($D42=$A$8,B$8,IF($D42=$A$6,B$6,IF($D42=$A$4,B$4,"FALSE"))))))) -> 0 | G42: =IF($D42=$A$2,C$2,IF($D42=$A$3,C$3,IF($D42=$A$5,C$5,IF($D42=$A$7,C$7,IF($D42=$A$8,C$8,IF($D42=$A$6,C$6,IF($D42=$A$4,C$4,"FALSE"))))))) -> 1 | H42: =IF($D42=$A$2,D$2,IF($D42=$A$3,D$3,IF($D42=$A$5,D$5,IF($D42=$A$7,D$7,IF($D42=$A$8,D$8,IF($D42=$A$6,D$6,IF($D42=$A$4,D$4,"FALSE"))))))) -> 0 | I42: =(F42*(E42+0.5)*$B$10)+(G42*(E42+0.5)*$B$11)+(H42*(E42+0.5)*$B$12) -> 231.25
...

Sheet BUILD daytimes
P2: Total Supervisor | Q2: 0
P3: Total SIA | Q3: 2
P4: Total non-SIA | Q4: 0

Sheet BUILD overnights
P2: Total Supervisor | Q2: 0
P3: Total SIA | Q3: 1
P4: Total non-SIA | Q4: 0

Sheet LIVE early mornings
P2: Total Supervisor | Q2: 1
P3: Total SIA | Q3: 2
P4: Total non-SIA | Q4: 1
P6: Total | Q6: =SUM(Q2:Q5) -> 4

Sheet LIVE daytimes
P2: Total Supervisor | Q2: 1
P3: Total SIA | Q3: 7
P4: Total non-SIA | Q4: 2
P6: Total | Q6: =SUM(Q2:Q5) -> 10

Sheet LIVE daytimes (SatSun)
P2: Total Supervisor | Q2: 1
P3: Total SIA | Q3: 8
P4: Total non-SIA | Q4: 2
P6: Total | Q6: =SUM(Q2:Q5) -> 11

Sheet LIVE evenings
P2: Total Supervisor | Q2: 1
P3: Total SIA | Q3: 10
P4: Total non-SIA | Q4: 4
P6: Total | Q6: =SUM(Q2:Q5) -> 15

Sheet LIVE overnights
P2: Total Supervisor | Q2: 0
P3: Total SIA | Q3: 1
P4: Total non-SIA | Q4: 0
