Workbook

Sheet Service Charge Budget
A7: The Limes - Didsbury
A8: Detailed information on forecast of expenditure
A42: Contents: 1. Service Charge Budget 2. Service Charge Forecast/Budget 3. Budget Notes

Sheet Budget
A1: The Limes - Service Charge Budget
A3: Expenditure Area | B3: Schedule1 (Apartments) | C3: Schedule 2 (Townhouses) | D3: Schedule 3 (Development) | E3: Schedule 4 (Car Park) | F3: Total
A4: Insurance | B4: =SUM(B5:B7) -> 7588 | C4: =SUM(C5:C7) -> 0 | D4: =SUM(D5:D7) -> 280 | E4: =SUM(E5:E7) -> 0 | F4: =SUM(B4:E4) -> 7868
A5: Buildings Insurance | B5: 7288 | C5: 0 | D5: 0 | E5: 0 | F5: =B5+C5+D5+E5 -> 7288
A6: Directors & Officers Insurance | B6: 0 | C6: 0 | D6: 280 | E6: 0 | F6: =B6+C6+D6+E6 -> 280
A7: Lift Insurance | B7: 300 | C7: 0 | D7: 0 | E7: 0 | F7: =B7+C7+D7+E7 -> 300
A8: Staffing | B8: =SUM(B9:B10) -> 0 | C8: =SUM(C9:C10) -> 0 | D8: =SUM(D9:D10) -> 12250 | E8: =SUM(E9:E10) -> 0 | F8: =SUM(B8:E8) -> 12250
A9: Outsourced Caretaker | B9: 0 | C9: 0 | D9: 12000 | E9: 0 | F9: =SUM(B9:E9) -> 12000
A10: Uniform | B10: 0 | C10: 0 | D10: 250 | E10: 0 | F10: =SUM(B10:E10) -> 250
A11: Services | B11: =SUM(B12:B17) -> 1750 | C11: =SUM(C12:C17) -> 0 | D11: =SUM(D12:D17) -> 2560 | E11: =SUM(E12:E17) -> 1710 | F11: =SUM(B11:E11) -> 6020
A12: Window Cleaning | B12: 750 | C12: 0 | D12: 0 | E12: 0 | F12: =SUM(B12:E12) -> 750
A13: Bin Store Clean and Large Item Removal | B13: 0 | C13: 0 | D13: 500 | E13: 0 | F13: =SUM(B13:E13) -> 500
A14: Grounds Keeping & Landscaping | B14: 0 | C14: 0 | D14: 2060 | E14: 0 | F14: =SUM(B14:E14) -> 2060
A15: Carpet Cleaning | B15: 500 | C15: 0 | D15: 0 | E15: 0 | F15: =SUM(B15:E15) -> 500
A16: Cleaning Equipment | B16: 500 | C16: 0 | D16: 0 | E16: 0 | F16: =SUM(B16:E16) -> 500
A17: EV Car Chargers Software Subscription & Maintenance | B17: 0 | C17: 0 | D17: 0 | E17: 1710 | F17: =SUM(B17:E17) -> 1710
A18: Routine Maintenance | B18: =SUM(B19:B27) -> 3000 | C18: =SUM(C19:C27) -> 0 | D18: =SUM(D19:D28) -> 3596 | E18: =SUM(E19:E27) -> 700 | F18: =SUM(B18:E18) -> 7296
A19: Lift Maintenance inc Lift Line Rental | B19: 1100 | C19: 0 | D19: 0 | E19: 0 | F19: =SUM(B19:E19) -> 1100
A20: Fire Equipment and System Maintenance | B20: 750 | C20: 0 | D20: 0 | E20: 0 | F20: 750
A21: Lighting and Electrical | B21: 500 | C21: 0 | D21: 0 | E21: 0 | F21: =SUM(B21:E21) -> 500
A22: Pest Control | B22: 0 | C22: 0 | D22: 350 | E22: 0 | F22: =SUM(B22:E22) -> 350
A23: CCTV | B23: 0 | C23: 0 | D23: 150 | E23: 0 | F23: =SUM(B23:E23) -> 150
A24: Gutter Clean | B24: 400 | C24: 0 | D24: 0 | E24: 0 | F24: 400
A25: CCTV Drainage Survey | B25: 0 | C25: 0 | D25: 1800 | E25: 0 | F25: =SUM(B25:E25) -> 1800
A26: Access Control | B26: 250 | C26: 0 | D26: 0 | E26: 0 | F26: =SUM(B26:E26) -> 250
A27: Car Park Gate Maintenance | B27: 0 | C27: 0 | D27: 0 | E27: 700 | F27: =SUM(B27:E27) -> 700
A28: Hikvision Intercom Configuration | B28: 0 | C28: 0 | D28: 1296 | E28: 0 | F28: =SUM(B28:E28) -> 1296
A29: Reactive Maintanence | B29: =SUM(B30:B47) -> 3750 | C29: =SUM(C30:C47) -> 0 | D29: =SUM(D30:D47) -> 300 | E29: =SUM(E30:E47) -> 1000 | F29: =SUM(B29:E29) -> 5050
A30: M&R- Acess Systems | B30: 150 | C30: 0 | D30: 0 | E30: 0 | F30: =SUM(B30:E30) -> 150
A31: M&R- Doors - Internal | B31: 150 | C31: 0 | D31: 0 | E31: 0 | F31: =SUM(B31:E31) -> 150
A32: M&R- Doors - External | B32: 350 | C32: 0 | D32: 0 | E32: 0 | F32: =SUM(B32:E32) -> 350
A33: M&R- Lifts | B33: 1000 | C33: 0 | D33: 0 | E33: 0 | F33: =SUM(B33:E33) -> 1000
A34: M&R- Fire Equipment - Alarm | B34: 500 | C34: 0 | D34: 0 | E34: 0 | F34: 500
A35: M&R- Fire Equipment - AOV | B35: 250 | C35: 0 | D35: 0 | E35: 0 | F35: =SUM(B35:E35) -> 250
A36: M&R- Fire Equipment - Riser | B36: 100 | C36: 0 | D36: 0 | E36: 0 | F36: =SUM(B36:E36) -> 100
A37: M&R- Lighting and Electrical | B37: 100 | C37: 0 | D37: 0 | E37: 0 | F37: =SUM(B37:E37) -> 100
A38: M&R- Pest Control | B38: 100 | C38: 0 | D38: 0 | E38: 0 | F38: =SUM(B38:E38) -> 100
A39: M&R- Drains and Gutters | B39: 100 | C39: 0 | D39: 0 | E39: 0 | F39: =SUM(B39:E39) -> 100
A40: M&R- CCTV | B40: 100 | C40: 0 | D40: 0 | E40: 0 | F40: =SUM(B40:E40) -> 100
A41: M&R- Car Park Gates | B41: 0 | C41: 0 | D41: 0 | E41: 1000 | F41: =SUM(B41:E41) -> 1000
...

Sheet Apportion Schedule
A1: The Limes - Apportionment Schedule
A3: Unit Ref | B3: Sq FT | C3: Schedule 1 (Apartment) Contribution (%) | D3: Schedule 2 (Town House) Contribution (%) | E3: Schedule 3 (Estate) Contribution (%) | F3: Schedule 4 (Carpark) Contribution | G3: Schedule 1 (Apartments) Charge (£) | H3: Schedule 2 (Town House) Charge (£) | I3: Schedule 3 (Estate) Charge (£) | J3: Schedule 4 (Carpark) Charge (£) | K3: Total Annual Charge (£)
A4: LG 1 | B4: 753 | C4: =B4/($B$22-Budget!$C$75) -> 0.076594446 | E4: =B4/$B$22 -> 0.046610956 | F4: 1 | G4: =Budget!$B$65*'Apportion Schedule'!C4 -> 2050.2771 | I4: =Budget!$D$65*E4 -> 985.86834 | J4: =Budget!$D$71*F4 -> 141.25 | K4: =SUM(G4:J4) -> 3177.3954
A5: LG 2 | B5: 742 | C5: =B5/($B$22-Budget!$C$75) -> 0.075475537 | E5: =B5/$B$22 -> 0.045930053 | F5: 1 | G5: =Budget!$B$65*'Apportion Schedule'!C5 -> 2020.3261 | I5: =Budget!$D$65*E5 -> 971.46654 | J5: =Budget!$D$71*F5 -> 141.25 | K5: =SUM(G5:J5) -> 3133.0427
A6: LG 3 | B6: 667 | C6: =B6/($B$22-Budget!$C$75) -> 0.067846608 | E6: =B6/$B$22 -> 0.041287527 | F6: 1 | G6: =Budget!$B$65*'Apportion Schedule'!C6 -> 1816.1153 | I6: =Budget!$D$65*E6 -> 873.27249 | J6: =Budget!$D$71*F6 -> 141.25 | K6: =SUM(G6:J6) -> 2830.6378
A7: LG 4 | B7: 753 | C7: =B7/($B$22-Budget!$C$75) -> 0.076594446 | E7: =B7/$B$22 -> 0.046610956 | F7: 1 | G7: =Budget!$B$65*'Apportion Schedule'!C7 -> 2050.2771 | I7: =Budget!$D$65*E7 -> 985.86834 | J7: =Budget!$D$71*F7 -> 141.25 | K7: =SUM(G7:J7) -> 3177.3954
A8: G 5 | B8: 473 | C8: =B8/($B$22-Budget!$C$75) -> 0.048113112 | E8: =B8/$B$22 -> 0.029278861 | F8: 1 | G8: =Budget!$B$65*'Apportion Schedule'!C8 -> 1287.8898 | I8: =Budget!$D$65*E8 -> 619.27719 | J8: =Budget!$D$71*F8 -> 141.25 | K8: =SUM(G8:J8) -> 2048.417
A9: G 6 | B9: 742 | C9: =B9/($B$22-Budget!$C$75) -> 0.075475537 | E9: =B9/$B$22 -> 0.045930053 | F9: 2 | G9: =Budget!$B$65*'Apportion Schedule'!C9 -> 2020.3261 | I9: =Budget!$D$65*E9 -> 971.46654 | J9: =Budget!$D$71*F9 -> 282.5 | K9: =SUM(G9:J9) -> 3274.2927
A10: G 7 | B10: 667 | C10: =B10/($B$22-Budget!$C$75) -> 0.067846608 | E10: =B10/$B$22 -> 0.041287527 | F10: 1 | G10: =Budget!$B$65*'Apportion Schedule'!C10 -> 1816.1153 | I10: =Budget!$D$65*E10 -> 873.27249 | J10: =Budget!$D$71*F10 -> 141.25 | K10: =SUM(G10:J10) -> 2830.6378
A11: G 8 | B11: 613 | C11: =B11/($B$22-Budget!$C$75) -> 0.062353779 | E11: =B11/$B$22 -> 0.037944909 | F11: 1 | G11: =Budget!$B$65*'Apportion Schedule'!C11 -> 1669.0835 | I11: =Budget!$D$65*E11 -> 802.57276 | J11: =Budget!$D$71*F11 -> 141.25 | K11: =SUM(G11:J11) -> 2612.9062
A12: FF 9 | B12: 473 | C12: =B12/($B$22-Budget!$C$75) -> 0.048113112 | E12: =B12/$B$22 -> 0.029278861 | F12: 1 | G12: =Budget!$B$65*'Apportion Schedule'!C12 -> 1287.8898 | I12: =Budget!$D$65*E12 -> 619.27719 | J12: =Budget!$D$71*F12 -> 141.25 | K12: =SUM(G12:J12) -> 2048.417
A13: FF 10 | B13: 742 | C13: =B13/($B$22-Budget!$C$75) -> 0.075475537 | E13: =B13/$B$22 -> 0.045930053 | F13: 2 | G13: =Budget!$B$65*'Apportion Schedule'!C13 -> 2020.3261 | I13: =Budget!$D$65*E13 -> 971.46654 | J13: =Budget!$D$71*F13 -> 282.5 | K13: =SUM(G13:J13) -> 3274.2927
A14: FF 11 | B14: 667 | C14: =B14/($B$22-Budget!$C$75) -> 0.067846608 | E14: =B14/$B$22 -> 0.041287527 | F14: 1 | G14: =Budget!$B$65*'Apportion Schedule'!C14 -> 1816.1153 | I14: =Budget!$D$65*E14 -> 873.27249 | J14: =Budget!$D$71*F14 -> 141.25 | K14: =SUM(G14:J14) -> 2830.6378
A15: FF 12 | B15: 570 | C15: =B15/($B$22-Budget!$C$75) -> 0.05797986 | E15: =B15/$B$22 -> 0.035283194 | F15: 1 | G15: =Budget!$B$65*'Apportion Schedule'!C15 -> 1552.0026 | I15: =Budget!$D$65*E15 -> 746.27484 | J15: =Budget!$D$71*F15 -> 141.25 | K15: =SUM(G15:J15) -> 2439.5274
... A17: SF 14 | B17: 990 | C17: =B17/($B$22-Budget!$C$75) -> 0.10070186 | E17: =B17/$B$22 -> 0.061281337 | F17: 2 | G17: =Budget!$B$65*'Apportion Schedule'!C17 -> 2695.5834 | I17: =Budget!$D$65*E17 -> 1296.1616 | J17: =Budget!$D$71*F17 -> 282.5 | K17: =SUM(G17:J17) -> 4274.245
A18: TH 1 (A) | B18: 1581 | D18: =B18/($B$22-Budget!$C$74) -> 0.25 | E18: =B18/$B$22 -> 0.097864438 | F18: 2 | H18: =Budget!$C$65*D18 -> 390.89 | I18: =Budget!$D$65*E18 -> 2069.9307 | J18: =Budget!$D$71*F18 -> 282.5 | K18: =SUM(G18:J18) -> 2743.3207
A19: TH 2 (B) | B19: 1581 | D19: =B19/($B$22-Budget!$C$74) -> 0.25 | E19: =B19/$B$22 -> 0.097864438 | F19: 2 | H19: =Budget!$C$65*D19 -> 390.89 | I19: =Budget!$D$65*E19 -> 2069.9307 | J19: =Budget!$D$71*F19 -> 282.5 | K19: =SUM(G19:J19) -> 2743.3207
A20: TH 3 (c) | B20: 1581 | D20: =B20/($B$22-Budget!$C$74) -> 0.25 | E20: =B20/$B$22 -> 0.097864438 | F20: 2 | H20: =Budget!$C$65*D20 -> 390.89 | I20: =Budget!$D$65*E20 -> 2069.9307 | J20: =Budget!$D$71*F20 -> 282.5 | K20: =SUM(G20:J20) -> 2743.3207
A21: TH 4 (D) | B21: 1581 | D21: =B21/($B$22-Budget!$C$74) -> 0.25 | E21: =B21/$B$22 -> 0.097864438 | F21: 2 | H21: =Budget!$C$65*D21 -> 390.89 | I21: =Budget!$D$65*E21 -> 2069.9307 | J21: =Budget!$D$71*F21 -> 282.5 | K21: =SUM(G21:J21) -> 2743.3207
A22: Total | B22: =SUM(B4:B21) -> 16155 | C22: =SUM(C4:C21) -> 1 | D22: =SUM(D4:D21) -> 1 | E22: =SUM(E4:E21) -> 1 | F22: =SUM(F4:F21) -> 26 | G22: =SUM(G4:G21) -> 26767.96 | H22: =SUM(H4:H21) -> 1563.56 | I22: =SUM(I4:I21) -> 21151 | ... K22: =SUM(K4:K21) -> 53155.02

Sheet Notes
A1: The Limes - Budget Comments
A3: Forecasting service charge budget is an educated guesswork. Our forecast is as accurate as possible as we use our knowledge and experience of managing sites of similar age and size in the local area with similar services and scale accordingly to this particular development. We also explain how each service is calculated so when the forecast is scrutinised, revisions can be made and agreed by all parties in a straight forward fashion.
A5: Expenditure Item | C5: Notes
A6: Insurance | B6: Buildings Insurance | C6: Actual top line premium cost for year ones policy.
B7: Directors & Officers Insurance | C7: Actual top line premium cost for year ones policy.
B8: Lift Insurance | C8: Insurance provided for the lift in the apartment building at the Limes.
A9: Staffing | C9: Percentage of a community manager and assistant community manager salary based on unit count of the development.
B10: Outsourced Caretaker | C10: 6 hours per week across 3 days for an outsourced caretaker to be on site undertaking external estate cleaning and internal communal area cleaning to the apartment building only. Will include jet washing and minor landscaping provision.
B11: Cover, Bank Holidays & Absences | C11: Set at a level of 12% of all true wage costs for site staff, this covers all cover needs, for bank holidays, planned holidays and unplanned absences
B12: National Insurance & Pensions | C12: Provision for the 9% National Insurance for each employee and 1% pension contribution.
B13: Facilities Management Fee | C13: Facilities Management Fee, covers the uniform, supplies, equipment, mobiles, training and management costs for all site staff
A14: Services | B14: Window Cleaning | C14: Quarterly visits from specialist contractor for the external glazing to apartments only.
B15: Bin Store Clean and Item Removal | C15: Cost to cover additional adhoc deep clean of waste area and large item removal where required.
B16: Grounds Keeping & Landscaping | C16: Cost for maintnence to external grounds, shrubbery and planting within the site boundary.
B17: Carpeting cleaning | C17: Annual professinal clean of carpets, spot clean only to communal areas within apartment block.
B18: EV Chargers Software Subscription & Maintenance | C18: Cost for the annual licence fees associated to the electric vehicle charging points within the car park. Also includes maintenance costs for each charger. For use by anybody.
A19: Planned Maintenance | B19: Lift Maintenance inc Lift Line | C19: Full comprehensive maintenance agreement with install contractors. Covering cyclical services and the BT lift line rental for the call button.
B20: Fire Equipment and System Maintenance | C20: Fire Panel, Risers and AOV tested annually.
B21: Lighting and Electrical | C21: Annual test of Emergency Lighting and PAT test of operational staff portable electrical items.
B22: Pest Control | C22: First years costs should include purchase of bait boxes and install of such. Quarterly visits from certified contractors.
B23: CCTV | C23: Annual clean and function test of CCTV cameras. Software updatewhere required.
B24: Gutter Clean | C24: Annual clean and function test of roof gutters to apartment block only.
B25: Drainage Survey | C25: Annual site drainage survey to comply with local planning authority conditions.
B26: Car Park Gate Maintenance | C26: Bi-annual safety testing and maintenance with certifed contractors of the car park gate.
A27: Reactive Maintenance | B27: Maintenance and Repair | C27: Provision for contractor attendance and/or repairs outside the scope of maintenance agreements.
A28: Utilities | B28: Water | C28: Provision for the communal water supply.
B29: Electricity | C29: Provision for communal electricity.
A30: Reserve Fund | B30: Internal Decoration | C30: Contribution to internal decorations where required
B31: External Decoration | C31: Contribution to external decorations where requried
B32: Roof and Structure | C32: Contribution to roof/structure works where required
B33: Car Park | C33: Contribution to car park works where required
B34: General Works | C34: Contribution to general works where requried
A35: Professional Fees | B35: Management Fees | C35: Cost for Alliance City Living's Management.
B36: Out of Hours Service | C36: £4.50 inc vat per property per annum
B37: Sundries & Postage | C37: Provision for notices and postage
B38: Accountant | C38: Costs for annual audit of service charge accounts
B39: Fire, Health & Safety Assessments | C39: Costs for annual Fire and Health and Safety assessments
B40: Company Secretarial | C40: Cost for Alliance City Living to be appointed company secretary.
B41: Bank Charges | C41: Provision for Client Monies Account.
