Workbook

Sheet Summary Sheet
B2: Summary Sheet
B4: Premise: | C4: 8 - 10 Hastings Avenue Chorlton
B5: Scheme Description: | C5: External Refurbishment Works
B6: WCP Job Number: | C6: L1747
B7: Date: | C7: 45320
B9: Documents Priced
B10: Schedule of works
B11: Specification
B14: Proposed Works | D14: ='Proposed Works'!F96 -> 0
B16: Provisional Sums | D16: ='Provisional Sums'!K16 -> 0
B18: Preliminaries | D18: 0
C20: Sub-Total | D20: =SUM(D14:D18) -> 0
C22: Contingency @10% | D22: =SUM(D20)*0.1 -> 0
C24: Contract Sum | D24: =D20+D22 -> 0

Sheet Proposed Works
A2: Premise | C2: ='Summary Sheet'!$C$4 -> 8 - 10 Hastings Avenue Chorlton
A4: Scheme Description | C4: ='Summary Sheet'!$C$5 -> External Refurbishment Works
A7: WCP Job No. | C7: ='Summary Sheet'!C6:D6 -> L1747
A10: Item | B10: Description | C10: Qty | D10: Unit | E10: Rate | F10: Total
A12: 1 | B12: General
A13: 1.01 | B13: All site debris and excess materials to be removed from site following completion of works and site left clean and tidy. Sparkle clean to be undertaken upon completion. | C13: 1 | D13: Item | F13: =E13*C13 -> 0
A14: 1.02 | B14: Works to be undertaken in compliance with specification and or ER's unless otherwise stated | C14: 1 | D14: Item | F14: =E14*C14 -> 0
A15: 1.03 | B15: Note contents of asbestos report | C15: 1 | D15: Item | F15: =E15*C15 -> 0
A16: 1.04 | B16: Allow for letter dropping neighbouring residents 4 weeks prior to commencement and upon completion | C16: 1 | D16: Item | F16: =E16*C16 -> 0
A17: 1.05 | B17: Allow for coordination of works to maintain security and weather resistance of building envelope throughout the duration of the program | C17: 1 | D17: Item | F17: =E17*C17 -> 0
A18: 1.06 | B18: All items of work must be priced completely separately. All dimensions are to be checked and confirmed by the contractor. | C18: 1 | D18: Item | F18: =E18*C18 -> 0
A19: 1.07 | B19: All works are to be executed in strict accordance with the manufacturer’s recommendations and instructions whether specifically mentioned or not. | C19: 1 | D19: Item | F19: =E19*C19 -> 0
A20: 1.08 | B20: All works are to be executed in strict accordance with the manufacturer’s recommendations and instructions whether specifically mentioned or not. | C20: 1 | D20: Item | F20: =E20*C20 -> 0
A21: 1.09 | B21: The standard of workmanship is to comply with National Building Specification General Conditions GCW MC A33 and to conform to BS 8000; workmanship on building sites. | C21: 1 | D21: Item | F21: =E21*C21 -> 0
A22: 1.1 | B22: Allow for providing safe access and egress to the working area, restricting access to site personnel only | C22: 1 | D22: Item | F22: =E22*C22 -> 0
A23: 1.11 | B23: Leave the whole of the site and works clean, free from debris and surplus materials, in good working order and make good all disturbed surrounding construction and damage, all to the Contract Administrators satisfaction. | C23: 1 | D23: Item | F23: =E23*C23 -> 0
A24: 1.12 | B24: Allow cost to manage Creative Support window blind fitters | C24: 1 | D24: Item | F24: =E24*C24 -> 0
... A26: 1.14 | B26: Liaise with Conservation Officer and provide samples of materials if required | C26: 1 | D26: Item | F26: =E26*C26 -> 0
A28: 2 | B28: External Areas
A30: 2.01 | B30: Supply and fit new double glazed PVCu window frame with opening casements to match existing window opening casements. Frame to comply with BS7950 & BS7412, to be fabricated and installed by a FENSA registered installer. | C30: 57 | D30: Item | F30: =E30*C30 -> 0
A31: 2.02 | B31: Allow to carry out necessary to clean out gutters to all elevations. Allow for overhauling, cleaning, resealing and for checking existing falls of gutters, ensuring gutters free from leaks. Allow to fit Floplast gutter guards to gutters and balloon leaf guards to all downpipes. | C31: 1 | D31: Item | F31: =E31*C31 -> 0
A32: 2.03 | B32: Clip back and tidy up all loose external wall mounted cabling. Ensure any redundant cabling is removed. | C32: 1 | D32: Item | F32: =E32*C32 -> 0
A33: 2.04 | B33: Allow to jet all external gullies to the perimeter of the property and ensure free flowing. | C33: 1 | D33: Item | F33: =E33*C33 -> 0
A34: 2.05 | B34: Allow to patch point numerous areas to all elevations Rake out existing coursing to 20mm depth, and repoint brickwork in coloured gauged mortar to match existing. | C34: 20 | D34: m2 | F34: =E34*C34 -> 0
A35: 2.06 | B35: Lift and rebed uneven paving to eliminate all trip hazards. | C35: 20 | D35: m2 | F35: =E35*C35 -> 0
A36: 2.07 | B36: Allow to renew tarmacadam to front elevation. Ensure hollow areas of binder course and sub-base are filled and compacted prior to laying finishing wearing coat. | C36: 35 | D36: m2 | F36: =E36*C36 -> 0
A37: 2.08 | B37: On completion of the works allow to jet clean all macadam and paved areas to all elevations | C37: 1 | D37: Item | F37: =E37*C37 -> 0
A38: 2.09 | B38: Remove excessive moss and lichen growth from ground floor pitched roofs | C38: 1 | D38: Nr | F38: =E38*C38 -> 0
A39: 2.1 | B39: Allow to remove existing fence panels and dispose off site. Supply and install new Waneylap fence panels to match existing | C39: 15 | D39: Nr | F39: =E39*C39 -> 0
A40: 2.11 | B40: Allow to install geotextile membrane around tree to rear elevation and lay Breeden decorative gravel | C40: 5 | D40: m2 | F40: =E40*C40 -> 0
A41: 2.12 | B41: Allow to form new perimeter boarder around tree to rear garden. Allow to excavate existing soft landscaping and to accommodate geotextile layer and bark to top. Treated board edges to new perimeter boarder. | C41: 10 | D41: m2 | F41: =E41*C41 -> 0
... A54: 2.25 | B54: Remove existing window frame and below masonry cavity wall. Supply and install white composite Hornshuch white foil grain rear doorset with a satin finish glazing to the rear door and clear glazing to the side pane with a push to exit bar internally and internal above illuminated emergency exit signage. Allow to make good surrounding brickwork with toothing half bricks and install 30 minute fire rated cavity closers | C54: 1 | D54: Item | F54: =E54*C54 -> 0
A56: 3 | B56: External Decorations
B58: Extent of Decorations
A59: 3.01 | B59: The extent of all decorations is to include all external areas along with making good any decoration affected by reason of the works. | C59: 1 | D59: Item | F59: =E59*C59 -> 0
A60: 3.02 | B60: - Metal handrailing's and iron gates - Stone detailing - All previously painted joinery/ metalwork/ masonry not mentioned above | C60: 1 | D60: Item | F60: =E60*C60 -> 0
B61: General
A62: 3.03 | B62: Colours for all decorations to be confirmed by the Contract Administrator from the manufacturer’s entire colour range for the specified product. | C62: 1 | D62: Item | F62: =E62*C62 -> 0
A63: 3.04 | B63: All coating materials must be obtained from ICI Paints Division Dulux PLC. | C63: 1 | D63: Item | F63: =E63*C63 -> 0
A64: 3.05 | B64: Preparation of Render Surfaces Prepare all surfaces to receive decoration, in strict accordance with the manufacturer’s instructions. External (paint finished) masonry stonework: Carefully scrape back to a firm edge all areas of poorly adhering or defective coatings. Powdery and friable surface coatings such as soft distempers etc. should be completely removed by scraping, brushing and washing. Thoroughly clean down the surfaces to remove all dirt grease and surface contaminants; whilst wet, produce the necessary ‘key’ for good adhesion by rubbing down sound areas with water based abrasive paper or pads and ‘feathering’ broken edges of existing coatings. Rinse off and allow to dry. | C64: 1 | D64: Item | F64: =E64*C64 -> 0
A65: 3.06 | B65: Priming Render Surfaces If surfaces remain powdery and friable after thorough preparation, they must be sealed with: 1 coat of Dulux Trade Weathershield Stabilising Primer to penetrate the surface and avoid leaving a glossy film. Prime all sound bare areas and areas exposed by the removal of coatings with: 1 coat of Dulux Trade Weathershield Smooth Masonry Paint of appropriate shade thinned up to 1 part clean water to 5 parts of product as appropriate. | C65: 1 | D65: Item | F65: =E65*C65 -> 0
A66: 3.07 | B66: Finishing system Render Surfaces Two coats of Dulux Trade Weathershield Smooth Masonry Paint of selected shade | C66: 1 | D66: Item | F66: =E66*C66 -> 0
A67: 3.08 | B67: Preparation of Masonry/Joinery Surfaces Prepare all surfaces to receive decoration, in strict accordance with the manufacturer’s instructions. External (paint finished) masonry stonework: Carefully scrape back to a firm edge all areas of poorly adhering or defective coatings. Powdery and friable surface coatings such as soft distempers etc. should be completely removed by scraping, brushing and washing. Thoroughly clean down the surfaces to remove all dirt grease and surface contaminants; whilst wet, produce the necessary ‘key’ for good adhesion by rubbing down sound areas with water based abrasive paper or pads and ‘feathering’ broken edges of existing coatings. Rinse off and allow to dry. External Joinery: Thoroughly clean down the surfaces to remove all dirt, grease and surface contaminants. Carefully remove any mortar deposits. Remove oils and surface resin from surface by wiping with Dulux Thinner 41 or White Spirit. Abrade to remove any raised grain and round all sharp edges to a 3mm radius and dust off. Apply a thin coat of 'Dulux' Knotting Solution to all knots and resinous areas and allow to harden. | C67: 1 | D67: Item | F67: =E67*C67 -> 0
A68: 3.09 | B68: External Metalwork Thoroughly clean down to remove all surface contamination. Carefully scrape back to a firm edge all areas of defective paint coatings and rub down to 'feather' the broken edges. Scrape and wire brush corroded steel to produce a clean metal surface. Rub down with a suitable abrasive and dust off. All manually prepared surfaces should be prepared to a minimum standard of St3. BS EN ISO 8501-1: 2007 at the time of coating. Prime all bare areas with: 1 coat(s) of Armstead Trade Prime coat Metal Primer Zinc Phosphate. | C68: 1 | D68: Item | F68: =E68*C68 -> 0
A69: 3.1 | B69: Finishing Systems: External (paint finished) masonry stonework: Two coats of Dulux Weathershield Smooth Masonry Paint of selected shade. External Joinery: Two coats of Dulux Trade Undercoat of appropriate shade. One coat of Dulux Trade High Gloss or stain of selected shade. External metal work One coat of Armstead Trade Undercoat to match existing. Two coats of Armstead Trade High Gloss to match existing. | C69: 1 | D69: Item | F69: =E69*C69 -> 0
A71: 4 | B71: Internal Decorations
A73: 4.01 | B73: Prepare all surfaces to receive decoration, in strict accordance with the manufacturer’s instructions. - Laundry Room - Bathroom | C73: 1 | D73: Item | F73: =E73*C73 -> 0
A74: 4.02 | B74: New Plaster: Thoroughly clean down the surface to remove all dirt grease and surface contaminants. Carefully remove plaster and mortar deposits. Remove efflorescence and under bound slurry by brushing or rubbing with a dry cloth followed by wiping with a damp cloth. Allow to dry. Brush the surface to remove any loose aggregate. Prime overall with one coat of Dulux Trade Quick Drying Eggshell of Appropriate shade thinned up to 1 part water 10 parts of product as appropriate. Finish with two coats of Dulux Trade Quick Drying Eggshell of selected shade. | C74: 1 | D74: Item | F74: =E74*C74 -> 0
A75: 4.03 | B75: Existing (paint finished) Plaster: Carefully scrape back to a firm edge all areas of poorly adhering or defective coatings. Powdery and friable surface coatings such as soft distempers etc. should be completely removed by scraping, brushing and washing. Thoroughly clean down the surfaces to remove all dirt grease and surface contaminants; whilst wet, produce the necessary ‘key’ for good adhesion by rubbing down sound areas with water based abrasive paper or pads and ‘feathering’ broken edges of existing coatings. Rinse off and allow to dry. Prime all sound bare areas and areas exposed by the removal of coatings with one coat of Dulux Trade Quick Drying Eggshell of appropriate shade thinned up to 1 part water to 10 parts of product. Finish with two coats of Dulux Trade Quick Drying Eggshell of selected shade. | C75: 1 | D75: Item | F75: =E75*C75 -> 0
A76: 4.04 | B76: New and Existing (paint finished) Internal Joinery: Carefully scrape back to a firm edge all areas of poorly adhering or defective coatings. Rub down to ‘feather’ broken paint edges and dust off. Wash down the surfaces with soap and water, detergent solution or suitable solvent to remove all dirt, grease and surface contaminants. Whilst wet rub down the surfaces with a suitable abrasive taking care to avoid exposing timber on sharp edges. Finally rinse down and allow to dry. Apply a thin coat of 'Dulux' Knotting Solution to all knots and resinous areas and allow to harden. Ensure all surfaces are fully dry before proceeding. One coats of Dulux Trade Undercoat of appropriate shade then one coat of Dulux Trade High Gloss of selected shade. | C76: 1 | D76: Item | F76: =E76*C76 -> 0
A77: 4.05 | B77: Areas/ rooms to receive full decoration: - First floor bathroom - Laundry ground floor | C77: 1 | D77: Item | F77: =E77*C77 -> 0
A79: 5 | B79: Electrical Works
A81: 5.01 | B81: General Electrical installations to be undertaken by an NICEIC registered contractor, to comply fully with the current edition of the IEE Regulations. BS-7671. Contractor to self certify under Part P of the Building Regulations. All new work to be taken back to the main fuse board. All wiring to be flush fitted with wiring protected by metal guarding. | C81: 1 | D81: Item | F81: =E81*C81 -> 0
A82: =A81+0.01 -> 5.02 | B82: Supply and fit 3nr fused spurs above worktop for driers below within ground floor laundry room | C82: 1 | D82: Item | F82: =E82*C82 -> 0
A83: =A82+0.01 -> 5.03 | B83: Allow to isolate existing CCTV and wiring whilst works to soffit/fascia etc are carried out. Allow to re install CCTV upon completion of works. | C83: 1 | D83: item | F83: =E83*C83 -> 0
A84: =A83+0.01 -> 5.04 | B84: Allow to isolate existing aerials whilst refurbishment works are being carried out to roof area. Allow to re install aerials upon completion of works. | C84: 1 | D84: item | F84: =E84*C84 -> 0
A85: =A84+0.01 -> 5.05 | B85: Supply and fit single plug socket to first and second floor lobby area. Socket to be set 450mm from FFL. | C85: 1 | D85: Item | F85: =E85*C85 -> 0
A86: =A85+0.01 -> 5.06 | B86: Allow to supply and fit new Envirovent Silent 100 with humistat, 150mm extractor fan with humidistat with 20 minute over-run to proposed 1st floor bathroom area and laundry room. Allow for all ancillary components as required. | C86: 2 | D86: Items | F86: =E86*C86 -> 0
A87: =A86+0.01 -> 5.07 | B87: Allow to isolate power supply and remove existing lighting to all elevations and dispose off site. Supply and install 10 new external lights. Allow to test and commission lighting. | C87: 10 | D87: Items | F87: =E87*C87 -> 0
A88: =A87+0.01 -> 5.08 | B88: Allow to isolate power supply and remove existing bulk head light to side elevation and dispose off site. Supply and install new bulk head lighting. Allow to test and commission lighting. | C88: 1 | D88: Item | F88: =E88*C88 -> 0
A89: =A88+0.01 -> 5.09 | B89: Allow to remove any redundant wiring to meter room and dispose off site. Furthermore allow to remove redundant wiring and boxing in to laundry room lobby and dispose off site. | C89: 1 | D89: item | F89: =E89*C89 -> 0
A90: =A89+0.01 -> 5.1 | B90: Supply and fit 1nr LED round bulk head light to replace existing light in first floor bathroom | C90: 1 | D90: Item | F90: =E90*C90 -> 0
A92: 6 | B92: Builders Work In Connection
A94: 6.01 | B94: General Include for all necessary builders work in connection with the mechanical and electrical services installation, including holes, chases, recesses and/or notches to steel, masonry, concrete and/or timber. All exposed heating pipework to be boxed in with Pendock profiles where exposed. Allow for providing access in convenient locations to permit access for cleaning, testing and maintenance Allow for fire-stopping where pipes pass through fire resisting walls using approved intumescent mortar/mastic and/or pipe collars. | C94: 1 | D94: Item | F94: =E94*C94 -> 0
B96: TOTAL COST OF SCHEDULED ITEMS | F96: =SUM(F13:F95) -> 0

Sheet Provisional Sums
A2: Premise | C2: ='Summary Sheet'!C4:D4 -> 8 - 10 Hastings Avenue Chorlton
A4: Scheme Description | C4: ='Summary Sheet'!C5:D5 -> External Refurbishment Works
A7: WCP Job No. | C7: ='Summary Sheet'!C6:D6 -> L1747
H10: 1-5 | I10: 1-5 | J10: 25
A11: Item | B11: Description | G11: £ | H11: Probability | I11: Impact | J11: Product | K11: Total
A13: 1 | B13: Allow to service existing extractors to all bathrooms/ WC and kitchens landry rooms etc. Supply and install new with new Manrose (XF150bh), or similar approved, 150mm extractor fan with humidistat with 20 minute over-run if found defective following service. Allow for all ancillary components as required. | H13: 5 | I13: 5 | J13: 5 | K13: =G13 -> 0
A14: 2 | B14: Allow to carry out any plaster repairs and decorate areas around windows following on from window replacement. | H14: 5 | I14: 5 | J14: 5 | K14: =G14 -> 0
J16: Total £ | K16: =SUM(K13:K15) -> 0
