Workbook
Name AllHabsSummaryData: 'G-2 Habitat groups'!$A$3:$AF$130
Name BaselineHabOffsite: 'D-1 Off Site Habitat Baseline'!$D$11:$X$258
Name BaselineHabSite: 'A-1 Site Habitat Baseline'!$D$11:$X$258
Name baselineimage: Start!$D$31:$G$45
Name baselineimageOS: Start!$D$52:$G$57
Name Coastal_lagoons: 'G-1 All Habitats'!$A$99
Name Coastal_saltmarsh: 'G-1 All Habitats'!$A$108:$A$109
Name Cond1: 'G-8 Condition Look up'!$J$5
Name Cond2: 'G-8 Condition Look up'!$K$5
Name Cond3: 'G-8 Condition Look up'!$L$5
Name Cond4: 'G-8 Condition Look up'!$M$5:$M$9
Name Cond5: 'G-8 Condition Look up'!$N$5
Name Condition: 'G-8 Condition Look up'!$B$3:$H$3
Name ConditionData: 'G-8 Condition Look up'!$A$4:$H$99
Name ConditionHabitats: 'G-8 Condition Look up'!$A$4:$A$125
Name Cropland: 'G-1 All Habitats'!$A$3:$A$12
Name Difficulty: 'G-3 Multipliers'!$P$3:$Q$6
Name EnhanceCondition: 'G-5 Enhancement Temporal'!$C$4:$X$4
Name EnhanceHabitat: 'G-5 Enhancement Temporal'!$C$4:$C$131
Name EnhanceTemporal: 'G-5 Enhancement Temporal'!$C$4:$X$131
Name Grassland: 'G-1 All Habitats'!$A$13:$A$25
Name Heathland_and_shrub: 'G-1 All Habitats'!$A$26:$A$37
Name HedgeCond: 'G-6 Hedgerow Data'!$B$2:$T$2
Name Hedgecond1: 'G-6 Hedgerow Data'!$BK$3:$BK$5
Name Hedgecond2: 'G-6 Hedgerow Data'!$BL$3
Name HedgeData: 'G-6 Hedgerow Data'!$B$2:$T$15
Name HedgeType: 'G-6 Hedgerow Data'!$B$2:$B$15
Name Intertidal_hard_structures: 'G-1 All Habitats'!$A$127:$A$129
Name Intertidal_sediment: 'G-1 All Habitats'!$A$110:$A$126
Name Lakes: 'G-1 All Habitats'!$A$38:$A$48
Name LPAList: Lists!$A$1:$A$378
Name postdevelopmentimage: Start!$I$31:$O$45
Name postdevelopmentimageOS: Start!$I$52:$O$57
Name RetCatChecks: 'A-1 Site Habitat Baseline'!$AE$11:$AH$258
Name riparianencroachment1: 'G-7 Rivers Data'!$AA$4:$AA$6
Name riparianencroachment2: 'G-7 Rivers Data'!$AA$7
Name Rivercond1: 'G-7 Rivers Data'!$BB$3:$BB$7
Name Rivercond2: 'G-7 Rivers Data'!$BC$3
Name RiverCondition: 'G-7 Rivers Data'!$B$3:$X$3
Name RiverEnhanceTemporal: 'G-7 Rivers Data'!$B$4:$X$12
Name RiverHabitat: 'G-7 Rivers Data'!$B$4:$B$13
Name RiversEnhancment: 'G-7 Rivers Data'!$O$3:$X$5
Name Rocky_shore: 'G-1 All Habitats'!$A$100:$A$107
Name Sparsely_vegetated_land: 'G-1 All Habitats'!$A$49:$A$56
Name TemporalConditions: 'G-4 Temporal multipliers'!$F$3:$M$3
Name TemporalData: 'G-4 Temporal multipliers'!$F$3:$M$130
Name TemporalHabitats: 'G-4 Temporal multipliers'!$F$3:$F$130
Name TemporalMultipliers: 'G-4 Temporal multipliers'!$A$4:$C$36
Name Urban: 'G-1 All Habitats'!$A$57:$A$77
Name Wetland: 'G-1 All Habitats'!$A$78:$A$85
Name Woodland_and_forest: 'G-1 All Habitats'!$A$86:$A$98

Sheet Introduction

Sheet Start
D9: Project details
D11: Planning authority:
D12: Project name:
D13: Applicant:
D14: Application type:
D15: Planning application reference:
D16: Assessor:
D17: Reviewer:
D18: Metric version:
D19: Assessment date:
D20: Planning authority reviewer:
D23: Cell style conventions
F25: Enter data
F26: Automatic lookup
F27: Result

Sheet Instructions

Sheet Main Menu
Q3: Urban tree helper
Q4: Tree size | R4: Number of trees and area (ha) for each condition state
R5: Poor | S5: Area | T5: Moderate | U5: Area | V5: Good | W5: Area
Q6: Small | S6: =R6*'G-3 Multipliers'!$Z$4 -> 0 | T6: 45 | U6: =T6*'G-3 Multipliers'!$Z$4 -> 0.1831248 | W6: =V6*'G-3 Multipliers'!$Z$4 -> 0
Q7: Medium | S7: =R7*'G-3 Multipliers'!$Z$5 -> 0 | U7: =T7*'G-3 Multipliers'!$Z$5 -> 0 | W7: =V7*'G-3 Multipliers'!$Z$5 -> 0
Q8: Large | S8: =R8*'G-3 Multipliers'!$Z$6 -> 0 | U8: =T8*'G-3 Multipliers'!$Z$6 -> 0 | W8: =V8*'G-3 Multipliers'!$Z$6 -> 0
Q9: Total | R9: =SUM(R6:R8) -> 0 | S9: =SUM(S6:S8) -> 0 | T9: =SUM(T6:T8) -> 45 | U9: =SUM(U6:U8) -> 0.1831248 | V9: =SUM(V6:V8) -> 0 | W9: =SUM(W6:W8) -> 0

Sheet Results

Sheet Headline Results
B2: =IF(Start!$F$12="","",Start!$F$12)
B3: =MID(CELL("filename",A1),FIND("]",CELL("filename",A1))+1,256) -> Headline Results
B8: On-site baseline | F8: Habitat units | H8: =IFERROR('A-1 Site Habitat Baseline'!Q259,"Check Data ⚠") -> 0.0162
F9: Hedgerow units | H9: =IFERROR('B-1 Site Hedge Baseline'!N258,"Check Data ⚠") -> 0
F10: River units | H10: ='C-1 Site River Baseline'!R258 -> 0
B12: On-site post-intervention (Including habitat retention, creation & enhancement) | F12: Habitat units | H12: =IFERROR('A-2 Site Habitat Creation'!Y257+'A-3 Site Habitat Enhancement'!AN258+'A-1 Site Habitat Baseline'!U259,"Check Data ⚠") -> 0.67600178
F13: Hedgerow units | H13: =IFERROR('B-2 Site Hedge Creation'!W260+'B-3 Site Hedge Enhancement'!AH258+'B-1 Site Hedge Baseline'!R258,"Check Data⚠") -> 0.044931606
F14: River units | H14: =IFERROR('C-2 Site River Creation'!Z260 + 'C-3 Site River Enhancement'!AM258+'C-1 Site River Baseline'!V258,"Check Data ⚠") -> 0
B16: On-site net % change (Including habitat retention, creation & enhancement) | F16: Habitat units | H16: =IF(H8=0,0,IF(AND(H8=0,H12>0),1,IFERROR((H12/H8)-1,"Check Data ⚠"))) -> 40.728505
F17: Hedgerow units | H17: =IF(H9=0,0,IF(AND(H9=0,H13>0),1,IFERROR((H13/H9)-1,"Check Data ⚠"))) -> 0
F18: River units | H18: =IF(H10=0,0,IF(AND(H10=0,H14>0),1,IFERROR((H14/H10)-1,"Check Data ⚠"))) -> 0
B20: Off-site baseline | F20: Habitat units | H20: =IFERROR('D-1 Off Site Habitat Baseline'!Q259,"Check Data ⚠") -> 0
F21: Hedgerow units | H21: =IFERROR('E-1 Off Site Hedge Baseline'!N258,"Check Data ⚠") -> 0
F22: River units | H22: =IFERROR('F-1 Off Site River Baseline'!R258,"Check Data ⚠") -> 0
B24: Off-site post-intervention (Including habitat retention, creation & enhancement) | F24: Habitat units | H24: =IFERROR('D-1 Off Site Habitat Baseline'!$U$259+'D-2 Off Site Habitat Creation'!AA257+'D-3 Off Site Habitat Enhancment'!AP259,"Check Data ⚠") -> 0
F25: Hedgerow units | H25: =IFERROR('E-1 Off Site Hedge Baseline'!R258+'E-2 Off Site Hedge Creation'!Y260+'E-3 Off Site Hedge Enhancement'!AJ258,"Check Data ⚠") -> 0
F26: River units | H26: =IFERROR('F-1 Off Site River Baseline'!V258+'F-2 Off Site River Creation'!AB260+'F-3 Off Site River Enhancement'!AO258,"Check Data ⚠") -> 0
B28: Total net unit change (including all on-site & off-site habitat retention, creation & enhancement) | F28: Habitat units | H28: =IFERROR((H12-H8)+((H24-H20)),"Check Data ⚠") -> 0.65980178
F29: Hedgerow units | H29: =IFERROR((H13-H9)+((H25-H21)),"Check Data ⚠") -> 0.044931606
F30: River units | H30: =IFERROR((H14-H10)+((H26-H22)),"Check Data ⚠") -> 0
B32: Total on-site net % change plus off-site surplus (including all on-site & off-site habitat retention, creation & enhancement) | F32: Habitat units | H32: =IF(H28=0,0,IF(AND(H8=0,H20=0,H28>0),1,IFERROR((H28/H8),"Check Data ⚠"))) -> 40.728505
F33: Hedgerow units | H33: =IF(H29=0,0,IF(AND(H9=0,H21=0,H29>0),1,IFERROR((H29/H9),"Check Data ⚠"))) -> 1
F34: River units | H34: =IF(H30=0,0,IF(AND(H10=0,H22=0,H30>0),1,IFERROR((H30/H10),"Check Data ⚠"))) -> 0
B36: Trading rules Satisfied? | F36: =IF(OR('Trading Summary'!G5="No ▲",'Trading Summary'!G6="No ▲",'Trading Summary'!G7="No ▲",'Trading Summary'!G8="No ▲"),"No - Check Trading Summary ▲","Yes ✓") -> Yes ✓

Sheet Detailed Results
B2: =IF(Start!$F$12="","",Start!$F$12)
B3: =MID(CELL("filename",A1),FIND("]",CELL("filename",A1))+1,256) -> Detailed Results
B7: Summary Figures
B10: Net project biodiversity units (including all on-site & off-site habitat retention/creation) | F10: Habitat units | H10: =IFERROR('Headline Results'!$H$28:$I$28,"Check Data ⚠") -> 0.65980178
F11: Hedgerow units | H11: =IFERROR('Headline Results'!$H$29:$I$29,"Check Data ⚠") -> 0.044931606
F12: River units | H12: =IFERROR('Headline Results'!$H$30:$I$30,"Check Data ⚠") -> 0
B14: Total project biodiversity % change (including all On-site & Off-site Habitat Creation + Retained Habitats) | F14: Habitat units | H14: =IFERROR('Headline Results'!$H$32:$I$32,"Check Data ⚠") -> 40.728505
F15: Hedgerow units | H15: =IFERROR('Headline Results'!$H$33:$I$33,"Check Data ⚠") -> 1
F16: River units | H16: =IFERROR('Headline Results'!$H$34:$I$34,"Check Data ⚠") -> 0
B18: Combined habitat retention and enhancement
D20: Habitats | F20: Hedgerows | H20: Rivers
B21: Total on-site and off-site baseline area / length | D21: =IF(AND($K$40=0,'A-1 Site Habitat Baseline'!Y11:Y258<>"No",'D-1 Off Site Habitat Baseline'!Y11:Y258<>"No"),'A-1 Site Habitat Baseline'!$H259+'D-1 Off Site Habitat Baseline'!H259,"Error ▲") -> 0.4485 | F21: ='B-1 Site Hedge Baseline'!$E$258+'E-1 Off Site Hedge Baseline'!$E$258 -> 0 | H21: ='C-1 Site River Baseline'!$E$258+'F-1 Off Site River Baseline'!$E$258 -> 0
B22: Total on-site and off-site baseline units | D22: =IF(AND($K$40=0,'A-1 Site Habitat Baseline'!Y11:Y258<>"No",'D-1 Off Site Habitat Baseline'!Y11:Y258<>"No"),'A-1 Site Habitat Baseline'!$Q259+'D-1 Off Site Habitat Baseline'!Q259,"Error ▲") -> 0.0162 | F22: ='B-1 Site Hedge Baseline'!$N$258+'E-1 Off Site Hedge Baseline'!$N$258 -> 0 | H22: ='C-1 Site River Baseline'!$R$258+'F-1 Off Site River Baseline'!$R$258 -> 0
B24: Total on-site and off-site baseline area / length retained | D24: =IF(AND($K$40=0,'A-1 Site Habitat Baseline'!Y11:Y258<>"No",'D-1 Off Site Habitat Baseline'!Y11:Y258<>"No"),'A-1 Site Habitat Baseline'!$S259+'D-1 Off Site Habitat Baseline'!S259,"Error ▲") -> 0.0052 | F24: ='B-1 Site Hedge Baseline'!$P$258+'E-1 Off Site Hedge Baseline'!$P$258 -> 0 | H24: ='C-1 Site River Baseline'!T258+'F-1 Off Site River Baseline'!T258 -> 0
B25: Total on-site and off-site baseline units retained | D25: =IF(AND($K$40=0,'A-1 Site Habitat Baseline'!Y11:Y258<>"No",'D-1 Off Site Habitat Baseline'!Y11:Y258<>"No"),'A-1 Site Habitat Baseline'!$U259+'D-1 Off Site Habitat Baseline'!U259,"Error ▲") -> 0.0104 | F25: ='B-1 Site Hedge Baseline'!R258+'E-1 Off Site Hedge Baseline'!R258 -> 0 | H25: ='C-1 Site River Baseline'!V258+'F-1 Off Site River Baseline'!V258 -> 0
B27: Area / length proposed for enhancement | D27: =IF(AND($K$40=0,'A-1 Site Habitat Baseline'!Y11:Y258<>"No",'D-1 Off Site Habitat Baseline'!Y11:Y258<>"No"),'A-1 Site Habitat Baseline'!$T259+'D-1 Off Site Habitat Baseline'!T259,"Error ▲") -> 0 | F27: ='B-1 Site Hedge Baseline'!$Q$258+'E-1 Off Site Hedge Baseline'!$Q$258 -> 0 | H27: ='C-1 Site River Baseline'!U258+'F-1 Off Site River Baseline'!U258 -> 0
B28: Baseline units proposed for enhancement | D28: =IF(AND($K$40=0,'A-1 Site Habitat Baseline'!Y11:Y258<>"No",'D-1 Off Site Habitat Baseline'!Y11:Y258<>"No"),'A-1 Site Habitat Baseline'!$V259+'D-1 Off Site Habitat Baseline'!V259,"Error ▲") -> 0 | F28: ='B-1 Site Hedge Baseline'!$S$258+'E-1 Off Site Hedge Baseline'!$S$258 -> 0 | H28: ='C-1 Site River Baseline'!W258+'F-1 Off Site River Baseline'!W258 -> 0
B30: Total on-site and off-site baseline area / length lost | D30: =IF(AND($K$40=0,'A-1 Site Habitat Baseline'!Y11:Y258<>"No",'D-1 Off Site Habitat Baseline'!Y11:Y258<>"No"),'A-1 Site Habitat Baseline'!$W259+'D-1 Off Site Habitat Baseline'!W259,"Error ▲") -> 0.4433 | F30: ='B-1 Site Hedge Baseline'!$T$258+'E-1 Off Site Hedge Baseline'!$T$258 -> 0 | H30: ='C-1 Site River Baseline'!X258+'F-1 Off Site River Baseline'!X258 -> 0
B31: Total on-site and off-site baseline units lost | D31: =IF(AND($K$40=0,'A-1 Site Habitat Baseline'!Y11:Y258<>"No",'D-1 Off Site Habitat Baseline'!Y11:Y258<>"No"),'A-1 Site Habitat Baseline'!$X259+'D-1 Off Site Habitat Baseline'!X259,"Error ▲") -> 0.0058 | F31: ='B-1 Site Hedge Baseline'!$U$258+'E-1 Off Site Hedge Baseline'!$U$258 -> 0 | H31: ='C-1 Site River Baseline'!Y258+'F-1 Off Site River Baseline'!Y258 -> 0
A33: Area Habitats Area Habitats Area Habitats
B34: Area habitats
B36: On site change by broad habitat type | J36: Combined area lost by distinctiveness band
C37: Baseline | E37: Post development on site | G37: Onsite Change
B38: Habitat group | C38: Existing area | D38: Existing value | E38: Proposed area | F38: Proposed value | G38: Area change | H38: Onsite Unit change | J38: Category | K38: Area lost (hectares) | L38: Area lost (%)
B39: Cropland | C39: ='G-2 Habitat groups'!$AK$4 -> 0 | D39: ='G-2 Habitat groups'!$AL$4 -> 0 | E39: ='G-2 Habitat groups'!$AM$4 -> 0 | F39: ='G-2 Habitat groups'!$AN$4 -> 0 | G39: =E39-C39 -> 0 | H39: =F39-D39 -> 0
B40: Grassland | C40: ='G-2 Habitat groups'!$AK$5 -> 0.0008 | D40: ='G-2 Habitat groups'!$AL$5 -> 0.0016 | E40: ='G-2 Habitat groups'!$AM$5 -> 0 | F40: ='G-2 Habitat groups'!$AN$5 -> 0 | G40: =E40-C40 -> -0.0008 | H40: =F40-D40 -> -0.0016 | J40: ='G-1 All Habitats'!$V$3 -> V.High | K40: =SUMIF('A-1 Site Habitat Baseline'!$I$11:$I$258,'Detailed Results'!J40,'A-1 Site Habitat Baseline'!$W$11:$W$258)+SUMIF('D-1 Off Site Habitat Baseline'!$I$11:$I$258,'Detailed Results'!J40,'D-1 Off Site Habitat Baseline'!$W$11:$W$258) -> 0 | L40: =IF(K40=0,"",(K40/(SUM($K$40:$K$49)))*100)
B41: Heathland and shrub | C41: ='G-2 Habitat groups'!$AK$6 -> 0 | D41: ='G-2 Habitat groups'!$AL$6 -> 0 | E41: ='G-2 Habitat groups'!$AM$6 -> 0 | F41: ='G-2 Habitat groups'!$AN$6 -> 0 | G41: =E41-C41 -> 0 | H41: =F41-D41 -> 0
B42: Lakes | C42: ='G-2 Habitat groups'!$AK$7 -> 0 | D42: ='G-2 Habitat groups'!$AL$7 -> 0 | E42: ='G-2 Habitat groups'!$AM$7 -> 0 | F42: ='G-2 Habitat groups'!$AN$7 -> 0 | G42: =E42-C42 -> 0 | H42: =F42-D42 -> 0 | J42: ='G-1 All Habitats'!$V$4 -> High | K42: =SUMIF('A-1 Site Habitat Baseline'!$I$11:$I$258,'Detailed Results'!J42,'A-1 Site Habitat Baseline'!$W$11:$W$258)+SUMIF('D-1 Off Site Habitat Baseline'!$I$11:$I$258,'Detailed Results'!J42,'D-1 Off Site Habitat Baseline'!$W$11:$W$258) -> 0 | L42: =IF(K42=0,"",(K42/(SUM($K$40:$K$49)))*100)
B43: Sparsely vegetated land | C43: ='G-2 Habitat groups'!$AK$8 -> 0 | D43: ='G-2 Habitat groups'!$AL$8 -> 0 | E43: ='G-2 Habitat groups'!$AM$8 -> 0 | F43: ='G-2 Habitat groups'!$AN$8 -> 0 | G43: =E43-C43 -> 0 | H43: =F43-D43 -> 0
B44: Urban | C44: ='G-2 Habitat groups'!$AK$9 -> 0.4477 | D44: ='G-2 Habitat groups'!$AL$9 -> 0.0146 | E44: ='G-2 Habitat groups'!$AM$9 -> 0.6316248 | F44: ='G-2 Habitat groups'!$AN$9 -> 0.67600178 | G44: =E44-C44 -> 0.1839248 | H44: =F44-D44 -> 0.66140178 | J44: ='G-1 All Habitats'!$V5 -> Medium | K44: =SUMIF('A-1 Site Habitat Baseline'!$I$11:$I$258,'Detailed Results'!J44,'A-1 Site Habitat Baseline'!$W$11:$W$258)+SUMIF('D-1 Off Site Habitat Baseline'!$I$11:$I$258,'Detailed Results'!J44,'D-1 Off Site Habitat Baseline'!$W$11:$W$258) -> 0 | L44: =IF(K44=0,"",(K44/(SUM($K$40:$K$49)))*100)
B45: Wetland | C45: ='G-2 Habitat groups'!$AK$10 -> 0 | D45: ='G-2 Habitat groups'!$AL$10 -> 0 | E45: ='G-2 Habitat groups'!$AM$10 -> 0 | F45: ='G-2 Habitat groups'!$AN$10 -> 0 | G45: =E45-C45 -> 0 | H45: =F45-D45 -> 0
B46: Woodland and forest | C46: ='G-2 Habitat groups'!$AK$11 -> 0 | D46: ='G-2 Habitat groups'!$AL$11 -> 0 | E46: ='G-2 Habitat groups'!$AM$11 -> 0 | F46: ='G-2 Habitat groups'!$AN$11 -> 0 | G46: =E46-C46 -> 0 | H46: =F46-D46 -> 0 | J46: ='G-1 All Habitats'!$V$6 -> Low | K46: =SUMIF('A-1 Site Habitat Baseline'!$I$11:$I$258,'Detailed Results'!J46,'A-1 Site Habitat Baseline'!$W$11:$W$258)+SUMIF('D-1 Off Site Habitat Baseline'!$I$11:$I$258,'Detailed Results'!J46,'D-1 Off Site Habitat Baseline'!$W$11:$W$258) -> 0.0029 | L46: =IF(K46=0,"",(K46/(SUM($K$40:$K$49)))*100) -> 0.65418453
B47: Intertidal sediment | C47: ='G-2 Habitat groups'!$AK$12 -> 0 | D47: ='G-2 Habitat groups'!$AL$12 -> 0 | E47: ='G-2 Habitat groups'!$AM$12 -> 0 | F47: ='G-2 Habitat groups'!$AN$12 -> 0 | G47: =E47-C47 -> 0 | H47: =F47-D47 -> 0
B48: Coastal saltmarsh | C48: ='G-2 Habitat groups'!$AK$13 -> 0 | D48: ='G-2 Habitat groups'!$AL$13 -> 0 | E48: ='G-2 Habitat groups'!$AM$13 -> 0 | F48: ='G-2 Habitat groups'!$AN$13 -> 0 | G48: =E48-C48 -> 0 | H48: =F48-D48 -> 0 | J48: ='G-1 All Habitats'!$V$7 -> V.Low | K48: =SUMIF('A-1 Site Habitat Baseline'!$I$11:$I$258,'Detailed Results'!J48,'A-1 Site Habitat Baseline'!$W$11:$W$258)+SUMIF('D-1 Off Site Habitat Baseline'!$I$11:$I$258,'Detailed Results'!J48,'D-1 Off Site Habitat Baseline'!$W$11:$W$258) -> 0.4404 | L48: =IF(K48=0,"",(K48/(SUM($K$40:$K$49)))*100) -> 99.345815
B49: Rocky shore | C49: ='G-2 Habitat groups'!$AK$14 -> 0 | D49: ='G-2 Habitat groups'!$AL$14 -> 0 | E49: ='G-2 Habitat groups'!$AM$14 -> 0 | F49: ='G-2 Habitat groups'!$AN$14 -> 0 | G49: =E49-C49 -> 0 | H49: =F49-D49 -> 0
B50: Coastal lagoons | C50: ='G-2 Habitat groups'!$AK$15 -> 0 | D50: ='G-2 Habitat groups'!$AL$15 -> 0 | E50: ='G-2 Habitat groups'!$AM$15 -> 0 | F50: ='G-2 Habitat groups'!$AN$15 -> 0 | G50: =E50-C50 -> 0 | H50: =F50-D50 -> 0
B51: Intertidal Hard Structures | C51: ='G-2 Habitat groups'!$AK$16 -> 0 | D51: ='G-2 Habitat groups'!$AL$16 -> 0 | E51: ='G-2 Habitat groups'!$AM$16 -> 0 | F51: ='G-2 Habitat groups'!$AN$16 -> 0 | G51: =E51-C51 -> 0 | H51: =F51-D51 -> 0
B55: Off site change by broad habitat type
C56: Baseline | E56: Post development Off-site | G56: Off-site Change
B57: Habitat group | C57: Existing area | D57: Off-site Existing value | E57: Off-site proposed area | F57: Off site Proposed value | G57: Off-site area change | H57: Off-site unit change
...

Sheet Trading Summary
B2: Trading Summary
B3: Distinctiveness Group | C3: Trading Rule | G3: Trading Satisfied?
B5: Very High | C5: Bespoke compensation likely to be required 🛠 | G5: =IF(('A-1 Site Habitat Baseline'!AQ259+'D-1 Off Site Habitat Baseline'!AQ259)>0,"No ▲","Yes ✓") -> Yes ✓
B6: High | C6: Same habitat required = | G6: =IFERROR(IF(J41<0,"No ▲","Yes ✓"),"") -> Yes ✓
B7: Medium | C7: Same broad habitat or a higher distinctiveness habitat required (≥) | G7: =IF(J40+J12+J89<0,"No ▲","Yes ✓") -> Yes ✓
B8: Low | C8: Same distinctiveness or better habitat required ≥ | G8: =IF(J124<0,"No ▲","Yes ✓") -> Yes ✓
B11: Very High Distinctiveness | I11: Very High Distinctiveness Summary
B12: Habitat group | C12: Group | D12: On Site Unit Change | E12: Off Site Unit Change | F12: Project wide Unit Change | G12: Unit Losses | I12: Very High Distinctiveness Units available to offset lower distinctiveness defecit | J12: =SUMIF($F$13:$F$32,">0") -> 0
B13: ='G-2 Habitat groups'!AU5 -> Grassland - Lowland dry acid grassland | C13: ='G-2 Habitat groups'!AV5 -> Grassland | D13: ='G-2 Habitat groups'!BB5 -> 0 | E13: ='G-2 Habitat groups'!BD5 -> 0 | F13: ='G-2 Habitat groups'!BE5 -> 0 | G13: ='G-2 Habitat groups'!BF5 | I13: =IF($G$33<0,"Very high distinctiveness unit defecit - CHECK DATA","")
B14: ='G-2 Habitat groups'!AU6 -> Grassland - Lowland meadows | C14: ='G-2 Habitat groups'!AV6 -> Grassland | D14: ='G-2 Habitat groups'!BB6 -> 0 | E14: ='G-2 Habitat groups'!BD6 -> 0 | F14: ='G-2 Habitat groups'!BE6 -> 0 | G14: ='G-2 Habitat groups'!BF6
B15: ='G-2 Habitat groups'!AU7 -> Grassland - Upland hay meadows | C15: ='G-2 Habitat groups'!AV7 -> Grassland | D15: ='G-2 Habitat groups'!BB7 -> 0 | E15: ='G-2 Habitat groups'!BD7 -> 0 | F15: ='G-2 Habitat groups'!BE7 -> 0 | G15: ='G-2 Habitat groups'!BF7
B16: ='G-2 Habitat groups'!AU8 -> Heathland and shrub - Mountain heaths and willow scrub | C16: ='G-2 Habitat groups'!AV8 -> Heathland and shrub | D16: ='G-2 Habitat groups'!BB8 -> 0 | E16: ='G-2 Habitat groups'!BD8 -> 0 | F16: ='G-2 Habitat groups'!BE8 -> 0 | G16: ='G-2 Habitat groups'!BF8
B17: ='G-2 Habitat groups'!AU9 -> Lakes - Aquifer fed naturally fluctuating water bodies | C17: ='G-2 Habitat groups'!AV9 -> Lakes | D17: ='G-2 Habitat groups'!BB9 -> 0 | E17: ='G-2 Habitat groups'!BD9 -> 0 | F17: ='G-2 Habitat groups'!BE9 -> 0 | G17: ='G-2 Habitat groups'!BF9
B18: ='G-2 Habitat groups'!AU10 -> Sparsely vegetated land - Calaminarian grasslands | C18: ='G-2 Habitat groups'!AV10 -> Sparsely vegetated land | D18: ='G-2 Habitat groups'!BB10 -> 0 | E18: ='G-2 Habitat groups'!BD10 -> 0 | F18: ='G-2 Habitat groups'!BE10 -> 0 | G18: ='G-2 Habitat groups'!BF10
B19: ='G-2 Habitat groups'!AU11 -> Sparsely vegetated land - Limestone pavement | C19: ='G-2 Habitat groups'!AV11 -> Sparsely vegetated land | D19: ='G-2 Habitat groups'!BB11 -> 0 | E19: ='G-2 Habitat groups'!BD11 -> 0 | F19: ='G-2 Habitat groups'!BE11 -> 0 | G19: ='G-2 Habitat groups'!BF11
B20: ='G-2 Habitat groups'!AU12 -> Wetland - Blanket bog | C20: ='G-2 Habitat groups'!AV12 -> Wetland | D20: ='G-2 Habitat groups'!BB12 -> 0 | E20: ='G-2 Habitat groups'!BD12 -> 0 | F20: ='G-2 Habitat groups'!BE12 -> 0 | G20: ='G-2 Habitat groups'!BF12
B21: ='G-2 Habitat groups'!AU13 -> Wetland - Depressions on Peat substrates (H7150) | C21: ='G-2 Habitat groups'!AV13 -> Wetland | D21: ='G-2 Habitat groups'!BB13 -> 0 | E21: ='G-2 Habitat groups'!BD13 -> 0 | F21: ='G-2 Habitat groups'!BE13 -> 0 | G21: ='G-2 Habitat groups'!BF13
B22: ='G-2 Habitat groups'!AU14 -> Wetland - Fens (upland and lowland) | C22: ='G-2 Habitat groups'!AV14 -> Wetland | D22: ='G-2 Habitat groups'!BB14 -> 0 | E22: ='G-2 Habitat groups'!BD14 -> 0 | F22: ='G-2 Habitat groups'!BE14 -> 0 | G22: ='G-2 Habitat groups'!BF14
B23: ='G-2 Habitat groups'!AU15 -> Wetland - Lowland raised bog | C23: ='G-2 Habitat groups'!AV15 -> Wetland | D23: ='G-2 Habitat groups'!BB15 -> 0 | E23: ='G-2 Habitat groups'!BD15 -> 0 | F23: ='G-2 Habitat groups'!BE15 -> 0 | G23: ='G-2 Habitat groups'!BF15
B24: ='G-2 Habitat groups'!AU16 -> Wetland - Oceanic Valley Mire[1] (D2.1) | C24: ='G-2 Habitat groups'!AV16 -> Wetland | D24: ='G-2 Habitat groups'!BB16 -> 0 | E24: ='G-2 Habitat groups'!BD16 -> 0 | F24: ='G-2 Habitat groups'!BE16 -> 0 | G24: ='G-2 Habitat groups'!BF16
B25: ='G-2 Habitat groups'!AU17 -> Wetland - Purple moor grass and rush pastures | C25: ='G-2 Habitat groups'!AV17 -> Wetland | D25: ='G-2 Habitat groups'!BB17 -> 0 | E25: ='G-2 Habitat groups'!BD17 -> 0 | F25: ='G-2 Habitat groups'!BE17 -> 0 | G25: ='G-2 Habitat groups'!BF17
... B32: ='G-2 Habitat groups'!AU24 -> Intertidal sediment - Littoral seagrass on peat, clay or chalk | C32: ='G-2 Habitat groups'!AV24 -> Intertidal sediment | D32: ='G-2 Habitat groups'!BB24 -> 0 | E32: ='G-2 Habitat groups'!BD24 -> 0 | F32: ='G-2 Habitat groups'!BE24 -> 0 | G32: ='G-2 Habitat groups'!BF24
D33: =SUM(D13:D32) -> 0 | E33: =SUM(E13:E32) -> 0 | F33: =SUM(F13:F32) -> 0 | G33: =SUM(G13:G32) -> 0
B39: High Distinctiveness | I39: High Distinctiveness Summary
B40: Habitat group | C40: Group | D40: On Site Unit Change | E40: Off Site Unit Change | F40: Project wide Unit Change | G40: Losses not yet accounted for | I40: High Distinctiveness Units available to offset lower distinctiveness defecit | J40: =SUMIF($F$41:$F$81,">0") -> 0
B41: ='G-2 Habitat groups'!AU30 -> Grassland - Traditional orchards | C41: ='G-2 Habitat groups'!AV30 -> Grassland | D41: ='G-2 Habitat groups'!BB30 -> 0 | E41: ='G-2 Habitat groups'!BD30 -> 0 | F41: ='G-2 Habitat groups'!BE30 -> 0 | G41: ='G-2 Habitat groups'!BF30 | I41: Unit Defecit; Like for like not satisfied | J41: =G82 -> 0
B42: ='G-2 Habitat groups'!AU31 -> Grassland - Floodplain Wetland Mosaic (CFGM) | C42: ='G-2 Habitat groups'!AV31 -> Grassland | D42: ='G-2 Habitat groups'!BB31 -> 0 | E42: ='G-2 Habitat groups'!BD31 -> 0 | F42: ='G-2 Habitat groups'!BE31 -> 0 | G42: ='G-2 Habitat groups'!BF31
B43: ='G-2 Habitat groups'!AU32 -> Grassland - Lowland calcareous grassland | C43: ='G-2 Habitat groups'!AV32 -> Grassland | D43: ='G-2 Habitat groups'!BB32 -> 0 | E43: ='G-2 Habitat groups'!BD32 -> 0 | F43: ='G-2 Habitat groups'!BE32 -> 0 | G43: ='G-2 Habitat groups'!BF32
B44: ='G-2 Habitat groups'!AU33 -> Grassland - Tall herb communities (H6430) | C44: ='G-2 Habitat groups'!AV33 -> Grassland | D44: ='G-2 Habitat groups'!BB33 -> 0 | E44: ='G-2 Habitat groups'!BD33 -> 0 | F44: ='G-2 Habitat groups'!BE33 -> 0 | G44: ='G-2 Habitat groups'!BF33
B45: ='G-2 Habitat groups'!AU34 -> Grassland - Upland calcareous grassland | C45: ='G-2 Habitat groups'!AV34 -> Grassland | D45: ='G-2 Habitat groups'!BB34 -> 0 | E45: ='G-2 Habitat groups'!BD34 -> 0 | F45: ='G-2 Habitat groups'!BE34 -> 0 | G45: ='G-2 Habitat groups'!BF34
B46: ='G-2 Habitat groups'!AU35 -> Heathland and shrub - Lowland Heathland | C46: ='G-2 Habitat groups'!AV35 -> Heathland and shrub | D46: ='G-2 Habitat groups'!BB35 -> 0 | E46: ='G-2 Habitat groups'!BD35 -> 0 | F46: ='G-2 Habitat groups'!BE35 -> 0 | G46: ='G-2 Habitat groups'!BF35
B47: ='G-2 Habitat groups'!AU36 -> Heathland and shrub - Sea buckthorn scrub (Annex 1) | C47: ='G-2 Habitat groups'!AV36 -> Heathland and shrub | D47: ='G-2 Habitat groups'!BB36 -> 0 | E47: ='G-2 Habitat groups'!BD36 -> 0 | F47: ='G-2 Habitat groups'!BE36 -> 0 | G47: ='G-2 Habitat groups'!BF36
B48: ='G-2 Habitat groups'!AU37 -> Heathland and shrub - Upland Heathland | C48: ='G-2 Habitat groups'!AV37 -> Heathland and shrub | D48: ='G-2 Habitat groups'!BB37 -> 0 | E48: ='G-2 Habitat groups'!BD37 -> 0 | F48: ='G-2 Habitat groups'!BE37 -> 0 | G48: ='G-2 Habitat groups'!BF37
B49: ='G-2 Habitat groups'!AU38 -> Lakes - High alkalinity lakes | C49: ='G-2 Habitat groups'!AV38 -> Lakes | D49: ='G-2 Habitat groups'!BB38 -> 0 | E49: ='G-2 Habitat groups'!BD38 -> 0 | F49: ='G-2 Habitat groups'!BE38 -> 0 | G49: ='G-2 Habitat groups'!BF38
B50: ='G-2 Habitat groups'!AU39 -> Lakes - Low alkalinity lakes | C50: ='G-2 Habitat groups'!AV39 -> Lakes | D50: ='G-2 Habitat groups'!BB39 -> 0 | E50: ='G-2 Habitat groups'!BD39 -> 0 | F50: ='G-2 Habitat groups'!BE39 -> 0 | G50: ='G-2 Habitat groups'!BF39
B51: ='G-2 Habitat groups'!AU40 -> Lakes - Marl Lakes | C51: ='G-2 Habitat groups'!AV40 -> Lakes | D51: ='G-2 Habitat groups'!BB40 -> 0 | E51: ='G-2 Habitat groups'!BD40 -> 0 | F51: ='G-2 Habitat groups'!BE40 -> 0 | G51: ='G-2 Habitat groups'!BF40
B52: ='G-2 Habitat groups'!AU41 -> Lakes - Moderate alkalinity lakes | C52: ='G-2 Habitat groups'!AV41 -> Lakes | D52: ='G-2 Habitat groups'!BB41 -> 0 | E52: ='G-2 Habitat groups'!BD41 -> 0 | F52: ='G-2 Habitat groups'!BE41 -> 0 | G52: ='G-2 Habitat groups'!BF41
B53: ='G-2 Habitat groups'!AU42 -> Lakes - Peat Lakes | C53: ='G-2 Habitat groups'!AV42 -> Lakes | D53: ='G-2 Habitat groups'!BB42 -> 0 | E53: ='G-2 Habitat groups'!BD42 -> 0 | F53: ='G-2 Habitat groups'!BE42 -> 0 | G53: ='G-2 Habitat groups'!BF42
... B81: ='G-2 Habitat groups'!AU70 -> Intertidal sediment - Littoral muddy sand | C81: ='G-2 Habitat groups'!AV70 -> Intertidal sediment | D81: ='G-2 Habitat groups'!BB70 -> 0 | E81: ='G-2 Habitat groups'!BD70 -> 0 | F81: ='G-2 Habitat groups'!BE70 -> 0 | G81: ='G-2 Habitat groups'!BF70
D82: =SUM(D41:D81) -> 0 | E82: =SUM(E41:E81) -> 0 | F82: =SUM(F41:F81) -> 0 | G82: =SUM(G41:G81) -> 0
...

Sheet A-1 Site Habitat Baseline
D2: =IF(Start!$F$12="","",Start!$F$12)
D3: =MID(CELL("filename",C1),FIND("]",CELL("filename",C1))+1,256) -> A-1 Site Habitat Baseline | AC3: HIDDEN - NOT SHOWN BY BUTTON | AD3: HIDDEN - NOT SHOWN BY BUTTON | AE3: HIDDEN - NOT SHOWN BY BUTTON | AF3: HIDDEN - NOT SHOWN BY BUTTON | AG3: HIDDEN - NOT SHOWN BY BUTTON | AH3: HIDDEN - NOT SHOWN BY BUTTON | AI3: HIDDEN - NOT SHOWN BY BUTTON | AJ3: HIDDEN - NOT SHOWN BY BUTTON | AK3: HIDDEN - NOT SHOWN BY BUTTON | AL3: HIDDEN - NOT SHOWN BY BUTTON | AM3: HIDDEN - NOT SHOWN BY BUTTON | AN3: HIDDEN - NOT SHOWN BY BUTTON
AF4: Hide | AG4: Hide | AH4: Hide | AI4: Hide | AJ4: Hide | AK4: Hide | AL4: Hide | AM4: Hide | AN4: Hide
E9: Habitats and areas | I9: Distinctiveness | K9: Condition | M9: Strategic significance | P9: Suggested action to address habitat losses | Q9: Ecological baseline | S9: Retention category biodiversity value | Y9: Bespoke compensation agreed for unacceptable losses | Z9: Comments | AC9: Hide | AD9: Hide | AF9: retention cat checks | AK9: list of lines for enhanced and succession | AQ9: Bespoke Compensation agreed?
B10: Condition Group | D10: Ref | E10: Broad Habitat | F10: Habitat Type | G10: Habitat type | H10: Area (hectares) | I10: Distinctiveness | J10: Score | K10: Condition | L10: Score | M10: Strategic significance | N10: Strategic significance | O10: Strategic Significance multiplier | Q10: Total habitat units | S10: Area retained | T10: Area enhanced | U10: Baseline units retained | V10: Baseline units enhanced | W10: Area habitat lost | X10: Units lost | Z10: Assessor comments | AA10: Reviewer comments | AC10: Area of Unacceptable Losses | AD10: Units Unacceptable Losses | AF10: Retained | AG10: Enhanced | AH10: Succession | AI10: line number | AK10: Retained | AL10: Enhanced | AM10: Succession
A11: =IFERROR(INDEX('G-1 All Habitats'!$AG$3:$AG$15,MATCH(E11,'G-1 All Habitats'!$AF$3:$AF$15,0)),"") -> Grassland | B11: =IFERROR(INDEX('G-8 Condition Look up'!$I$4:$I$130,MATCH(G11,'G-8 Condition Look up'!$A$4:$A$130,0)),"") -> Cond4 | D11: 1 | E11: Grassland | F11: Modified grassland | G11: =IFERROR(INDEX('G-1 All Habitats'!$B$3:$B$129,MATCH(F11,'G-1 All Habitats'!$A$3:$A$129,0)),"") -> Grassland - Modified grassland | H11: 0.0008 | I11: =IF(G11="","",VLOOKUP(G11,'G-1 All Habitats'!$B$2:$M$129,10,FALSE)) -> Low | J11: =IFERROR(VLOOKUP(I11,'G-1 All Habitats'!$V$3:$W$7,2,FALSE),"") -> 2 | K11: Poor | L11: =IFERROR(INDEX('G-8 Condition Look up'!$A$3:$H$130,MATCH(G11,'G-8 Condition Look up'!$A$3:$A$130,0),MATCH(K11,'G-8 Condition Look up'!$A$3:$H$3,0)),"") -> 1 | M11: Area/compensation not in local strategy/ no local strategy | N11: =IF(M11="","",IF(VLOOKUP(M11,'G-3 Multipliers'!$L$3:$N$6,2,FALSE)=0,"Spatial Data Missing",VLOOKUP(M11,'G-3 Multipliers'!$L$3:$N$6,2,FALSE))) -> Low Strategic Significance | O11: =IF(M11="","",IF(VLOOKUP(M11,'G-3 Multipliers'!$L$3:$N$6,3,FALSE)=0,"Spatial Data Missing ▲",VLOOKUP(M11,'G-3 Multipliers'!$L$3:$N$6,3,FALSE))) -> 1 | P11: =IFERROR(VLOOKUP(G11,'G-1 All Habitats'!$B$2:$M$129,12,FALSE),"") -> Same distinctiveness or better habitat required ≥ | Q11: =IFERROR(IF(P11="","",IF(AND(P11='G-1 All Habitats'!$X$3,T11>0),U11+V11,IF(AND(P11='G-1 All Habitats'!$X$3,S11>0),U11+V11,IF(AND(P11='G-1 All Habitats'!$X$3,AC11>0),"Any Loss Unacceptable ▲",IF(AND(P11='G-1 All Habitats'!$X$3,W11>0),"Any Loss Unacceptable ▲",H11*J11*L11*O11))))),"Check Data ▲") -> 0.0016 | S11: 0 | T11: 0 | U11: =IFERROR(S11*J11*L11*O11,"") -> 0 | V11: =IFERROR(T11*J11*L11*O11,"") -> 0 | W11: =IF(E11="","",IF(H11<S11+T11,"Error in Areas ▲",IF(P11<>'G-1 All Habitats'!$X$3,H11-S11-T11,IF(AND(P11='G-1 All Habitats'!$X$3,Y11="Yes"),"Unacceptable Loss",IF(AND(P11='G-1 All Habitats'!$X$3,Y11="No"),AC11,IF(AND(P11='G-1 All Habitats'!$X$3,Y11=""),AC11,IF(AND(P11='G-1 All Habitats'!$X$3,AC11="None",AC11),IF(AND(P11='G-1 All Habitats'!$X$3,AC11>0),H11-S11-T11)))))))) -> 0.0008 | X11: =IFERROR(IF(H11="","",IF(H11-S11-T11=0<0,"Error in Areas ▲",IF(S11+T11>H11,"Error in Areas ▲",IF(AND(P11='G-1 All Habitats'!$X$3,Y11="Yes"),"Alternative Compensation ✓",IF(W11=0,0,IF(P11='G-1 All Habitats'!$X$3,"Unacceptable Loss ▲",Q11-U11-V11)))))),"Check Data ▲") -> 0.0016 | AC11: =IF(P11="","",IF(P11='G-1 All Habitats'!$X$3,H11-S11-T11,"None")) -> None | AD11: =IFERROR(AC11*J11*L11*#REF!*O11,IF(P11="","","None")) -> None | AF11: =IF(G11="","",IF(S11>0,TRUE,FALSE)) -> FALSE | AG11: =IF(H11="","",IF(T11>0,TRUE,FALSE)) -> FALSE | AH11: =IF(I11="","",IF(#REF!>0,TRUE,FALSE)) -> #REF! | AI11: 1 | AK11: {=IFERROR(INDEX($AI$11:$AI$259, MATCH(0, IF(TRUE=$AF$11:$AF$259, COUNTIF($AK$10:$AK10, $AI$11:$AI$259), ""), 0)),"")} -> 3 | AL11: {=IFERROR(INDEX($AI$11:$AI$259, MATCH(0, IF(TRUE=$AG$11:$AG$259, COUNTIF($AL$10:$AL10, $AI$11:$AI$259), ""), 0)),"")} | AM11: {=IFERROR(INDEX($AI$11:$AI$259, MATCH(0, IF(TRUE=$AH$11:$AH$259, COUNTIF($AM$10:$AM10, $AI$11:$AI$259), ""), 0)),"")} | AQ11: =IF(X11="Unacceptable Loss",1,0) -> 0
A12: =IFERROR(INDEX('G-1 All Habitats'!$AG$3:$AG$15,MATCH(E12,'G-1 All Habitats'!$AF$3:$AF$15,0)),"") -> Urban | B12: =IFERROR(INDEX('G-8 Condition Look up'!$I$4:$I$130,MATCH(G12,'G-8 Condition Look up'!$A$4:$A$130,0)),"") -> Cond2 | D12: 2 | E12: Urban | F12: Developed land; sealed surface | G12: =IFERROR(INDEX('G-1 All Habitats'!$B$3:$B$129,MATCH(F12,'G-1 All Habitats'!$A$3:$A$129,0)),"") -> Urban - Developed land; sealed surface | H12: 0.4404 | I12: =IF(G12="","",VLOOKUP(G12,'G-1 All Habitats'!$B$2:$M$129,10,FALSE)) -> V.Low | J12: =IFERROR(VLOOKUP(I12,'G-1 All Habitats'!$V$3:$W$7,2,FALSE),"") -> 0 | K12: N/A - Other | L12: =IFERROR(INDEX('G-8 Condition Look up'!$A$3:$H$130,MATCH(G12,'G-8 Condition Look up'!$A$3:$A$130,0),MATCH(K12,'G-8 Condition Look up'!$A$3:$H$3,0)),"") -> 0 | M12: Area/compensation not in local strategy/ no local strategy | N12: =IF(M12="","",IF(VLOOKUP(M12,'G-3 Multipliers'!$L$3:$N$6,2,FALSE)=0,"Spatial Data Missing",VLOOKUP(M12,'G-3 Multipliers'!$L$3:$N$6,2,FALSE))) -> Low Strategic Significance | O12: =IF(M12="","",IF(VLOOKUP(M12,'G-3 Multipliers'!$L$3:$N$6,3,FALSE)=0,"Spatial Data Missing ▲",VLOOKUP(M12,'G-3 Multipliers'!$L$3:$N$6,3,FALSE))) -> 1 | P12: =IFERROR(VLOOKUP(G12,'G-1 All Habitats'!$B$2:$M$129,12,FALSE),"") -> Compensation Not Required | Q12: =IFERROR(IF(P12="","",IF(AND(P12='G-1 All Habitats'!$X$3,T12>0),U12+V12,IF(AND(P12='G-1 All Habitats'!$X$3,S12>0),U12+V12,IF(AND(P12='G-1 All Habitats'!$X$3,AC12>0),"Any Loss Unacceptable ▲",IF(AND(P12='G-1 All Habitats'!$X$3,W12>0),"Any Loss Unacceptable ▲",H12*J12*L12*O12))))),"Check Data ▲") -> 0 | S12: 0 | T12: 0 | U12: =IFERROR(S12*J12*L12*O12,"") -> 0 | V12: =IFERROR(T12*J12*L12*O12,"") -> 0 | W12: =IF(E12="","",IF(H12<S12+T12,"Error in Areas ▲",IF(P12<>'G-1 All Habitats'!$X$3,H12-S12-T12,IF(AND(P12='G-1 All Habitats'!$X$3,Y12="Yes"),"Unacceptable Loss",IF(AND(P12='G-1 All Habitats'!$X$3,Y12="No"),AC12,IF(AND(P12='G-1 All Habitats'!$X$3,Y12=""),AC12,IF(AND(P12='G-1 All Habitats'!$X$3,AC12="None",AC12),IF(AND(P12='G-1 All Habitats'!$X$3,AC12>0),H12-S12-T12)))))))) -> 0.4404 | X12: =IFERROR(IF(H12="","",IF(H12-S12-T12=0<0,"Error in Areas ▲",IF(S12+T12>H12,"Error in Areas ▲",IF(AND(P12='G-1 All Habitats'!$X$3,Y12="Yes"),"Alternative Compensation ✓",IF(W12=0,0,IF(P12='G-1 All Habitats'!$X$3,"Unacceptable Loss ▲",Q12-U12-V12)))))),"Check Data ▲") -> 0 | AC12: =IF(P12="","",IF(P12='G-1 All Habitats'!$X$3,H12-S12-T12,"None")) -> None | AD12: =IFERROR(AC12*J12*L12*#REF!*O12,IF(P12="","","None")) -> None | AF12: =IF(G12="","",IF(S12>0,TRUE,FALSE)) -> FALSE | AG12: =IF(H12="","",IF(T12>0,TRUE,FALSE)) -> FALSE | AH12: =IF(I12="","",IF(#REF!>0,TRUE,FALSE)) -> #REF! | AI12: 2 | AK12: {=IFERROR(INDEX($AI$11:$AI$259, MATCH(0, IF(TRUE=$AF$11:$AF$259, COUNTIF($AK$10:$AK11, $AI$11:$AI$259), ""), 0)),"")} | AL12: {=IFERROR(INDEX($AI$11:$AI$259, MATCH(0, IF(TRUE=$AG$11:$AG$259, COUNTIF($AL$10:$AL11, $AI$11:$AI$259), ""), 0)),"")} | AM12: {=IFERROR(INDEX($AI$11:$AI$259, MATCH(0, IF(TRUE=$AH$11:$AH$259, COUNTIF($AM$10:$AM11, $AI$11:$AI$259), ""), 0)),"")} | AQ12: =IF(X12="Unacceptable Loss",1,0) -> 0
A13: =IFERROR(INDEX('G-1 All Habitats'!$AG$3:$AG$15,MATCH(E13,'G-1 All Habitats'!$AF$3:$AF$15,0)),"") -> Urban | B13: =IFERROR(INDEX('G-8 Condition Look up'!$I$4:$I$130,MATCH(G13,'G-8 Condition Look up'!$A$4:$A$130,0)),"") -> Cond1 | D13: 3 | E13: Urban | F13: Introduced shrub | G13: =IFERROR(INDEX('G-1 All Habitats'!$B$3:$B$129,MATCH(F13,'G-1 All Habitats'!$A$3:$A$129,0)),"") -> Urban - Introduced shrub | H13: 0.0068 | I13: =IF(G13="","",VLOOKUP(G13,'G-1 All Habitats'!$B$2:$M$129,10,FALSE)) -> Low | J13: =IFERROR(VLOOKUP(I13,'G-1 All Habitats'!$V$3:$W$7,2,FALSE),"") -> 2 | K13: Condition Assessment N/A | L13: =IFERROR(INDEX('G-8 Condition Look up'!$A$3:$H$130,MATCH(G13,'G-8 Condition Look up'!$A$3:$A$130,0),MATCH(K13,'G-8 Condition Look up'!$A$3:$H$3,0)),"") -> 1 | M13: Area/compensation not in local strategy/ no local strategy | N13: =IF(M13="","",IF(VLOOKUP(M13,'G-3 Multipliers'!$L$3:$N$6,2,FALSE)=0,"Spatial Data Missing",VLOOKUP(M13,'G-3 Multipliers'!$L$3:$N$6,2,FALSE))) -> Low Strategic Significance | O13: =IF(M13="","",IF(VLOOKUP(M13,'G-3 Multipliers'!$L$3:$N$6,3,FALSE)=0,"Spatial Data Missing ▲",VLOOKUP(M13,'G-3 Multipliers'!$L$3:$N$6,3,FALSE))) -> 1 | P13: =IFERROR(VLOOKUP(G13,'G-1 All Habitats'!$B$2:$M$129,12,FALSE),"") -> Same distinctiveness or better habitat required ≥ | Q13: =IFERROR(IF(P13="","",IF(AND(P13='G-1 All Habitats'!$X$3,T13>0),U13+V13,IF(AND(P13='G-1 All Habitats'!$X$3,S13>0),U13+V13,IF(AND(P13='G-1 All Habitats'!$X$3,AC13>0),"Any Loss Unacceptable ▲",IF(AND(P13='G-1 All Habitats'!$X$3,W13>0),"Any Loss Unacceptable ▲",H13*J13*L13*O13))))),"Check Data ▲") -> 0.0136 | S13: 0.0052 | T13: 0 | U13: =IFERROR(S13*J13*L13*O13,"") -> 0.0104 | V13: =IFERROR(T13*J13*L13*O13,"") -> 0 | W13: =IF(E13="","",IF(H13<S13+T13,"Error in Areas ▲",IF(P13<>'G-1 All Habitats'!$X$3,H13-S13-T13,IF(AND(P13='G-1 All Habitats'!$X$3,Y13="Yes"),"Unacceptable Loss",IF(AND(P13='G-1 All Habitats'!$X$3,Y13="No"),AC13,IF(AND(P13='G-1 All Habitats'!$X$3,Y13=""),AC13,IF(AND(P13='G-1 All Habitats'!$X$3,AC13="None",AC13),IF(AND(P13='G-1 All Habitats'!$X$3,AC13>0),H13-S13-T13)))))))) -> 0.0016 | X13: =IFERROR(IF(H13="","",IF(H13-S13-T13=0<0,"Error in Areas ▲",IF(S13+T13>H13,"Error in Areas ▲",IF(AND(P13='G-1 All Habitats'!$X$3,Y13="Yes"),"Alternative Compensation ✓",IF(W13=0,0,IF(P13='G-1 All Habitats'!$X$3,"Unacceptable Loss ▲",Q13-U13-V13)))))),"Check Data ▲") -> 0.0032 | AC13: =IF(P13="","",IF(P13='G-1 All Habitats'!$X$3,H13-S13-T13,"None")) -> None | AD13: =IFERROR(AC13*J13*L13*#REF!*O13,IF(P13="","","None")) -> None | AF13: =IF(G13="","",IF(S13>0,TRUE,FALSE)) -> TRUE | AG13: =IF(H13="","",IF(T13>0,TRUE,FALSE)) -> FALSE | AH13: =IF(I13="","",IF(#REF!>0,TRUE,FALSE)) -> #REF! | AI13: 3 | AK13: {=IFERROR(INDEX($AI$11:$AI$259, MATCH(0, IF(TRUE=$AF$11:$AF$259, COUNTIF($AK$10:$AK12, $AI$11:$AI$259), ""), 0)),"")} | AL13: {=IFERROR(INDEX($AI$11:$AI$259, MATCH(0, IF(TRUE=$AG$11:$AG$259, COUNTIF($AL$10:$AL12, $AI$11:$AI$259), ""), 0)),"")} | AM13: {=IFERROR(INDEX($AI$11:$AI$259, MATCH(0, IF(TRUE=$AH$11:$AH$259, COUNTIF($AM$10:$AM12, $AI$11:$AI$259), ""), 0)),"")} | AQ13: =IF(X13="Unacceptable Loss",1,0) -> 0
A14: =IFERROR(INDEX('G-1 All Habitats'!$AG$3:$AG$15,MATCH(E14,'G-1 All Habitats'!$AF$3:$AF$15,0)),"") -> Urban | B14: =IFERROR(INDEX('G-8 Condition Look up'!$I$4:$I$130,MATCH(G14,'G-8 Condition Look up'!$A$4:$A$130,0)),"") -> Cond1 | D14: 4 | E14: Urban | F14: Vegetated garden | G14: =IFERROR(INDEX('G-1 All Habitats'!$B$3:$B$129,MATCH(F14,'G-1 All Habitats'!$A$3:$A$129,0)),"") -> Urban - Vegetated garden | H14: 0.0005 | I14: =IF(G14="","",VLOOKUP(G14,'G-1 All Habitats'!$B$2:$M$129,10,FALSE)) -> Low | J14: =IFERROR(VLOOKUP(I14,'G-1 All Habitats'!$V$3:$W$7,2,FALSE),"") -> 2 | K14: Condition Assessment N/A | L14: =IFERROR(INDEX('G-8 Condition Look up'!$A$3:$H$130,MATCH(G14,'G-8 Condition Look up'!$A$3:$A$130,0),MATCH(K14,'G-8 Condition Look up'!$A$3:$H$3,0)),"") -> 1 | M14: Area/compensation not in local strategy/ no local strategy | N14: =IF(M14="","",IF(VLOOKUP(M14,'G-3 Multipliers'!$L$3:$N$6,2,FALSE)=0,"Spatial Data Missing",VLOOKUP(M14,'G-3 Multipliers'!$L$3:$N$6,2,FALSE))) -> Low Strategic Significance | O14: =IF(M14="","",IF(VLOOKUP(M14,'G-3 Multipliers'!$L$3:$N$6,3,FALSE)=0,"Spatial Data Missing ▲",VLOOKUP(M14,'G-3 Multipliers'!$L$3:$N$6,3,FALSE))) -> 1 | P14: =IFERROR(VLOOKUP(G14,'G-1 All Habitats'!$B$2:$M$129,12,FALSE),"") -> Same distinctiveness or better habitat required ≥ | Q14: =IFERROR(IF(P14="","",IF(AND(P14='G-1 All Habitats'!$X$3,T14>0),U14+V14,IF(AND(P14='G-1 All Habitats'!$X$3,S14>0),U14+V14,IF(AND(P14='G-1 All Habitats'!$X$3,AC14>0),"Any Loss Unacceptable ▲",IF(AND(P14='G-1 All Habitats'!$X$3,W14>0),"Any Loss Unacceptable ▲",H14*J14*L14*O14))))),"Check Data ▲") -> 0.001 | S14: 0 | T14: 0 | U14: =IFERROR(S14*J14*L14*O14,"") -> 0 | V14: =IFERROR(T14*J14*L14*O14,"") -> 0 | W14: =IF(E14="","",IF(H14<S14+T14,"Error in Areas ▲",IF(P14<>'G-1 All Habitats'!$X$3,H14-S14-T14,IF(AND(P14='G-1 All Habitats'!$X$3,Y14="Yes"),"Unacceptable Loss",IF(AND(P14='G-1 All Habitats'!$X$3,Y14="No"),AC14,IF(AND(P14='G-1 All Habitats'!$X$3,Y14=""),AC14,IF(AND(P14='G-1 All Habitats'!$X$3,AC14="None",AC14),IF(AND(P14='G-1 All Habitats'!$X$3,AC14>0),H14-S14-T14)))))))) -> 0.0005 | X14: =IFERROR(IF(H14="","",IF(H14-S14-T14=0<0,"Error in Areas ▲",IF(S14+T14>H14,"Error in Areas ▲",IF(AND(P14='G-1 All Habitats'!$X$3,Y14="Yes"),"Alternative Compensation ✓",IF(W14=0,0,IF(P14='G-1 All Habitats'!$X$3,"Unacceptable Loss ▲",Q14-U14-V14)))))),"Check Data ▲") -> 0.001 | AC14: =IF(P14="","",IF(P14='G-1 All Habitats'!$X$3,H14-S14-T14,"None")) -> None | AD14: =IFERROR(AC14*J14*L14*#REF!*O14,IF(P14="","","None")) -> None | AF14: =IF(G14="","",IF(S14>0,TRUE,FALSE)) -> FALSE | AG14: =IF(H14="","",IF(T14>0,TRUE,FALSE)) -> FALSE | AH14: =IF(I14="","",IF(#REF!>0,TRUE,FALSE)) -> #REF! | AI14: 4 | AK14: {=IFERROR(INDEX($AI$11:$AI$259, MATCH(0, IF(TRUE=$AF$11:$AF$259, COUNTIF($AK$10:$AK13, $AI$11:$AI$259), ""), 0)),"")} | AL14: {=IFERROR(INDEX($AI$11:$AI$259, MATCH(0, IF(TRUE=$AG$11:$AG$259, COUNTIF($AL$10:$AL13, $AI$11:$AI$259), ""), 0)),"")} | AM14: {=IFERROR(INDEX($AI$11:$AI$259, MATCH(0, IF(TRUE=$AH$11:$AH$259, COUNTIF($AM$10:$AM13, $AI$11:$AI$259), ""), 0)),"")} | AQ14: =IF(X14="Unacceptable Loss",1,0) -> 0
A15: =IFERROR(INDEX('G-1 All Habitats'!$AG$3:$AG$15,MATCH(E15,'G-1 All Habitats'!$AF$3:$AF$15,0)),"") | B15: =IFERROR(INDEX('G-8 Condition Look up'!$I$4:$I$130,MATCH(G15,'G-8 Condition Look up'!$A$4:$A$130,0)),"") | D15: 5 | G15: =IFERROR(INDEX('G-1 All Habitats'!$B$3:$B$129,MATCH(F15,'G-1 All Habitats'!$A$3:$A$129,0)),"") | I15: =IF(G15="","",VLOOKUP(G15,'G-1 All Habitats'!$B$2:$M$129,10,FALSE)) | J15: =IFERROR(VLOOKUP(I15,'G-1 All Habitats'!$V$3:$W$7,2,FALSE),"") | L15: =IFERROR(INDEX('G-8 Condition Look up'!$A$3:$H$130,MATCH(G15,'G-8 Condition Look up'!$A$3:$A$130,0),MATCH(K15,'G-8 Condition Look up'!$A$3:$H$3,0)),"") | N15: =IF(M15="","",IF(VLOOKUP(M15,'G-3 Multipliers'!$L$3:$N$6,2,FALSE)=0,"Spatial Data Missing",VLOOKUP(M15,'G-3 Multipliers'!$L$3:$N$6,2,FALSE))) | O15: =IF(M15="","",IF(VLOOKUP(M15,'G-3 Multipliers'!$L$3:$N$6,3,FALSE)=0,"Spatial Data Missing ▲",VLOOKUP(M15,'G-3 Multipliers'!$L$3:$N$6,3,FALSE))) | P15: =IFERROR(VLOOKUP(G15,'G-1 All Habitats'!$B$2:$M$129,12,FALSE),"") | Q15: =IFERROR(IF(P15="","",IF(AND(P15='G-1 All Habitats'!$X$3,T15>0),U15+V15,IF(AND(P15='G-1 All Habitats'!$X$3,S15>0),U15+V15,IF(AND(P15='G-1 All Habitats'!$X$3,AC15>0),"Any Loss Unacceptable ▲",IF(AND(P15='G-1 All Habitats'!$X$3,W15>0),"Any Loss Unacceptable ▲",H15*J15*L15*O15))))),"Check Data ▲") | U15: =IFERROR(S15*J15*L15*O15,"") | V15: =IFERROR(T15*J15*L15*O15,"") | W15: =IF(E15="","",IF(H15<S15+T15,"Error in Areas ▲",IF(P15<>'G-1 All Habitats'!$X$3,H15-S15-T15,IF(AND(P15='G-1 All Habitats'!$X$3,Y15="Yes"),"Unacceptable Loss",IF(AND(P15='G-1 All Habitats'!$X$3,Y15="No"),AC15,IF(AND(P15='G-1 All Habitats'!$X$3,Y15=""),AC15,IF(AND(P15='G-1 All Habitats'!$X$3,AC15="None",AC15),IF(AND(P15='G-1 All Habitats'!$X$3,AC15>0),H15-S15-T15)))))))) | X15: =IFERROR(IF(H15="","",IF(H15-S15-T15=0<0,"Error in Areas ▲",IF(S15+T15>H15,"Error in Areas ▲",IF(AND(P15='G-1 All Habitats'!$X$3,Y15="Yes"),"Alternative Compensation ✓",IF(W15=0,0,IF(P15='G-1 All Habitats'!$X$3,"Unacceptable Loss ▲",Q15-U15-V15)))))),"Check Data ▲") | AC15: =IF(P15="","",IF(P15='G-1 All Habitats'!$X$3,H15-S15-T15,"None")) | AD15: =IFERROR(AC15*J15*L15*#REF!*O15,IF(P15="","","None")) | AF15: =IF(G15="","",IF(S15>0,TRUE,FALSE)) | AG15: =IF(H15="","",IF(T15>0,TRUE,FALSE)) | AH15: =IF(I15="","",IF(#REF!>0,TRUE,FALSE)) | AI15: 5 | AK15: {=IFERROR(INDEX($AI$11:$AI$259, MATCH(0, IF(TRUE=$AF$11:$AF$259, COUNTIF($AK$10:$AK14, $AI$11:$AI$259), ""), 0)),"")} | AL15: {=IFERROR(INDEX($AI$11:$AI$259, MATCH(0, IF(TRUE=$AG$11:$AG$259, COUNTIF($AL$10:$AL14, $AI$11:$AI$259), ""), 0)),"")} | AM15: {=IFERROR(INDEX($AI$11:$AI$259, MATCH(0, IF(TRUE=$AH$11:$AH$259, COUNTIF($AM$10:$AM14, $AI$11:$AI$259), ""), 0)),"")} | AQ15: =IF(X15="Unacceptable Loss",1,0) -> 0
A16: =IFERROR(INDEX('G-1 All Habitats'!$AG$3:$AG$15,MATCH(E16,'G-1 All Habitats'!$AF$3:$AF$15,0)),"") | B16: =IFERROR(INDEX('G-8 Condition Look up'!$I$4:$I$130,MATCH(G16,'G-8 Condition Look up'!$A$4:$A$130,0)),"") | D16: 6 | G16: =IFERROR(INDEX('G-1 All Habitats'!$B$3:$B$129,MATCH(F16,'G-1 All Habitats'!$A$3:$A$129,0)),"") | I16: =IF(G16="","",VLOOKUP(G16,'G-1 All Habitats'!$B$2:$M$129,10,FALSE)) | J16: =IFERROR(VLOOKUP(I16,'G-1 All Habitats'!$V$3:$W$7,2,FALSE),"") | L16: =IFERROR(INDEX('G-8 Condition Look up'!$A$3:$H$130,MATCH(G16,'G-8 Condition Look up'!$A$3:$A$130,0),MATCH(K16,'G-8 Condition Look up'!$A$3:$H$3,0)),"") | N16: =IF(M16="","",IF(VLOOKUP(M16,'G-3 Multipliers'!$L$3:$N$6,2,FALSE)=0,"Spatial Data Missing",VLOOKUP(M16,'G-3 Multipliers'!$L$3:$N$6,2,FALSE))) | O16: =IF(M16="","",IF(VLOOKUP(M16,'G-3 Multipliers'!$L$3:$N$6,3,FALSE)=0,"Spatial Data Missing ▲",VLOOKUP(M16,'G-3 Multipliers'!$L$3:$N$6,3,FALSE))) | P16: =IFERROR(VLOOKUP(G16,'G-1 All Habitats'!$B$2:$M$129,12,FALSE),"") | Q16: =IFERROR(IF(P16="","",IF(AND(P16='G-1 All Habitats'!$X$3,T16>0),U16+V16,IF(AND(P16='G-1 All Habitats'!$X$3,S16>0),U16+V16,IF(AND(P16='G-1 All Habitats'!$X$3,AC16>0),"Any Loss Unacceptable ▲",IF(AND(P16='G-1 All Habitats'!$X$3,W16>0),"Any Loss Unacceptable ▲",H16*J16*L16*O16))))),"Check Data ▲") | U16: =IFERROR(S16*J16*L16*O16,"") | V16: =IFERROR(T16*J16*L16*O16,"") | W16: =IF(E16="","",IF(H16<S16+T16,"Error in Areas ▲",IF(P16<>'G-1 All Habitats'!$X$3,H16-S16-T16,IF(AND(P16='G-1 All Habitats'!$X$3,Y16="Yes"),"Unacceptable Loss",IF(AND(P16='G-1 All Habitats'!$X$3,Y16="No"),AC16,IF(AND(P16='G-1 All Habitats'!$X$3,Y16=""),AC16,IF(AND(P16='G-1 All Habitats'!$X$3,AC16="None",AC16),IF(AND(P16='G-1 All Habitats'!$X$3,AC16>0),H16-S16-T16)))))))) | X16: =IFERROR(IF(H16="","",IF(H16-S16-T16=0<0,"Error in Areas ▲",IF(S16+T16>H16,"Error in Areas ▲",IF(AND(P16='G-1 All Habitats'!$X$3,Y16="Yes"),"Alternative Compensation ✓",IF(W16=0,0,IF(P16='G-1 All Habitats'!$X$3,"Unacceptable Loss ▲",Q16-U16-V16)))))),"Check Data ▲") | AC16: =IF(P16="","",IF(P16='G-1 All Habitats'!$X$3,H16-S16-T16,"None")) | AD16: =IFERROR(AC16*J16*L16*#REF!*O16,IF(P16="","","None")) | AF16: =IF(G16="","",IF(S16>0,TRUE,FALSE)) | AG16: =IF(H16="","",IF(T16>0,TRUE,FALSE)) | AH16: =IF(I16="","",IF(#REF!>0,TRUE,FALSE)) | AI16: 6 | AK16: {=IFERROR(INDEX($AI$11:$AI$259, MATCH(0, IF(TRUE=$AF$11:$AF$259, COUNTIF($AK$10:$AK15, $AI$11:$AI$259), ""), 0)),"")} | AL16: {=IFERROR(INDEX($AI$11:$AI$259, MATCH(0, IF(TRUE=$AG$11:$AG$259, COUNTIF($AL$10:$AL15, $AI$11:$AI$259), ""), 0)),"")} | AM16: {=IFERROR(INDEX($AI$11:$AI$259, MATCH(0, IF(TRUE=$AH$11:$AH$259, COUNTIF($AM$10:$AM15, $AI$11:$AI$259), ""), 0)),"")} | AQ16: =IF(X16="Unacceptable Loss",1,0) -> 0
A17: =IFERROR(INDEX('G-1 All Habitats'!$AG$3:$AG$15,MATCH(E17,'G-1 All Habitats'!$AF$3:$AF$15,0)),"") | B17: =IFERROR(INDEX('G-8 Condition Look up'!$I$4:$I$130,MATCH(G17,'G-8 Condition Look up'!$A$4:$A$130,0)),"") | D17: 7 | G17: =IFERROR(INDEX('G-1 All Habitats'!$B$3:$B$129,MATCH(F17,'G-1 All Habitats'!$A$3:$A$129,0)),"") | I17: =IF(G17="","",VLOOKUP(G17,'G-1 All Habitats'!$B$2:$M$129,10,FALSE)) | J17: =IFERROR(VLOOKUP(I17,'G-1 All Habitats'!$V$3:$W$7,2,FALSE),"") | L17: =IFERROR(INDEX('G-8 Condition Look up'!$A$3:$H$130,MATCH(G17,'G-8 Condition Look up'!$A$3:$A$130,0),MATCH(K17,'G-8 Condition Look up'!$A$3:$H$3,0)),"") | N17: =IF(M17="","",IF(VLOOKUP(M17,'G-3 Multipliers'!$L$3:$N$6,2,FALSE)=0,"Spatial Data Missing",VLOOKUP(M17,'G-3 Multipliers'!$L$3:$N$6,2,FALSE))) | O17: =IF(M17="","",IF(VLOOKUP(M17,'G-3 Multipliers'!$L$3:$N$6,3,FALSE)=0,"Spatial Data Missing ▲",VLOOKUP(M17,'G-3 Multipliers'!$L$3:$N$6,3,FALSE))) | P17: =IFERROR(VLOOKUP(G17,'G-1 All Habitats'!$B$2:$M$129,12,FALSE),"") | Q17: =IFERROR(IF(P17="","",IF(AND(P17='G-1 All Habitats'!$X$3,T17>0),U17+V17,IF(AND(P17='G-1 All Habitats'!$X$3,S17>0),U17+V17,IF(AND(P17='G-1 All Habitats'!$X$3,AC17>0),"Any Loss Unacceptable ▲",IF(AND(P17='G-1 All Habitats'!$X$3,W17>0),"Any Loss Unacceptable ▲",H17*J17*L17*O17))))),"Check Data ▲") | U17: =IFERROR(S17*J17*L17*O17,"") | V17: =IFERROR(T17*J17*L17*O17,"") | W17: =IF(E17="","",IF(H17<S17+T17,"Error in Areas ▲",IF(P17<>'G-1 All Habitats'!$X$3,H17-S17-T17,IF(AND(P17='G-1 All Habitats'!$X$3,Y17="Yes"),"Unacceptable Loss",IF(AND(P17='G-1 All Habitats'!$X$3,Y17="No"),AC17,IF(AND(P17='G-1 All Habitats'!$X$3,Y17=""),AC17,IF(AND(P17='G-1 All Habitats'!$X$3,AC17="None",AC17),IF(AND(P17='G-1 All Habitats'!$X$3,AC17>0),H17-S17-T17)))))))) | X17: =IFERROR(IF(H17="","",IF(H17-S17-T17=0<0,"Error in Areas ▲",IF(S17+T17>H17,"Error in Areas ▲",IF(AND(P17='G-1 All Habitats'!$X$3,Y17="Yes"),"Alternative Compensation ✓",IF(W17=0,0,IF(P17='G-1 All Habitats'!$X$3,"Unacceptable Loss ▲",Q17-U17-V17)))))),"Check Data ▲") | AC17: =IF(P17="","",IF(P17='G-1 All Habitats'!$X$3,H17-S17-T17,"None")) | AD17: =IFERROR(AC17*J17*L17*#REF!*O17,IF(P17="","","None")) | AF17: =IF(G17="","",IF(S17>0,TRUE,FALSE)) | AG17: =IF(H17="","",IF(T17>0,TRUE,FALSE)) | AH17: =IF(I17="","",IF(#REF!>0,TRUE,FALSE)) | AI17: 7 | AK17: {=IFERROR(INDEX($AI$11:$AI$259, MATCH(0, IF(TRUE=$AF$11:$AF$259, COUNTIF($AK$10:$AK16, $AI$11:$AI$259), ""), 0)),"")} | AL17: {=IFERROR(INDEX($AI$11:$AI$259, MATCH(0, IF(TRUE=$AG$11:$AG$259, COUNTIF($AL$10:$AL16, $AI$11:$AI$259), ""), 0)),"")} | AM17: {=IFERROR(INDEX($AI$11:$AI$259, MATCH(0, IF(TRUE=$AH$11:$AH$259, COUNTIF($AM$10:$AM16, $AI$11:$AI$259), ""), 0)),"")} | AQ17: =IF(X17="Unacceptable Loss",1,0) -> 0
A18: =IFERROR(INDEX('G-1 All Habitats'!$AG$3:$AG$15,MATCH(E18,'G-1 All Habitats'!$AF$3:$AF$15,0)),"") | B18: =IFERROR(INDEX('G-8 Condition Look up'!$I$4:$I$130,MATCH(G18,'G-8 Condition Look up'!$A$4:$A$130,0)),"") | D18: 8 | G18: =IFERROR(INDEX('G-1 All Habitats'!$B$3:$B$129,MATCH(F18,'G-1 All Habitats'!$A$3:$A$129,0)),"") | I18: =IF(G18="","",VLOOKUP(G18,'G-1 All Habitats'!$B$2:$M$129,10,FALSE)) | J18: =IFERROR(VLOOKUP(I18,'G-1 All Habitats'!$V$3:$W$7,2,FALSE),"") | L18: =IFERROR(INDEX('G-8 Condition Look up'!$A$3:$H$130,MATCH(G18,'G-8 Condition Look up'!$A$3:$A$130,0),MATCH(K18,'G-8 Condition Look up'!$A$3:$H$3,0)),"") | N18: =IF(M18="","",IF(VLOOKUP(M18,'G-3 Multipliers'!$L$3:$N$6,2,FALSE)=0,"Spatial Data Missing",VLOOKUP(M18,'G-3 Multipliers'!$L$3:$N$6,2,FALSE))) | O18: =IF(M18="","",IF(VLOOKUP(M18,'G-3 Multipliers'!$L$3:$N$6,3,FALSE)=0,"Spatial Data Missing ▲",VLOOKUP(M18,'G-3 Multipliers'!$L$3:$N$6,3,FALSE))) | P18: =IFERROR(VLOOKUP(G18,'G-1 All Habitats'!$B$2:$M$129,12,FALSE),"") | Q18: =IFERROR(IF(P18="","",IF(AND(P18='G-1 All Habitats'!$X$3,T18>0),U18+V18,IF(AND(P18='G-1 All Habitats'!$X$3,S18>0),U18+V18,IF(AND(P18='G-1 All Habitats'!$X$3,AC18>0),"Any Loss Unacceptable ▲",IF(AND(P18='G-1 All Habitats'!$X$3,W18>0),"Any Loss Unacceptable ▲",H18*J18*L18*O18))))),"Check Data ▲") | U18: =IFERROR(S18*J18*L18*O18,"") | V18: =IFERROR(T18*J18*L18*O18,"") | W18: =IF(E18="","",IF(H18<S18+T18,"Error in Areas ▲",IF(P18<>'G-1 All Habitats'!$X$3,H18-S18-T18,IF(AND(P18='G-1 All Habitats'!$X$3,Y18="Yes"),"Unacceptable Loss",IF(AND(P18='G-1 All Habitats'!$X$3,Y18="No"),AC18,IF(AND(P18='G-1 All Habitats'!$X$3,Y18=""),AC18,IF(AND(P18='G-1 All Habitats'!$X$3,AC18="None",AC18),IF(AND(P18='G-1 All Habitats'!$X$3,AC18>0),H18-S18-T18)))))))) | X18: =IFERROR(IF(H18="","",IF(H18-S18-T18=0<0,"Error in Areas ▲",IF(S18+T18>H18,"Error in Areas ▲",IF(AND(P18='G-1 All Habitats'!$X$3,Y18="Yes"),"Alternative Compensation ✓",IF(W18=0,0,IF(P18='G-1 All Habitats'!$X$3,"Unacceptable Loss ▲",Q18-U18-V18)))))),"Check Data ▲") | AC18: =IF(P18="","",IF(P18='G-1 All Habitats'!$X$3,H18-S18-T18,"None")) | AD18: =IFERROR(AC18*J18*L18*#REF!*O18,IF(P18="","","None")) | AF18: =IF(G18="","",IF(S18>0,TRUE,FALSE)) | AG18: =IF(H18="","",IF(T18>0,TRUE,FALSE)) | AH18: =IF(I18="","",IF(#REF!>0,TRUE,FALSE)) | AI18: 8 | AK18: {=IFERROR(INDEX($AI$11:$AI$259, MATCH(0, IF(TRUE=$AF$11:$AF$259, COUNTIF($AK$10:$AK17, $AI$11:$AI$259), ""), 0)),"")} | AL18: {=IFERROR(INDEX($AI$11:$AI$259, MATCH(0, IF(TRUE=$AG$11:$AG$259, COUNTIF($AL$10:$AL17, $AI$11:$AI$259), ""), 0)),"")} | AM18: {=IFERROR(INDEX($AI$11:$AI$259, MATCH(0, IF(TRUE=$AH$11:$AH$259, COUNTIF($AM$10:$AM17, $AI$11:$AI$259), ""), 0)),"")} | AQ18: =IF(X18="Unacceptable Loss",1,0) -> 0
A19: =IFERROR(INDEX('G-1 All Habitats'!$AG$3:$AG$15,MATCH(E19,'G-1 All Habitats'!$AF$3:$AF$15,0)),"") | B19: =IFERROR(INDEX('G-8 Condition Look up'!$I$4:$I$130,MATCH(G19,'G-8 Condition Look up'!$A$4:$A$130,0)),"") | D19: 9 | G19: =IFERROR(INDEX('G-1 All Habitats'!$B$3:$B$129,MATCH(F19,'G-1 All Habitats'!$A$3:$A$129,0)),"") | I19: =IF(G19="","",VLOOKUP(G19,'G-1 All Habitats'!$B$2:$M$129,10,FALSE)) | J19: =IFERROR(VLOOKUP(I19,'G-1 All Habitats'!$V$3:$W$7,2,FALSE),"") | L19: =IFERROR(INDEX('G-8 Condition Look up'!$A$3:$H$130,MATCH(G19,'G-8 Condition Look up'!$A$3:$A$130,0),MATCH(K19,'G-8 Condition Look up'!$A$3:$H$3,0)),"") | N19: =IF(M19="","",IF(VLOOKUP(M19,'G-3 Multipliers'!$L$3:$N$6,2,FALSE)=0,"Spatial Data Missing",VLOOKUP(M19,'G-3 Multipliers'!$L$3:$N$6,2,FALSE))) | O19: =IF(M19="","",IF(VLOOKUP(M19,'G-3 Multipliers'!$L$3:$N$6,3,FALSE)=0,"Spatial Data Missing ▲",VLOOKUP(M19,'G-3 Multipliers'!$L$3:$N$6,3,FALSE))) | P19: =IFERROR(VLOOKUP(G19,'G-1 All Habitats'!$B$2:$M$129,12,FALSE),"") | Q19: =IFERROR(IF(P19="","",IF(AND(P19='G-1 All Habitats'!$X$3,T19>0),U19+V19,IF(AND(P19='G-1 All Habitats'!$X$3,S19>0),U19+V19,IF(AND(P19='G-1 All Habitats'!$X$3,AC19>0),"Any Loss Unacceptable ▲",IF(AND(P19='G-1 All Habitats'!$X$3,W19>0),"Any Loss Unacceptable ▲",H19*J19*L19*O19))))),"Check Data ▲") | U19: =IFERROR(S19*J19*L19*O19,"") | V19: =IFERROR(T19*J19*L19*O19,"") | W19: =IF(E19="","",IF(H19<S19+T19,"Error in Areas ▲",IF(P19<>'G-1 All Habitats'!$X$3,H19-S19-T19,IF(AND(P19='G-1 All Habitats'!$X$3,Y19="Yes"),"Unacceptable Loss",IF(AND(P19='G-1 All Habitats'!$X$3,Y19="No"),AC19,IF(AND(P19='G-1 All Habitats'!$X$3,Y19=""),AC19,IF(AND(P19='G-1 All Habitats'!$X$3,AC19="None",AC19),IF(AND(P19='G-1 All Habitats'!$X$3,AC19>0),H19-S19-T19)))))))) | X19: =IFERROR(IF(H19="","",IF(H19-S19-T19=0<0,"Error in Areas ▲",IF(S19+T19>H19,"Error in Areas ▲",IF(AND(P19='G-1 All Habitats'!$X$3,Y19="Yes"),"Alternative Compensation ✓",IF(W19=0,0,IF(P19='G-1 All Habitats'!$X$3,"Unacceptable Loss ▲",Q19-U19-V19)))))),"Check Data ▲") | AC19: =IF(P19="","",IF(P19='G-1 All Habitats'!$X$3,H19-S19-T19,"None")) | AD19: =IFERROR(AC19*J19*L19*#REF!*O19,IF(P19="","","None")) | AF19: =IF(G19="","",IF(S19>0,TRUE,FALSE)) | AG19: =IF(H19="","",IF(T19>0,TRUE,FALSE)) | AH19: =IF(I19="","",IF(#REF!>0,TRUE,FALSE)) | AI19: 9 | AK19: {=IFERROR(INDEX($AI$11:$AI$259, MATCH(0, IF(TRUE=$AF$11:$AF$259, COUNTIF($AK$10:$AK18, $AI$11:$AI$259), ""), 0)),"")} | AL19: {=IFERROR(INDEX($AI$11:$AI$259, MATCH(0, IF(TRUE=$AG$11:$AG$259, COUNTIF($AL$10:$AL18, $AI$11:$AI$259), ""), 0)),"")} | AM19: {=IFERROR(INDEX($AI$11:$AI$259, MATCH(0, IF(TRUE=$AH$11:$AH$259, COUNTIF($AM$10:$AM18, $AI$11:$AI$259), ""), 0)),"")} | AQ19: =IF(X19="Unacceptable Loss",1,0) -> 0
A20: =IFERROR(INDEX('G-1 All Habitats'!$AG$3:$AG$15,MATCH(E20,'G-1 All Habitats'!$AF$3:$AF$15,0)),"") | B20: =IFERROR(INDEX('G-8 Condition Look up'!$I$4:$I$130,MATCH(G20,'G-8 Condition Look up'!$A$4:$A$130,0)),"") | D20: 10 | G20: =IFERROR(INDEX('G-1 All Habitats'!$B$3:$B$129,MATCH(F20,'G-1 All Habitats'!$A$3:$A$129,0)),"") | I20: =IF(G20="","",VLOOKUP(G20,'G-1 All Habitats'!$B$2:$M$129,10,FALSE)) | J20: =IFERROR(VLOOKUP(I20,'G-1 All Habitats'!$V$3:$W$7,2,FALSE),"") | L20: =IFERROR(INDEX('G-8 Condition Look up'!$A$3:$H$130,MATCH(G20,'G-8 Condition Look up'!$A$3:$A$130,0),MATCH(K20,'G-8 Condition Look up'!$A$3:$H$3,0)),"") | N20: =IF(M20="","",IF(VLOOKUP(M20,'G-3 Multipliers'!$L$3:$N$6,2,FALSE)=0,"Spatial Data Missing",VLOOKUP(M20,'G-3 Multipliers'!$L$3:$N$6,2,FALSE))) | O20: =IF(M20="","",IF(VLOOKUP(M20,'G-3 Multipliers'!$L$3:$N$6,3,FALSE)=0,"Spatial Data Missing ▲",VLOOKUP(M20,'G-3 Multipliers'!$L$3:$N$6,3,FALSE))) | P20: =IFERROR(VLOOKUP(G20,'G-1 All Habitats'!$B$2:$M$129,12,FALSE),"") | Q20: =IFERROR(IF(P20="","",IF(AND(P20='G-1 All Habitats'!$X$3,T20>0),U20+V20,IF(AND(P20='G-1 All Habitats'!$X$3,S20>0),U20+V20,IF(AND(P20='G-1 All Habitats'!$X$3,AC20>0),"Any Loss Unacceptable ▲",IF(AND(P20='G-1 All Habitats'!$X$3,W20>0),"Any Loss Unacceptable ▲",H20*J20*L20*O20))))),"Check Data ▲") | U20: =IFERROR(S20*J20*L20*O20,"") | V20: =IFERROR(T20*J20*L20*O20,"") | W20: =IF(E20="","",IF(H20<S20+T20,"Error in Areas ▲",IF(P20<>'G-1 All Habitats'!$X$3,H20-S20-T20,IF(AND(P20='G-1 All Habitats'!$X$3,Y20="Yes"),"Unacceptable Loss",IF(AND(P20='G-1 All Habitats'!$X$3,Y20="No"),AC20,IF(AND(P20='G-1 All Habitats'!$X$3,Y20=""),AC20,IF(AND(P20='G-1 All Habitats'!$X$3,AC20="None",AC20),IF(AND(P20='G-1 All Habitats'!$X$3,AC20>0),H20-S20-T20)))))))) | X20: =IFERROR(IF(H20="","",IF(H20-S20-T20=0<0,"Error in Areas ▲",IF(S20+T20>H20,"Error in Areas ▲",IF(AND(P20='G-1 All Habitats'!$X$3,Y20="Yes"),"Alternative Compensation ✓",IF(W20=0,0,IF(P20='G-1 All Habitats'!$X$3,"Unacceptable Loss ▲",Q20-U20-V20)))))),"Check Data ▲") | AC20: =IF(P20="","",IF(P20='G-1 All Habitats'!$X$3,H20-S20-T20,"None")) | AD20: =IFERROR(AC20*J20*L20*#REF!*O20,IF(P20="","","None")) | AF20: =IF(G20="","",IF(S20>0,TRUE,FALSE)) | AG20: =IF(H20="","",IF(T20>0,TRUE,FALSE)) | AH20: =IF(I20="","",IF(#REF!>0,TRUE,FALSE)) | AI20: 10 | AK20: {=IFERROR(INDEX($AI$11:$AI$259, MATCH(0, IF(TRUE=$AF$11:$AF$259, COUNTIF($AK$10:$AK19, $AI$11:$AI$259), ""), 0)),"")} | AL20: {=IFERROR(INDEX($AI$11:$AI$259, MATCH(0, IF(TRUE=$AG$11:$AG$259, COUNTIF($AL$10:$AL19, $AI$11:$AI$259), ""), 0)),"")} | AM20: {=IFERROR(INDEX($AI$11:$AI$259, MATCH(0, IF(TRUE=$AH$11:$AH$259, COUNTIF($AM$10:$AM19, $AI$11:$AI$259), ""), 0)),"")} | AQ20: =IF(X20="Unacceptable Loss",1,0) -> 0
A21: =IFERROR(INDEX('G-1 All Habitats'!$AG$3:$AG$15,MATCH(E21,'G-1 All Habitats'!$AF$3:$AF$15,0)),"") | B21: =IFERROR(INDEX('G-8 Condition Look up'!$I$4:$I$130,MATCH(G21,'G-8 Condition Look up'!$A$4:$A$130,0)),"") | D21: 11 | G21: =IFERROR(INDEX('G-1 All Habitats'!$B$3:$B$129,MATCH(F21,'G-1 All Habitats'!$A$3:$A$129,0)),"") | I21: =IF(G21="","",VLOOKUP(G21,'G-1 All Habitats'!$B$2:$M$129,10,FALSE)) | J21: =IFERROR(VLOOKUP(I21,'G-1 All Habitats'!$V$3:$W$7,2,FALSE),"") | L21: =IFERROR(INDEX('G-8 Condition Look up'!$A$3:$H$130,MATCH(G21,'G-8 Condition Look up'!$A$3:$A$130,0),MATCH(K21,'G-8 Condition Look up'!$A$3:$H$3,0)),"") | N21: =IF(M21="","",IF(VLOOKUP(M21,'G-3 Multipliers'!$L$3:$N$6,2,FALSE)=0,"Spatial Data Missing",VLOOKUP(M21,'G-3 Multipliers'!$L$3:$N$6,2,FALSE))) | O21: =IF(M21="","",IF(VLOOKUP(M21,'G-3 Multipliers'!$L$3:$N$6,3,FALSE)=0,"Spatial Data Missing ▲",VLOOKUP(M21,'G-3 Multipliers'!$L$3:$N$6,3,FALSE))) | P21: =IFERROR(VLOOKUP(G21,'G-1 All Habitats'!$B$2:$M$129,12,FALSE),"") | Q21: =IFERROR(IF(P21="","",IF(AND(P21='G-1 All Habitats'!$X$3,T21>0),U21+V21,IF(AND(P21='G-1 All Habitats'!$X$3,S21>0),U21+V21,IF(AND(P21='G-1 All Habitats'!$X$3,AC21>0),"Any Loss Unacceptable ▲",IF(AND(P21='G-1 All Habitats'!$X$3,W21>0),"Any Loss Unacceptable ▲",H21*J21*L21*O21))))),"Check Data ▲") | U21: =IFERROR(S21*J21*L21*O21,"") | V21: =IFERROR(T21*J21*L21*O21,"") | W21: =IF(E21="","",IF(H21<S21+T21,"Error in Areas ▲",IF(P21<>'G-1 All Habitats'!$X$3,H21-S21-T21,IF(AND(P21='G-1 All Habitats'!$X$3,Y21="Yes"),"Unacceptable Loss",IF(AND(P21='G-1 All Habitats'!$X$3,Y21="No"),AC21,IF(AND(P21='G-1 All Habitats'!$X$3,Y21=""),AC21,IF(AND(P21='G-1 All Habitats'!$X$3,AC21="None",AC21),IF(AND(P21='G-1 All Habitats'!$X$3,AC21>0),H21-S21-T21)))))))) | X21: =IFERROR(IF(H21="","",IF(H21-S21-T21=0<0,"Error in Areas ▲",IF(S21+T21>H21,"Error in Areas ▲",IF(AND(P21='G-1 All Habitats'!$X$3,Y21="Yes"),"Alternative Compensation ✓",IF(W21=0,0,IF(P21='G-1 All Habitats'!$X$3,"Unacceptable Loss ▲",Q21-U21-V21)))))),"Check Data ▲") | AC21: =IF(P21="","",IF(P21='G-1 All Habitats'!$X$3,H21-S21-T21,"None")) | AD21: =IFERROR(AC21*J21*L21*#REF!*O21,IF(P21="","","None")) | AF21: =IF(G21="","",IF(S21>0,TRUE,FALSE)) | AG21: =IF(H21="","",IF(T21>0,TRUE,FALSE)) | AH21: =IF(I21="","",IF(#REF!>0,TRUE,FALSE)) | AI21: 11 | AK21: {=IFERROR(INDEX($AI$11:$AI$259, MATCH(0, IF(TRUE=$AF$11:$AF$259, COUNTIF($AK$10:$AK20, $AI$11:$AI$259), ""), 0)),"")} | AL21: {=IFERROR(INDEX($AI$11:$AI$259, MATCH(0, IF(TRUE=$AG$11:$AG$259, COUNTIF($AL$10:$AL20, $AI$11:$AI$259), ""), 0)),"")} | AM21: {=IFERROR(INDEX($AI$11:$AI$259, MATCH(0, IF(TRUE=$AH$11:$AH$259, COUNTIF($AM$10:$AM20, $AI$11:$AI$259), ""), 0)),"")} | AQ21: =IF(X21="Unacceptable Loss",1,0) -> 0
