Workbook
Name AllHabsSummaryData: 'G-2 Habitat groups'!$A$3:$AF$130
Name BaselineHabOffsite: 'D-1 Off Site Habitat Baseline'!$D$11:$X$258
Name BaselineHabSite: 'A-1 Site Habitat Baseline'!$D$11:$X$258
Name baselineimage: Start!$D$31:$G$45
Name baselineimageOS: Start!$D$52:$G$57
Name Coastal_lagoons: 'G-1 All Habitats'!$A$99
Name Coastal_saltmarsh: 'G-1 All Habitats'!$A$108:$A$109
Name Cond1: 'G-8 Condition Look up'!$J$5
Name Cond2: 'G-8 Condition Look up'!$K$5
Name Cond3: 'G-8 Condition Look up'!$L$5
Name Cond4: 'G-8 Condition Look up'!$M$5:$M$9
Name Cond5: 'G-8 Condition Look up'!$N$5
Name Condition: 'G-8 Condition Look up'!$B$3:$H$3
Name ConditionData: 'G-8 Condition Look up'!$A$4:$H$99
Name ConditionHabitats: 'G-8 Condition Look up'!$A$4:$A$125
Name Cropland: 'G-1 All Habitats'!$A$3:$A$12
Name Difficulty: 'G-3 Multipliers'!$P$3:$Q$6
Name EnhanceCondition: 'G-5 Enhancement Temporal'!$C$4:$X$4
Name EnhanceHabitat: 'G-5 Enhancement Temporal'!$C$4:$C$131
Name EnhanceTemporal: 'G-5 Enhancement Temporal'!$C$4:$X$131
Name Grassland: 'G-1 All Habitats'!$A$13:$A$25
Name Heathland_and_shrub: 'G-1 All Habitats'!$A$26:$A$37
Name HedgeCond: 'G-6 Hedgerow Data'!$B$2:$T$2
Name Hedgecond1: 'G-6 Hedgerow Data'!$BK$3:$BK$5
Name Hedgecond2: 'G-6 Hedgerow Data'!$BL$3
Name HedgeData: 'G-6 Hedgerow Data'!$B$2:$T$15
Name HedgeType: 'G-6 Hedgerow Data'!$B$2:$B$15
Name Intertidal_hard_structures: 'G-1 All Habitats'!$A$127:$A$129
Name Intertidal_sediment: 'G-1 All Habitats'!$A$110:$A$126
Name Lakes: 'G-1 All Habitats'!$A$38:$A$48
Name LPAList: Lists!$A$1:$A$378
Name postdevelopmentimage: Start!$I$31:$O$45
Name postdevelopmentimageOS: Start!$I$52:$O$57
Name RetCatChecks: 'A-1 Site Habitat Baseline'!$AE$11:$AH$258
Name riparianencroachment1: 'G-7 Rivers Data'!$AA$4:$AA$6
Name riparianencroachment2: 'G-7 Rivers Data'!$AA$7
Name Rivercond1: 'G-7 Rivers Data'!$BB$3:$BB$7
Name Rivercond2: 'G-7 Rivers Data'!$BC$3
Name RiverCondition: 'G-7 Rivers Data'!$B$3:$X$3
Name RiverEnhanceTemporal: 'G-7 Rivers Data'!$B$4:$X$12
Name RiverHabitat: 'G-7 Rivers Data'!$B$4:$B$13
Name RiversEnhancment: 'G-7 Rivers Data'!$O$3:$X$5
Name Rocky_shore: 'G-1 All Habitats'!$A$100:$A$107
Name Sparsely_vegetated_land: 'G-1 All Habitats'!$A$49:$A$56
Name TemporalConditions: 'G-4 Temporal multipliers'!$F$3:$M$3
Name TemporalData: 'G-4 Temporal multipliers'!$F$3:$M$130
Name TemporalHabitats: 'G-4 Temporal multipliers'!$F$3:$F$130
Name TemporalMultipliers: 'G-4 Temporal multipliers'!$A$4:$C$36
Name Urban: 'G-1 All Habitats'!$A$57:$A$77
Name Wetland: 'G-1 All Habitats'!$A$78:$A$85
Name Woodland_and_forest: 'G-1 All Habitats'!$A$86:$A$98

Sheet Introduction

Sheet Start
D9: Project details
D11: Planning authority:
D12: Project name:
D13: Applicant:
D14: Application type:
D15: Planning application reference:
D16: Assessor:
D17: Reviewer:
D18: Metric version:
D19: Assessment date:
D20: Planning authority reviewer:
D23: Cell style conventions
F25: Enter data
F26: Automatic lookup
F27: Result

Sheet Instructions

Sheet Main Menu
Q3: Urban tree helper
Q4: Tree size | R4: Number of trees and area (ha) for each condition state
R5: Poor | S5: Area | T5: Moderate | U5: Area | V5: Good | W5: Area
Q6: Small | S6: =R6*'G-3 Multipliers'!$Z$4 -> 0 | T6: 45 | U6: =T6*'G-3 Multipliers'!$Z$4 -> 0.1831248 | W6: =V6*'G-3 Multipliers'!$Z$4 -> 0
Q7: Medium | S7: =R7*'G-3 Multipliers'!$Z$5 -> 0 | U7: =T7*'G-3 Multipliers'!$Z$5 -> 0 | W7: =V7*'G-3 Multipliers'!$Z$5 -> 0
Q8: Large | S8: =R8*'G-3 Multipliers'!$Z$6 -> 0 | U8: =T8*'G-3 Multipliers'!$Z$6 -> 0 | W8: =V8*'G-3 Multipliers'!$Z$6 -> 0
Q9: Total | R9: =SUM(R6:R8) -> 0 | S9: =SUM(S6:S8) -> 0 | T9: =SUM(T6:T8) -> 45 | U9: =SUM(U6:U8) -> 0.1831248 | V9: =SUM(V6:V8) -> 0 | W9: =SUM(W6:W8) -> 0

Sheet Results

Sheet Headline Results
B2: =IF(Start!$F$12="","",Start!$F$12)
B3: =MID(CELL("filename",A1),FIND("]",CELL("filename",A1))+1,256) -> Headline Results
B8: On-site baseline | F8: Habitat units | H8: =IFERROR('A-1 Site Habitat Baseline'!Q259,"Check Data ⚠") -> 0.0162
F9: Hedgerow units | H9: =IFERROR('B-1 Site Hedge Baseline'!N258,"Check Data ⚠") -> 0
F10: River units | H10: ='C-1 Site River Baseline'!R258 -> 0
B12: On-site post-intervention (Including habitat retention, creation & enhancement) | F12: Habitat units | H12: =IFERROR('A-2 Site Habitat Creation'!Y257+'A-3 Site Habitat Enhancement'!AN258+'A-1 Site Habitat Baseline'!U259,"Check Data ⚠") -> 0.67600178
F13: Hedgerow units | H13: =IFERROR('B-2 Site Hedge Creation'!W260+'B-3 Site Hedge Enhancement'!AH258+'B-1 Site Hedge Baseline'!R258,"Check Data⚠") -> 0.044931606
F14: River units | H14: =IFERROR('C-2 Site River Creation'!Z260 + 'C-3 Site River Enhancement'!AM258+'C-1 Site River Baseline'!V258,"Check Data ⚠") -> 0
B16: On-site net % change (Including habitat retention, creation & enhancement) | F16: Habitat units | H16: =IF(H8=0,0,IF(AND(H8=0,H12>0),1,IFERROR((H12/H8)-1,"Check Data ⚠"))) -> 40.728505
F17: Hedgerow units | H17: =IF(H9=0,0,IF(AND(H9=0,H13>0),1,IFERROR((H13/H9)-1,"Check Data ⚠"))) -> 0
F18: River units | H18: =IF(H10=0,0,IF(AND(H10=0,H14>0),1,IFERROR((H14/H10)-1,"Check Data ⚠"))) -> 0
B20: Off-site baseline | F20: Habitat units | H20: =IFERROR('D-1 Off Site Habitat Baseline'!Q259,"Check Data ⚠") -> 0
F21: Hedgerow units | H21: =IFERROR('E-1 Off Site Hedge Baseline'!N258,"Check Data ⚠") -> 0
F22: River units | H22: =IFERROR('F-1 Off Site River Baseline'!R258,"Check Data ⚠") -> 0
B24: Off-site post-intervention (Including habitat retention, creation & enhancement) | F24: Habitat units | H24: =IFERROR('D-1 Off Site Habitat Baseline'!$U$259+'D-2 Off Site Habitat Creation'!AA257+'D-3 Off Site Habitat Enhancment'!AP259,"Check Data ⚠") -> 0
F25: Hedgerow units | H25: =IFERROR('E-1 Off Site Hedge Baseline'!R258+'E-2 Off Site Hedge Creation'!Y260+'E-3 Off Site Hedge Enhancement'!AJ258,"Check Data ⚠") -> 0
F26: River units | H26: =IFERROR('F-1 Off Site River Baseline'!V258+'F-2 Off Site River Creation'!AB260+'F-3 Off Site River Enhancement'!AO258,"Check Data ⚠") -> 0
B28: Total net unit change (including all on-site & off-site habitat retention, creation & enhancement) | F28: Habitat units | H28: =IFERROR((H12-H8)+((H24-H20)),"Check Data ⚠") -> 0.65980178
F29: Hedgerow units | H29: =IFERROR((H13-H9)+((H25-H21)),"Check Data ⚠") -> 0.044931606
F30: River units | H30: =IFERROR((H14-H10)+((H26-H22)),"Check Data ⚠") -> 0
B32: Total on-site net % change plus off-site surplus (including all on-site & off-site habitat retention, creation & enhancement) | F32: Habitat units | H32: =IF(H28=0,0,IF(AND(H8=0,H20=0,H28>0),1,IFERROR((H28/H8),"Check Data ⚠"))) -> 40.728505
F33: Hedgerow units | H33: =IF(H29=0,0,IF(AND(H9=0,H21=0,H29>0),1,IFERROR((H29/H9),"Check Data ⚠"))) -> 1
F34: River units | H34: =IF(H30=0,0,IF(AND(H10=0,H22=0,H30>0),1,IFERROR((H30/H10),"Check Data ⚠"))) -> 0
B36: Trading rules Satisfied? | F36: =IF(OR('Trading Summary'!G5="No ▲",'Trading Summary'!G6="No ▲",'Trading Summary'!G7="No ▲",'Trading Summary'!G8="No ▲"),"No - Check Trading Summary ▲","Yes ✓") -> Yes ✓

Sheet Detailed Results
B2: =IF(Start!$F$12="","",Start!$F$12)
B3: =MID(CELL("filename",A1),FIND("]",CELL("filename",A1))+1,256) -> Detailed Results
B7: Summary Figures
B10: Net project biodiversity units (including all on-site & off-site habitat retention/creation) | F10: Habitat units | H10: =IFERROR('Headline Results'!$H$28:$I$28,"Check Data ⚠") -> 0.65980178
F11: Hedgerow units | H11: =IFERROR('Headline Results'!$H$29:$I$29,"Check Data ⚠") -> 0.044931606
F12: River units | H12: =IFERROR('Headline Results'!$H$30:$I$30,"Check Data ⚠") -> 0
B14: Total project biodiversity % change (including all On-site & Off-site Habitat Creation + Retained Habitats) | F14: Habitat units | H14: =IFERROR('Headline Results'!$H$32:$I$32,"Check Data ⚠") -> 40.728505
F15: Hedgerow units | H15: =IFERROR('Headline Results'!$H$33:$I$33,"Check Data ⚠") -> 1
F16: River units | H16: =IFERROR('Headline Results'!$H$34:$I$34,"Check Data ⚠") -> 0
B18: Combined habitat retention and enhancement
D20: Habitats | F20: Hedgerows | H20: Rivers
B21: Total on-site and off-site baseline area / length | D21: =IF(AND($K$40=0,'A-1 Site Habitat Baseline'!Y11:Y258<>"No",'D-1 Off Site Habitat Baseline'!Y11:Y258<>"No"),'A-1 Site Habitat Baseline'!$H259+'D-1 Off Site Habitat Baseline'!H259,"Error ▲") -> 0.4485 | F21: ='B-1 Site Hedge Baseline'!$E$258+'E-1 Off Site Hedge Baseline'!$E$258 -> 0 | H21: ='C-1 Site River Baseline'!$E$258+'F-1 Off Site River Baseline'!$E$258 -> 0
B22: Total on-site and off-site baseline units | D22: =IF(AND($K$40=0,'A-1 Site Habitat Baseline'!Y11:Y258<>"No",'D-1 Off Site Habitat Baseline'!Y11:Y258<>"No"),'A-1 Site Habitat Baseline'!$Q259+'D-1 Off Site Habitat Baseline'!Q259,"Error ▲") -> 0.0162 | F22: ='B-1 Site Hedge Baseline'!$N$258+'E-1 Off Site Hedge Baseline'!$N$258 -> 0 | H22: ='C-1 Site River Baseline'!$R$258+'F-1 Off Site River Baseline'!$R$258 -> 0
B24: Total on-site and off-site baseline area / length retained | D24: =IF(AND($K$40=0,'A-1 Site Habitat Baseline'!Y11:Y258<>"No",'D-1 Off Site Habitat Baseline'!Y11:Y258<>"No"),'A-1 Site Habitat Baseline'!$S259+'D-1 Off Site Habitat Baseline'!S259,"Error ▲") -> 0.0052 | F24: ='B-1 Site Hedge Baseline'!$P$258+'E-1 Off Site Hedge Baseline'!$P$258 -> 0 | H24: ='C-1 Site River Baseline'!T258+'F-1 Off Site River Baseline'!T258 -> 0
B25: Total on-site and off-site baseline units retained | D25: =IF(AND($K$40=0,'A-1 Site Habitat Baseline'!Y11:Y258<>"No",'D-1 Off Site Habitat Baseline'!Y11:Y258<>"No"),'A-1 Site Habitat Baseline'!$U259+'D-1 Off Site Habitat Baseline'!U259,"Error ▲") -> 0.0104 | F25: ='B-1 Site Hedge Baseline'!R258+'E-1 Off Site Hedge Baseline'!R258 -> 0 | H25: ='C-1 Site River Baseline'!V258+'F-1 Off Site River Baseline'!V258 -> 0
B27: Area / length proposed for enhancement | D27: =IF(AND($K$40=0,'A-1 Site Habitat Baseline'!Y11:Y258<>"No",'D-1 Off Site Habitat Baseline'!Y11:Y258<>"No"),'A-1 Site Habitat Baseline'!$T259+'D-1 Off Site Habitat Baseline'!T259,"Error ▲") -> 0 | F27: ='B-1 Site Hedge Baseline'!$Q$258+'E-1 Off Site Hedge Baseline'!$Q$258 -> 0 | H27: ='C-1 Site River Baseline'!U258+'F-1 Off Site River Baseline'!U258 -> 0
B28: Baseline units proposed for enhancement | D28: =IF(AND($K$40=0,'A-1 Site Habitat Baseline'!Y11:Y258<>"No",'D-1 Off Site Habitat Baseline'!Y11:Y258<>"No"),'A-1 Site Habitat Baseline'!$V259+'D-1 Off Site Habitat Baseline'!V259,"Error ▲") -> 0 | F28: ='B-1 Site Hedge Baseline'!$S$258+'E-1 Off Site Hedge Baseline'!$S$258 -> 0 | H28: ='C-1 Site River Baseline'!W258+'F-1 Off Site River Baseline'!W258 -> 0
B30: Total on-site and off-site baseline area / length lost | D30: =IF(AND($K$40=0,'A-1 Site Habitat Baseline'!Y11:Y258<>"No",'D-1 Off Site Habitat Baseline'!Y11:Y258<>"No"),'A-1 Site Habitat Baseline'!$W259+'D-1 Off Site Habitat Baseline'!W259,"Error ▲") -> 0.4433 | F30: ='B-1 Site Hedge Baseline'!$T$258+'E-1 Off Site Hedge Baseline'!$T$258 -> 0 | H30: ='C-1 Site River Baseline'!X258+'F-1 Off Site River Baseline'!X258 -> 0
B31: Total on-site and off-site baseline units lost | D31: =IF(AND($K$40=0,'A-1 Site Habitat Baseline'!Y11:Y258<>"No",'D-1 Off Site Habitat Baseline'!Y11:Y258<>"No"),'A-1 Site Habitat Baseline'!$X259+'D-1 Off Site Habitat Baseline'!X259,"Error ▲") -> 0.0058 | F31: ='B-1 Site Hedge Baseline'!$U$258+'E-1 Off Site Hedge Baseline'!$U$258 -> 0 | H31: ='C-1 Site River Baseline'!Y258+'F-1 Off Site River Baseline'!Y258 -> 0
A33: Area Habitats Area Habitats Area Habitats
B34: Area habitats
B36: On site change by broad habitat type | J36: Combined area lost by distinctiveness band
C37: Baseline | E37: Post development on site | G37: Onsite Change
B38: Habitat group | C38: Existing area | D38: Existing value | E38: Proposed area | F38: Proposed value | G38: Area change | H38: Onsite Unit change | J38: Category | K38: Area lost (hectares) | L38: Area lost (%)
B39: Cropland | C39: ='G-2 Habitat groups'!$AK$4 -> 0 | D39: ='G-2 Habitat groups'!$AL$4 -> 0 | E39: ='G-2 Habitat groups'!$AM$4 -> 0 | F39: ='G-2 Habitat groups'!$AN$4 -> 0 | G39: =E39-C39 -> 0 | H39: =F39-D39 -> 0
B40: Grassland | C40: ='G-2 Habitat groups'!$AK$5 -> 0.0008 | D40: ='G-2 Habitat groups'!$AL$5 -> 0.0016 | E40: ='G-2 Habitat groups'!$AM$5 -> 0 | F40: ='G-2 Habitat groups'!$AN$5 -> 0 | G40: =E40-C40 -> -0.0008 | H40: =F40-D40 -> -0.0016 | J40: ='G-1 All Habitats'!$V$3 -> V.High | K40: =SUMIF('A-1 Site Habitat Baseline'!$I$11:$I$258,'Detailed Results'!J40,'A-1 Site Habitat Baseline'!$W$11:$W$258)+SUMIF('D-1 Off Site Habitat Baseline'!$I$11:$I$258,'Detailed Results'!J40,'D-1 Off Site Habitat Baseline'!$W$11:$W$258) -> 0 | L40: =IF(K40=0,"",(K40/(SUM($K$40:$K$49)))*100)
B41: Heathland and shrub | C41: ='G-2 Habitat groups'!$AK$6 -> 0 | D41: ='G-2 Habitat groups'!$AL$6 -> 0 | E41: ='G-2 Habitat groups'!$AM$6 -> 0 | F41: ='G-2 Habitat groups'!$AN$6 -> 0 | G41: =E41-C41 -> 0 | H41: =F41-D41 -> 0
B42: Lakes | C42: ='G-2 Habitat groups'!$AK$7 -> 0 | D42: ='G-2 Habitat groups'!$AL$7 -> 0 | E42: ='G-2 Habitat groups'!$AM$7 -> 0 | F42: ='G-2 Habitat groups'!$AN$7 -> 0 | G42: =E42-C42 -> 0 | H42: =F42-D42 -> 0 | J42: ='G-1 All Habitats'!$V$4 -> High | K42: =SUMIF('A-1 Site Habitat Baseline'!$I$11:$I$258,'Detailed Results'!J42,'A-1 Site Habitat Baseline'!$W$11:$W$258)+SUMIF('D-1 Off Site Habitat Baseline'!$I$11:$I$258,'Detailed Results'!J42,'D-1 Off Site Habitat Baseline'!$W$11:$W$258) -> 0 | L42: =IF(K42=0,"",(K42/(SUM($K$40:$K$49)))*100)
B43: Sparsely vegetated land | C43: ='G-2 Habitat groups'!$AK$8 -> 0 | D43: ='G-2 Habitat groups'!$AL$8 -> 0 | E43: ='G-2 Habitat groups'!$AM$8 -> 0 | F43: ='G-2 Habitat groups'!$AN$8 -> 0 | G43: =E43-C43 -> 0 | H43: =F43-D43 -> 0
B44: Urban | C44: ='G-2 Habitat groups'!$AK$9 -> 0.4477 | D44: ='G-2 Habitat groups'!$AL$9 -> 0.0146 | E44: ='G-2 Habitat groups'!$AM$9 -> 0.6316248 | F44: ='G-2 Habitat groups'!$AN$9 -> 0.67600178 | G44: =E44-C44 -> 0.1839248 | H44: =F44-D44 -> 0.66140178 | J44: ='G-1 All Habitats'!$V5 -> Medium | K44: =SUMIF('A-1 Site Habitat Baseline'!$I$11:$I$258,'Detailed Results'!J44,'A-1 Site Habitat Baseline'!$W$11:$W$258)+SUMIF('D-1 Off Site Habitat Baseline'!$I$11:$I$258,'Detailed Results'!J44,'D-1 Off Site Habitat Baseline'!$W$11:$W$258) -> 0 | L44: =IF(K44=0,"",(K44/(SUM($K$40:$K$49)))*100)
B45: Wetland | C45: ='G-2 Habitat groups'!$AK$10 -> 0 | D45: ='G-2 Habitat groups'!$AL$10 -> 0 | E45: ='G-2 Habitat groups'!$AM$10 -> 0 | F45: ='G-2 Habitat groups'!$AN$10 -> 0 | G45: =E45-C45 -> 0 | H45: =F45-D45 -> 0
B46: Woodland and forest | C46: ='G-2 Habitat groups'!$AK$11 -> 0 | D46: ='G-2 Habitat groups'!$AL$11 -> 0 | E46: ='G-2 Habitat groups'!$AM$11 -> 0 | F46: ='G-2 Habitat groups'!$AN$11 -> 0 | G46: =E46-C46 -> 0 | H46: =F46-D46 -> 0 | J46: ='G-1 All Habitats'!$V$6 -> Low | K46: =SUMIF('A-1 Site Habitat Baseline'!$I$11:$I$258,'Detailed Results'!J46,'A-1 Site Habitat Baseline'!$W$11:$W$258)+SUMIF('D-1 Off Site Habitat Baseline'!$I$11:$I$258,'Detailed Results'!J46,'D-1 Off Site Habitat Baseline'!$W$11:$W$258) -> 0.0029 | L46: =IF(K46=0,"",(K46/(SUM($K$40:$K$49)))*100) -> 0.65418453
B47: Intertidal sediment | C47: ='G-2 Habitat groups'!$AK$12 -> 0 | D47: ='G-2 Habitat groups'!$AL$12 -> 0 | E47: ='G-2 Habitat groups'!$AM$12 -> 0 | F47: ='G-2 Habitat groups'!$AN$12 -> 0 | G47: =E47-C47 -> 0 | H47: =F47-D47 -> 0
B48: Coastal saltmarsh | C48: ='G-2 Habitat groups'!$AK$13 -> 0 | D48: ='G-2 Habitat groups'!$AL$13 -> 0 | E48: ='G-2 Habitat groups'!$AM$13 -> 0 | F48: ='G-2 Habitat groups'!$AN$13 -> 0 | G48: =E48-C48 -> 0 | H48: =F48-D48 -> 0 | J48: ='G-1 All Habitats'!$V$7 -> V.Low | K48: =SUMIF('A-1 Site Habitat Baseline'!$I$11:$I$258,'Detailed Results'!J48,'A-1 Site Habitat Baseline'!$W$11:$W$258)+SUMIF('D-1 Off Site Habitat Baseline'!$I$11:$I$258,'Detailed Results'!J48,'D-1 Off Site Habitat Baseline'!$W$11:$W$258) -> 0.4404 | L48: =IF(K48=0,"",(K48/(SUM($K$40:$K$49)))*100) -> 99.345815
B49: Rocky shore | C49: ='G-2 Habitat groups'!$AK$14 -> 0 | D49: ='G-2 Habitat groups'!$AL$14 -> 0 | E49: ='G-2 Habitat groups'!$AM$14 -> 0 | F49: ='G-2 Habitat groups'!$AN$14 -> 0 | G49: =E49-C49 -> 0 | H49: =F49-D49 -> 0
B50: Coastal lagoons | C50: ='G-2 Habitat groups'!$AK$15 -> 0 | D50: ='G-2 Habitat groups'!$AL$15 -> 0 | E50: ='G-2 Habitat groups'!$AM$15 -> 0 | F50: ='G-2 Habitat groups'!$AN$15 -> 0 | G50: =E50-C50 -> 0 | H50: =F50-D50 -> 0
B51: Intertidal Hard Structures | C51: ='G-2 Habitat groups'!$AK$16 -> 0 | D51: ='G-2 Habitat groups'!$AL$16 -> 0 | E51: ='G-2 Habitat groups'!$AM$16 -> 0 | F51: ='G-2 Habitat groups'!$AN$16 -> 0 | G51: =E51-C51 -> 0 | H51: =F51-D51 -> 0
B55: Off site change by broad habitat type
C56: Baseline | E56: Post development Off-site | G56: Off-site Change
B57: Habitat group | C57: Existing area | D57: Off-site Existing value | E57: Off-site proposed area | F57: Off site Proposed value | G57: Off-site area change | H57: Off-site unit change
B58: Cropland | C58: ='G-2 Habitat groups'!$AK$20 -> 0 | D58: ='G-2 Habitat groups'!$AL$20 -> 0 | E58: ='G-2 Habitat groups'!$AM$20 -> 0 | F58: ='G-2 Habitat groups'!$AN$20 -> 0 | G58: =E58-C58 -> 0 | H58: =F58-D58 -> 0
B59: Grassland | C59: ='G-2 Habitat groups'!$AK$21 -> 0 | D59: ='G-2 Habitat groups'!$AL$21 -> 0 | E59: ='G-2 Habitat groups'!$AM$21 -> 0 | F59: ='G-2 Habitat groups'!$AN$21 -> 0 | G59: =E59-C59 -> 0 | H59: =F59-D59 -> 0
B60: Heathland and shrub | C60: ='G-2 Habitat groups'!$AK$22 -> 0 | D60: ='G-2 Habitat groups'!$AL$22 -> 0 | E60: ='G-2 Habitat groups'!$AM$22 -> 0 | F60: ='G-2 Habitat groups'!$AN$22 -> 0 | G60: =E60-C60 -> 0 | H60: =F60-D60 -> 0
B61: Lakes | C61: ='G-2 Habitat groups'!$AK$23 -> 0 | D61: ='G-2 Habitat groups'!$AL$23 -> 0 | E61: ='G-2 Habitat groups'!$AM$23 -> 0 | F61: ='G-2 Habitat groups'!$AN$23 -> 0 | G61: =E61-C61 -> 0 | H61: =F61-D61 -> 0
B62: Sparsely vegetated land | C62: ='G-2 Habitat groups'!$AK$24 -> 0 | D62: ='G-2 Habitat groups'!$AL$24 -> 0 | E62: ='G-2 Habitat groups'!$AM$24 -> 0 | F62: ='G-2 Habitat groups'!$AN$24 -> 0 | G62: =E62-C62 -> 0 | H62: =F62-D62 -> 0
B63: Urban | C63: ='G-2 Habitat groups'!$AK$25 -> 0 | D63: ='G-2 Habitat groups'!$AL$25 -> 0 | E63: ='G-2 Habitat groups'!$AM$25 -> 0 | F63: ='G-2 Habitat groups'!$AN$25 -> 0 | G63: =E63-C63 -> 0 | H63: =F63-D63 -> 0
B64: Wetland | C64: ='G-2 Habitat groups'!$AK$26 -> 0 | D64: ='G-2 Habitat groups'!$AL$26 -> 0 | E64: ='G-2 Habitat groups'!$AM$26 -> 0 | F64: ='G-2 Habitat groups'!$AN$26 -> 0 | G64: =E64-C64 -> 0 | H64: =F64-D64 -> 0
B65: Woodland and forest | C65: ='G-2 Habitat groups'!$AK$27 -> 0 | D65: ='G-2 Habitat groups'!$AL$27 -> 0 | E65: ='G-2 Habitat groups'!$AM$27 -> 0 | F65: ='G-2 Habitat groups'!$AN$27 -> 0 | G65: =E65-C65 -> 0 | H65: =F65-D65 -> 0
B66: Intertidal sediment | C66: ='G-2 Habitat groups'!$AK$28 -> 0 | D66: ='G-2 Habitat groups'!$AL$28 -> 0 | E66: ='G-2 Habitat groups'!$AM$28 -> 0 | F66: ='G-2 Habitat groups'!$AN$28 -> 0 | G66: =E66-C66 -> 0 | H66: =F66-D66 -> 0
B67: Coastal saltmarsh | C67: ='G-2 Habitat groups'!$AK$29 -> 0 | D67: ='G-2 Habitat groups'!$AL$29 -> 0 | E67: ='G-2 Habitat groups'!$AM$29 -> 0 | F67: ='G-2 Habitat groups'!$AN$29 -> 0 | G67: =E67-C67 -> 0 | H67: =F67-D67 -> 0
B68: Rocky shore | C68: ='G-2 Habitat groups'!$AK$30 -> 0 | D68: ='G-2 Habitat groups'!$AL$30 -> 0 | E68: ='G-2 Habitat groups'!$AM$30 -> 0 | F68: ='G-2 Habitat groups'!$AN$30 -> 0 | G68: =E68-C68 -> 0 | H68: =F68-D68 -> 0
B69: Coastal lagoons | C69: ='G-2 Habitat groups'!$AK$31 -> 0 | D69: ='G-2 Habitat groups'!$AL$31 -> 0 | E69: ='G-2 Habitat groups'!$AM$31 -> 0 | F69: ='G-2 Habitat groups'!$AN$31 -> 0 | G69: =E69-C69 -> 0 | H69: =F69-D69 -> 0
B70: Intertidal Hard Structures | C70: ='G-2 Habitat groups'!$AK$32 -> 0 | D70: ='G-2 Habitat groups'!$AL$32 -> 0 | E70: ='G-2 Habitat groups'!$AM$32 -> 0 | F70: ='G-2 Habitat groups'!$AN$32 -> 0 | G70: =E70-C70 -> 0 | H70: =F70-D70 -> 0
B74: Combined on site and off site change by broad habitat type
C75: Baseline | E75: On-site and Off-site post development | G75: Combined change
B76: Habitat group | C76: Existing area | D76: Existing value | E76: Combined proposed area | F76: Combined proposed value | G76: Proposed area | H76: Proposed value
B77: Cropland | C77: =C39+C58 -> 0 | D77: =D39+D58 -> 0 | E77: =E39+E58 -> 0 | F77: =F39+F58 -> 0 | G77: =G39+G58 -> 0 | H77: =H39+H58 -> 0
B78: Grassland | C78: =C40+C59 -> 0.0008 | D78: =D40+D59 -> 0.0016 | E78: =E40+E59 -> 0 | F78: =F40+F59 -> 0 | G78: =G40+G59 -> -0.0008 | H78: =H40+H59 -> -0.0016
B79: Heathland and shrub | C79: =C41+C60 -> 0 | D79: =D41+D60 -> 0 | E79: =E41+E60 -> 0 | F79: =F41+F60 -> 0 | G79: =G41+G60 -> 0 | H79: =H41+H60 -> 0
B80: Lakes | C80: =C42+C61 -> 0 | D80: =D42+D61 -> 0 | E80: =E42+E61 -> 0 | F80: =F42+F61 -> 0 | G80: =G42+G61 -> 0 | H80: =H42+H61 -> 0
B81: Sparsely vegetated land | C81: =C43+C62 -> 0 | D81: =D43+D62 -> 0 | E81: =E43+E62 -> 0 | F81: =F43+F62 -> 0 | G81: =G43+G62 -> 0 | H81: =H43+H62 -> 0
B82: Urban | C82: =C44+C63 -> 0.4477 | D82: =D44+D63 -> 0.0146 | E82: =E44+E63 -> 0.6316248 | F82: =F44+F63 -> 0.67600178 | G82: =G44+G63 -> 0.1839248 | H82: =H44+H63 -> 0.66140178
B83: Wetland | C83: =C45+C64 -> 0 | D83: =D45+D64 -> 0 | E83: =E45+E64 -> 0 | F83: =F45+F64 -> 0 | G83: =G45+G64 -> 0 | H83: =H45+H64 -> 0
B84: Woodland and forest | C84: =C46+C65 -> 0 | D84: =D46+D65 -> 0 | E84: =E46+E65 -> 0 | F84: =F46+F65 -> 0 | G84: =G46+G65 -> 0 | H84: =H46+H65 -> 0
B85: Intertidal sediment | C85: =C47+C66 -> 0 | D85: =D47+D66 -> 0 | E85: =E47+E66 -> 0 | F85: =F47+F66 -> 0 | G85: =G47+G66 -> 0 | H85: =H47+H66 -> 0
B86: Coastal saltmarsh | C86: =C48+C67 -> 0 | D86: =D48+D67 -> 0 | E86: =E48+E67 -> 0 | F86: =F48+F67 -> 0 | G86: =G48+G67 -> 0 | H86: =H48+H67 -> 0
B87: Rocky shore | C87: =C49+C68 -> 0 | D87: =D49+D68 -> 0 | E87: =E49+E68 -> 0 | F87: =F49+F68 -> 0 | G87: =G49+G68 -> 0 | H87: =H49+H68 -> 0
B88: Coastal lagoons | C88: =C50+C69 -> 0 | D88: =D50+D69 -> 0 | E88: =E50+E69 -> 0 | F88: =F50+F69 -> 0 | G88: =G50+G69 -> 0 | H88: =H50+H69 -> 0
B89: Intertidal Hard Structures | C89: =C51+C70 -> 0 | D89: =D51+D70 -> 0 | E89: =E51+E70 -> 0 | F89: =F51+F70 -> 0 | G89: =G51+G70 -> 0 | H89: =H51+H70 -> 0
A92: Hedgerows and Lines of Trees Hedgerows and Lines of Trees Hedgerows and Lines of Trees
B93: Hedgerows and lines of trees
B96: On site change by hedgerow type | J96: Combined length lost by distinctiveness band
C97: Baseline | E97: Post development on site | G97: Onsite Change
B98: Hedgerow type | C98: Existing length on-site | D98: Existing value | E98: Proposed length on-site | F98: Proposed value on-site | G98: On-site length change | H98: On-site Unit change | J98: Category | K98: Length lost (KM) | L98: Length lost (%)
B99: Native Species Rich Hedgerow with trees - Associated with bank or ditch | C99: ='G-2 Habitat groups'!E146 -> 0 | D99: ='G-2 Habitat groups'!F146 -> 0 | E99: ='G-2 Habitat groups'!O146 -> 0 | F99: ='G-2 Habitat groups'!P146 -> 0 | G99: =E99-C99 -> 0 | H99: =F99-D99 -> 0
B100: Native Species Rich Hedgerow with trees | C100: ='G-2 Habitat groups'!E147 -> 0 | D100: ='G-2 Habitat groups'!F147 -> 0 | E100: ='G-2 Habitat groups'!O147 -> 0 | F100: ='G-2 Habitat groups'!P147 -> 0 | G100: =E100-C100 -> 0 | H100: =F100-D100 -> 0 | J100: ='G-1 All Habitats'!$V$3 -> V.High | K100: =SUMIF('B-1 Site Hedge Baseline'!$F$10:$F$257,'Detailed Results'!J100,'B-1 Site Hedge Baseline'!$T$10:$T$257)+SUMIF('E-1 Off Site Hedge Baseline'!$F$10:$F$257,'Detailed Results'!J100,'E-1 Off Site Hedge Baseline'!$T$10:$T$257) -> 0 | L100: =IF(K100=0,"",(K100/(SUM($K$100:$K$109)))*100)
B101: Native Species Rich Hedgerow - Associated with bank or ditch | C101: ='G-2 Habitat groups'!E148 -> 0 | D101: ='G-2 Habitat groups'!F148 -> 0 | E101: ='G-2 Habitat groups'!O148 -> 0 | F101: ='G-2 Habitat groups'!P148 -> 0 | G101: =E101-C101 -> 0 | H101: =F101-D101 -> 0
B102: Native Hedgerow with trees - Associated with bank or ditch | C102: ='G-2 Habitat groups'!E149 -> 0 | D102: ='G-2 Habitat groups'!F149 -> 0 | E102: ='G-2 Habitat groups'!O149 -> 0 | F102: ='G-2 Habitat groups'!P149 -> 0 | G102: =E102-C102 -> 0 | H102: =F102-D102 -> 0 | J102: ='G-1 All Habitats'!$V$4 -> High | K102: =SUMIF('B-1 Site Hedge Baseline'!$F$10:$F$257,'Detailed Results'!J102,'B-1 Site Hedge Baseline'!$T$10:$T$257)+SUMIF('E-1 Off Site Hedge Baseline'!$F$10:$F$257,'Detailed Results'!J102,'E-1 Off Site Hedge Baseline'!$T$10:$T$257) -> 0 | L102: =IF(K102=0,"",(K102/(SUM($K$100:$K$109)))*100)
B103: Native Species Rich Hedgerow | C103: ='G-2 Habitat groups'!E150 -> 0 | D103: ='G-2 Habitat groups'!F150 -> 0 | E103: ='G-2 Habitat groups'!O150 -> 0 | F103: ='G-2 Habitat groups'!P150 -> 0 | G103: =E103-C103 -> 0 | H103: =F103-D103 -> 0
B104: Native Hedgerow - Associated with bank or ditch | C104: ='G-2 Habitat groups'!E151 -> 0 | D104: ='G-2 Habitat groups'!F151 -> 0 | E104: ='G-2 Habitat groups'!O151 -> 0 | F104: ='G-2 Habitat groups'!P151 -> 0 | G104: =E104-C104 -> 0 | H104: =F104-D104 -> 0 | J104: ='G-1 All Habitats'!$V$5 -> Medium | K104: =SUMIF('B-1 Site Hedge Baseline'!$F$10:$F$257,'Detailed Results'!J104,'B-1 Site Hedge Baseline'!$T$10:$T$257)+SUMIF('E-1 Off Site Hedge Baseline'!$F$10:$F$257,'Detailed Results'!J104,'E-1 Off Site Hedge Baseline'!$T$10:$T$257) -> 0 | L104: =IF(K104=0,"",(K104/(SUM($K$100:$K$109)))*100)
B105: Native Hedgerow with trees | C105: ='G-2 Habitat groups'!E152 -> 0 | D105: ='G-2 Habitat groups'!F152 -> 0 | E105: ='G-2 Habitat groups'!O152 -> 0 | F105: ='G-2 Habitat groups'!P152 -> 0 | G105: =E105-C105 -> 0 | H105: =F105-D105 -> 0
B106: Line of Trees (Ecologically Valuable) | C106: ='G-2 Habitat groups'!E153 -> 0 | D106: ='G-2 Habitat groups'!F153 -> 0 | E106: ='G-2 Habitat groups'!O153 -> 0 | F106: ='G-2 Habitat groups'!P153 -> 0 | G106: =E106-C106 -> 0 | H106: =F106-D106 -> 0 | J106: ='G-1 All Habitats'!$V$6 -> Low | K106: =SUMIF('B-1 Site Hedge Baseline'!$F$10:$F$257,'Detailed Results'!J106,'B-1 Site Hedge Baseline'!$T$10:$T$257)+SUMIF('E-1 Off Site Hedge Baseline'!$F$10:$F$257,'Detailed Results'!J106,'E-1 Off Site Hedge Baseline'!$T$10:$T$257) -> 0 | L106: =IF(K106=0,"",(K106/(SUM($K$100:$K$109)))*100)
B107: Line of Trees (Ecologically Valuable) - with Bank or Ditch | C107: ='G-2 Habitat groups'!E154 -> 0 | D107: ='G-2 Habitat groups'!F154 -> 0 | E107: ='G-2 Habitat groups'!O154 -> 0 | F107: ='G-2 Habitat groups'!P154 -> 0 | G107: =E107-C107 -> 0 | H107: =F107-D107 -> 0
B108: Native Hedgerow | C108: ='G-2 Habitat groups'!E155 -> 0 | D108: ='G-2 Habitat groups'!F155 -> 0 | E108: ='G-2 Habitat groups'!O155 -> 0.025 | F108: ='G-2 Habitat groups'!P155 -> 0.044931606 | G108: =E108-C108 -> 0.025 | H108: =F108-D108 -> 0.044931606 | J108: ='G-1 All Habitats'!$V$7 -> V.Low | K108: =SUMIF('B-1 Site Hedge Baseline'!$F$10:$F$257,'Detailed Results'!J108,'B-1 Site Hedge Baseline'!$T$10:$T$257)+SUMIF('E-1 Off Site Hedge Baseline'!$F$10:$F$257,'Detailed Results'!J108,'E-1 Off Site Hedge Baseline'!$T$10:$T$257) -> 0 | L108: =IF(K108=0,"",(K108/(SUM($K$100:$K$109)))*100)
B109: Line of Trees | C109: ='G-2 Habitat groups'!E156 -> 0 | D109: ='G-2 Habitat groups'!F156 -> 0 | E109: ='G-2 Habitat groups'!O156 -> 0 | F109: ='G-2 Habitat groups'!P156 -> 0 | G109: =E109-C109 -> 0 | H109: =F109-D109 -> 0
B110: Line of Trees - Associated with bank or ditch | C110: ='G-2 Habitat groups'!E157 -> 0 | D110: ='G-2 Habitat groups'!F157 -> 0 | E110: ='G-2 Habitat groups'!O157 -> 0 | F110: ='G-2 Habitat groups'!P157 -> 0 | G110: =E110-C110 -> 0 | H110: =F110-D110 -> 0
B111: Hedge Ornamental Non Native | C111: ='G-2 Habitat groups'!E158 -> 0 | D111: ='G-2 Habitat groups'!F158 -> 0 | E111: ='G-2 Habitat groups'!O158 -> 0 | F111: ='G-2 Habitat groups'!P158 -> 0 | G111: =E111-C111 -> 0 | H111: =F111-D111 -> 0
B116: Off site change by hedgerow type
C117: Off site baseline | E117: Post development off site | G117: Off site Change
B118: Hedgerow type | C118: Existing length off-site | D118: Existing value off-site | E118: Proposed length off-site | F118: Proposed value off-site | G118: Off-site length change | H118: Off site Unit change
B119: Native Species Rich Hedgerow with trees - Associated with bank or ditch | C119: ='G-2 Habitat groups'!S146 -> 0 | D119: ='G-2 Habitat groups'!T146 -> 0 | E119: ='G-2 Habitat groups'!AA146 -> 0 | F119: ='G-2 Habitat groups'!AB146 -> 0 | G119: =E119-C119 -> 0 | H119: =F119-D119 -> 0
B120: Native Species Rich Hedgerow with trees | C120: ='G-2 Habitat groups'!S147 -> 0 | D120: ='G-2 Habitat groups'!T147 -> 0 | E120: ='G-2 Habitat groups'!AA147 -> 0 | F120: ='G-2 Habitat groups'!AB147 -> 0 | G120: =E120-C120 -> 0 | H120: =F120-D120 -> 0
B121: Native Species Rich Hedgerow - Associated with bank or ditch | C121: ='G-2 Habitat groups'!S148 -> 0 | D121: ='G-2 Habitat groups'!T148 -> 0 | E121: ='G-2 Habitat groups'!AA148 -> 0 | F121: ='G-2 Habitat groups'!AB148 -> 0 | G121: =E121-C121 -> 0 | H121: =F121-D121 -> 0
B122: Native Hedgerow with trees - Associated with bank or ditch | C122: ='G-2 Habitat groups'!S149 -> 0 | D122: ='G-2 Habitat groups'!T149 -> 0 | E122: ='G-2 Habitat groups'!AA149 -> 0 | F122: ='G-2 Habitat groups'!AB149 -> 0 | G122: =E122-C122 -> 0 | H122: =F122-D122 -> 0
B123: Native Species Rich Hedgerow | C123: ='G-2 Habitat groups'!S150 -> 0 | D123: ='G-2 Habitat groups'!T150 -> 0 | E123: ='G-2 Habitat groups'!AA150 -> 0 | F123: ='G-2 Habitat groups'!AB150 -> 0 | G123: =E123-C123 -> 0 | H123: =F123-D123 -> 0
B124: Native Hedgerow - Associated with bank or ditch | C124: ='G-2 Habitat groups'!S151 -> 0 | D124: ='G-2 Habitat groups'!T151 -> 0 | E124: ='G-2 Habitat groups'!AA151 -> 0 | F124: ='G-2 Habitat groups'!AB151 -> 0 | G124: =E124-C124 -> 0 | H124: =F124-D124 -> 0
B125: Native Hedgerow with trees | C125: ='G-2 Habitat groups'!S152 -> 0 | D125: ='G-2 Habitat groups'!T152 -> 0 | E125: ='G-2 Habitat groups'!AA152 -> 0 | F125: ='G-2 Habitat groups'!AB152 -> 0 | G125: =E125-C125 -> 0 | H125: =F125-D125 -> 0
B126: Line of Trees (Ecologically Valuable) | C126: ='G-2 Habitat groups'!S153 -> 0 | D126: ='G-2 Habitat groups'!T153 -> 0 | E126: ='G-2 Habitat groups'!AA153 -> 0 | F126: ='G-2 Habitat groups'!AB153 -> 0 | G126: =E126-C126 -> 0 | H126: =F126-D126 -> 0
B127: Line of Trees (Ecologically Valuable) - with Bank or Ditch | C127: ='G-2 Habitat groups'!S154 -> 0 | D127: ='G-2 Habitat groups'!T154 -> 0 | E127: ='G-2 Habitat groups'!AA154 -> 0 | F127: ='G-2 Habitat groups'!AB154 -> 0 | G127: =E127-C127 -> 0 | H127: =F127-D127 -> 0
B128: Native Hedgerow | C128: ='G-2 Habitat groups'!S155 -> 0 | D128: ='G-2 Habitat groups'!T155 -> 0 | E128: ='G-2 Habitat groups'!AA155 -> 0 | F128: ='G-2 Habitat groups'!AB155 -> 0 | G128: =E128-C128 -> 0 | H128: =F128-D128 -> 0
...

Sheet Trading Summary
B2: Trading Summary
B3: Distinctiveness Group | C3: Trading Rule | G3: Trading Satisfied?
B5: Very High | C5: Bespoke compensation likely to be required 🛠 | G5: =IF(('A-1 Site Habitat Baseline'!AQ259+'D-1 Off Site Habitat Baseline'!AQ259)>0,"No ▲","Yes ✓") -> Yes ✓
B6: High | C6: Same habitat required = | G6: =IFERROR(IF(J41<0,"No ▲","Yes ✓"),"") -> Yes ✓
B7: Medium | C7: Same broad habitat or a higher distinctiveness habitat required (≥) | G7: =IF(J40+J12+J89<0,"No ▲","Yes ✓") -> Yes ✓
B8: Low | C8: Same distinctiveness or better habitat required ≥ | G8: =IF(J124<0,"No ▲","Yes ✓") -> Yes ✓
B11: Very High Distinctiveness | I11: Very High Distinctiveness Summary
B12: Habitat group | C12: Group | D12: On Site Unit Change | E12: Off Site Unit Change | F12: Project wide Unit Change | G12: Unit Losses | I12: Very High Distinctiveness Units available to offset lower distinctiveness defecit | J12: =SUMIF($F$13:$F$32,">0") -> 0
B13: ='G-2 Habitat groups'!AU5 -> Grassland - Lowland dry acid grassland | C13: ='G-2 Habitat groups'!AV5 -> Grassland | D13: ='G-2 Habitat groups'!BB5 -> 0 | E13: ='G-2 Habitat groups'!BD5 -> 0 | F13: ='G-2 Habitat groups'!BE5 -> 0 | G13: ='G-2 Habitat groups'!BF5 | I13: =IF($G$33<0,"Very high distinctiveness unit defecit - CHECK DATA","")
B14: ='G-2 Habitat groups'!AU6 -> Grassland - Lowland meadows | C14: ='G-2 Habitat groups'!AV6 -> Grassland | D14: ='G-2 Habitat groups'!BB6 -> 0 | E14: ='G-2 Habitat groups'!BD6 -> 0 | F14: ='G-2 Habitat groups'!BE6 -> 0 | G14: ='G-2 Habitat groups'!BF6
B15: ='G-2 Habitat groups'!AU7 -> Grassland - Upland hay meadows | C15: ='G-2 Habitat groups'!AV7 -> Grassland | D15: ='G-2 Habitat groups'!BB7 -> 0 | E15: ='G-2 Habitat groups'!BD7 -> 0 | F15: ='G-2 Habitat groups'!BE7 -> 0 | G15: ='G-2 Habitat groups'!BF7
B16: ='G-2 Habitat groups'!AU8 -> Heathland and shrub - Mountain heaths and willow scrub | C16: ='G-2 Habitat groups'!AV8 -> Heathland and shrub | D16: ='G-2 Habitat groups'!BB8 -> 0 | E16: ='G-2 Habitat groups'!BD8 -> 0 | F16: ='G-2 Habitat groups'!BE8 -> 0 | G16: ='G-2 Habitat groups'!BF8
B17: ='G-2 Habitat groups'!AU9 -> Lakes - Aquifer fed naturally fluctuating water bodies | C17: ='G-2 Habitat groups'!AV9 -> Lakes | D17: ='G-2 Habitat groups'!BB9 -> 0 | E17: ='G-2 Habitat groups'!BD9 -> 0 | F17: ='G-2 Habitat groups'!BE9 -> 0 | G17: ='G-2 Habitat groups'!BF9
B18: ='G-2 Habitat groups'!AU10 -> Sparsely vegetated land - Calaminarian grasslands | C18: ='G-2 Habitat groups'!AV10 -> Sparsely vegetated land | D18: ='G-2 Habitat groups'!BB10 -> 0 | E18: ='G-2 Habitat groups'!BD10 -> 0 | F18: ='G-2 Habitat groups'!BE10 -> 0 | G18: ='G-2 Habitat groups'!BF10
B19: ='G-2 Habitat groups'!AU11 -> Sparsely vegetated land - Limestone pavement | C19: ='G-2 Habitat groups'!AV11 -> Sparsely vegetated land | D19: ='G-2 Habitat groups'!BB11 -> 0 | E19: ='G-2 Habitat groups'!BD11 -> 0 | F19: ='G-2 Habitat groups'!BE11 -> 0 | G19: ='G-2 Habitat groups'!BF11
B20: ='G-2 Habitat groups'!AU12 -> Wetland - Blanket bog | C20: ='G-2 Habitat groups'!AV12 -> Wetland | D20: ='G-2 Habitat groups'!BB12 -> 0 | E20: ='G-2 Habitat groups'!BD12 -> 0 | F20: ='G-2 Habitat groups'!BE12 -> 0 | G20: ='G-2 Habitat groups'!BF12
B21: ='G-2 Habitat groups'!AU13 -> Wetland - Depressions on Peat substrates (H7150) | C21: ='G-2 Habitat groups'!AV13 -> Wetland | D21: ='G-2 Habitat groups'!BB13 -> 0 | E21: ='G-2 Habitat groups'!BD13 -> 0 | F21: ='G-2 Habitat groups'!BE13 -> 0 | G21: ='G-2 Habitat groups'!BF13
B22: ='G-2 Habitat groups'!AU14 -> Wetland - Fens (upland and lowland) | C22: ='G-2 Habitat groups'!AV14 -> Wetland | D22: ='G-2 Habitat groups'!BB14 -> 0 | E22: ='G-2 Habitat groups'!BD14 -> 0 | F22: ='G-2 Habitat groups'!BE14 -> 0 | G22: ='G-2 Habitat groups'!BF14
B23: ='G-2 Habitat groups'!AU15 -> Wetland - Lowland raised bog | C23: ='G-2 Habitat groups'!AV15 -> Wetland | D23: ='G-2 Habitat groups'!BB15 -> 0 | E23: ='G-2 Habitat groups'!BD15 -> 0 | F23: ='G-2 Habitat groups'!BE15 -> 0 | G23: ='G-2 Habitat groups'!BF15
B24: ='G-2 Habitat groups'!AU16 -> Wetland - Oceanic Valley Mire[1] (D2.1) | C24: ='G-2 Habitat groups'!AV16 -> Wetland | D24: ='G-2 Habitat groups'!BB16 -> 0 | E24: ='G-2 Habitat groups'!BD16 -> 0 | F24: ='G-2 Habitat groups'!BE16 -> 0 | G24: ='G-2 Habitat groups'!BF16
B25: ='G-2 Habitat groups'!AU17 -> Wetland - Purple moor grass and rush pastures | C25: ='G-2 Habitat groups'!AV17 -> Wetland | D25: ='G-2 Habitat groups'!BB17 -> 0 | E25: ='G-2 Habitat groups'!BD17 -> 0 | F25: ='G-2 Habitat groups'!BE17 -> 0 | G25: ='G-2 Habitat groups'!BF17
... B32: ='G-2 Habitat groups'!AU24 -> Intertidal sediment - Littoral seagrass on peat, clay or chalk | C32: ='G-2 Habitat groups'!AV24 -> Intertidal sediment | D32: ='G-2 Habitat groups'!BB24 -> 0 | E32: ='G-2 Habitat groups'!BD24 -> 0 | F32: ='G-2 Habitat groups'!BE24 -> 0 | G32: ='G-2 Habitat groups'!BF24
D33: =SUM(D13:D32) -> 0 | E33: =SUM(E13:E32) -> 0 | F33: =SUM(F13:F32) -> 0 | G33: =SUM(G13:G32) -> 0
B39: High Distinctiveness | I39: High Distinctiveness Summary
B40: Habitat group | C40: Group | D40: On Site Unit Change | E40: Off Site Unit Change | F40: Project wide Unit Change | G40: Losses not yet accounted for | I40: High Distinctiveness Units available to offset lower distinctiveness defecit | J40: =SUMIF($F$41:$F$81,">0") -> 0
B41: ='G-2 Habitat groups'!AU30 -> Grassland - Traditional orchards | C41: ='G-2 Habitat groups'!AV30 -> Grassland | D41: ='G-2 Habitat groups'!BB30 -> 0 | E41: ='G-2 Habitat groups'!BD30 -> 0 | F41: ='G-2 Habitat groups'!BE30 -> 0 | G41: ='G-2 Habitat groups'!BF30 | I41: Unit Defecit; Like for like not satisfied | J41: =G82 -> 0
B42: ='G-2 Habitat groups'!AU31 -> Grassland - Floodplain Wetland Mosaic (CFGM) | C42: ='G-2 Habitat groups'!AV31 -> Grassland | D42: ='G-2 Habitat groups'!BB31 -> 0 | E42: ='G-2 Habitat groups'!BD31 -> 0 | F42: ='G-2 Habitat groups'!BE31 -> 0 | G42: ='G-2 Habitat groups'!BF31
B43: ='G-2 Habitat groups'!AU32 -> Grassland - Lowland calcareous grassland | C43: ='G-2 Habitat groups'!AV32 -> Grassland | D43: ='G-2 Habitat groups'!BB32 -> 0 | E43: ='G-2 Habitat groups'!BD32 -> 0 | F43: ='G-2 Habitat groups'!BE32 -> 0 | G43: ='G-2 Habitat groups'!BF32
B44: ='G-2 Habitat groups'!AU33 -> Grassland - Tall herb communities (H6430) | C44: ='G-2 Habitat groups'!AV33 -> Grassland | D44: ='G-2 Habitat groups'!BB33 -> 0 | E44: ='G-2 Habitat groups'!BD33 -> 0 | F44: ='G-2 Habitat groups'!BE33 -> 0 | G44: ='G-2 Habitat groups'!BF33
B45: ='G-2 Habitat groups'!AU34 -> Grassland - Upland calcareous grassland | C45: ='G-2 Habitat groups'!AV34 -> Grassland | D45: ='G-2 Habitat groups'!BB34 -> 0 | E45: ='G-2 Habitat groups'!BD34 -> 0 | F45: ='G-2 Habitat groups'!BE34 -> 0 | G45: ='G-2 Habitat groups'!BF34
B46: ='G-2 Habitat groups'!AU35 -> Heathland and shrub - Lowland Heathland | C46: ='G-2 Habitat groups'!AV35 -> Heathland and shrub | D46: ='G-2 Habitat groups'!BB35 -> 0 | E46: ='G-2 Habitat groups'!BD35 -> 0 | F46: ='G-2 Habitat groups'!BE35 -> 0 | G46: ='G-2 Habitat groups'!BF35
B47: ='G-2 Habitat groups'!AU36 -> Heathland and shrub - Sea buckthorn scrub (Annex 1) | C47: ='G-2 Habitat groups'!AV36 -> Heathland and shrub | D47: ='G-2 Habitat groups'!BB36 -> 0 | E47: ='G-2 Habitat groups'!BD36 -> 0 | F47: ='G-2 Habitat groups'!BE36 -> 0 | G47: ='G-2 Habitat groups'!BF36
B48: ='G-2 Habitat groups'!AU37 -> Heathland and shrub - Upland Heathland | C48: ='G-2 Habitat groups'!AV37 -> Heathland and shrub | D48: ='G-2 Habitat groups'!BB37 -> 0 | E48: ='G-2 Habitat groups'!BD37 -> 0 | F48: ='G-2 Habitat groups'!BE37 -> 0 | G48: ='G-2 Habitat groups'!BF37
B49: ='G-2 Habitat groups'!AU38 -> Lakes - High alkalinity lakes | C49: ='G-2 Habitat groups'!AV38 -> Lakes | D49: ='G-2 Habitat groups'!BB38 -> 0 | E49: ='G-2 Habitat groups'!BD38 -> 0 | F49: ='G-2 Habitat groups'!BE38 -> 0 | G49: ='G-2 Habitat groups'!BF38
B50: ='G-2 Habitat groups'!AU39 -> Lakes - Low alkalinity lakes | C50: ='G-2 Habitat groups'!AV39 -> Lakes | D50: ='G-2 Habitat groups'!BB39 -> 0 | E50: ='G-2 Habitat groups'!BD39 -> 0 | F50: ='G-2 Habitat groups'!BE39 -> 0 | G50: ='G-2 Habitat groups'!BF39
B51: ='G-2 Habitat groups'!AU40 -> Lakes - Marl Lakes | C51: ='G-2 Habitat groups'!AV40 -> Lakes | D51: ='G-2 Habitat groups'!BB40 -> 0 | E51: ='G-2 Habitat groups'!BD40 -> 0 | F51: ='G-2 Habitat groups'!BE40 -> 0 | G51: ='G-2 Habitat groups'!BF40
B52: ='G-2 Habitat groups'!AU41 -> Lakes - Moderate alkalinity lakes | C52: ='G-2 Habitat groups'!AV41 -> Lakes | D52: ='G-2 Habitat groups'!BB41 -> 0 | E52: ='G-2 Habitat groups'!BD41 -> 0 | F52: ='G-2 Habitat groups'!BE41 -> 0 | G52: ='G-2 Habitat groups'!BF41
B53: ='G-2 Habitat groups'!AU42 -> Lakes - Peat Lakes | C53: ='G-2 Habitat groups'!AV42 -> Lakes | D53: ='G-2 Habitat groups'!BB42 -> 0 | E53: ='G-2 Habitat groups'!BD42 -> 0 | F53: ='G-2 Habitat groups'!BE42 -> 0 | G53: ='G-2 Habitat groups'!BF42
... B81: ='G-2 Habitat groups'!AU70 -> Intertidal sediment - Littoral muddy sand | C81: ='G-2 Habitat groups'!AV70 -> Intertidal sediment | D81: ='G-2 Habitat groups'!BB70 -> 0 | E81: ='G-2 Habitat groups'!BD70 -> 0 | F81: ='G-2 Habitat groups'!BE70 -> 0 | G81: ='G-2 Habitat groups'!BF70
D82: =SUM(D41:D81) -> 0 | E82: =SUM(E41:E81) -> 0 | F82: =SUM(F41:F81) -> 0 | G82: =SUM(G41:G81) -> 0
B87: Medium Distinctiveness | I87: Medium Distinctiveness Summary
B88: Habitat Group | C88: Group | D88: On site unit change | E88: Off Site unit Change | F88: Project wide unit change | G88: Cumulative Broad Habitat Change | I88: Medium Distinctiveness Units available to offset lower distinctiveness defecit | J88: =SUMIF(G89:G113,">0") -> 0.54025889
B89: ='G-2 Habitat groups'!AU77 -> Cropland - Arable field margins cultivated annually | C89: ='G-2 Habitat groups'!AV77 -> Cropland | D89: ='G-2 Habitat groups'!BB77 -> 0 | E89: ='G-2 Habitat groups'!BD77 -> 0 | F89: ='G-2 Habitat groups'!BE77 -> 0 | G89: =SUM(F89:F92) -> 0 | I89: Medium Distinctiveness Broad Habitat Deficit to be offset by trading up | J89: =SUMIF(G89:G113,"<0") -> 0
B90: ='G-2 Habitat groups'!AU78 -> Cropland - Arable field margins game bird mix | C90: ='G-2 Habitat groups'!AV78 -> Cropland | D90: ='G-2 Habitat groups'!BB78 -> 0 | E90: ='G-2 Habitat groups'!BD78 -> 0 | F90: ='G-2 Habitat groups'!BE78 -> 0 | I90: Higher distinctiveness surplus units minus Medium Distinctivenss Broad Habitat Defecit | J90: =IF(J40+J12+J89>0,J40+J12+J89,0) -> 0
B91: ='G-2 Habitat groups'!AU79 -> Cropland - Arable field margins pollen & nectar | C91: ='G-2 Habitat groups'!AV79 -> Cropland | D91: ='G-2 Habitat groups'!BB79 -> 0 | E91: ='G-2 Habitat groups'!BD79 -> 0 | F91: ='G-2 Habitat groups'!BE79 -> 0 | I91: Cumulative surplus of units | J91: =J90+J88 -> 0.54025889
B92: ='G-2 Habitat groups'!AU80 -> Cropland - Arable field margins tussocky | C92: ='G-2 Habitat groups'!AV80 -> Cropland | D92: ='G-2 Habitat groups'!BB80 -> 0 | E92: ='G-2 Habitat groups'!BD80 -> 0 | F92: ='G-2 Habitat groups'!BE80 -> 0
B93: ='G-2 Habitat groups'!AU81 -> Grassland - Other lowland acid grassland | C93: ='G-2 Habitat groups'!AV81 -> Grassland | D93: ='G-2 Habitat groups'!BB81 -> 0 | E93: ='G-2 Habitat groups'!BD81 -> 0 | F93: ='G-2 Habitat groups'!BE81 -> 0 | G93: =SUM(F93:F95) -> 0
B94: ='G-2 Habitat groups'!AU82 -> Grassland - Other neutral grassland | C94: ='G-2 Habitat groups'!AV82 -> Grassland | D94: ='G-2 Habitat groups'!BB82 -> 0 | E94: ='G-2 Habitat groups'!BD82 -> 0 | F94: ='G-2 Habitat groups'!BE82 -> 0
B95: ='G-2 Habitat groups'!AU83 -> Grassland - Upland acid grassland | C95: ='G-2 Habitat groups'!AV83 -> Grassland | D95: ='G-2 Habitat groups'!BB83 -> 0 | E95: ='G-2 Habitat groups'!BD83 -> 0 | F95: ='G-2 Habitat groups'!BE83 -> 0
B96: ='G-2 Habitat groups'!AU84 -> Heathland and shrub - Blackthorn scrub | C96: ='G-2 Habitat groups'!AV84 -> Heathland and shrub | D96: ='G-2 Habitat groups'!BB84 -> 0 | E96: ='G-2 Habitat groups'!BD84 -> 0 | F96: ='G-2 Habitat groups'!BE84 -> 0 | G96: =SUM(F96:F101) -> 0
B97: ='G-2 Habitat groups'!AU85 -> Heathland and shrub - Bramble scrub | C97: ='G-2 Habitat groups'!AV85 -> Heathland and shrub | D97: ='G-2 Habitat groups'!BB85 -> 0 | E97: ='G-2 Habitat groups'!BD85 -> 0 | F97: ='G-2 Habitat groups'!BE85 -> 0
B98: ='G-2 Habitat groups'!AU86 -> Heathland and shrub - Gorse scrub | C98: ='G-2 Habitat groups'!AV86 -> Heathland and shrub | D98: ='G-2 Habitat groups'!BB86 -> 0 | E98: ='G-2 Habitat groups'!BD86 -> 0 | F98: ='G-2 Habitat groups'!BE86 -> 0
B99: ='G-2 Habitat groups'!AU87 -> Heathland and shrub - Hawthorn scrub | C99: ='G-2 Habitat groups'!AV87 -> Heathland and shrub | D99: ='G-2 Habitat groups'!BB87 -> 0 | E99: ='G-2 Habitat groups'!BD87 -> 0 | F99: ='G-2 Habitat groups'!BE87 -> 0
B100: ='G-2 Habitat groups'!AU88 -> Heathland and shrub - Hazel scrub | C100: ='G-2 Habitat groups'!AV88 -> Heathland and shrub | D100: ='G-2 Habitat groups'!BB88 -> 0 | E100: ='G-2 Habitat groups'!BD88 -> 0 | F100: ='G-2 Habitat groups'!BE88 -> 0
B101: ='G-2 Habitat groups'!AU89 -> Heathland and shrub - Mixed scrub | C101: ='G-2 Habitat groups'!AV89 -> Heathland and shrub | D101: ='G-2 Habitat groups'!BB89 -> 0 | E101: ='G-2 Habitat groups'!BD89 -> 0 | F101: ='G-2 Habitat groups'!BE89 -> 0
B102: ='G-2 Habitat groups'!AU90 -> Lakes - Ponds (Non- Priority Habitat) | C102: ='G-2 Habitat groups'!AV90 -> Lakes | D102: ='G-2 Habitat groups'!BB90 -> 0 | E102: ='G-2 Habitat groups'!BD90 -> 0 | F102: ='G-2 Habitat groups'!BE90 -> 0 | G102: =SUM(F102:F103) -> 0
B103: ='G-2 Habitat groups'!AU91 -> Lakes - Reservoirs | C103: ='G-2 Habitat groups'!AV91 -> Lakes | D103: ='G-2 Habitat groups'!BB91 -> 0 | E103: ='G-2 Habitat groups'!BD91 -> 0 | F103: ='G-2 Habitat groups'!BE91 -> 0
B104: ='G-2 Habitat groups'!AU92 -> Sparsely vegetated land - Other inland rock and scree | C104: ='G-2 Habitat groups'!AV92 -> Sparsely vegetated land | D104: ='G-2 Habitat groups'!BB92 -> 0 | E104: ='G-2 Habitat groups'!BD92 -> 0 | F104: ='G-2 Habitat groups'!BE92 -> 0 | G104: =F104 -> 0
B105: ='G-2 Habitat groups'!AU93 -> Urban - Cemeteries and churchyards | C105: ='G-2 Habitat groups'!AV93 -> Urban | D105: ='G-2 Habitat groups'!BB93 -> 0 | E105: ='G-2 Habitat groups'!BD93 -> 0 | F105: ='G-2 Habitat groups'!BE93 -> 0 | G105: =SUM(F105:F107) -> 0.54025889
B106: ='G-2 Habitat groups'!AU94 -> Urban - Biodiverse green roof | C106: ='G-2 Habitat groups'!AV94 -> Urban | D106: ='G-2 Habitat groups'!BB94 -> 0 | E106: ='G-2 Habitat groups'!BD94 -> 0 | F106: ='G-2 Habitat groups'!BE94 -> 0
B107: ='G-2 Habitat groups'!AU130 -> Urban - Urban Tree | C107: ='G-2 Habitat groups'!AV130 -> Urban | D107: ='G-2 Habitat groups'!BB130 -> 0.54025889 | E107: ='G-2 Habitat groups'!BD130 -> 0 | F107: ='G-2 Habitat groups'!BE130 -> 0.54025889
B108: ='G-2 Habitat groups'!AU95 -> Woodland and forest - Other Scot's Pine woodland | C108: ='G-2 Habitat groups'!AV95 -> Woodland and forest | D108: ='G-2 Habitat groups'!BB95 -> 0 | E108: ='G-2 Habitat groups'!BD95 -> 0 | F108: ='G-2 Habitat groups'!BE95 -> 0 | G108: =SUM(F108:F110) -> 0
B109: ='G-2 Habitat groups'!AU96 -> Woodland and forest - Other woodland; broadleaved | C109: ='G-2 Habitat groups'!AV96 -> Woodland and forest | D109: ='G-2 Habitat groups'!BB96 -> 0 | E109: ='G-2 Habitat groups'!BD96 -> 0 | F109: ='G-2 Habitat groups'!BE96 -> 0
B110: ='G-2 Habitat groups'!AU97 -> Woodland and forest - Other woodland; mixed | C110: ='G-2 Habitat groups'!AV97 -> Woodland and forest | D110: ='G-2 Habitat groups'!BB97 -> 0 | E110: ='G-2 Habitat groups'!BD97 -> 0 | F110: ='G-2 Habitat groups'!BE97 -> 0
B111: ='G-2 Habitat groups'!AU98 -> Intertidal sediment - Littoral coarse sediment | C111: ='G-2 Habitat groups'!AV98 -> Intertidal sediment | D111: ='G-2 Habitat groups'!BB98 -> 0 | E111: ='G-2 Habitat groups'!BD98 -> 0 | F111: ='G-2 Habitat groups'!BE98 -> 0 | G111: =SUM(F111:F113) -> 0
B112: ='G-2 Habitat groups'!AU99 -> Intertidal sediment - Littoral sand | C112: ='G-2 Habitat groups'!AV99 -> Intertidal sediment | D112: ='G-2 Habitat groups'!BB99 -> 0 | E112: ='G-2 Habitat groups'!BD99 -> 0 | F112: ='G-2 Habitat groups'!BE99 -> 0
B113: ='G-2 Habitat groups'!AU100 -> Intertidal Hard Structures - Artificial hard structures with Integrated Greening of Grey Infrastructure (IGGI) | C113: ='G-2 Habitat groups'!AV100 -> Intertidal | D113: ='G-2 Habitat groups'!BB100 -> 0 | E113: ='G-2 Habitat groups'!BD100 -> 0 | F113: ='G-2 Habitat groups'!BE100 -> 0
D114: =SUM(D89:D113) -> 0.54025889 | E114: =SUM(E89:E113) -> 0 | F114: =SUM(F89:F113) -> 0.54025889
B121: Low Distinctiveness
B122: Habitat group | C122: Group | D122: On site unit change | E122: Off Site Unit Change | F122: Project wide unit change | I122: Low Distinctiveness Summary
B123: ='G-2 Habitat groups'!AU110 -> Cropland - Cereal crops | C123: ='G-2 Habitat groups'!AV110 -> Cropland | D123: ='G-2 Habitat groups'!BB110 -> 0 | E123: ='G-2 Habitat groups'!BD110 -> 0 | F123: ='G-2 Habitat groups'!BE110 -> 0 | I123: Low Distinctiveness Net Change in Units | J123: =F159 -> 0.11954288
B124: ='G-2 Habitat groups'!AU111 -> Cropland - Horticulture | C124: ='G-2 Habitat groups'!AV111 -> Cropland | D124: ='G-2 Habitat groups'!BB111 -> 0 | E124: ='G-2 Habitat groups'!BD111 -> 0 | F124: ='G-2 Habitat groups'!BE111 -> 0 | I124: Cumulative surplus of units | J124: =J123+J91 -> 0.65980178
B125: ='G-2 Habitat groups'!AU112 -> Cropland - Intensive orchards | C125: ='G-2 Habitat groups'!AV112 -> Cropland | D125: ='G-2 Habitat groups'!BB112 -> 0 | E125: ='G-2 Habitat groups'!BD112 -> 0 | F125: ='G-2 Habitat groups'!BE112 -> 0
B126: ='G-2 Habitat groups'!AU113 -> Cropland - Non-cereal crops | C126: ='G-2 Habitat groups'!AV113 -> Cropland | D126: ='G-2 Habitat groups'!BB113 -> 0 | E126: ='G-2 Habitat groups'!BD113 -> 0 | F126: ='G-2 Habitat groups'!BE113 -> 0
B127: ='G-2 Habitat groups'!AU114 -> Cropland - Temporary grass and clover leys | C127: ='G-2 Habitat groups'!AV114 -> Cropland | D127: ='G-2 Habitat groups'!BB114 -> 0 | E127: ='G-2 Habitat groups'!BD114 -> 0 | F127: ='G-2 Habitat groups'!BE114 -> 0
B128: ='G-2 Habitat groups'!AU115 -> Cropland - Cereal crops winter stubble | C128: ='G-2 Habitat groups'!AV115 -> Cropland | D128: ='G-2 Habitat groups'!BB115 -> 0 | E128: ='G-2 Habitat groups'!BD115 -> 0 | F128: ='G-2 Habitat groups'!BE115 -> 0
B129: ='G-2 Habitat groups'!AU116 -> Grassland - Modified grassland | C129: ='G-2 Habitat groups'!AV116 -> Grassland | D129: ='G-2 Habitat groups'!BB116 -> -0.0016 | E129: ='G-2 Habitat groups'!BD116 -> 0 | F129: ='G-2 Habitat groups'!BE116 -> -0.0016
B130: ='G-2 Habitat groups'!AU117 -> Grassland - Bracken | C130: ='G-2 Habitat groups'!AV117 -> Grassland | D130: ='G-2 Habitat groups'!BB117 -> 0 | E130: ='G-2 Habitat groups'!BD117 -> 0 | F130: ='G-2 Habitat groups'!BE117 -> 0
B131: ='G-2 Habitat groups'!AU118 -> Heathland and shrub - Rhododendron scrub | C131: ='G-2 Habitat groups'!AV118 -> Heathland and shrub | D131: ='G-2 Habitat groups'!BB118 -> 0 | E131: ='G-2 Habitat groups'!BD118 -> 0 | F131: ='G-2 Habitat groups'!BE118 -> 0
B132: ='G-2 Habitat groups'!AU119 -> Lakes - Ornamental lake or pond | C132: ='G-2 Habitat groups'!AV119 -> Lakes | D132: ='G-2 Habitat groups'!BB119 -> 0 | E132: ='G-2 Habitat groups'!BD119 -> 0 | F132: ='G-2 Habitat groups'!BE119 -> 0
B133: ='G-2 Habitat groups'!AU120 -> Sparsely vegetated land - Ruderal/Ephemeral | C133: ='G-2 Habitat groups'!AV120 -> Sparsely vegetated land | D133: ='G-2 Habitat groups'!BB120 -> 0 | E133: ='G-2 Habitat groups'!BD120 -> 0 | F133: ='G-2 Habitat groups'!BE120 -> 0
B134: ='G-2 Habitat groups'!AU121 -> Urban - Bioswale | C134: ='G-2 Habitat groups'!AV120 -> Sparsely vegetated land | D134: ='G-2 Habitat groups'!BB121 -> 0 | E134: ='G-2 Habitat groups'!BD121 -> 0 | F134: ='G-2 Habitat groups'!BE121 -> 0
B135: ='G-2 Habitat groups'!AU122 -> Urban - Allotments | C135: ='G-2 Habitat groups'!AV121 -> Urban | D135: ='G-2 Habitat groups'!BB122 -> 0 | E135: ='G-2 Habitat groups'!BD122 -> 0 | F135: ='G-2 Habitat groups'!BE122 -> 0
B136: ='G-2 Habitat groups'!AU123 -> Urban - Facade-bound green wall | C136: ='G-2 Habitat groups'!AV123 -> Urban | D136: ='G-2 Habitat groups'!BB123 -> 0 | E136: ='G-2 Habitat groups'!BD123 -> 0 | F136: ='G-2 Habitat groups'!BE123 -> 0
B137: ='G-2 Habitat groups'!AU124 -> Urban - Ground based green wall | C137: ='G-2 Habitat groups'!AV124 -> Urban | D137: ='G-2 Habitat groups'!BB124 -> 0 | E137: ='G-2 Habitat groups'!BD124 -> 0 | F137: ='G-2 Habitat groups'!BE124 -> 0
B138: ='G-2 Habitat groups'!AU125 -> Urban - Ground level planters | C138: ='G-2 Habitat groups'!AV125 -> Urban | D138: ='G-2 Habitat groups'!BB125 -> 0 | E138: ='G-2 Habitat groups'!BD125 -> 0 | F138: ='G-2 Habitat groups'!BE125 -> 0
B139: ='G-2 Habitat groups'!AU126 -> Urban - Other green roof | C139: ='G-2 Habitat groups'!AV126 -> Urban | D139: ='G-2 Habitat groups'!BB126 -> 0 | E139: ='G-2 Habitat groups'!BD126 -> 0 | F139: ='G-2 Habitat groups'!BE126 -> 0
B140: ='G-2 Habitat groups'!AU146 -> Urban - Intensive green roof | C140: ='G-2 Habitat groups'!AV146 -> Urban | D140: ='G-2 Habitat groups'!BB146 -> 0 | E140: ='G-2 Habitat groups'!BD146 -> 0 | F140: ='G-2 Habitat groups'!BE146 -> 0
B141: ='G-2 Habitat groups'!AU127 -> Urban - Introduced shrub | C141: ='G-2 Habitat groups'!AV127 -> Urban | D141: ='G-2 Habitat groups'!BB127 -> 0.12214288 | E141: ='G-2 Habitat groups'!BD127 -> 0 | F141: ='G-2 Habitat groups'!BE127 -> 0.12214288
B142: ='G-2 Habitat groups'!AU128 -> Urban - Rain garden | C142: ='G-2 Habitat groups'!AV128 -> Urban | D142: ='G-2 Habitat groups'!BB128 -> 0 | E142: ='G-2 Habitat groups'!BD128 -> 0 | F142: ='G-2 Habitat groups'!BE128 -> 0
B143: ='G-2 Habitat groups'!AU129 -> Urban - Actively worked sand pit quarry or open cast mine | C143: ='G-2 Habitat groups'!AV129 -> Urban | D143: ='G-2 Habitat groups'!BB129 -> 0 | E143: ='G-2 Habitat groups'!BD129 -> 0 | F143: ='G-2 Habitat groups'!BE129 -> 0
B144: ='G-2 Habitat groups'!AU131 -> Urban - Sustainable urban drainage feature | C144: ='G-2 Habitat groups'!AV131 -> Urban | D144: ='G-2 Habitat groups'!BB131 -> 0 | E144: ='G-2 Habitat groups'!BD131 -> 0 | F144: ='G-2 Habitat groups'!BE131 -> 0
B145: ='G-2 Habitat groups'!AU132 -> Urban - Vacant/derelict land/ bareground | C145: ='G-2 Habitat groups'!AV132 -> Urban | D145: ='G-2 Habitat groups'!BB132 -> 0 | E145: ='G-2 Habitat groups'!BD132 -> 0 | F145: ='G-2 Habitat groups'!BE132 -> 0
B146: ='G-2 Habitat groups'!AU133 -> Urban - Vegetated garden | C146: ='G-2 Habitat groups'!AV133 -> Urban | D146: ='G-2 Habitat groups'!BB133 -> -0.001 | E146: ='G-2 Habitat groups'!BD133 -> 0 | F146: ='G-2 Habitat groups'!BE133 -> -0.001
B147: ='G-2 Habitat groups'!AU134 -> Woodland and forest - Other coniferous woodland | C147: ='G-2 Habitat groups'!AV134 -> Woodland and forest | D147: ='G-2 Habitat groups'!BB134 -> 0 | E147: ='G-2 Habitat groups'!BD134 -> 0 | F147: ='G-2 Habitat groups'!BE134 -> 0
B148: ='G-2 Habitat groups'!AU135 -> Coastal saltmarsh - Artificial saltmarshes and saline reedbeds | C148: ='G-2 Habitat groups'!AV135 -> Coastal saltmarsh | D148: ='G-2 Habitat groups'!BB135 -> 0 | E148: ='G-2 Habitat groups'!BD135 -> 0 | F148: ='G-2 Habitat groups'!BE135 -> 0
B149: ='G-2 Habitat groups'!AU136 -> Intertidal sediment - Artificial littoral coarse sediment | C149: ='G-2 Habitat groups'!AV136 -> Intertidal sediment | D149: ='G-2 Habitat groups'!BB136 -> 0 | E149: ='G-2 Habitat groups'!BD136 -> 0 | F149: ='G-2 Habitat groups'!BE136 -> 0
B150: ='G-2 Habitat groups'!AU137 -> Intertidal sediment - Artificial littoral mud | C150: ='G-2 Habitat groups'!AV137 -> Intertidal sediment | D150: ='G-2 Habitat groups'!BB137 -> 0 | E150: ='G-2 Habitat groups'!BD137 -> 0 | F150: ='G-2 Habitat groups'!BE137 -> 0
B151: ='G-2 Habitat groups'!AU138 -> Intertidal sediment - Artificial littoral sand | C151: ='G-2 Habitat groups'!AV138 -> Intertidal sediment | D151: ='G-2 Habitat groups'!BB138 -> 0 | E151: ='G-2 Habitat groups'!BD138 -> 0 | F151: ='G-2 Habitat groups'!BE138 -> 0
B152: ='G-2 Habitat groups'!AU139 -> Intertidal sediment - Artificial littoral muddy sand | C152: ='G-2 Habitat groups'!AV139 -> Intertidal sediment | D152: ='G-2 Habitat groups'!BB139 -> 0 | E152: ='G-2 Habitat groups'!BD139 -> 0 | F152: ='G-2 Habitat groups'!BE139 -> 0
...

Sheet A-1 Site Habitat Baseline
D2: =IF(Start!$F$12="","",Start!$F$12)
D3: =MID(CELL("filename",C1),FIND("]",CELL("filename",C1))+1,256) -> A-1 Site Habitat Baseline | AC3: HIDDEN - NOT SHOWN BY BUTTON | AD3: HIDDEN - NOT SHOWN BY BUTTON | AE3: HIDDEN - NOT SHOWN BY BUTTON | AF3: HIDDEN - NOT SHOWN BY BUTTON | AG3: HIDDEN - NOT SHOWN BY BUTTON | AH3: HIDDEN - NOT SHOWN BY BUTTON | AI3: HIDDEN - NOT SHOWN BY BUTTON | AJ3: HIDDEN - NOT SHOWN BY BUTTON | AK3: HIDDEN - NOT SHOWN BY BUTTON | AL3: HIDDEN - NOT SHOWN BY BUTTON | AM3: HIDDEN - NOT SHOWN BY BUTTON | AN3: HIDDEN - NOT SHOWN BY BUTTON
AF4: Hide | AG4: Hide | AH4: Hide | AI4: Hide | AJ4: Hide | AK4: Hide | AL4: Hide | AM4: Hide | AN4: Hide
E9: Habitats and areas | I9: Distinctiveness | K9: Condition | M9: Strategic significance | P9: Suggested action to address habitat losses | Q9: Ecological baseline | S9: Retention category biodiversity value | Y9: Bespoke compensation agreed for unacceptable losses | Z9: Comments | AC9: Hide | AD9: Hide | AF9: retention cat checks | AK9: list of lines for enhanced and succession | AQ9: Bespoke Compensation agreed?
B10: Condition Group | D10: Ref | E10: Broad Habitat | F10: Habitat Type | G10: Habitat type | H10: Area (hectares) | I10: Distinctiveness | J10: Score | K10: Condition | L10: Score | M10: Strategic significance | N10: Strategic significance | O10: Strategic Significance multiplier | Q10: Total habitat units | S10: Area retained | T10: Area enhanced | U10: Baseline units retained | V10: Baseline units enhanced | W10: Area habitat lost | X10: Units lost | Z10: Assessor comments | AA10: Reviewer comments | AC10: Area of Unacceptable Losses | AD10: Units Unacceptable Losses | AF10: Retained | AG10: Enhanced | AH10: Succession | AI10: line number | AK10: Retained | AL10: Enhanced | AM10: Succession
A11: =IFERROR(INDEX('G-1 All Habitats'!$AG$3:$AG$15,MATCH(E11,'G-1 All Habitats'!$AF$3:$AF$15,0)),"") -> Grassland | B11: =IFERROR(INDEX('G-8 Condition Look up'!$I$4:$I$130,MATCH(G11,'G-8 Condition Look up'!$A$4:$A$130,0)),"") -> Cond4 | D11: 1 | E11: Grassland | F11: Modified grassland | G11: =IFERROR(INDEX('G-1 All Habitats'!$B$3:$B$129,MATCH(F11,'G-1 All Habitats'!$A$3:$A$129,0)),"") -> Grassland - Modified grassland | H11: 0.0008 | I11: =IF(G11="","",VLOOKUP(G11,'G-1 All Habitats'!$B$2:$M$129,10,FALSE)) -> Low | J11: =IFERROR(VLOOKUP(I11,'G-1 All Habitats'!$V$3:$W$7,2,FALSE),"") -> 2 | K11: Poor | L11: =IFERROR(INDEX('G-8 Condition Look up'!$A$3:$H$130,MATCH(G11,'G-8 Condition Look up'!$A$3:$A$130,0),MATCH(K11,'G-8 Condition Look up'!$A$3:$H$3,0)),"") -> 1 | M11: Area/compensation not in local strategy/ no local strategy | N11: =IF(M11="","",IF(VLOOKUP(M11,'G-3 Multipliers'!$L$3:$N$6,2,FALSE)=0,"Spatial Data Missing",VLOOKUP(M11,'G-3 Multipliers'!$L$3:$N$6,2,FALSE))) -> Low Strategic Significance | O11: =IF(M11="","",IF(VLOOKUP(M11,'G-3 Multipliers'!$L$3:$N$6,3,FALSE)=0,"Spatial Data Missing ▲",VLOOKUP(M11,'G-3 Multipliers'!$L$3:$N$6,3,FALSE))) -> 1 | P11: =IFERROR(VLOOKUP(G11,'G-1 All Habitats'!$B$2:$M$129,12,FALSE),"") -> Same distinctiveness or better habitat required ≥ | Q11: =IFERROR(IF(P11="","",IF(AND(P11='G-1 All Habitats'!$X$3,T11>0),U11+V11,IF(AND(P11='G-1 All Habitats'!$X$3,S11>0),U11+V11,IF(AND(P11='G-1 All Habitats'!$X$3,AC11>0),"Any Loss Unacceptable ▲",IF(AND(P11='G-1 All Habitats'!$X$3,W11>0),"Any Loss Unacceptable ▲",H11*J11*L11*O11))))),"Check Data ▲") -> 0.0016 | S11: 0 | T11: 0 | U11: =IFERROR(S11*J11*L11*O11,"") -> 0 | V11: =IFERROR(T11*J11*L11*O11,"") -> 0 | W11: =IF(E11="","",IF(H11<S11+T11,"Error in Areas ▲",IF(P11<>'G-1 All Habitats'!$X$3,H11-S11-T11,IF(AND(P11='G-1 All Habitats'!$X$3,Y11="Yes"),"Unacceptable Loss",IF(AND(P11='G-1 All Habitats'!$X$3,Y11="No"),AC11,IF(AND(P11='G-1 All Habitats'!$X$3,Y11=""),AC11,IF(AND(P11='G-1 All Habitats'!$X$3,AC11="None",AC11),IF(AND(P11='G-1 All Habitats'!$X$3,AC11>0),H11-S11-T11)))))))) -> 0.0008 | X11: =IFERROR(IF(H11="","",IF(H11-S11-T11=0<0,"Error in Areas ▲",IF(S11+T11>H11,"Error in Areas ▲",IF(AND(P11='G-1 All Habitats'!$X$3,Y11="Yes"),"Alternative Compensation ✓",IF(W11=0,0,IF(P11='G-1 All Habitats'!$X$3,"Unacceptable Loss ▲",Q11-U11-V11)))))),"Check Data ▲") -> 0.0016 | AC11: =IF(P11="","",IF(P11='G-1 All Habitats'!$X$3,H11-S11-T11,"None")) -> None | AD11: =IFERROR(AC11*J11*L11*#REF!*O11,IF(P11="","","None")) -> None | AF11: =IF(G11="","",IF(S11>0,TRUE,FALSE)) -> FALSE | AG11: =IF(H11="","",IF(T11>0,TRUE,FALSE)) -> FALSE | AH11: =IF(I11="","",IF(#REF!>0,TRUE,FALSE)) -> #REF! | AI11: 1 | AK11: {=IFERROR(INDEX($AI$11:$AI$259, MATCH(0, IF(TRUE=$AF$11:$AF$259, COUNTIF($AK$10:$AK10, $AI$11:$AI$259), ""), 0)),"")} -> 3 | AL11: {=IFERROR(INDEX($AI$11:$AI$259, MATCH(0, IF(TRUE=$AG$11:$AG$259, COUNTIF($AL$10:$AL10, $AI$11:$AI$259), ""), 0)),"")} | AM11: {=IFERROR(INDEX($AI$11:$AI$259, MATCH(0, IF(TRUE=$AH$11:$AH$259, COUNTIF($AM$10:$AM10, $AI$11:$AI$259), ""), 0)),"")} | AQ11: =IF(X11="Unacceptable Loss",1,0) -> 0
A12: =IFERROR(INDEX('G-1 All Habitats'!$AG$3:$AG$15,MATCH(E12,'G-1 All Habitats'!$AF$3:$AF$15,0)),"") -> Urban | B12: =IFERROR(INDEX('G-8 Condition Look up'!$I$4:$I$130,MATCH(G12,'G-8 Condition Look up'!$A$4:$A$130,0)),"") -> Cond2 | D12: 2 | E12: Urban | F12: Developed land; sealed surface | G12: =IFERROR(INDEX('G-1 All Habitats'!$B$3:$B$129,MATCH(F12,'G-1 All Habitats'!$A$3:$A$129,0)),"") -> Urban - Developed land; sealed surface | H12: 0.4404 | I12: =IF(G12="","",VLOOKUP(G12,'G-1 All Habitats'!$B$2:$M$129,10,FALSE)) -> V.Low | J12: =IFERROR(VLOOKUP(I12,'G-1 All Habitats'!$V$3:$W$7,2,FALSE),"") -> 0 | K12: N/A - Other | L12: =IFERROR(INDEX('G-8 Condition Look up'!$A$3:$H$130,MATCH(G12,'G-8 Condition Look up'!$A$3:$A$130,0),MATCH(K12,'G-8 Condition Look up'!$A$3:$H$3,0)),"") -> 0 | M12: Area/compensation not in local strategy/ no local strategy | N12: =IF(M12="","",IF(VLOOKUP(M12,'G-3 Multipliers'!$L$3:$N$6,2,FALSE)=0,"Spatial Data Missing",VLOOKUP(M12,'G-3 Multipliers'!$L$3:$N$6,2,FALSE))) -> Low Strategic Significance | O12: =IF(M12="","",IF(VLOOKUP(M12,'G-3 Multipliers'!$L$3:$N$6,3,FALSE)=0,"Spatial Data Missing ▲",VLOOKUP(M12,'G-3 Multipliers'!$L$3:$N$6,3,FALSE))) -> 1 | P12: =IFERROR(VLOOKUP(G12,'G-1 All Habitats'!$B$2:$M$129,12,FALSE),"") -> Compensation Not Required | Q12: =IFERROR(IF(P12="","",IF(AND(P12='G-1 All Habitats'!$X$3,T12>0),U12+V12,IF(AND(P12='G-1 All Habitats'!$X$3,S12>0),U12+V12,IF(AND(P12='G-1 All Habitats'!$X$3,AC12>0),"Any Loss Unacceptable ▲",IF(AND(P12='G-1 All Habitats'!$X$3,W12>0),"Any Loss Unacceptable ▲",H12*J12*L12*O12))))),"Check Data ▲") -> 0 | S12: 0 | T12: 0 | U12: =IFERROR(S12*J12*L12*O12,"") -> 0 | V12: =IFERROR(T12*J12*L12*O12,"") -> 0 | W12: =IF(E12="","",IF(H12<S12+T12,"Error in Areas ▲",IF(P12<>'G-1 All Habitats'!$X$3,H12-S12-T12,IF(AND(P12='G-1 All Habitats'!$X$3,Y12="Yes"),"Unacceptable Loss",IF(AND(P12='G-1 All Habitats'!$X$3,Y12="No"),AC12,IF(AND(P12='G-1 All Habitats'!$X$3,Y12=""),AC12,IF(AND(P12='G-1 All Habitats'!$X$3,AC12="None",AC12),IF(AND(P12='G-1 All Habitats'!$X$3,AC12>0),H12-S12-T12)))))))) -> 0.4404 | X12: =IFERROR(IF(H12="","",IF(H12-S12-T12=0<0,"Error in Areas ▲",IF(S12+T12>H12,"Error in Areas ▲",IF(AND(P12='G-1 All Habitats'!$X$3,Y12="Yes"),"Alternative Compensation ✓",IF(W12=0,0,IF(P12='G-1 All Habitats'!$X$3,"Unacceptable Loss ▲",Q12-U12-V12)))))),"Check Data ▲") -> 0 | AC12: =IF(P12="","",IF(P12='G-1 All Habitats'!$X$3,H12-S12-T12,"None")) -> None | AD12: =IFERROR(AC12*J12*L12*#REF!*O12,IF(P12="","","None")) -> None | AF12: =IF(G12="","",IF(S12>0,TRUE,FALSE)) -> FALSE | AG12: =IF(H12="","",IF(T12>0,TRUE,FALSE)) -> FALSE | AH12: =IF(I12="","",IF(#REF!>0,TRUE,FALSE)) -> #REF! | AI12: 2 | AK12: {=IFERROR(INDEX($AI$11:$AI$259, MATCH(0, IF(TRUE=$AF$11:$AF$259, COUNTIF($AK$10:$AK11, $AI$11:$AI$259), ""), 0)),"")} | AL12: {=IFERROR(INDEX($AI$11:$AI$259, MATCH(0, IF(TRUE=$AG$11:$AG$259, COUNTIF($AL$10:$AL11, $AI$11:$AI$259), ""), 0)),"")} | AM12: {=IFERROR(INDEX($AI$11:$AI$259, MATCH(0, IF(TRUE=$AH$11:$AH$259, COUNTIF($AM$10:$AM11, $AI$11:$AI$259), ""), 0)),"")} | AQ12: =IF(X12="Unacceptable Loss",1,0) -> 0
A13: =IFERROR(INDEX('G-1 All Habitats'!$AG$3:$AG$15,MATCH(E13,'G-1 All Habitats'!$AF$3:$AF$15,0)),"") -> Urban | B13: =IFERROR(INDEX('G-8 Condition Look up'!$I$4:$I$130,MATCH(G13,'G-8 Condition Look up'!$A$4:$A$130,0)),"") -> Cond1 | D13: 3 | E13: Urban | F13: Introduced shrub | G13: =IFERROR(INDEX('G-1 All Habitats'!$B$3:$B$129,MATCH(F13,'G-1 All Habitats'!$A$3:$A$129,0)),"") -> Urban - Introduced shrub | H13: 0.0068 | I13: =IF(G13="","",VLOOKUP(G13,'G-1 All Habitats'!$B$2:$M$129,10,FALSE)) -> Low | J13: =IFERROR(VLOOKUP(I13,'G-1 All Habitats'!$V$3:$W$7,2,FALSE),"") -> 2 | K13: Condition Assessment N/A | L13: =IFERROR(INDEX('G-8 Condition Look up'!$A$3:$H$130,MATCH(G13,'G-8 Condition Look up'!$A$3:$A$130,0),MATCH(K13,'G-8 Condition Look up'!$A$3:$H$3,0)),"") -> 1 | M13: Area/compensation not in local strategy/ no local strategy | N13: =IF(M13="","",IF(VLOOKUP(M13,'G-3 Multipliers'!$L$3:$N$6,2,FALSE)=0,"Spatial Data Missing",VLOOKUP(M13,'G-3 Multipliers'!$L$3:$N$6,2,FALSE))) -> Low Strategic Significance | O13: =IF(M13="","",IF(VLOOKUP(M13,'G-3 Multipliers'!$L$3:$N$6,3,FALSE)=0,"Spatial Data Missing ▲",VLOOKUP(M13,'G-3 Multipliers'!$L$3:$N$6,3,FALSE))) -> 1 | P13: =IFERROR(VLOOKUP(G13,'G-1 All Habitats'!$B$2:$M$129,12,FALSE),"") -> Same distinctiveness or better habitat required ≥ | Q13: =IFERROR(IF(P13="","",IF(AND(P13='G-1 All Habitats'!$X$3,T13>0),U13+V13,IF(AND(P13='G-1 All Habitats'!$X$3,S13>0),U13+V13,IF(AND(P13='G-1 All Habitats'!$X$3,AC13>0),"Any Loss Unacceptable ▲",IF(AND(P13='G-1 All Habitats'!$X$3,W13>0),"Any Loss Unacceptable ▲",H13*J13*L13*O13))))),"Check Data ▲") -> 0.0136 | S13: 0.0052 | T13: 0 | U13: =IFERROR(S13*J13*L13*O13,"") -> 0.0104 | V13: =IFERROR(T13*J13*L13*O13,"") -> 0 | W13: =IF(E13="","",IF(H13<S13+T13,"Error in Areas ▲",IF(P13<>'G-1 All Habitats'!$X$3,H13-S13-T13,IF(AND(P13='G-1 All Habitats'!$X$3,Y13="Yes"),"Unacceptable Loss",IF(AND(P13='G-1 All Habitats'!$X$3,Y13="No"),AC13,IF(AND(P13='G-1 All Habitats'!$X$3,Y13=""),AC13,IF(AND(P13='G-1 All Habitats'!$X$3,AC13="None",AC13),IF(AND(P13='G-1 All Habitats'!$X$3,AC13>0),H13-S13-T13)))))))) -> 0.0016 | X13: =IFERROR(IF(H13="","",IF(H13-S13-T13=0<0,"Error in Areas ▲",IF(S13+T13>H13,"Error in Areas ▲",IF(AND(P13='G-1 All Habitats'!$X$3,Y13="Yes"),"Alternative Compensation ✓",IF(W13=0,0,IF(P13='G-1 All Habitats'!$X$3,"Unacceptable Loss ▲",Q13-U13-V13)))))),"Check Data ▲") -> 0.0032 | AC13: =IF(P13="","",IF(P13='G-1 All Habitats'!$X$3,H13-S13-T13,"None")) -> None | AD13: =IFERROR(AC13*J13*L13*#REF!*O13,IF(P13="","","None")) -> None | AF13: =IF(G13="","",IF(S13>0,TRUE,FALSE)) -> TRUE | AG13: =IF(H13="","",IF(T13>0,TRUE,FALSE)) -> FALSE | AH13: =IF(I13="","",IF(#REF!>0,TRUE,FALSE)) -> #REF! | AI13: 3 | AK13: {=IFERROR(INDEX($AI$11:$AI$259, MATCH(0, IF(TRUE=$AF$11:$AF$259, COUNTIF($AK$10:$AK12, $AI$11:$AI$259), ""), 0)),"")} | AL13: {=IFERROR(INDEX($AI$11:$AI$259, MATCH(0, IF(TRUE=$AG$11:$AG$259, COUNTIF($AL$10:$AL12, $AI$11:$AI$259), ""), 0)),"")} | AM13: {=IFERROR(INDEX($AI$11:$AI$259, MATCH(0, IF(TRUE=$AH$11:$AH$259, COUNTIF($AM$10:$AM12, $AI$11:$AI$259), ""), 0)),"")} | AQ13: =IF(X13="Unacceptable Loss",1,0) -> 0
A14: =IFERROR(INDEX('G-1 All Habitats'!$AG$3:$AG$15,MATCH(E14,'G-1 All Habitats'!$AF$3:$AF$15,0)),"") -> Urban | B14: =IFERROR(INDEX('G-8 Condition Look up'!$I$4:$I$130,MATCH(G14,'G-8 Condition Look up'!$A$4:$A$130,0)),"") -> Cond1 | D14: 4 | E14: Urban | F14: Vegetated garden | G14: =IFERROR(INDEX('G-1 All Habitats'!$B$3:$B$129,MATCH(F14,'G-1 All Habitats'!$A$3:$A$129,0)),"") -> Urban - Vegetated garden | H14: 0.0005 | I14: =IF(G14="","",VLOOKUP(G14,'G-1 All Habitats'!$B$2:$M$129,10,FALSE)) -> Low | J14: =IFERROR(VLOOKUP(I14,'G-1 All Habitats'!$V$3:$W$7,2,FALSE),"") -> 2 | K14: Condition Assessment N/A | L14: =IFERROR(INDEX('G-8 Condition Look up'!$A$3:$H$130,MATCH(G14,'G-8 Condition Look up'!$A$3:$A$130,0),MATCH(K14,'G-8 Condition Look up'!$A$3:$H$3,0)),"") -> 1 | M14: Area/compensation not in local strategy/ no local strategy | N14: =IF(M14="","",IF(VLOOKUP(M14,'G-3 Multipliers'!$L$3:$N$6,2,FALSE)=0,"Spatial Data Missing",VLOOKUP(M14,'G-3 Multipliers'!$L$3:$N$6,2,FALSE))) -> Low Strategic Significance | O14: =IF(M14="","",IF(VLOOKUP(M14,'G-3 Multipliers'!$L$3:$N$6,3,FALSE)=0,"Spatial Data Missing ▲",VLOOKUP(M14,'G-3 Multipliers'!$L$3:$N$6,3,FALSE))) -> 1 | P14: =IFERROR(VLOOKUP(G14,'G-1 All Habitats'!$B$2:$M$129,12,FALSE),"") -> Same distinctiveness or better habitat required ≥ | Q14: =IFERROR(IF(P14="","",IF(AND(P14='G-1 All Habitats'!$X$3,T14>0),U14+V14,IF(AND(P14='G-1 All Habitats'!$X$3,S14>0),U14+V14,IF(AND(P14='G-1 All Habitats'!$X$3,AC14>0),"Any Loss Unacceptable ▲",IF(AND(P14='G-1 All Habitats'!$X$3,W14>0),"Any Loss Unacceptable ▲",H14*J14*L14*O14))))),"Check Data ▲") -> 0.001 | S14: 0 | T14: 0 | U14: =IFERROR(S14*J14*L14*O14,"") -> 0 | V14: =IFERROR(T14*J14*L14*O14,"") -> 0 | W14: =IF(E14="","",IF(H14<S14+T14,"Error in Areas ▲",IF(P14<>'G-1 All Habitats'!$X$3,H14-S14-T14,IF(AND(P14='G-1 All Habitats'!$X$3,Y14="Yes"),"Unacceptable Loss",IF(AND(P14='G-1 All Habitats'!$X$3,Y14="No"),AC14,IF(AND(P14='G-1 All Habitats'!$X$3,Y14=""),AC14,IF(AND(P14='G-1 All Habitats'!$X$3,AC14="None",AC14),IF(AND(P14='G-1 All Habitats'!$X$3,AC14>0),H14-S14-T14)))))))) -> 0.0005 | X14: =IFERROR(IF(H14="","",IF(H14-S14-T14=0<0,"Error in Areas ▲",IF(S14+T14>H14,"Error in Areas ▲",IF(AND(P14='G-1 All Habitats'!$X$3,Y14="Yes"),"Alternative Compensation ✓",IF(W14=0,0,IF(P14='G-1 All Habitats'!$X$3,"Unacceptable Loss ▲",Q14-U14-V14)))))),"Check Data ▲") -> 0.001 | AC14: =IF(P14="","",IF(P14='G-1 All Habitats'!$X$3,H14-S14-T14,"None")) -> None | AD14: =IFERROR(AC14*J14*L14*#REF!*O14,IF(P14="","","None")) -> None | AF14: =IF(G14="","",IF(S14>0,TRUE,FALSE)) -> FALSE | AG14: =IF(H14="","",IF(T14>0,TRUE,FALSE)) -> FALSE | AH14: =IF(I14="","",IF(#REF!>0,TRUE,FALSE)) -> #REF! | AI14: 4 | AK14: {=IFERROR(INDEX($AI$11:$AI$259, MATCH(0, IF(TRUE=$AF$11:$AF$259, COUNTIF($AK$10:$AK13, $AI$11:$AI$259), ""), 0)),"")} | AL14: {=IFERROR(INDEX($AI$11:$AI$259, MATCH(0, IF(TRUE=$AG$11:$AG$259, COUNTIF($AL$10:$AL13, $AI$11:$AI$259), ""), 0)),"")} | AM14: {=IFERROR(INDEX($AI$11:$AI$259, MATCH(0, IF(TRUE=$AH$11:$AH$259, COUNTIF($AM$10:$AM13, $AI$11:$AI$259), ""), 0)),"")} | AQ14: =IF(X14="Unacceptable Loss",1,0) -> 0
A15: =IFERROR(INDEX('G-1 All Habitats'!$AG$3:$AG$15,MATCH(E15,'G-1 All Habitats'!$AF$3:$AF$15,0)),"") | B15: =IFERROR(INDEX('G-8 Condition Look up'!$I$4:$I$130,MATCH(G15,'G-8 Condition Look up'!$A$4:$A$130,0)),"") | D15: 5 | G15: =IFERROR(INDEX('G-1 All Habitats'!$B$3:$B$129,MATCH(F15,'G-1 All Habitats'!$A$3:$A$129,0)),"") | I15: =IF(G15="","",VLOOKUP(G15,'G-1 All Habitats'!$B$2:$M$129,10,FALSE)) | J15: =IFERROR(VLOOKUP(I15,'G-1 All Habitats'!$V$3:$W$7,2,FALSE),"") | L15: =IFERROR(INDEX('G-8 Condition Look up'!$A$3:$H$130,MATCH(G15,'G-8 Condition Look up'!$A$3:$A$130,0),MATCH(K15,'G-8 Condition Look up'!$A$3:$H$3,0)),"") | N15: =IF(M15="","",IF(VLOOKUP(M15,'G-3 Multipliers'!$L$3:$N$6,2,FALSE)=0,"Spatial Data Missing",VLOOKUP(M15,'G-3 Multipliers'!$L$3:$N$6,2,FALSE))) | O15: =IF(M15="","",IF(VLOOKUP(M15,'G-3 Multipliers'!$L$3:$N$6,3,FALSE)=0,"Spatial Data Missing ▲",VLOOKUP(M15,'G-3 Multipliers'!$L$3:$N$6,3,FALSE))) | P15: =IFERROR(VLOOKUP(G15,'G-1 All Habitats'!$B$2:$M$129,12,FALSE),"") | Q15: =IFERROR(IF(P15="","",IF(AND(P15='G-1 All Habitats'!$X$3,T15>0),U15+V15,IF(AND(P15='G-1 All Habitats'!$X$3,S15>0),U15+V15,IF(AND(P15='G-1 All Habitats'!$X$3,AC15>0),"Any Loss Unacceptable ▲",IF(AND(P15='G-1 All Habitats'!$X$3,W15>0),"Any Loss Unacceptable ▲",H15*J15*L15*O15))))),"Check Data ▲") | U15: =IFERROR(S15*J15*L15*O15,"") | V15: =IFERROR(T15*J15*L15*O15,"") | W15: =IF(E15="","",IF(H15<S15+T15,"Error in Areas ▲",IF(P15<>'G-1 All Habitats'!$X$3,H15-S15-T15,IF(AND(P15='G-1 All Habitats'!$X$3,Y15="Yes"),"Unacceptable Loss",IF(AND(P15='G-1 All Habitats'!$X$3,Y15="No"),AC15,IF(AND(P15='G-1 All Habitats'!$X$3,Y15=""),AC15,IF(AND(P15='G-1 All Habitats'!$X$3,AC15="None",AC15),IF(AND(P15='G-1 All Habitats'!$X$3,AC15>0),H15-S15-T15)))))))) | X15: =IFERROR(IF(H15="","",IF(H15-S15-T15=0<0,"Error in Areas ▲",IF(S15+T15>H15,"Error in Areas ▲",IF(AND(P15='G-1 All Habitats'!$X$3,Y15="Yes"),"Alternative Compensation ✓",IF(W15=0,0,IF(P15='G-1 All Habitats'!$X$3,"Unacceptable Loss ▲",Q15-U15-V15)))))),"Check Data ▲") | AC15: =IF(P15="","",IF(P15='G-1 All Habitats'!$X$3,H15-S15-T15,"None")) | AD15: =IFERROR(AC15*J15*L15*#REF!*O15,IF(P15="","","None")) | AF15: =IF(G15="","",IF(S15>0,TRUE,FALSE)) | AG15: =IF(H15="","",IF(T15>0,TRUE,FALSE)) | AH15: =IF(I15="","",IF(#REF!>0,TRUE,FALSE)) | AI15: 5 | AK15: {=IFERROR(INDEX($AI$11:$AI$259, MATCH(0, IF(TRUE=$AF$11:$AF$259, COUNTIF($AK$10:$AK14, $AI$11:$AI$259), ""), 0)),"")} | AL15: {=IFERROR(INDEX($AI$11:$AI$259, MATCH(0, IF(TRUE=$AG$11:$AG$259, COUNTIF($AL$10:$AL14, $AI$11:$AI$259), ""), 0)),"")} | AM15: {=IFERROR(INDEX($AI$11:$AI$259, MATCH(0, IF(TRUE=$AH$11:$AH$259, COUNTIF($AM$10:$AM14, $AI$11:$AI$259), ""), 0)),"")} | AQ15: =IF(X15="Unacceptable Loss",1,0) -> 0
A16: =IFERROR(INDEX('G-1 All Habitats'!$AG$3:$AG$15,MATCH(E16,'G-1 All Habitats'!$AF$3:$AF$15,0)),"") | B16: =IFERROR(INDEX('G-8 Condition Look up'!$I$4:$I$130,MATCH(G16,'G-8 Condition Look up'!$A$4:$A$130,0)),"") | D16: 6 | G16: =IFERROR(INDEX('G-1 All Habitats'!$B$3:$B$129,MATCH(F16,'G-1 All Habitats'!$A$3:$A$129,0)),"") | I16: =IF(G16="","",VLOOKUP(G16,'G-1 All Habitats'!$B$2:$M$129,10,FALSE)) | J16: =IFERROR(VLOOKUP(I16,'G-1 All Habitats'!$V$3:$W$7,2,FALSE),"") | L16: =IFERROR(INDEX('G-8 Condition Look up'!$A$3:$H$130,MATCH(G16,'G-8 Condition Look up'!$A$3:$A$130,0),MATCH(K16,'G-8 Condition Look up'!$A$3:$H$3,0)),"") | N16: =IF(M16="","",IF(VLOOKUP(M16,'G-3 Multipliers'!$L$3:$N$6,2,FALSE)=0,"Spatial Data Missing",VLOOKUP(M16,'G-3 Multipliers'!$L$3:$N$6,2,FALSE))) | O16: =IF(M16="","",IF(VLOOKUP(M16,'G-3 Multipliers'!$L$3:$N$6,3,FALSE)=0,"Spatial Data Missing ▲",VLOOKUP(M16,'G-3 Multipliers'!$L$3:$N$6,3,FALSE))) | P16: =IFERROR(VLOOKUP(G16,'G-1 All Habitats'!$B$2:$M$129,12,FALSE),"") | Q16: =IFERROR(IF(P16="","",IF(AND(P16='G-1 All Habitats'!$X$3,T16>0),U16+V16,IF(AND(P16='G-1 All Habitats'!$X$3,S16>0),U16+V16,IF(AND(P16='G-1 All Habitats'!$X$3,AC16>0),"Any Loss Unacceptable ▲",IF(AND(P16='G-1 All Habitats'!$X$3,W16>0),"Any Loss Unacceptable ▲",H16*J16*L16*O16))))),"Check Data ▲") | U16: =IFERROR(S16*J16*L16*O16,"") | V16: =IFERROR(T16*J16*L16*O16,"") | W16: =IF(E16="","",IF(H16<S16+T16,"Error in Areas ▲",IF(P16<>'G-1 All Habitats'!$X$3,H16-S16-T16,IF(AND(P16='G-1 All Habitats'!$X$3,Y16="Yes"),"Unacceptable Loss",IF(AND(P16='G-1 All Habitats'!$X$3,Y16="No"),AC16,IF(AND(P16='G-1 All Habitats'!$X$3,Y16=""),AC16,IF(AND(P16='G-1 All Habitats'!$X$3,AC16="None",AC16),IF(AND(P16='G-1 All Habitats'!$X$3,AC16>0),H16-S16-T16)))))))) | X16: =IFERROR(IF(H16="","",IF(H16-S16-T16=0<0,"Error in Areas ▲",IF(S16+T16>H16,"Error in Areas ▲",IF(AND(P16='G-1 All Habitats'!$X$3,Y16="Yes"),"Alternative Compensation ✓",IF(W16=0,0,IF(P16='G-1 All Habitats'!$X$3,"Unacceptable Loss ▲",Q16-U16-V16)))))),"Check Data ▲") | AC16: =IF(P16="","",IF(P16='G-1 All Habitats'!$X$3,H16-S16-T16,"None")) | AD16: =IFERROR(AC16*J16*L16*#REF!*O16,IF(P16="","","None")) | AF16: =IF(G16="","",IF(S16>0,TRUE,FALSE)) | AG16: =IF(H16="","",IF(T16>0,TRUE,FALSE)) | AH16: =IF(I16="","",IF(#REF!>0,TRUE,FALSE)) | AI16: 6 | AK16: {=IFERROR(INDEX($AI$11:$AI$259, MATCH(0, IF(TRUE=$AF$11:$AF$259, COUNTIF($AK$10:$AK15, $AI$11:$AI$259), ""), 0)),"")} | AL16: {=IFERROR(INDEX($AI$11:$AI$259, MATCH(0, IF(TRUE=$AG$11:$AG$259, COUNTIF($AL$10:$AL15, $AI$11:$AI$259), ""), 0)),"")} | AM16: {=IFERROR(INDEX($AI$11:$AI$259, MATCH(0, IF(TRUE=$AH$11:$AH$259, COUNTIF($AM$10:$AM15, $AI$11:$AI$259), ""), 0)),"")} | AQ16: =IF(X16="Unacceptable Loss",1,0) -> 0
A17: =IFERROR(INDEX('G-1 All Habitats'!$AG$3:$AG$15,MATCH(E17,'G-1 All Habitats'!$AF$3:$AF$15,0)),"") | B17: =IFERROR(INDEX('G-8 Condition Look up'!$I$4:$I$130,MATCH(G17,'G-8 Condition Look up'!$A$4:$A$130,0)),"") | D17: 7 | G17: =IFERROR(INDEX('G-1 All Habitats'!$B$3:$B$129,MATCH(F17,'G-1 All Habitats'!$A$3:$A$129,0)),"") | I17: =IF(G17="","",VLOOKUP(G17,'G-1 All Habitats'!$B$2:$M$129,10,FALSE)) | J17: =IFERROR(VLOOKUP(I17,'G-1 All Habitats'!$V$3:$W$7,2,FALSE),"") | L17: =IFERROR(INDEX('G-8 Condition Look up'!$A$3:$H$130,MATCH(G17,'G-8 Condition Look up'!$A$3:$A$130,0),MATCH(K17,'G-8 Condition Look up'!$A$3:$H$3,0)),"") | N17: =IF(M17="","",IF(VLOOKUP(M17,'G-3 Multipliers'!$L$3:$N$6,2,FALSE)=0,"Spatial Data Missing",VLOOKUP(M17,'G-3 Multipliers'!$L$3:$N$6,2,FALSE))) | O17: =IF(M17="","",IF(VLOOKUP(M17,'G-3 Multipliers'!$L$3:$N$6,3,FALSE)=0,"Spatial Data Missing ▲",VLOOKUP(M17,'G-3 Multipliers'!$L$3:$N$6,3,FALSE))) | P17: =IFERROR(VLOOKUP(G17,'G-1 All Habitats'!$B$2:$M$129,12,FALSE),"") | Q17: =IFERROR(IF(P17="","",IF(AND(P17='G-1 All Habitats'!$X$3,T17>0),U17+V17,IF(AND(P17='G-1 All Habitats'!$X$3,S17>0),U17+V17,IF(AND(P17='G-1 All Habitats'!$X$3,AC17>0),"Any Loss Unacceptable ▲",IF(AND(P17='G-1 All Habitats'!$X$3,W17>0),"Any Loss Unacceptable ▲",H17*J17*L17*O17))))),"Check Data ▲") | U17: =IFERROR(S17*J17*L17*O17,"") | V17: =IFERROR(T17*J17*L17*O17,"") | W17: =IF(E17="","",IF(H17<S17+T17,"Error in Areas ▲",IF(P17<>'G-1 All Habitats'!$X$3,H17-S17-T17,IF(AND(P17='G-1 All Habitats'!$X$3,Y17="Yes"),"Unacceptable Loss",IF(AND(P17='G-1 All Habitats'!$X$3,Y17="No"),AC17,IF(AND(P17='G-1 All Habitats'!$X$3,Y17=""),AC17,IF(AND(P17='G-1 All Habitats'!$X$3,AC17="None",AC17),IF(AND(P17='G-1 All Habitats'!$X$3,AC17>0),H17-S17-T17)))))))) | X17: =IFERROR(IF(H17="","",IF(H17-S17-T17=0<0,"Error in Areas ▲",IF(S17+T17>H17,"Error in Areas ▲",IF(AND(P17='G-1 All Habitats'!$X$3,Y17="Yes"),"Alternative Compensation ✓",IF(W17=0,0,IF(P17='G-1 All Habitats'!$X$3,"Unacceptable Loss ▲",Q17-U17-V17)))))),"Check Data ▲") | AC17: =IF(P17="","",IF(P17='G-1 All Habitats'!$X$3,H17-S17-T17,"None")) | AD17: =IFERROR(AC17*J17*L17*#REF!*O17,IF(P17="","","None")) | AF17: =IF(G17="","",IF(S17>0,TRUE,FALSE)) | AG17: =IF(H17="","",IF(T17>0,TRUE,FALSE)) | AH17: =IF(I17="","",IF(#REF!>0,TRUE,FALSE)) | AI17: 7 | AK17: {=IFERROR(INDEX($AI$11:$AI$259, MATCH(0, IF(TRUE=$AF$11:$AF$259, COUNTIF($AK$10:$AK16, $AI$11:$AI$259), ""), 0)),"")} | AL17: {=IFERROR(INDEX($AI$11:$AI$259, MATCH(0, IF(TRUE=$AG$11:$AG$259, COUNTIF($AL$10:$AL16, $AI$11:$AI$259), ""), 0)),"")} | AM17: {=IFERROR(INDEX($AI$11:$AI$259, MATCH(0, IF(TRUE=$AH$11:$AH$259, COUNTIF($AM$10:$AM16, $AI$11:$AI$259), ""), 0)),"")} | AQ17: =IF(X17="Unacceptable Loss",1,0) -> 0
A18: =IFERROR(INDEX('G-1 All Habitats'!$AG$3:$AG$15,MATCH(E18,'G-1 All Habitats'!$AF$3:$AF$15,0)),"") | B18: =IFERROR(INDEX('G-8 Condition Look up'!$I$4:$I$130,MATCH(G18,'G-8 Condition Look up'!$A$4:$A$130,0)),"") | D18: 8 | G18: =IFERROR(INDEX('G-1 All Habitats'!$B$3:$B$129,MATCH(F18,'G-1 All Habitats'!$A$3:$A$129,0)),"") | I18: =IF(G18="","",VLOOKUP(G18,'G-1 All Habitats'!$B$2:$M$129,10,FALSE)) | J18: =IFERROR(VLOOKUP(I18,'G-1 All Habitats'!$V$3:$W$7,2,FALSE),"") | L18: =IFERROR(INDEX('G-8 Condition Look up'!$A$3:$H$130,MATCH(G18,'G-8 Condition Look up'!$A$3:$A$130,0),MATCH(K18,'G-8 Condition Look up'!$A$3:$H$3,0)),"") | N18: =IF(M18="","",IF(VLOOKUP(M18,'G-3 Multipliers'!$L$3:$N$6,2,FALSE)=0,"Spatial Data Missing",VLOOKUP(M18,'G-3 Multipliers'!$L$3:$N$6,2,FALSE))) | O18: =IF(M18="","",IF(VLOOKUP(M18,'G-3 Multipliers'!$L$3:$N$6,3,FALSE)=0,"Spatial Data Missing ▲",VLOOKUP(M18,'G-3 Multipliers'!$L$3:$N$6,3,FALSE))) | P18: =IFERROR(VLOOKUP(G18,'G-1 All Habitats'!$B$2:$M$129,12,FALSE),"") | Q18: =IFERROR(IF(P18="","",IF(AND(P18='G-1 All Habitats'!$X$3,T18>0),U18+V18,IF(AND(P18='G-1 All Habitats'!$X$3,S18>0),U18+V18,IF(AND(P18='G-1 All Habitats'!$X$3,AC18>0),"Any Loss Unacceptable ▲",IF(AND(P18='G-1 All Habitats'!$X$3,W18>0),"Any Loss Unacceptable ▲",H18*J18*L18*O18))))),"Check Data ▲") | U18: =IFERROR(S18*J18*L18*O18,"") | V18: =IFERROR(T18*J18*L18*O18,"") | W18: =IF(E18="","",IF(H18<S18+T18,"Error in Areas ▲",IF(P18<>'G-1 All Habitats'!$X$3,H18-S18-T18,IF(AND(P18='G-1 All Habitats'!$X$3,Y18="Yes"),"Unacceptable Loss",IF(AND(P18='G-1 All Habitats'!$X$3,Y18="No"),AC18,IF(AND(P18='G-1 All Habitats'!$X$3,Y18=""),AC18,IF(AND(P18='G-1 All Habitats'!$X$3,AC18="None",AC18),IF(AND(P18='G-1 All Habitats'!$X$3,AC18>0),H18-S18-T18)))))))) | X18: =IFERROR(IF(H18="","",IF(H18-S18-T18=0<0,"Error in Areas ▲",IF(S18+T18>H18,"Error in Areas ▲",IF(AND(P18='G-1 All Habitats'!$X$3,Y18="Yes"),"Alternative Compensation ✓",IF(W18=0,0,IF(P18='G-1 All Habitats'!$X$3,"Unacceptable Loss ▲",Q18-U18-V18)))))),"Check Data ▲") | AC18: =IF(P18="","",IF(P18='G-1 All Habitats'!$X$3,H18-S18-T18,"None")) | AD18: =IFERROR(AC18*J18*L18*#REF!*O18,IF(P18="","","None")) | AF18: =IF(G18="","",IF(S18>0,TRUE,FALSE)) | AG18: =IF(H18="","",IF(T18>0,TRUE,FALSE)) | AH18: =IF(I18="","",IF(#REF!>0,TRUE,FALSE)) | AI18: 8 | AK18: {=IFERROR(INDEX($AI$11:$AI$259, MATCH(0, IF(TRUE=$AF$11:$AF$259, COUNTIF($AK$10:$AK17, $AI$11:$AI$259), ""), 0)),"")} | AL18: {=IFERROR(INDEX($AI$11:$AI$259, MATCH(0, IF(TRUE=$AG$11:$AG$259, COUNTIF($AL$10:$AL17, $AI$11:$AI$259), ""), 0)),"")} | AM18: {=IFERROR(INDEX($AI$11:$AI$259, MATCH(0, IF(TRUE=$AH$11:$AH$259, COUNTIF($AM$10:$AM17, $AI$11:$AI$259), ""), 0)),"")} | AQ18: =IF(X18="Unacceptable Loss",1,0) -> 0
A19: =IFERROR(INDEX('G-1 All Habitats'!$AG$3:$AG$15,MATCH(E19,'G-1 All Habitats'!$AF$3:$AF$15,0)),"") | B19: =IFERROR(INDEX('G-8 Condition Look up'!$I$4:$I$130,MATCH(G19,'G-8 Condition Look up'!$A$4:$A$130,0)),"") | D19: 9 | G19: =IFERROR(INDEX('G-1 All Habitats'!$B$3:$B$129,MATCH(F19,'G-1 All Habitats'!$A$3:$A$129,0)),"") | I19: =IF(G19="","",VLOOKUP(G19,'G-1 All Habitats'!$B$2:$M$129,10,FALSE)) | J19: =IFERROR(VLOOKUP(I19,'G-1 All Habitats'!$V$3:$W$7,2,FALSE),"") | L19: =IFERROR(INDEX('G-8 Condition Look up'!$A$3:$H$130,MATCH(G19,'G-8 Condition Look up'!$A$3:$A$130,0),MATCH(K19,'G-8 Condition Look up'!$A$3:$H$3,0)),"") | N19: =IF(M19="","",IF(VLOOKUP(M19,'G-3 Multipliers'!$L$3:$N$6,2,FALSE)=0,"Spatial Data Missing",VLOOKUP(M19,'G-3 Multipliers'!$L$3:$N$6,2,FALSE))) | O19: =IF(M19="","",IF(VLOOKUP(M19,'G-3 Multipliers'!$L$3:$N$6,3,FALSE)=0,"Spatial Data Missing ▲",VLOOKUP(M19,'G-3 Multipliers'!$L$3:$N$6,3,FALSE))) | P19: =IFERROR(VLOOKUP(G19,'G-1 All Habitats'!$B$2:$M$129,12,FALSE),"") | Q19: =IFERROR(IF(P19="","",IF(AND(P19='G-1 All Habitats'!$X$3,T19>0),U19+V19,IF(AND(P19='G-1 All Habitats'!$X$3,S19>0),U19+V19,IF(AND(P19='G-1 All Habitats'!$X$3,AC19>0),"Any Loss Unacceptable ▲",IF(AND(P19='G-1 All Habitats'!$X$3,W19>0),"Any Loss Unacceptable ▲",H19*J19*L19*O19))))),"Check Data ▲") | U19: =IFERROR(S19*J19*L19*O19,"") | V19: =IFERROR(T19*J19*L19*O19,"") | W19: =IF(E19="","",IF(H19<S19+T19,"Error in Areas ▲",IF(P19<>'G-1 All Habitats'!$X$3,H19-S19-T19,IF(AND(P19='G-1 All Habitats'!$X$3,Y19="Yes"),"Unacceptable Loss",IF(AND(P19='G-1 All Habitats'!$X$3,Y19="No"),AC19,IF(AND(P19='G-1 All Habitats'!$X$3,Y19=""),AC19,IF(AND(P19='G-1 All Habitats'!$X$3,AC19="None",AC19),IF(AND(P19='G-1 All Habitats'!$X$3,AC19>0),H19-S19-T19)))))))) | X19: =IFERROR(IF(H19="","",IF(H19-S19-T19=0<0,"Error in Areas ▲",IF(S19+T19>H19,"Error in Areas ▲",IF(AND(P19='G-1 All Habitats'!$X$3,Y19="Yes"),"Alternative Compensation ✓",IF(W19=0,0,IF(P19='G-1 All Habitats'!$X$3,"Unacceptable Loss ▲",Q19-U19-V19)))))),"Check Data ▲") | AC19: =IF(P19="","",IF(P19='G-1 All Habitats'!$X$3,H19-S19-T19,"None")) | AD19: =IFERROR(AC19*J19*L19*#REF!*O19,IF(P19="","","None")) | AF19: =IF(G19="","",IF(S19>0,TRUE,FALSE)) | AG19: =IF(H19="","",IF(T19>0,TRUE,FALSE)) | AH19: =IF(I19="","",IF(#REF!>0,TRUE,FALSE)) | AI19: 9 | AK19: {=IFERROR(INDEX($AI$11:$AI$259, MATCH(0, IF(TRUE=$AF$11:$AF$259, COUNTIF($AK$10:$AK18, $AI$11:$AI$259), ""), 0)),"")} | AL19: {=IFERROR(INDEX($AI$11:$AI$259, MATCH(0, IF(TRUE=$AG$11:$AG$259, COUNTIF($AL$10:$AL18, $AI$11:$AI$259), ""), 0)),"")} | AM19: {=IFERROR(INDEX($AI$11:$AI$259, MATCH(0, IF(TRUE=$AH$11:$AH$259, COUNTIF($AM$10:$AM18, $AI$11:$AI$259), ""), 0)),"")} | AQ19: =IF(X19="Unacceptable Loss",1,0) -> 0
A20: =IFERROR(INDEX('G-1 All Habitats'!$AG$3:$AG$15,MATCH(E20,'G-1 All Habitats'!$AF$3:$AF$15,0)),"") | B20: =IFERROR(INDEX('G-8 Condition Look up'!$I$4:$I$130,MATCH(G20,'G-8 Condition Look up'!$A$4:$A$130,0)),"") | D20: 10 | G20: =IFERROR(INDEX('G-1 All Habitats'!$B$3:$B$129,MATCH(F20,'G-1 All Habitats'!$A$3:$A$129,0)),"") | I20: =IF(G20="","",VLOOKUP(G20,'G-1 All Habitats'!$B$2:$M$129,10,FALSE)) | J20: =IFERROR(VLOOKUP(I20,'G-1 All Habitats'!$V$3:$W$7,2,FALSE),"") | L20: =IFERROR(INDEX('G-8 Condition Look up'!$A$3:$H$130,MATCH(G20,'G-8 Condition Look up'!$A$3:$A$130,0),MATCH(K20,'G-8 Condition Look up'!$A$3:$H$3,0)),"") | N20: =IF(M20="","",IF(VLOOKUP(M20,'G-3 Multipliers'!$L$3:$N$6,2,FALSE)=0,"Spatial Data Missing",VLOOKUP(M20,'G-3 Multipliers'!$L$3:$N$6,2,FALSE))) | O20: =IF(M20="","",IF(VLOOKUP(M20,'G-3 Multipliers'!$L$3:$N$6,3,FALSE)=0,"Spatial Data Missing ▲",VLOOKUP(M20,'G-3 Multipliers'!$L$3:$N$6,3,FALSE))) | P20: =IFERROR(VLOOKUP(G20,'G-1 All Habitats'!$B$2:$M$129,12,FALSE),"") | Q20: =IFERROR(IF(P20="","",IF(AND(P20='G-1 All Habitats'!$X$3,T20>0),U20+V20,IF(AND(P20='G-1 All Habitats'!$X$3,S20>0),U20+V20,IF(AND(P20='G-1 All Habitats'!$X$3,AC20>0),"Any Loss Unacceptable ▲",IF(AND(P20='G-1 All Habitats'!$X$3,W20>0),"Any Loss Unacceptable ▲",H20*J20*L20*O20))))),"Check Data ▲") | U20: =IFERROR(S20*J20*L20*O20,"") | V20: =IFERROR(T20*J20*L20*O20,"") | W20: =IF(E20="","",IF(H20<S20+T20,"Error in Areas ▲",IF(P20<>'G-1 All Habitats'!$X$3,H20-S20-T20,IF(AND(P20='G-1 All Habitats'!$X$3,Y20="Yes"),"Unacceptable Loss",IF(AND(P20='G-1 All Habitats'!$X$3,Y20="No"),AC20,IF(AND(P20='G-1 All Habitats'!$X$3,Y20=""),AC20,IF(AND(P20='G-1 All Habitats'!$X$3,AC20="None",AC20),IF(AND(P20='G-1 All Habitats'!$X$3,AC20>0),H20-S20-T20)))))))) | X20: =IFERROR(IF(H20="","",IF(H20-S20-T20=0<0,"Error in Areas ▲",IF(S20+T20>H20,"Error in Areas ▲",IF(AND(P20='G-1 All Habitats'!$X$3,Y20="Yes"),"Alternative Compensation ✓",IF(W20=0,0,IF(P20='G-1 All Habitats'!$X$3,"Unacceptable Loss ▲",Q20-U20-V20)))))),"Check Data ▲") | AC20: =IF(P20="","",IF(P20='G-1 All Habitats'!$X$3,H20-S20-T20,"None")) | AD20: =IFERROR(AC20*J20*L20*#REF!*O20,IF(P20="","","None")) | AF20: =IF(G20="","",IF(S20>0,TRUE,FALSE)) | AG20: =IF(H20="","",IF(T20>0,TRUE,FALSE)) | AH20: =IF(I20="","",IF(#REF!>0,TRUE,FALSE)) | AI20: 10 | AK20: {=IFERROR(INDEX($AI$11:$AI$259, MATCH(0, IF(TRUE=$AF$11:$AF$259, COUNTIF($AK$10:$AK19, $AI$11:$AI$259), ""), 0)),"")} | AL20: {=IFERROR(INDEX($AI$11:$AI$259, MATCH(0, IF(TRUE=$AG$11:$AG$259, COUNTIF($AL$10:$AL19, $AI$11:$AI$259), ""), 0)),"")} | AM20: {=IFERROR(INDEX($AI$11:$AI$259, MATCH(0, IF(TRUE=$AH$11:$AH$259, COUNTIF($AM$10:$AM19, $AI$11:$AI$259), ""), 0)),"")} | AQ20: =IF(X20="Unacceptable Loss",1,0) -> 0
A21: =IFERROR(INDEX('G-1 All Habitats'!$AG$3:$AG$15,MATCH(E21,'G-1 All Habitats'!$AF$3:$AF$15,0)),"") | B21: =IFERROR(INDEX('G-8 Condition Look up'!$I$4:$I$130,MATCH(G21,'G-8 Condition Look up'!$A$4:$A$130,0)),"") | D21: 11 | G21: =IFERROR(INDEX('G-1 All Habitats'!$B$3:$B$129,MATCH(F21,'G-1 All Habitats'!$A$3:$A$129,0)),"") | I21: =IF(G21="","",VLOOKUP(G21,'G-1 All Habitats'!$B$2:$M$129,10,FALSE)) | J21: =IFERROR(VLOOKUP(I21,'G-1 All Habitats'!$V$3:$W$7,2,FALSE),"") | L21: =IFERROR(INDEX('G-8 Condition Look up'!$A$3:$H$130,MATCH(G21,'G-8 Condition Look up'!$A$3:$A$130,0),MATCH(K21,'G-8 Condition Look up'!$A$3:$H$3,0)),"") | N21: =IF(M21="","",IF(VLOOKUP(M21,'G-3 Multipliers'!$L$3:$N$6,2,FALSE)=0,"Spatial Data Missing",VLOOKUP(M21,'G-3 Multipliers'!$L$3:$N$6,2,FALSE))) | O21: =IF(M21="","",IF(VLOOKUP(M21,'G-3 Multipliers'!$L$3:$N$6,3,FALSE)=0,"Spatial Data Missing ▲",VLOOKUP(M21,'G-3 Multipliers'!$L$3:$N$6,3,FALSE))) | P21: =IFERROR(VLOOKUP(G21,'G-1 All Habitats'!$B$2:$M$129,12,FALSE),"") | Q21: =IFERROR(IF(P21="","",IF(AND(P21='G-1 All Habitats'!$X$3,T21>0),U21+V21,IF(AND(P21='G-1 All Habitats'!$X$3,S21>0),U21+V21,IF(AND(P21='G-1 All Habitats'!$X$3,AC21>0),"Any Loss Unacceptable ▲",IF(AND(P21='G-1 All Habitats'!$X$3,W21>0),"Any Loss Unacceptable ▲",H21*J21*L21*O21))))),"Check Data ▲") | U21: =IFERROR(S21*J21*L21*O21,"") | V21: =IFERROR(T21*J21*L21*O21,"") | W21: =IF(E21="","",IF(H21<S21+T21,"Error in Areas ▲",IF(P21<>'G-1 All Habitats'!$X$3,H21-S21-T21,IF(AND(P21='G-1 All Habitats'!$X$3,Y21="Yes"),"Unacceptable Loss",IF(AND(P21='G-1 All Habitats'!$X$3,Y21="No"),AC21,IF(AND(P21='G-1 All Habitats'!$X$3,Y21=""),AC21,IF(AND(P21='G-1 All Habitats'!$X$3,AC21="None",AC21),IF(AND(P21='G-1 All Habitats'!$X$3,AC21>0),H21-S21-T21)))))))) | X21: =IFERROR(IF(H21="","",IF(H21-S21-T21=0<0,"Error in Areas ▲",IF(S21+T21>H21,"Error in Areas ▲",IF(AND(P21='G-1 All Habitats'!$X$3,Y21="Yes"),"Alternative Compensation ✓",IF(W21=0,0,IF(P21='G-1 All Habitats'!$X$3,"Unacceptable Loss ▲",Q21-U21-V21)))))),"Check Data ▲") | AC21: =IF(P21="","",IF(P21='G-1 All Habitats'!$X$3,H21-S21-T21,"None")) | AD21: =IFERROR(AC21*J21*L21*#REF!*O21,IF(P21="","","None")) | AF21: =IF(G21="","",IF(S21>0,TRUE,FALSE)) | AG21: =IF(H21="","",IF(T21>0,TRUE,FALSE)) | AH21: =IF(I21="","",IF(#REF!>0,TRUE,FALSE)) | AI21: 11 | AK21: {=IFERROR(INDEX($AI$11:$AI$259, MATCH(0, IF(TRUE=$AF$11:$AF$259, COUNTIF($AK$10:$AK20, $AI$11:$AI$259), ""), 0)),"")} | AL21: {=IFERROR(INDEX($AI$11:$AI$259, MATCH(0, IF(TRUE=$AG$11:$AG$259, COUNTIF($AL$10:$AL20, $AI$11:$AI$259), ""), 0)),"")} | AM21: {=IFERROR(INDEX($AI$11:$AI$259, MATCH(0, IF(TRUE=$AH$11:$AH$259, COUNTIF($AM$10:$AM20, $AI$11:$AI$259), ""), 0)),"")} | AQ21: =IF(X21="Unacceptable Loss",1,0) -> 0
A22: =IFERROR(INDEX('G-1 All Habitats'!$AG$3:$AG$15,MATCH(E22,'G-1 All Habitats'!$AF$3:$AF$15,0)),"") | B22: =IFERROR(INDEX('G-8 Condition Look up'!$I$4:$I$130,MATCH(G22,'G-8 Condition Look up'!$A$4:$A$130,0)),"") | D22: 12 | G22: =IFERROR(INDEX('G-1 All Habitats'!$B$3:$B$129,MATCH(F22,'G-1 All Habitats'!$A$3:$A$129,0)),"") | I22: =IF(G22="","",VLOOKUP(G22,'G-1 All Habitats'!$B$2:$M$129,10,FALSE)) | J22: =IFERROR(VLOOKUP(I22,'G-1 All Habitats'!$V$3:$W$7,2,FALSE),"") | L22: =IFERROR(INDEX('G-8 Condition Look up'!$A$3:$H$130,MATCH(G22,'G-8 Condition Look up'!$A$3:$A$130,0),MATCH(K22,'G-8 Condition Look up'!$A$3:$H$3,0)),"") | N22: =IF(M22="","",IF(VLOOKUP(M22,'G-3 Multipliers'!$L$3:$N$6,2,FALSE)=0,"Spatial Data Missing",VLOOKUP(M22,'G-3 Multipliers'!$L$3:$N$6,2,FALSE))) | O22: =IF(M22="","",IF(VLOOKUP(M22,'G-3 Multipliers'!$L$3:$N$6,3,FALSE)=0,"Spatial Data Missing ▲",VLOOKUP(M22,'G-3 Multipliers'!$L$3:$N$6,3,FALSE))) | P22: =IFERROR(VLOOKUP(G22,'G-1 All Habitats'!$B$2:$M$129,12,FALSE),"") | Q22: =IFERROR(IF(P22="","",IF(AND(P22='G-1 All Habitats'!$X$3,T22>0),U22+V22,IF(AND(P22='G-1 All Habitats'!$X$3,S22>0),U22+V22,IF(AND(P22='G-1 All Habitats'!$X$3,AC22>0),"Any Loss Unacceptable ▲",IF(AND(P22='G-1 All Habitats'!$X$3,W22>0),"Any Loss Unacceptable ▲",H22*J22*L22*O22))))),"Check Data ▲") | U22: =IFERROR(S22*J22*L22*O22,"") | V22: =IFERROR(T22*J22*L22*O22,"") | W22: =IF(E22="","",IF(H22<S22+T22,"Error in Areas ▲",IF(P22<>'G-1 All Habitats'!$X$3,H22-S22-T22,IF(AND(P22='G-1 All Habitats'!$X$3,Y22="Yes"),"Unacceptable Loss",IF(AND(P22='G-1 All Habitats'!$X$3,Y22="No"),AC22,IF(AND(P22='G-1 All Habitats'!$X$3,Y22=""),AC22,IF(AND(P22='G-1 All Habitats'!$X$3,AC22="None",AC22),IF(AND(P22='G-1 All Habitats'!$X$3,AC22>0),H22-S22-T22)))))))) | X22: =IFERROR(IF(H22="","",IF(H22-S22-T22=0<0,"Error in Areas ▲",IF(S22+T22>H22,"Error in Areas ▲",IF(AND(P22='G-1 All Habitats'!$X$3,Y22="Yes"),"Alternative Compensation ✓",IF(W22=0,0,IF(P22='G-1 All Habitats'!$X$3,"Unacceptable Loss ▲",Q22-U22-V22)))))),"Check Data ▲") | AC22: =IF(P22="","",IF(P22='G-1 All Habitats'!$X$3,H22-S22-T22,"None")) | AD22: =IFERROR(AC22*J22*L22*#REF!*O22,IF(P22="","","None")) | AF22: =IF(G22="","",IF(S22>0,TRUE,FALSE)) | AG22: =IF(H22="","",IF(T22>0,TRUE,FALSE)) | AH22: =IF(I22="","",IF(#REF!>0,TRUE,FALSE)) | AI22: 12 | AK22: {=IFERROR(INDEX($AI$11:$AI$259, MATCH(0, IF(TRUE=$AF$11:$AF$259, COUNTIF($AK$10:$AK21, $AI$11:$AI$259), ""), 0)),"")} | AL22: {=IFERROR(INDEX($AI$11:$AI$259, MATCH(0, IF(TRUE=$AG$11:$AG$259, COUNTIF($AL$10:$AL21, $AI$11:$AI$259), ""), 0)),"")} | AM22: {=IFERROR(INDEX($AI$11:$AI$259, MATCH(0, IF(TRUE=$AH$11:$AH$259, COUNTIF($AM$10:$AM21, $AI$11:$AI$259), ""), 0)),"")} | AQ22: =IF(X22="Unacceptable Loss",1,0) -> 0
A23: =IFERROR(INDEX('G-1 All Habitats'!$AG$3:$AG$15,MATCH(E23,'G-1 All Habitats'!$AF$3:$AF$15,0)),"") | B23: =IFERROR(INDEX('G-8 Condition Look up'!$I$4:$I$130,MATCH(G23,'G-8 Condition Look up'!$A$4:$A$130,0)),"") | D23: 13 | G23: =IFERROR(INDEX('G-1 All Habitats'!$B$3:$B$129,MATCH(F23,'G-1 All Habitats'!$A$3:$A$129,0)),"") | I23: =IF(G23="","",VLOOKUP(G23,'G-1 All Habitats'!$B$2:$M$129,10,FALSE)) | J23: =IFERROR(VLOOKUP(I23,'G-1 All Habitats'!$V$3:$W$7,2,FALSE),"") | L23: =IFERROR(INDEX('G-8 Condition Look up'!$A$3:$H$130,MATCH(G23,'G-8 Condition Look up'!$A$3:$A$130,0),MATCH(K23,'G-8 Condition Look up'!$A$3:$H$3,0)),"") | N23: =IF(M23="","",IF(VLOOKUP(M23,'G-3 Multipliers'!$L$3:$N$6,2,FALSE)=0,"Spatial Data Missing",VLOOKUP(M23,'G-3 Multipliers'!$L$3:$N$6,2,FALSE))) | O23: =IF(M23="","",IF(VLOOKUP(M23,'G-3 Multipliers'!$L$3:$N$6,3,FALSE)=0,"Spatial Data Missing ▲",VLOOKUP(M23,'G-3 Multipliers'!$L$3:$N$6,3,FALSE))) | P23: =IFERROR(VLOOKUP(G23,'G-1 All Habitats'!$B$2:$M$129,12,FALSE),"") | Q23: =IFERROR(IF(P23="","",IF(AND(P23='G-1 All Habitats'!$X$3,T23>0),U23+V23,IF(AND(P23='G-1 All Habitats'!$X$3,S23>0),U23+V23,IF(AND(P23='G-1 All Habitats'!$X$3,AC23>0),"Any Loss Unacceptable ▲",IF(AND(P23='G-1 All Habitats'!$X$3,W23>0),"Any Loss Unacceptable ▲",H23*J23*L23*O23))))),"Check Data ▲") | U23: =IFERROR(S23*J23*L23*O23,"") | V23: =IFERROR(T23*J23*L23*O23,"") | W23: =IF(E23="","",IF(H23<S23+T23,"Error in Areas ▲",IF(P23<>'G-1 All Habitats'!$X$3,H23-S23-T23,IF(AND(P23='G-1 All Habitats'!$X$3,Y23="Yes"),"Unacceptable Loss",IF(AND(P23='G-1 All Habitats'!$X$3,Y23="No"),AC23,IF(AND(P23='G-1 All Habitats'!$X$3,Y23=""),AC23,IF(AND(P23='G-1 All Habitats'!$X$3,AC23="None",AC23),IF(AND(P23='G-1 All Habitats'!$X$3,AC23>0),H23-S23-T23)))))))) | X23: =IFERROR(IF(H23="","",IF(H23-S23-T23=0<0,"Error in Areas ▲",IF(S23+T23>H23,"Error in Areas ▲",IF(AND(P23='G-1 All Habitats'!$X$3,Y23="Yes"),"Alternative Compensation ✓",IF(W23=0,0,IF(P23='G-1 All Habitats'!$X$3,"Unacceptable Loss ▲",Q23-U23-V23)))))),"Check Data ▲") | AC23: =IF(P23="","",IF(P23='G-1 All Habitats'!$X$3,H23-S23-T23,"None")) | AD23: =IFERROR(AC23*J23*L23*#REF!*O23,IF(P23="","","None")) | AF23: =IF(G23="","",IF(S23>0,TRUE,FALSE)) | AG23: =IF(H23="","",IF(T23>0,TRUE,FALSE)) | AH23: =IF(I23="","",IF(#REF!>0,TRUE,FALSE)) | AI23: 13 | AK23: {=IFERROR(INDEX($AI$11:$AI$259, MATCH(0, IF(TRUE=$AF$11:$AF$259, COUNTIF($AK$10:$AK22, $AI$11:$AI$259), ""), 0)),"")} | AL23: {=IFERROR(INDEX($AI$11:$AI$259, MATCH(0, IF(TRUE=$AG$11:$AG$259, COUNTIF($AL$10:$AL22, $AI$11:$AI$259), ""), 0)),"")} | AM23: {=IFERROR(INDEX($AI$11:$AI$259, MATCH(0, IF(TRUE=$AH$11:$AH$259, COUNTIF($AM$10:$AM22, $AI$11:$AI$259), ""), 0)),"")} | AQ23: =IF(X23="Unacceptable Loss",1,0) -> 0
A24: =IFERROR(INDEX('G-1 All Habitats'!$AG$3:$AG$15,MATCH(E24,'G-1 All Habitats'!$AF$3:$AF$15,0)),"") | B24: =IFERROR(INDEX('G-8 Condition Look up'!$I$4:$I$130,MATCH(G24,'G-8 Condition Look up'!$A$4:$A$130,0)),"") | D24: 14 | G24: =IFERROR(INDEX('G-1 All Habitats'!$B$3:$B$129,MATCH(F24,'G-1 All Habitats'!$A$3:$A$129,0)),"") | I24: =IF(G24="","",VLOOKUP(G24,'G-1 All Habitats'!$B$2:$M$129,10,FALSE)) | J24: =IFERROR(VLOOKUP(I24,'G-1 All Habitats'!$V$3:$W$7,2,FALSE),"") | L24: =IFERROR(INDEX('G-8 Condition Look up'!$A$3:$H$130,MATCH(G24,'G-8 Condition Look up'!$A$3:$A$130,0),MATCH(K24,'G-8 Condition Look up'!$A$3:$H$3,0)),"") | N24: =IF(M24="","",IF(VLOOKUP(M24,'G-3 Multipliers'!$L$3:$N$6,2,FALSE)=0,"Spatial Data Missing",VLOOKUP(M24,'G-3 Multipliers'!$L$3:$N$6,2,FALSE))) | O24: =IF(M24="","",IF(VLOOKUP(M24,'G-3 Multipliers'!$L$3:$N$6,3,FALSE)=0,"Spatial Data Missing ▲",VLOOKUP(M24,'G-3 Multipliers'!$L$3:$N$6,3,FALSE))) | P24: =IFERROR(VLOOKUP(G24,'G-1 All Habitats'!$B$2:$M$129,12,FALSE),"") | Q24: =IFERROR(IF(P24="","",IF(AND(P24='G-1 All Habitats'!$X$3,T24>0),U24+V24,IF(AND(P24='G-1 All Habitats'!$X$3,S24>0),U24+V24,IF(AND(P24='G-1 All Habitats'!$X$3,AC24>0),"Any Loss Unacceptable ▲",IF(AND(P24='G-1 All Habitats'!$X$3,W24>0),"Any Loss Unacceptable ▲",H24*J24*L24*O24))))),"Check Data ▲") | U24: =IFERROR(S24*J24*L24*O24,"") | V24: =IFERROR(T24*J24*L24*O24,"") | W24: =IF(E24="","",IF(H24<S24+T24,"Error in Areas ▲",IF(P24<>'G-1 All Habitats'!$X$3,H24-S24-T24,IF(AND(P24='G-1 All Habitats'!$X$3,Y24="Yes"),"Unacceptable Loss",IF(AND(P24='G-1 All Habitats'!$X$3,Y24="No"),AC24,IF(AND(P24='G-1 All Habitats'!$X$3,Y24=""),AC24,IF(AND(P24='G-1 All Habitats'!$X$3,AC24="None",AC24),IF(AND(P24='G-1 All Habitats'!$X$3,AC24>0),H24-S24-T24)))))))) | X24: =IFERROR(IF(H24="","",IF(H24-S24-T24=0<0,"Error in Areas ▲",IF(S24+T24>H24,"Error in Areas ▲",IF(AND(P24='G-1 All Habitats'!$X$3,Y24="Yes"),"Alternative Compensation ✓",IF(W24=0,0,IF(P24='G-1 All Habitats'!$X$3,"Unacceptable Loss ▲",Q24-U24-V24)))))),"Check Data ▲") | AC24: =IF(P24="","",IF(P24='G-1 All Habitats'!$X$3,H24-S24-T24,"None")) | AD24: =IFERROR(AC24*J24*L24*#REF!*O24,IF(P24="","","None")) | AF24: =IF(G24="","",IF(S24>0,TRUE,FALSE)) | AG24: =IF(H24="","",IF(T24>0,TRUE,FALSE)) | AH24: =IF(I24="","",IF(#REF!>0,TRUE,FALSE)) | AI24: 14 | AK24: {=IFERROR(INDEX($AI$11:$AI$259, MATCH(0, IF(TRUE=$AF$11:$AF$259, COUNTIF($AK$10:$AK23, $AI$11:$AI$259), ""), 0)),"")} | AL24: {=IFERROR(INDEX($AI$11:$AI$259, MATCH(0, IF(TRUE=$AG$11:$AG$259, COUNTIF($AL$10:$AL23, $AI$11:$AI$259), ""), 0)),"")} | AM24: {=IFERROR(INDEX($AI$11:$AI$259, MATCH(0, IF(TRUE=$AH$11:$AH$259, COUNTIF($AM$10:$AM23, $AI$11:$AI$259), ""), 0)),"")} | AQ24: =IF(X24="Unacceptable Loss",1,0) -> 0
A25: =IFERROR(INDEX('G-1 All Habitats'!$AG$3:$AG$15,MATCH(E25,'G-1 All Habitats'!$AF$3:$AF$15,0)),"") | B25: =IFERROR(INDEX('G-8 Condition Look up'!$I$4:$I$130,MATCH(G25,'G-8 Condition Look up'!$A$4:$A$130,0)),"") | D25: 15 | G25: =IFERROR(INDEX('G-1 All Habitats'!$B$3:$B$129,MATCH(F25,'G-1 All Habitats'!$A$3:$A$129,0)),"") | I25: =IF(G25="","",VLOOKUP(G25,'G-1 All Habitats'!$B$2:$M$129,10,FALSE)) | J25: =IFERROR(VLOOKUP(I25,'G-1 All Habitats'!$V$3:$W$7,2,FALSE),"") | L25: =IFERROR(INDEX('G-8 Condition Look up'!$A$3:$H$130,MATCH(G25,'G-8 Condition Look up'!$A$3:$A$130,0),MATCH(K25,'G-8 Condition Look up'!$A$3:$H$3,0)),"") | N25: =IF(M25="","",IF(VLOOKUP(M25,'G-3 Multipliers'!$L$3:$N$6,2,FALSE)=0,"Spatial Data Missing",VLOOKUP(M25,'G-3 Multipliers'!$L$3:$N$6,2,FALSE))) | O25: =IF(M25="","",IF(VLOOKUP(M25,'G-3 Multipliers'!$L$3:$N$6,3,FALSE)=0,"Spatial Data Missing ▲",VLOOKUP(M25,'G-3 Multipliers'!$L$3:$N$6,3,FALSE))) | P25: =IFERROR(VLOOKUP(G25,'G-1 All Habitats'!$B$2:$M$129,12,FALSE),"") | Q25: =IFERROR(IF(P25="","",IF(AND(P25='G-1 All Habitats'!$X$3,T25>0),U25+V25,IF(AND(P25='G-1 All Habitats'!$X$3,S25>0),U25+V25,IF(AND(P25='G-1 All Habitats'!$X$3,AC25>0),"Any Loss Unacceptable ▲",IF(AND(P25='G-1 All Habitats'!$X$3,W25>0),"Any Loss Unacceptable ▲",H25*J25*L25*O25))))),"Check Data ▲") | U25: =IFERROR(S25*J25*L25*O25,"") | V25: =IFERROR(T25*J25*L25*O25,"") | W25: =IF(E25="","",IF(H25<S25+T25,"Error in Areas ▲",IF(P25<>'G-1 All Habitats'!$X$3,H25-S25-T25,IF(AND(P25='G-1 All Habitats'!$X$3,Y25="Yes"),"Unacceptable Loss",IF(AND(P25='G-1 All Habitats'!$X$3,Y25="No"),AC25,IF(AND(P25='G-1 All Habitats'!$X$3,Y25=""),AC25,IF(AND(P25='G-1 All Habitats'!$X$3,AC25="None",AC25),IF(AND(P25='G-1 All Habitats'!$X$3,AC25>0),H25-S25-T25)))))))) | X25: =IFERROR(IF(H25="","",IF(H25-S25-T25=0<0,"Error in Areas ▲",IF(S25+T25>H25,"Error in Areas ▲",IF(AND(P25='G-1 All Habitats'!$X$3,Y25="Yes"),"Alternative Compensation ✓",IF(W25=0,0,IF(P25='G-1 All Habitats'!$X$3,"Unacceptable Loss ▲",Q25-U25-V25)))))),"Check Data ▲") | AC25: =IF(P25="","",IF(P25='G-1 All Habitats'!$X$3,H25-S25-T25,"None")) | AD25: =IFERROR(AC25*J25*L25*#REF!*O25,IF(P25="","","None")) | AF25: =IF(G25="","",IF(S25>0,TRUE,FALSE)) | AG25: =IF(H25="","",IF(T25>0,TRUE,FALSE)) | AH25: =IF(I25="","",IF(#REF!>0,TRUE,FALSE)) | AI25: 15 | AK25: {=IFERROR(INDEX($AI$11:$AI$259, MATCH(0, IF(TRUE=$AF$11:$AF$259, COUNTIF($AK$10:$AK24, $AI$11:$AI$259), ""), 0)),"")} | AL25: {=IFERROR(INDEX($AI$11:$AI$259, MATCH(0, IF(TRUE=$AG$11:$AG$259, COUNTIF($AL$10:$AL24, $AI$11:$AI$259), ""), 0)),"")} | AM25: {=IFERROR(INDEX($AI$11:$AI$259, MATCH(0, IF(TRUE=$AH$11:$AH$259, COUNTIF($AM$10:$AM24, $AI$11:$AI$259), ""), 0)),"")} | AQ25: =IF(X25="Unacceptable Loss",1,0) -> 0
A26: =IFERROR(INDEX('G-1 All Habitats'!$AG$3:$AG$15,MATCH(E26,'G-1 All Habitats'!$AF$3:$AF$15,0)),"") | B26: =IFERROR(INDEX('G-8 Condition Look up'!$I$4:$I$130,MATCH(G26,'G-8 Condition Look up'!$A$4:$A$130,0)),"") | D26: 16 | G26: =IFERROR(INDEX('G-1 All Habitats'!$B$3:$B$129,MATCH(F26,'G-1 All Habitats'!$A$3:$A$129,0)),"") | I26: =IF(G26="","",VLOOKUP(G26,'G-1 All Habitats'!$B$2:$M$129,10,FALSE)) | J26: =IFERROR(VLOOKUP(I26,'G-1 All Habitats'!$V$3:$W$7,2,FALSE),"") | L26: =IFERROR(INDEX('G-8 Condition Look up'!$A$3:$H$130,MATCH(G26,'G-8 Condition Look up'!$A$3:$A$130,0),MATCH(K26,'G-8 Condition Look up'!$A$3:$H$3,0)),"") | N26: =IF(M26="","",IF(VLOOKUP(M26,'G-3 Multipliers'!$L$3:$N$6,2,FALSE)=0,"Spatial Data Missing",VLOOKUP(M26,'G-3 Multipliers'!$L$3:$N$6,2,FALSE))) | O26: =IF(M26="","",IF(VLOOKUP(M26,'G-3 Multipliers'!$L$3:$N$6,3,FALSE)=0,"Spatial Data Missing ▲",VLOOKUP(M26,'G-3 Multipliers'!$L$3:$N$6,3,FALSE))) | P26: =IFERROR(VLOOKUP(G26,'G-1 All Habitats'!$B$2:$M$129,12,FALSE),"") | Q26: =IFERROR(IF(P26="","",IF(AND(P26='G-1 All Habitats'!$X$3,T26>0),U26+V26,IF(AND(P26='G-1 All Habitats'!$X$3,S26>0),U26+V26,IF(AND(P26='G-1 All Habitats'!$X$3,AC26>0),"Any Loss Unacceptable ▲",IF(AND(P26='G-1 All Habitats'!$X$3,W26>0),"Any Loss Unacceptable ▲",H26*J26*L26*O26))))),"Check Data ▲") | U26: =IFERROR(S26*J26*L26*O26,"") | V26: =IFERROR(T26*J26*L26*O26,"") | W26: =IF(E26="","",IF(H26<S26+T26,"Error in Areas ▲",IF(P26<>'G-1 All Habitats'!$X$3,H26-S26-T26,IF(AND(P26='G-1 All Habitats'!$X$3,Y26="Yes"),"Unacceptable Loss",IF(AND(P26='G-1 All Habitats'!$X$3,Y26="No"),AC26,IF(AND(P26='G-1 All Habitats'!$X$3,Y26=""),AC26,IF(AND(P26='G-1 All Habitats'!$X$3,AC26="None",AC26),IF(AND(P26='G-1 All Habitats'!$X$3,AC26>0),H26-S26-T26)))))))) | X26: =IFERROR(IF(H26="","",IF(H26-S26-T26=0<0,"Error in Areas ▲",IF(S26+T26>H26,"Error in Areas ▲",IF(AND(P26='G-1 All Habitats'!$X$3,Y26="Yes"),"Alternative Compensation ✓",IF(W26=0,0,IF(P26='G-1 All Habitats'!$X$3,"Unacceptable Loss ▲",Q26-U26-V26)))))),"Check Data ▲") | AC26: =IF(P26="","",IF(P26='G-1 All Habitats'!$X$3,H26-S26-T26,"None")) | AD26: =IFERROR(AC26*J26*L26*#REF!*O26,IF(P26="","","None")) | AF26: =IF(G26="","",IF(S26>0,TRUE,FALSE)) | AG26: =IF(H26="","",IF(T26>0,TRUE,FALSE)) | AH26: =IF(I26="","",IF(#REF!>0,TRUE,FALSE)) | AI26: 16 | AK26: {=IFERROR(INDEX($AI$11:$AI$259, MATCH(0, IF(TRUE=$AF$11:$AF$259, COUNTIF($AK$10:$AK25, $AI$11:$AI$259), ""), 0)),"")} | AL26: {=IFERROR(INDEX($AI$11:$AI$259, MATCH(0, IF(TRUE=$AG$11:$AG$259, COUNTIF($AL$10:$AL25, $AI$11:$AI$259), ""), 0)),"")} | AM26: {=IFERROR(INDEX($AI$11:$AI$259, MATCH(0, IF(TRUE=$AH$11:$AH$259, COUNTIF($AM$10:$AM25, $AI$11:$AI$259), ""), 0)),"")} | AQ26: =IF(X26="Unacceptable Loss",1,0) -> 0
... A100: =IFERROR(INDEX('G-1 All Habitats'!$AG$3:$AG$15,MATCH(E100,'G-1 All Habitats'!$AF$3:$AF$15,0)),"") | B100: =IFERROR(INDEX('G-8 Condition Look up'!$I$4:$I$130,MATCH(G100,'G-8 Condition Look up'!$A$4:$A$130,0)),"") | D100: 90 | G100: =IFERROR(INDEX('G-1 All Habitats'!$B$3:$B$129,MATCH(F100,'G-1 All Habitats'!$A$3:$A$129,0)),"") | I100: =IF(G100="","",VLOOKUP(G100,'G-1 All Habitats'!$B$2:$M$129,10,FALSE)) | J100: =IFERROR(VLOOKUP(I100,'G-1 All Habitats'!$V$3:$W$7,2,FALSE),"") | L100: =IFERROR(INDEX('G-8 Condition Look up'!$A$3:$H$130,MATCH(G100,'G-8 Condition Look up'!$A$3:$A$130,0),MATCH(K100,'G-8 Condition Look up'!$A$3:$H$3,0)),"") | N100: =IF(M100="","",IF(VLOOKUP(M100,'G-3 Multipliers'!$L$3:$N$6,2,FALSE)=0,"Spatial Data Missing",VLOOKUP(M100,'G-3 Multipliers'!$L$3:$N$6,2,FALSE))) | O100: =IF(M100="","",IF(VLOOKUP(M100,'G-3 Multipliers'!$L$3:$N$6,3,FALSE)=0,"Spatial Data Missing ▲",VLOOKUP(M100,'G-3 Multipliers'!$L$3:$N$6,3,FALSE))) | P100: =IFERROR(VLOOKUP(G100,'G-1 All Habitats'!$B$2:$M$129,12,FALSE),"") | Q100: =IFERROR(IF(P100="","",IF(AND(P100='G-1 All Habitats'!$X$3,T100>0),U100+V100,IF(AND(P100='G-1 All Habitats'!$X$3,S100>0),U100+V100,IF(AND(P100='G-1 All Habitats'!$X$3,AC100>0),"Any Loss Unacceptable ▲",IF(AND(P100='G-1 All Habitats'!$X$3,W100>0),"Any Loss Unacceptable ▲",H100*J100*L100*O100))))),"Check Data ▲") | U100: =IFERROR(S100*J100*L100*O100,"") | V100: =IFERROR(T100*J100*L100*O100,"") | W100: =IF(E100="","",IF(H100<S100+T100,"Error in Areas ▲",IF(P100<>'G-1 All Habitats'!$X$3,H100-S100-T100,IF(AND(P100='G-1 All Habitats'!$X$3,Y100="Yes"),"Unacceptable Loss",IF(AND(P100='G-1 All Habitats'!$X$3,Y100="No"),AC100,IF(AND(P100='G-1 All Habitats'!$X$3,Y100=""),AC100,IF(AND(P100='G-1 All Habitats'!$X$3,AC100="None",AC100),IF(AND(P100='G-1 All Habitats'!$X$3,AC100>0),H100-S100-T100)))))))) | X100: =IFERROR(IF(H100="","",IF(H100-S100-T100=0<0,"Error in Areas ▲",IF(S100+T100>H100,"Error in Areas ▲",IF(AND(P100='G-1 All Habitats'!$X$3,Y100="Yes"),"Alternative Compensation ✓",IF(W100=0,0,IF(P100='G-1 All Habitats'!$X$3,"Unacceptable Loss ▲",Q100-U100-V100)))))),"Check Data ▲") | AC100: =IF(P100="","",IF(P100='G-1 All Habitats'!$X$3,H100-S100-T100,"None")) | AD100: =IFERROR(AC100*J100*L100*#REF!*O100,IF(P100="","","None")) | AF100: =IF(G100="","",IF(S100>0,TRUE,FALSE)) | AG100: =IF(H100="","",IF(T100>0,TRUE,FALSE)) | AH100: =IF(I100="","",IF(#REF!>0,TRUE,FALSE)) | AI100: 90 | AK100: {=IFERROR(INDEX($AI$11:$AI$259, MATCH(0, IF(TRUE=$AF$11:$AF$259, COUNTIF($AK$10:$AK99, $AI$11:$AI$259), ""), 0)),"")} | AL100: {=IFERROR(INDEX($AI$11:$AI$259, MATCH(0, IF(TRUE=$AG$11:$AG$259, COUNTIF($AL$10:$AL99, $AI$11:$AI$259), ""), 0)),"")} | AM100: {=IFERROR(INDEX($AI$11:$AI$259, MATCH(0, IF(TRUE=$AH$11:$AH$259, COUNTIF($AM$10:$AM99, $AI$11:$AI$259), ""), 0)),"")} | AQ100: =IF(X100="Unacceptable Loss",1,0) -> 0
A101: =IFERROR(INDEX('G-1 All Habitats'!$AG$3:$AG$15,MATCH(E101,'G-1 All Habitats'!$AF$3:$AF$15,0)),"") | B101: =IFERROR(INDEX('G-8 Condition Look up'!$I$4:$I$130,MATCH(G101,'G-8 Condition Look up'!$A$4:$A$130,0)),"") | D101: 91 | G101: =IFERROR(INDEX('G-1 All Habitats'!$B$3:$B$129,MATCH(F101,'G-1 All Habitats'!$A$3:$A$129,0)),"") | I101: =IF(G101="","",VLOOKUP(G101,'G-1 All Habitats'!$B$2:$M$129,10,FALSE)) | J101: =IFERROR(VLOOKUP(I101,'G-1 All Habitats'!$V$3:$W$7,2,FALSE),"") | L101: =IFERROR(INDEX('G-8 Condition Look up'!$A$3:$H$130,MATCH(G101,'G-8 Condition Look up'!$A$3:$A$130,0),MATCH(K101,'G-8 Condition Look up'!$A$3:$H$3,0)),"") | N101: =IF(M101="","",IF(VLOOKUP(M101,'G-3 Multipliers'!$L$3:$N$6,2,FALSE)=0,"Spatial Data Missing",VLOOKUP(M101,'G-3 Multipliers'!$L$3:$N$6,2,FALSE))) | O101: =IF(M101="","",IF(VLOOKUP(M101,'G-3 Multipliers'!$L$3:$N$6,3,FALSE)=0,"Spatial Data Missing",VLOOKUP(M101,'G-3 Multipliers'!$L$3:$N$6,3,FALSE))) | P101: =IFERROR(VLOOKUP(G101,'G-1 All Habitats'!$B$2:$M$129,12,FALSE),"") | Q101: =IFERROR(IF(P101="","",IF(AND(P101='G-1 All Habitats'!$X$3,T101>0),U101+V101,IF(AND(P101='G-1 All Habitats'!$X$3,S101>0),U101+V101,IF(AND(P101='G-1 All Habitats'!$X$3,AC101>0),"Any Loss Unacceptable ▲",IF(AND(P101='G-1 All Habitats'!$X$3,W101>0),"Any Loss Unacceptable ▲",H101*J101*L101*O101))))),"Check Data ▲") | U101: =IFERROR(S101*J101*L101*O101,"") | V101: =IFERROR(T101*J101*L101*O101,"") | W101: =IF(E101="","",IF(H101<S101+T101,"Error in Areas ▲",IF(P101<>'G-1 All Habitats'!$X$3,H101-S101-T101,IF(AND(P101='G-1 All Habitats'!$X$3,Y101="Yes"),"Unacceptable Loss",IF(AND(P101='G-1 All Habitats'!$X$3,Y101="No"),AC101,IF(AND(P101='G-1 All Habitats'!$X$3,Y101=""),AC101,IF(AND(P101='G-1 All Habitats'!$X$3,AC101="None",AC101),IF(AND(P101='G-1 All Habitats'!$X$3,AC101>0),H101-S101-T101)))))))) | X101: =IFERROR(IF(H101="","",IF(H101-S101-T101=0<0,"Error in Areas ▲",IF(S101+T101>H101,"Error in Areas ▲",IF(AND(P101='G-1 All Habitats'!$X$3,Y101="Yes"),"Alternative Compensation ✓",IF(W101=0,0,IF(P101='G-1 All Habitats'!$X$3,"Unacceptable Loss ▲",Q101-U101-V101)))))),"Check Data ▲") | AC101: =IF(P101="","",IF(P101='G-1 All Habitats'!$X$3,H101-S101-T101,"None")) | AD101: =IFERROR(AC101*J101*L101*#REF!*O101,IF(P101="","","None")) | AF101: =IF(G101="","",IF(S101>0,TRUE,FALSE)) | AG101: =IF(H101="","",IF(T101>0,TRUE,FALSE)) | AH101: =IF(I101="","",IF(#REF!>0,TRUE,FALSE)) | AI101: 91 | AK101: {=IFERROR(INDEX($AI$11:$AI$259, MATCH(0, IF(TRUE=$AF$11:$AF$259, COUNTIF($AK$10:$AK100, $AI$11:$AI$259), ""), 0)),"")} | AL101: {=IFERROR(INDEX($AI$11:$AI$259, MATCH(0, IF(TRUE=$AG$11:$AG$259, COUNTIF($AL$10:$AL100, $AI$11:$AI$259), ""), 0)),"")} | AM101: {=IFERROR(INDEX($AI$11:$AI$259, MATCH(0, IF(TRUE=$AH$11:$AH$259, COUNTIF($AM$10:$AM100, $AI$11:$AI$259), ""), 0)),"")} | AQ101: =IF(X101="Unacceptable Loss",1,0) -> 0
A102: =IFERROR(INDEX('G-1 All Habitats'!$AG$3:$AG$15,MATCH(E102,'G-1 All Habitats'!$AF$3:$AF$15,0)),"") | B102: =IFERROR(INDEX('G-8 Condition Look up'!$I$4:$I$130,MATCH(G102,'G-8 Condition Look up'!$A$4:$A$130,0)),"") | D102: 92 | G102: =IFERROR(INDEX('G-1 All Habitats'!$B$3:$B$129,MATCH(F102,'G-1 All Habitats'!$A$3:$A$129,0)),"") | I102: =IF(G102="","",VLOOKUP(G102,'G-1 All Habitats'!$B$2:$M$129,10,FALSE)) | J102: =IFERROR(VLOOKUP(I102,'G-1 All Habitats'!$V$3:$W$7,2,FALSE),"") | L102: =IFERROR(INDEX('G-8 Condition Look up'!$A$3:$H$130,MATCH(G102,'G-8 Condition Look up'!$A$3:$A$130,0),MATCH(K102,'G-8 Condition Look up'!$A$3:$H$3,0)),"") | N102: =IF(M102="","",IF(VLOOKUP(M102,'G-3 Multipliers'!$L$3:$N$6,2,FALSE)=0,"Spatial Data Missing",VLOOKUP(M102,'G-3 Multipliers'!$L$3:$N$6,2,FALSE))) | O102: =IF(M102="","",IF(VLOOKUP(M102,'G-3 Multipliers'!$L$3:$N$6,3,FALSE)=0,"Spatial Data Missing",VLOOKUP(M102,'G-3 Multipliers'!$L$3:$N$6,3,FALSE))) | P102: =IFERROR(VLOOKUP(G102,'G-1 All Habitats'!$B$2:$M$129,12,FALSE),"") | Q102: =IFERROR(IF(P102="","",IF(AND(P102='G-1 All Habitats'!$X$3,T102>0),U102+V102,IF(AND(P102='G-1 All Habitats'!$X$3,S102>0),U102+V102,IF(AND(P102='G-1 All Habitats'!$X$3,AC102>0),"Any Loss Unacceptable ▲",IF(AND(P102='G-1 All Habitats'!$X$3,W102>0),"Any Loss Unacceptable ▲",H102*J102*L102*O102))))),"Check Data ▲") | U102: =IFERROR(S102*J102*L102*O102,"") | V102: =IFERROR(T102*J102*L102*O102,"") | W102: =IF(E102="","",IF(H102<S102+T102,"Error in Areas ▲",IF(P102<>'G-1 All Habitats'!$X$3,H102-S102-T102,IF(AND(P102='G-1 All Habitats'!$X$3,Y102="Yes"),"Unacceptable Loss",IF(AND(P102='G-1 All Habitats'!$X$3,Y102="No"),AC102,IF(AND(P102='G-1 All Habitats'!$X$3,Y102=""),AC102,IF(AND(P102='G-1 All Habitats'!$X$3,AC102="None",AC102),IF(AND(P102='G-1 All Habitats'!$X$3,AC102>0),H102-S102-T102)))))))) | X102: =IFERROR(IF(H102="","",IF(H102-S102-T102=0<0,"Error in Areas ▲",IF(S102+T102>H102,"Error in Areas ▲",IF(AND(P102='G-1 All Habitats'!$X$3,Y102="Yes"),"Alternative Compensation ✓",IF(W102=0,0,IF(P102='G-1 All Habitats'!$X$3,"Unacceptable Loss ▲",Q102-U102-V102)))))),"Check Data ▲") | AC102: =IF(P102="","",IF(P102='G-1 All Habitats'!$X$3,H102-S102-T102,"None")) | AD102: =IFERROR(AC102*J102*L102*#REF!*O102,IF(P102="","","None")) | AF102: =IF(G102="","",IF(S102>0,TRUE,FALSE)) | AG102: =IF(H102="","",IF(T102>0,TRUE,FALSE)) | AH102: =IF(I102="","",IF(#REF!>0,TRUE,FALSE)) | AI102: 92 | AK102: {=IFERROR(INDEX($AI$11:$AI$259, MATCH(0, IF(TRUE=$AF$11:$AF$259, COUNTIF($AK$10:$AK101, $AI$11:$AI$259), ""), 0)),"")} | AL102: {=IFERROR(INDEX($AI$11:$AI$259, MATCH(0, IF(TRUE=$AG$11:$AG$259, COUNTIF($AL$10:$AL101, $AI$11:$AI$259), ""), 0)),"")} | AM102: {=IFERROR(INDEX($AI$11:$AI$259, MATCH(0, IF(TRUE=$AH$11:$AH$259, COUNTIF($AM$10:$AM101, $AI$11:$AI$259), ""), 0)),"")} | AQ102: =IF(X102="Unacceptable Loss",1,0) -> 0
A103: =IFERROR(INDEX('G-1 All Habitats'!$AG$3:$AG$15,MATCH(E103,'G-1 All Habitats'!$AF$3:$AF$15,0)),"") | B103: =IFERROR(INDEX('G-8 Condition Look up'!$I$4:$I$130,MATCH(G103,'G-8 Condition Look up'!$A$4:$A$130,0)),"") | D103: 93 | G103: =IFERROR(INDEX('G-1 All Habitats'!$B$3:$B$129,MATCH(F103,'G-1 All Habitats'!$A$3:$A$129,0)),"") | I103: =IF(G103="","",VLOOKUP(G103,'G-1 All Habitats'!$B$2:$M$129,10,FALSE)) | J103: =IFERROR(VLOOKUP(I103,'G-1 All Habitats'!$V$3:$W$7,2,FALSE),"") | L103: =IFERROR(INDEX('G-8 Condition Look up'!$A$3:$H$130,MATCH(G103,'G-8 Condition Look up'!$A$3:$A$130,0),MATCH(K103,'G-8 Condition Look up'!$A$3:$H$3,0)),"") | N103: =IF(M103="","",IF(VLOOKUP(M103,'G-3 Multipliers'!$L$3:$N$6,2,FALSE)=0,"Spatial Data Missing",VLOOKUP(M103,'G-3 Multipliers'!$L$3:$N$6,2,FALSE))) | O103: =IF(M103="","",IF(VLOOKUP(M103,'G-3 Multipliers'!$L$3:$N$6,3,FALSE)=0,"Spatial Data Missing",VLOOKUP(M103,'G-3 Multipliers'!$L$3:$N$6,3,FALSE))) | P103: =IFERROR(VLOOKUP(G103,'G-1 All Habitats'!$B$2:$M$129,12,FALSE),"") | Q103: =IFERROR(IF(P103="","",IF(AND(P103='G-1 All Habitats'!$X$3,T103>0),U103+V103,IF(AND(P103='G-1 All Habitats'!$X$3,S103>0),U103+V103,IF(AND(P103='G-1 All Habitats'!$X$3,AC103>0),"Any Loss Unacceptable ▲",IF(AND(P103='G-1 All Habitats'!$X$3,W103>0),"Any Loss Unacceptable ▲",H103*J103*L103*O103))))),"Check Data ▲") | U103: =IFERROR(S103*J103*L103*O103,"") | V103: =IFERROR(T103*J103*L103*O103,"") | W103: =IF(E103="","",IF(H103<S103+T103,"Error in Areas ▲",IF(P103<>'G-1 All Habitats'!$X$3,H103-S103-T103,IF(AND(P103='G-1 All Habitats'!$X$3,Y103="Yes"),"Unacceptable Loss",IF(AND(P103='G-1 All Habitats'!$X$3,Y103="No"),AC103,IF(AND(P103='G-1 All Habitats'!$X$3,Y103=""),AC103,IF(AND(P103='G-1 All Habitats'!$X$3,AC103="None",AC103),IF(AND(P103='G-1 All Habitats'!$X$3,AC103>0),H103-S103-T103)))))))) | X103: =IFERROR(IF(H103="","",IF(H103-S103-T103=0<0,"Error in Areas ▲",IF(S103+T103>H103,"Error in Areas ▲",IF(AND(P103='G-1 All Habitats'!$X$3,Y103="Yes"),"Alternative Compensation ✓",IF(W103=0,0,IF(P103='G-1 All Habitats'!$X$3,"Unacceptable Loss ▲",Q103-U103-V103)))))),"Check Data ▲") | AC103: =IF(P103="","",IF(P103='G-1 All Habitats'!$X$3,H103-S103-T103,"None")) | AD103: =IFERROR(AC103*J103*L103*#REF!*O103,IF(P103="","","None")) | AF103: =IF(G103="","",IF(S103>0,TRUE,FALSE)) | AG103: =IF(H103="","",IF(T103>0,TRUE,FALSE)) | AH103: =IF(I103="","",IF(#REF!>0,TRUE,FALSE)) | AI103: 93 | AK103: {=IFERROR(INDEX($AI$11:$AI$259, MATCH(0, IF(TRUE=$AF$11:$AF$259, COUNTIF($AK$10:$AK102, $AI$11:$AI$259), ""), 0)),"")} | AL103: {=IFERROR(INDEX($AI$11:$AI$259, MATCH(0, IF(TRUE=$AG$11:$AG$259, COUNTIF($AL$10:$AL102, $AI$11:$AI$259), ""), 0)),"")} | AM103: {=IFERROR(INDEX($AI$11:$AI$259, MATCH(0, IF(TRUE=$AH$11:$AH$259, COUNTIF($AM$10:$AM102, $AI$11:$AI$259), ""), 0)),"")} | AQ103: =IF(X103="Unacceptable Loss",1,0) -> 0
A104: =IFERROR(INDEX('G-1 All Habitats'!$AG$3:$AG$15,MATCH(E104,'G-1 All Habitats'!$AF$3:$AF$15,0)),"") | B104: =IFERROR(INDEX('G-8 Condition Look up'!$I$4:$I$130,MATCH(G104,'G-8 Condition Look up'!$A$4:$A$130,0)),"") | D104: 94 | G104: =IFERROR(INDEX('G-1 All Habitats'!$B$3:$B$129,MATCH(F104,'G-1 All Habitats'!$A$3:$A$129,0)),"") | I104: =IF(G104="","",VLOOKUP(G104,'G-1 All Habitats'!$B$2:$M$129,10,FALSE)) | J104: =IFERROR(VLOOKUP(I104,'G-1 All Habitats'!$V$3:$W$7,2,FALSE),"") | L104: =IFERROR(INDEX('G-8 Condition Look up'!$A$3:$H$130,MATCH(G104,'G-8 Condition Look up'!$A$3:$A$130,0),MATCH(K104,'G-8 Condition Look up'!$A$3:$H$3,0)),"") | N104: =IF(M104="","",IF(VLOOKUP(M104,'G-3 Multipliers'!$L$3:$N$6,2,FALSE)=0,"Spatial Data Missing",VLOOKUP(M104,'G-3 Multipliers'!$L$3:$N$6,2,FALSE))) | O104: =IF(M104="","",IF(VLOOKUP(M104,'G-3 Multipliers'!$L$3:$N$6,3,FALSE)=0,"Spatial Data Missing",VLOOKUP(M104,'G-3 Multipliers'!$L$3:$N$6,3,FALSE))) | P104: =IFERROR(VLOOKUP(G104,'G-1 All Habitats'!$B$2:$M$129,12,FALSE),"") | Q104: =IFERROR(IF(P104="","",IF(AND(P104='G-1 All Habitats'!$X$3,T104>0),U104+V104,IF(AND(P104='G-1 All Habitats'!$X$3,S104>0),U104+V104,IF(AND(P104='G-1 All Habitats'!$X$3,AC104>0),"Any Loss Unacceptable ▲",IF(AND(P104='G-1 All Habitats'!$X$3,W104>0),"Any Loss Unacceptable ▲",H104*J104*L104*O104))))),"Check Data ▲") | U104: =IFERROR(S104*J104*L104*O104,"") | V104: =IFERROR(T104*J104*L104*O104,"") | W104: =IF(E104="","",IF(H104<S104+T104,"Error in Areas ▲",IF(P104<>'G-1 All Habitats'!$X$3,H104-S104-T104,IF(AND(P104='G-1 All Habitats'!$X$3,Y104="Yes"),"Unacceptable Loss",IF(AND(P104='G-1 All Habitats'!$X$3,Y104="No"),AC104,IF(AND(P104='G-1 All Habitats'!$X$3,Y104=""),AC104,IF(AND(P104='G-1 All Habitats'!$X$3,AC104="None",AC104),IF(AND(P104='G-1 All Habitats'!$X$3,AC104>0),H104-S104-T104)))))))) | X104: =IFERROR(IF(H104="","",IF(H104-S104-T104=0<0,"Error in Areas ▲",IF(S104+T104>H104,"Error in Areas ▲",IF(AND(P104='G-1 All Habitats'!$X$3,Y104="Yes"),"Alternative Compensation ✓",IF(W104=0,0,IF(P104='G-1 All Habitats'!$X$3,"Unacceptable Loss ▲",Q104-U104-V104)))))),"Check Data ▲") | AC104: =IF(P104="","",IF(P104='G-1 All Habitats'!$X$3,H104-S104-T104,"None")) | AD104: =IFERROR(AC104*J104*L104*#REF!*O104,IF(P104="","","None")) | AF104: =IF(G104="","",IF(S104>0,TRUE,FALSE)) | AG104: =IF(H104="","",IF(T104>0,TRUE,FALSE)) | AH104: =IF(I104="","",IF(#REF!>0,TRUE,FALSE)) | AI104: 94 | AK104: {=IFERROR(INDEX($AI$11:$AI$259, MATCH(0, IF(TRUE=$AF$11:$AF$259, COUNTIF($AK$10:$AK103, $AI$11:$AI$259), ""), 0)),"")} | AL104: {=IFERROR(INDEX($AI$11:$AI$259, MATCH(0, IF(TRUE=$AG$11:$AG$259, COUNTIF($AL$10:$AL103, $AI$11:$AI$259), ""), 0)),"")} | AM104: {=IFERROR(INDEX($AI$11:$AI$259, MATCH(0, IF(TRUE=$AH$11:$AH$259, COUNTIF($AM$10:$AM103, $AI$11:$AI$259), ""), 0)),"")} | AQ104: =IF(X104="Unacceptable Loss",1,0) -> 0
A105: =IFERROR(INDEX('G-1 All Habitats'!$AG$3:$AG$15,MATCH(E105,'G-1 All Habitats'!$AF$3:$AF$15,0)),"") | B105: =IFERROR(INDEX('G-8 Condition Look up'!$I$4:$I$130,MATCH(G105,'G-8 Condition Look up'!$A$4:$A$130,0)),"") | D105: 95 | G105: =IFERROR(INDEX('G-1 All Habitats'!$B$3:$B$129,MATCH(F105,'G-1 All Habitats'!$A$3:$A$129,0)),"") | I105: =IF(G105="","",VLOOKUP(G105,'G-1 All Habitats'!$B$2:$M$129,10,FALSE)) | J105: =IFERROR(VLOOKUP(I105,'G-1 All Habitats'!$V$3:$W$7,2,FALSE),"") | L105: =IFERROR(INDEX('G-8 Condition Look up'!$A$3:$H$130,MATCH(G105,'G-8 Condition Look up'!$A$3:$A$130,0),MATCH(K105,'G-8 Condition Look up'!$A$3:$H$3,0)),"") | N105: =IF(M105="","",IF(VLOOKUP(M105,'G-3 Multipliers'!$L$3:$N$6,2,FALSE)=0,"Spatial Data Missing",VLOOKUP(M105,'G-3 Multipliers'!$L$3:$N$6,2,FALSE))) | O105: =IF(M105="","",IF(VLOOKUP(M105,'G-3 Multipliers'!$L$3:$N$6,3,FALSE)=0,"Spatial Data Missing",VLOOKUP(M105,'G-3 Multipliers'!$L$3:$N$6,3,FALSE))) | P105: =IFERROR(VLOOKUP(G105,'G-1 All Habitats'!$B$2:$M$129,12,FALSE),"") | Q105: =IFERROR(IF(P105="","",IF(AND(P105='G-1 All Habitats'!$X$3,T105>0),U105+V105,IF(AND(P105='G-1 All Habitats'!$X$3,S105>0),U105+V105,IF(AND(P105='G-1 All Habitats'!$X$3,AC105>0),"Any Loss Unacceptable ▲",IF(AND(P105='G-1 All Habitats'!$X$3,W105>0),"Any Loss Unacceptable ▲",H105*J105*L105*O105))))),"Check Data ▲") | U105: =IFERROR(S105*J105*L105*O105,"") | V105: =IFERROR(T105*J105*L105*O105,"") | W105: =IF(E105="","",IF(H105<S105+T105,"Error in Areas ▲",IF(P105<>'G-1 All Habitats'!$X$3,H105-S105-T105,IF(AND(P105='G-1 All Habitats'!$X$3,Y105="Yes"),"Unacceptable Loss",IF(AND(P105='G-1 All Habitats'!$X$3,Y105="No"),AC105,IF(AND(P105='G-1 All Habitats'!$X$3,Y105=""),AC105,IF(AND(P105='G-1 All Habitats'!$X$3,AC105="None",AC105),IF(AND(P105='G-1 All Habitats'!$X$3,AC105>0),H105-S105-T105)))))))) | X105: =IFERROR(IF(H105="","",IF(H105-S105-T105=0<0,"Error in Areas ▲",IF(S105+T105>H105,"Error in Areas ▲",IF(AND(P105='G-1 All Habitats'!$X$3,Y105="Yes"),"Alternative Compensation ✓",IF(W105=0,0,IF(P105='G-1 All Habitats'!$X$3,"Unacceptable Loss ▲",Q105-U105-V105)))))),"Check Data ▲") | AC105: =IF(P105="","",IF(P105='G-1 All Habitats'!$X$3,H105-S105-T105,"None")) | AD105: =IFERROR(AC105*J105*L105*#REF!*O105,IF(P105="","","None")) | AF105: =IF(G105="","",IF(S105>0,TRUE,FALSE)) | AG105: =IF(H105="","",IF(T105>0,TRUE,FALSE)) | AH105: =IF(I105="","",IF(#REF!>0,TRUE,FALSE)) | AI105: 95 | AK105: {=IFERROR(INDEX($AI$11:$AI$259, MATCH(0, IF(TRUE=$AF$11:$AF$259, COUNTIF($AK$10:$AK104, $AI$11:$AI$259), ""), 0)),"")} | AL105: {=IFERROR(INDEX($AI$11:$AI$259, MATCH(0, IF(TRUE=$AG$11:$AG$259, COUNTIF($AL$10:$AL104, $AI$11:$AI$259), ""), 0)),"")} | AM105: {=IFERROR(INDEX($AI$11:$AI$259, MATCH(0, IF(TRUE=$AH$11:$AH$259, COUNTIF($AM$10:$AM104, $AI$11:$AI$259), ""), 0)),"")} | AQ105: =IF(X105="Unacceptable Loss",1,0) -> 0
A106: =IFERROR(INDEX('G-1 All Habitats'!$AG$3:$AG$15,MATCH(E106,'G-1 All Habitats'!$AF$3:$AF$15,0)),"") | B106: =IFERROR(INDEX('G-8 Condition Look up'!$I$4:$I$130,MATCH(G106,'G-8 Condition Look up'!$A$4:$A$130,0)),"") | D106: 96 | G106: =IFERROR(INDEX('G-1 All Habitats'!$B$3:$B$129,MATCH(F106,'G-1 All Habitats'!$A$3:$A$129,0)),"") | I106: =IF(G106="","",VLOOKUP(G106,'G-1 All Habitats'!$B$2:$M$129,10,FALSE)) | J106: =IFERROR(VLOOKUP(I106,'G-1 All Habitats'!$V$3:$W$7,2,FALSE),"") | L106: =IFERROR(INDEX('G-8 Condition Look up'!$A$3:$H$130,MATCH(G106,'G-8 Condition Look up'!$A$3:$A$130,0),MATCH(K106,'G-8 Condition Look up'!$A$3:$H$3,0)),"") | N106: =IF(M106="","",IF(VLOOKUP(M106,'G-3 Multipliers'!$L$3:$N$6,2,FALSE)=0,"Spatial Data Missing",VLOOKUP(M106,'G-3 Multipliers'!$L$3:$N$6,2,FALSE))) | O106: =IF(M106="","",IF(VLOOKUP(M106,'G-3 Multipliers'!$L$3:$N$6,3,FALSE)=0,"Spatial Data Missing",VLOOKUP(M106,'G-3 Multipliers'!$L$3:$N$6,3,FALSE))) | P106: =IFERROR(VLOOKUP(G106,'G-1 All Habitats'!$B$2:$M$129,12,FALSE),"") | Q106: =IFERROR(IF(P106="","",IF(AND(P106='G-1 All Habitats'!$X$3,T106>0),U106+V106,IF(AND(P106='G-1 All Habitats'!$X$3,S106>0),U106+V106,IF(AND(P106='G-1 All Habitats'!$X$3,AC106>0),"Any Loss Unacceptable ▲",IF(AND(P106='G-1 All Habitats'!$X$3,W106>0),"Any Loss Unacceptable ▲",H106*J106*L106*O106))))),"Check Data ▲") | U106: =IFERROR(S106*J106*L106*O106,"") | V106: =IFERROR(T106*J106*L106*O106,"") | W106: =IF(E106="","",IF(H106<S106+T106,"Error in Areas ▲",IF(P106<>'G-1 All Habitats'!$X$3,H106-S106-T106,IF(AND(P106='G-1 All Habitats'!$X$3,Y106="Yes"),"Unacceptable Loss",IF(AND(P106='G-1 All Habitats'!$X$3,Y106="No"),AC106,IF(AND(P106='G-1 All Habitats'!$X$3,Y106=""),AC106,IF(AND(P106='G-1 All Habitats'!$X$3,AC106="None",AC106),IF(AND(P106='G-1 All Habitats'!$X$3,AC106>0),H106-S106-T106)))))))) | X106: =IFERROR(IF(H106="","",IF(H106-S106-T106=0<0,"Error in Areas ▲",IF(S106+T106>H106,"Error in Areas ▲",IF(AND(P106='G-1 All Habitats'!$X$3,Y106="Yes"),"Alternative Compensation ✓",IF(W106=0,0,IF(P106='G-1 All Habitats'!$X$3,"Unacceptable Loss ▲",Q106-U106-V106)))))),"Check Data ▲") | AC106: =IF(P106="","",IF(P106='G-1 All Habitats'!$X$3,H106-S106-T106,"None")) | AD106: =IFERROR(AC106*J106*L106*#REF!*O106,IF(P106="","","None")) | AF106: =IF(G106="","",IF(S106>0,TRUE,FALSE)) | AG106: =IF(H106="","",IF(T106>0,TRUE,FALSE)) | AH106: =IF(I106="","",IF(#REF!>0,TRUE,FALSE)) | AI106: 96 | AK106: {=IFERROR(INDEX($AI$11:$AI$259, MATCH(0, IF(TRUE=$AF$11:$AF$259, COUNTIF($AK$10:$AK105, $AI$11:$AI$259), ""), 0)),"")} | AL106: {=IFERROR(INDEX($AI$11:$AI$259, MATCH(0, IF(TRUE=$AG$11:$AG$259, COUNTIF($AL$10:$AL105, $AI$11:$AI$259), ""), 0)),"")} | AM106: {=IFERROR(INDEX($AI$11:$AI$259, MATCH(0, IF(TRUE=$AH$11:$AH$259, COUNTIF($AM$10:$AM105, $AI$11:$AI$259), ""), 0)),"")} | AQ106: =IF(X106="Unacceptable Loss",1,0) -> 0
A107: =IFERROR(INDEX('G-1 All Habitats'!$AG$3:$AG$15,MATCH(E107,'G-1 All Habitats'!$AF$3:$AF$15,0)),"") | B107: =IFERROR(INDEX('G-8 Condition Look up'!$I$4:$I$130,MATCH(G107,'G-8 Condition Look up'!$A$4:$A$130,0)),"") | D107: 97 | G107: =IFERROR(INDEX('G-1 All Habitats'!$B$3:$B$129,MATCH(F107,'G-1 All Habitats'!$A$3:$A$129,0)),"") | I107: =IF(G107="","",VLOOKUP(G107,'G-1 All Habitats'!$B$2:$M$129,10,FALSE)) | J107: =IFERROR(VLOOKUP(I107,'G-1 All Habitats'!$V$3:$W$7,2,FALSE),"") | L107: =IFERROR(INDEX('G-8 Condition Look up'!$A$3:$H$130,MATCH(G107,'G-8 Condition Look up'!$A$3:$A$130,0),MATCH(K107,'G-8 Condition Look up'!$A$3:$H$3,0)),"") | N107: =IF(M107="","",IF(VLOOKUP(M107,'G-3 Multipliers'!$L$3:$N$6,2,FALSE)=0,"Spatial Data Missing",VLOOKUP(M107,'G-3 Multipliers'!$L$3:$N$6,2,FALSE))) | O107: =IF(M107="","",IF(VLOOKUP(M107,'G-3 Multipliers'!$L$3:$N$6,3,FALSE)=0,"Spatial Data Missing",VLOOKUP(M107,'G-3 Multipliers'!$L$3:$N$6,3,FALSE))) | P107: =IFERROR(VLOOKUP(G107,'G-1 All Habitats'!$B$2:$M$129,12,FALSE),"") | Q107: =IFERROR(IF(P107="","",IF(AND(P107='G-1 All Habitats'!$X$3,T107>0),U107+V107,IF(AND(P107='G-1 All Habitats'!$X$3,S107>0),U107+V107,IF(AND(P107='G-1 All Habitats'!$X$3,AC107>0),"Any Loss Unacceptable ▲",IF(AND(P107='G-1 All Habitats'!$X$3,W107>0),"Any Loss Unacceptable ▲",H107*J107*L107*O107))))),"Check Data ▲") | U107: =IFERROR(S107*J107*L107*O107,"") | V107: =IFERROR(T107*J107*L107*O107,"") | W107: =IF(E107="","",IF(H107<S107+T107,"Error in Areas ▲",IF(P107<>'G-1 All Habitats'!$X$3,H107-S107-T107,IF(AND(P107='G-1 All Habitats'!$X$3,Y107="Yes"),"Unacceptable Loss",IF(AND(P107='G-1 All Habitats'!$X$3,Y107="No"),AC107,IF(AND(P107='G-1 All Habitats'!$X$3,Y107=""),AC107,IF(AND(P107='G-1 All Habitats'!$X$3,AC107="None",AC107),IF(AND(P107='G-1 All Habitats'!$X$3,AC107>0),H107-S107-T107)))))))) | X107: =IFERROR(IF(H107="","",IF(H107-S107-T107=0<0,"Error in Areas ▲",IF(S107+T107>H107,"Error in Areas ▲",IF(AND(P107='G-1 All Habitats'!$X$3,Y107="Yes"),"Alternative Compensation ✓",IF(W107=0,0,IF(P107='G-1 All Habitats'!$X$3,"Unacceptable Loss ▲",Q107-U107-V107)))))),"Check Data ▲") | AC107: =IF(P107="","",IF(P107='G-1 All Habitats'!$X$3,H107-S107-T107,"None")) | AD107: =IFERROR(AC107*J107*L107*#REF!*O107,IF(P107="","","None")) | AF107: =IF(G107="","",IF(S107>0,TRUE,FALSE)) | AG107: =IF(H107="","",IF(T107>0,TRUE,FALSE)) | AH107: =IF(I107="","",IF(#REF!>0,TRUE,FALSE)) | AI107: 97 | AK107: {=IFERROR(INDEX($AI$11:$AI$259, MATCH(0, IF(TRUE=$AF$11:$AF$259, COUNTIF($AK$10:$AK106, $AI$11:$AI$259), ""), 0)),"")} | AL107: {=IFERROR(INDEX($AI$11:$AI$259, MATCH(0, IF(TRUE=$AG$11:$AG$259, COUNTIF($AL$10:$AL106, $AI$11:$AI$259), ""), 0)),"")} | AM107: {=IFERROR(INDEX($AI$11:$AI$259, MATCH(0, IF(TRUE=$AH$11:$AH$259, COUNTIF($AM$10:$AM106, $AI$11:$AI$259), ""), 0)),"")} | AQ107: =IF(X107="Unacceptable Loss",1,0) -> 0
A108: =IFERROR(INDEX('G-1 All Habitats'!$AG$3:$AG$15,MATCH(E108,'G-1 All Habitats'!$AF$3:$AF$15,0)),"") | B108: =IFERROR(INDEX('G-8 Condition Look up'!$I$4:$I$130,MATCH(G108,'G-8 Condition Look up'!$A$4:$A$130,0)),"") | D108: 98 | G108: =IFERROR(INDEX('G-1 All Habitats'!$B$3:$B$129,MATCH(F108,'G-1 All Habitats'!$A$3:$A$129,0)),"") | I108: =IF(G108="","",VLOOKUP(G108,'G-1 All Habitats'!$B$2:$M$129,10,FALSE)) | J108: =IFERROR(VLOOKUP(I108,'G-1 All Habitats'!$V$3:$W$7,2,FALSE),"") | L108: =IFERROR(INDEX('G-8 Condition Look up'!$A$3:$H$130,MATCH(G108,'G-8 Condition Look up'!$A$3:$A$130,0),MATCH(K108,'G-8 Condition Look up'!$A$3:$H$3,0)),"") | N108: =IF(M108="","",IF(VLOOKUP(M108,'G-3 Multipliers'!$L$3:$N$6,2,FALSE)=0,"Spatial Data Missing",VLOOKUP(M108,'G-3 Multipliers'!$L$3:$N$6,2,FALSE))) | O108: =IF(M108="","",IF(VLOOKUP(M108,'G-3 Multipliers'!$L$3:$N$6,3,FALSE)=0,"Spatial Data Missing",VLOOKUP(M108,'G-3 Multipliers'!$L$3:$N$6,3,FALSE))) | P108: =IFERROR(VLOOKUP(G108,'G-1 All Habitats'!$B$2:$M$129,12,FALSE),"") | Q108: =IFERROR(IF(P108="","",IF(AND(P108='G-1 All Habitats'!$X$3,T108>0),U108+V108,IF(AND(P108='G-1 All Habitats'!$X$3,S108>0),U108+V108,IF(AND(P108='G-1 All Habitats'!$X$3,AC108>0),"Any Loss Unacceptable ▲",IF(AND(P108='G-1 All Habitats'!$X$3,W108>0),"Any Loss Unacceptable ▲",H108*J108*L108*O108))))),"Check Data ▲") | U108: =IFERROR(S108*J108*L108*O108,"") | V108: =IFERROR(T108*J108*L108*O108,"") | W108: =IF(E108="","",IF(H108<S108+T108,"Error in Areas ▲",IF(P108<>'G-1 All Habitats'!$X$3,H108-S108-T108,IF(AND(P108='G-1 All Habitats'!$X$3,Y108="Yes"),"Unacceptable Loss",IF(AND(P108='G-1 All Habitats'!$X$3,Y108="No"),AC108,IF(AND(P108='G-1 All Habitats'!$X$3,Y108=""),AC108,IF(AND(P108='G-1 All Habitats'!$X$3,AC108="None",AC108),IF(AND(P108='G-1 All Habitats'!$X$3,AC108>0),H108-S108-T108)))))))) | X108: =IFERROR(IF(H108="","",IF(H108-S108-T108=0<0,"Error in Areas ▲",IF(S108+T108>H108,"Error in Areas ▲",IF(AND(P108='G-1 All Habitats'!$X$3,Y108="Yes"),"Alternative Compensation ✓",IF(W108=0,0,IF(P108='G-1 All Habitats'!$X$3,"Unacceptable Loss ▲",Q108-U108-V108)))))),"Check Data ▲") | AC108: =IF(P108="","",IF(P108='G-1 All Habitats'!$X$3,H108-S108-T108,"None")) | AD108: =IFERROR(AC108*J108*L108*#REF!*O108,IF(P108="","","None")) | AF108: =IF(G108="","",IF(S108>0,TRUE,FALSE)) | AG108: =IF(H108="","",IF(T108>0,TRUE,FALSE)) | AH108: =IF(I108="","",IF(#REF!>0,TRUE,FALSE)) | AI108: 98 | AK108: {=IFERROR(INDEX($AI$11:$AI$259, MATCH(0, IF(TRUE=$AF$11:$AF$259, COUNTIF($AK$10:$AK107, $AI$11:$AI$259), ""), 0)),"")} | AL108: {=IFERROR(INDEX($AI$11:$AI$259, MATCH(0, IF(TRUE=$AG$11:$AG$259, COUNTIF($AL$10:$AL107, $AI$11:$AI$259), ""), 0)),"")} | AM108: {=IFERROR(INDEX($AI$11:$AI$259, MATCH(0, IF(TRUE=$AH$11:$AH$259, COUNTIF($AM$10:$AM107, $AI$11:$AI$259), ""), 0)),"")} | AQ108: =IF(X108="Unacceptable Loss",1,0) -> 0
A109: =IFERROR(INDEX('G-1 All Habitats'!$AG$3:$AG$15,MATCH(E109,'G-1 All Habitats'!$AF$3:$AF$15,0)),"") | B109: =IFERROR(INDEX('G-8 Condition Look up'!$I$4:$I$130,MATCH(G109,'G-8 Condition Look up'!$A$4:$A$130,0)),"") | D109: 99 | G109: =IFERROR(INDEX('G-1 All Habitats'!$B$3:$B$129,MATCH(F109,'G-1 All Habitats'!$A$3:$A$129,0)),"") | I109: =IF(G109="","",VLOOKUP(G109,'G-1 All Habitats'!$B$2:$M$129,10,FALSE)) | J109: =IFERROR(VLOOKUP(I109,'G-1 All Habitats'!$V$3:$W$7,2,FALSE),"") | L109: =IFERROR(INDEX('G-8 Condition Look up'!$A$3:$H$130,MATCH(G109,'G-8 Condition Look up'!$A$3:$A$130,0),MATCH(K109,'G-8 Condition Look up'!$A$3:$H$3,0)),"") | N109: =IF(M109="","",IF(VLOOKUP(M109,'G-3 Multipliers'!$L$3:$N$6,2,FALSE)=0,"Spatial Data Missing",VLOOKUP(M109,'G-3 Multipliers'!$L$3:$N$6,2,FALSE))) | O109: =IF(M109="","",IF(VLOOKUP(M109,'G-3 Multipliers'!$L$3:$N$6,3,FALSE)=0,"Spatial Data Missing",VLOOKUP(M109,'G-3 Multipliers'!$L$3:$N$6,3,FALSE))) | P109: =IFERROR(VLOOKUP(G109,'G-1 All Habitats'!$B$2:$M$129,12,FALSE),"") | Q109: =IFERROR(IF(P109="","",IF(AND(P109='G-1 All Habitats'!$X$3,T109>0),U109+V109,IF(AND(P109='G-1 All Habitats'!$X$3,S109>0),U109+V109,IF(AND(P109='G-1 All Habitats'!$X$3,AC109>0),"Any Loss Unacceptable ▲",IF(AND(P109='G-1 All Habitats'!$X$3,W109>0),"Any Loss Unacceptable ▲",H109*J109*L109*O109))))),"Check Data ▲") | U109: =IFERROR(S109*J109*L109*O109,"") | V109: =IFERROR(T109*J109*L109*O109,"") | W109: =IF(E109="","",IF(H109<S109+T109,"Error in Areas ▲",IF(P109<>'G-1 All Habitats'!$X$3,H109-S109-T109,IF(AND(P109='G-1 All Habitats'!$X$3,Y109="Yes"),"Unacceptable Loss",IF(AND(P109='G-1 All Habitats'!$X$3,Y109="No"),AC109,IF(AND(P109='G-1 All Habitats'!$X$3,Y109=""),AC109,IF(AND(P109='G-1 All Habitats'!$X$3,AC109="None",AC109),IF(AND(P109='G-1 All Habitats'!$X$3,AC109>0),H109-S109-T109)))))))) | X109: =IFERROR(IF(H109="","",IF(H109-S109-T109=0<0,"Error in Areas ▲",IF(S109+T109>H109,"Error in Areas ▲",IF(AND(P109='G-1 All Habitats'!$X$3,Y109="Yes"),"Alternative Compensation ✓",IF(W109=0,0,IF(P109='G-1 All Habitats'!$X$3,"Unacceptable Loss ▲",Q109-U109-V109)))))),"Check Data ▲") | AC109: =IF(P109="","",IF(P109='G-1 All Habitats'!$X$3,H109-S109-T109,"None")) | AD109: =IFERROR(AC109*J109*L109*#REF!*O109,IF(P109="","","None")) | AF109: =IF(G109="","",IF(S109>0,TRUE,FALSE)) | AG109: =IF(H109="","",IF(T109>0,TRUE,FALSE)) | AH109: =IF(I109="","",IF(#REF!>0,TRUE,FALSE)) | AI109: 99 | AK109: {=IFERROR(INDEX($AI$11:$AI$259, MATCH(0, IF(TRUE=$AF$11:$AF$259, COUNTIF($AK$10:$AK108, $AI$11:$AI$259), ""), 0)),"")} | AL109: {=IFERROR(INDEX($AI$11:$AI$259, MATCH(0, IF(TRUE=$AG$11:$AG$259, COUNTIF($AL$10:$AL108, $AI$11:$AI$259), ""), 0)),"")} | AM109: {=IFERROR(INDEX($AI$11:$AI$259, MATCH(0, IF(TRUE=$AH$11:$AH$259, COUNTIF($AM$10:$AM108, $AI$11:$AI$259), ""), 0)),"")} | AQ109: =IF(X109="Unacceptable Loss",1,0) -> 0
A110: =IFERROR(INDEX('G-1 All Habitats'!$AG$3:$AG$15,MATCH(E110,'G-1 All Habitats'!$AF$3:$AF$15,0)),"") | B110: =IFERROR(INDEX('G-8 Condition Look up'!$I$4:$I$130,MATCH(G110,'G-8 Condition Look up'!$A$4:$A$130,0)),"") | D110: 100 | G110: =IFERROR(INDEX('G-1 All Habitats'!$B$3:$B$129,MATCH(F110,'G-1 All Habitats'!$A$3:$A$129,0)),"") | I110: =IF(G110="","",VLOOKUP(G110,'G-1 All Habitats'!$B$2:$M$129,10,FALSE)) | J110: =IFERROR(VLOOKUP(I110,'G-1 All Habitats'!$V$3:$W$7,2,FALSE),"") | L110: =IFERROR(INDEX('G-8 Condition Look up'!$A$3:$H$130,MATCH(G110,'G-8 Condition Look up'!$A$3:$A$130,0),MATCH(K110,'G-8 Condition Look up'!$A$3:$H$3,0)),"") | N110: =IF(M110="","",IF(VLOOKUP(M110,'G-3 Multipliers'!$L$3:$N$6,2,FALSE)=0,"Spatial Data Missing",VLOOKUP(M110,'G-3 Multipliers'!$L$3:$N$6,2,FALSE))) | O110: =IF(M110="","",IF(VLOOKUP(M110,'G-3 Multipliers'!$L$3:$N$6,3,FALSE)=0,"Spatial Data Missing",VLOOKUP(M110,'G-3 Multipliers'!$L$3:$N$6,3,FALSE))) | P110: =IFERROR(VLOOKUP(G110,'G-1 All Habitats'!$B$2:$M$129,12,FALSE),"") | Q110: =IFERROR(IF(P110="","",IF(AND(P110='G-1 All Habitats'!$X$3,T110>0),U110+V110,IF(AND(P110='G-1 All Habitats'!$X$3,S110>0),U110+V110,IF(AND(P110='G-1 All Habitats'!$X$3,AC110>0),"Any Loss Unacceptable ▲",IF(AND(P110='G-1 All Habitats'!$X$3,W110>0),"Any Loss Unacceptable ▲",H110*J110*L110*O110))))),"Check Data ▲") | U110: =IFERROR(S110*J110*L110*O110,"") | V110: =IFERROR(T110*J110*L110*O110,"") | W110: =IF(E110="","",IF(H110<S110+T110,"Error in Areas ▲",IF(P110<>'G-1 All Habitats'!$X$3,H110-S110-T110,IF(AND(P110='G-1 All Habitats'!$X$3,Y110="Yes"),"Unacceptable Loss",IF(AND(P110='G-1 All Habitats'!$X$3,Y110="No"),AC110,IF(AND(P110='G-1 All Habitats'!$X$3,Y110=""),AC110,IF(AND(P110='G-1 All Habitats'!$X$3,AC110="None",AC110),IF(AND(P110='G-1 All Habitats'!$X$3,AC110>0),H110-S110-T110)))))))) | X110: =IFERROR(IF(H110="","",IF(H110-S110-T110=0<0,"Error in Areas ▲",IF(S110+T110>H110,"Error in Areas ▲",IF(AND(P110='G-1 All Habitats'!$X$3,Y110="Yes"),"Alternative Compensation ✓",IF(W110=0,0,IF(P110='G-1 All Habitats'!$X$3,"Unacceptable Loss ▲",Q110-U110-V110)))))),"Check Data ▲") | AC110: =IF(P110="","",IF(P110='G-1 All Habitats'!$X$3,H110-S110-T110,"None")) | AD110: =IFERROR(AC110*J110*L110*#REF!*O110,IF(P110="","","None")) | AF110: =IF(G110="","",IF(S110>0,TRUE,FALSE)) | AG110: =IF(H110="","",IF(T110>0,TRUE,FALSE)) | AH110: =IF(I110="","",IF(#REF!>0,TRUE,FALSE)) | AI110: 100 | AK110: {=IFERROR(INDEX($AI$11:$AI$259, MATCH(0, IF(TRUE=$AF$11:$AF$259, COUNTIF($AK$10:$AK109, $AI$11:$AI$259), ""), 0)),"")} | AL110: {=IFERROR(INDEX($AI$11:$AI$259, MATCH(0, IF(TRUE=$AG$11:$AG$259, COUNTIF($AL$10:$AL109, $AI$11:$AI$259), ""), 0)),"")} | AM110: {=IFERROR(INDEX($AI$11:$AI$259, MATCH(0, IF(TRUE=$AH$11:$AH$259, COUNTIF($AM$10:$AM109, $AI$11:$AI$259), ""), 0)),"")} | AQ110: =IF(X110="Unacceptable Loss",1,0) -> 0
A111: =IFERROR(INDEX('G-1 All Habitats'!$AG$3:$AG$15,MATCH(E111,'G-1 All Habitats'!$AF$3:$AF$15,0)),"") | B111: =IFERROR(INDEX('G-8 Condition Look up'!$I$4:$I$130,MATCH(G111,'G-8 Condition Look up'!$A$4:$A$130,0)),"") | D111: 101 | G111: =IFERROR(INDEX('G-1 All Habitats'!$B$3:$B$129,MATCH(F111,'G-1 All Habitats'!$A$3:$A$129,0)),"") | I111: =IF(G111="","",VLOOKUP(G111,'G-1 All Habitats'!$B$2:$M$129,10,FALSE)) | J111: =IFERROR(VLOOKUP(I111,'G-1 All Habitats'!$V$3:$W$7,2,FALSE),"") | L111: =IFERROR(INDEX('G-8 Condition Look up'!$A$3:$H$130,MATCH(G111,'G-8 Condition Look up'!$A$3:$A$130,0),MATCH(K111,'G-8 Condition Look up'!$A$3:$H$3,0)),"") | N111: =IF(M111="","",IF(VLOOKUP(M111,'G-3 Multipliers'!$L$3:$N$6,2,FALSE)=0,"Spatial Data Missing",VLOOKUP(M111,'G-3 Multipliers'!$L$3:$N$6,2,FALSE))) | O111: =IF(M111="","",IF(VLOOKUP(M111,'G-3 Multipliers'!$L$3:$N$6,3,FALSE)=0,"Spatial Data Missing",VLOOKUP(M111,'G-3 Multipliers'!$L$3:$N$6,3,FALSE))) | P111: =IFERROR(VLOOKUP(G111,'G-1 All Habitats'!$B$2:$M$129,12,FALSE),"") | Q111: =IFERROR(IF(P111="","",IF(AND(P111='G-1 All Habitats'!$X$3,T111>0),U111+V111,IF(AND(P111='G-1 All Habitats'!$X$3,S111>0),U111+V111,IF(AND(P111='G-1 All Habitats'!$X$3,AC111>0),"Any Loss Unacceptable ▲",IF(AND(P111='G-1 All Habitats'!$X$3,W111>0),"Any Loss Unacceptable ▲",H111*J111*L111*O111))))),"Check Data ▲") | U111: =IFERROR(S111*J111*L111*O111,"") | V111: =IFERROR(T111*J111*L111*O111,"") | W111: =IF(E111="","",IF(H111<S111+T111,"Error in Areas ▲",IF(P111<>'G-1 All Habitats'!$X$3,H111-S111-T111,IF(AND(P111='G-1 All Habitats'!$X$3,Y111="Yes"),"Unacceptable Loss",IF(AND(P111='G-1 All Habitats'!$X$3,Y111="No"),AC111,IF(AND(P111='G-1 All Habitats'!$X$3,Y111=""),AC111,IF(AND(P111='G-1 All Habitats'!$X$3,AC111="None",AC111),IF(AND(P111='G-1 All Habitats'!$X$3,AC111>0),H111-S111-T111)))))))) | X111: =IFERROR(IF(H111="","",IF(H111-S111-T111=0<0,"Error in Areas ▲",IF(S111+T111>H111,"Error in Areas ▲",IF(AND(P111='G-1 All Habitats'!$X$3,Y111="Yes"),"Alternative Compensation ✓",IF(W111=0,0,IF(P111='G-1 All Habitats'!$X$3,"Unacceptable Loss ▲",Q111-U111-V111)))))),"Check Data ▲") | AC111: =IF(P111="","",IF(P111='G-1 All Habitats'!$X$3,H111-S111-T111,"None")) | AD111: =IFERROR(AC111*J111*L111*#REF!*O111,IF(P111="","","None")) | AF111: =IF(G111="","",IF(S111>0,TRUE,FALSE)) | AG111: =IF(H111="","",IF(T111>0,TRUE,FALSE)) | AH111: =IF(I111="","",IF(#REF!>0,TRUE,FALSE)) | AI111: 101 | AK111: {=IFERROR(INDEX($AI$11:$AI$259, MATCH(0, IF(TRUE=$AF$11:$AF$259, COUNTIF($AK$10:$AK110, $AI$11:$AI$259), ""), 0)),"")} | AL111: {=IFERROR(INDEX($AI$11:$AI$259, MATCH(0, IF(TRUE=$AG$11:$AG$259, COUNTIF($AL$10:$AL110, $AI$11:$AI$259), ""), 0)),"")} | AM111: {=IFERROR(INDEX($AI$11:$AI$259, MATCH(0, IF(TRUE=$AH$11:$AH$259, COUNTIF($AM$10:$AM110, $AI$11:$AI$259), ""), 0)),"")} | AQ111: =IF(X111="Unacceptable Loss",1,0) -> 0
A112: =IFERROR(INDEX('G-1 All Habitats'!$AG$3:$AG$15,MATCH(E112,'G-1 All Habitats'!$AF$3:$AF$15,0)),"") | B112: =IFERROR(INDEX('G-8 Condition Look up'!$I$4:$I$130,MATCH(G112,'G-8 Condition Look up'!$A$4:$A$130,0)),"") | D112: 102 | G112: =IFERROR(INDEX('G-1 All Habitats'!$B$3:$B$129,MATCH(F112,'G-1 All Habitats'!$A$3:$A$129,0)),"") | I112: =IF(G112="","",VLOOKUP(G112,'G-1 All Habitats'!$B$2:$M$129,10,FALSE)) | J112: =IFERROR(VLOOKUP(I112,'G-1 All Habitats'!$V$3:$W$7,2,FALSE),"") | L112: =IFERROR(INDEX('G-8 Condition Look up'!$A$3:$H$130,MATCH(G112,'G-8 Condition Look up'!$A$3:$A$130,0),MATCH(K112,'G-8 Condition Look up'!$A$3:$H$3,0)),"") | N112: =IF(M112="","",IF(VLOOKUP(M112,'G-3 Multipliers'!$L$3:$N$6,2,FALSE)=0,"Spatial Data Missing",VLOOKUP(M112,'G-3 Multipliers'!$L$3:$N$6,2,FALSE))) | O112: =IF(M112="","",IF(VLOOKUP(M112,'G-3 Multipliers'!$L$3:$N$6,3,FALSE)=0,"Spatial Data Missing",VLOOKUP(M112,'G-3 Multipliers'!$L$3:$N$6,3,FALSE))) | P112: =IFERROR(VLOOKUP(G112,'G-1 All Habitats'!$B$2:$M$129,12,FALSE),"") | Q112: =IFERROR(IF(P112="","",IF(AND(P112='G-1 All Habitats'!$X$3,T112>0),U112+V112,IF(AND(P112='G-1 All Habitats'!$X$3,S112>0),U112+V112,IF(AND(P112='G-1 All Habitats'!$X$3,AC112>0),"Any Loss Unacceptable ▲",IF(AND(P112='G-1 All Habitats'!$X$3,W112>0),"Any Loss Unacceptable ▲",H112*J112*L112*O112))))),"Check Data ▲") | U112: =IFERROR(S112*J112*L112*O112,"") | V112: =IFERROR(T112*J112*L112*O112,"") | W112: =IF(E112="","",IF(H112<S112+T112,"Error in Areas ▲",IF(P112<>'G-1 All Habitats'!$X$3,H112-S112-T112,IF(AND(P112='G-1 All Habitats'!$X$3,Y112="Yes"),"Unacceptable Loss",IF(AND(P112='G-1 All Habitats'!$X$3,Y112="No"),AC112,IF(AND(P112='G-1 All Habitats'!$X$3,Y112=""),AC112,IF(AND(P112='G-1 All Habitats'!$X$3,AC112="None",AC112),IF(AND(P112='G-1 All Habitats'!$X$3,AC112>0),H112-S112-T112)))))))) | X112: =IFERROR(IF(H112="","",IF(H112-S112-T112=0<0,"Error in Areas ▲",IF(S112+T112>H112,"Error in Areas ▲",IF(AND(P112='G-1 All Habitats'!$X$3,Y112="Yes"),"Alternative Compensation ✓",IF(W112=0,0,IF(P112='G-1 All Habitats'!$X$3,"Unacceptable Loss ▲",Q112-U112-V112)))))),"Check Data ▲") | AC112: =IF(P112="","",IF(P112='G-1 All Habitats'!$X$3,H112-S112-T112,"None")) | AD112: =IFERROR(AC112*J112*L112*#REF!*O112,IF(P112="","","None")) | AF112: =IF(G112="","",IF(S112>0,TRUE,FALSE)) | AG112: =IF(H112="","",IF(T112>0,TRUE,FALSE)) | AH112: =IF(I112="","",IF(#REF!>0,TRUE,FALSE)) | AI112: 102 | AK112: {=IFERROR(INDEX($AI$11:$AI$259, MATCH(0, IF(TRUE=$AF$11:$AF$259, COUNTIF($AK$10:$AK111, $AI$11:$AI$259), ""), 0)),"")} | AL112: {=IFERROR(INDEX($AI$11:$AI$259, MATCH(0, IF(TRUE=$AG$11:$AG$259, COUNTIF($AL$10:$AL111, $AI$11:$AI$259), ""), 0)),"")} | AM112: {=IFERROR(INDEX($AI$11:$AI$259, MATCH(0, IF(TRUE=$AH$11:$AH$259, COUNTIF($AM$10:$AM111, $AI$11:$AI$259), ""), 0)),"")} | AQ112: =IF(X112="Unacceptable Loss",1,0) -> 0
... A258: =IFERROR(INDEX('G-1 All Habitats'!$AG$3:$AG$15,MATCH(E258,'G-1 All Habitats'!$AF$3:$AF$15,0)),"") | B258: =IFERROR(INDEX('G-8 Condition Look up'!$I$4:$I$130,MATCH(G258,'G-8 Condition Look up'!$A$4:$A$130,0)),"") | D258: 248 | G258: =IFERROR(INDEX('G-1 All Habitats'!$B$3:$B$129,MATCH(F258,'G-1 All Habitats'!$A$3:$A$129,0)),"") | I258: =IF(G258="","",VLOOKUP(G258,'G-1 All Habitats'!$B$2:$M$129,10,FALSE)) | J258: =IFERROR(VLOOKUP(I258,'G-1 All Habitats'!$V$3:$W$7,2,FALSE),"") | L258: =IFERROR(INDEX('G-8 Condition Look up'!$A$3:$H$130,MATCH(G258,'G-8 Condition Look up'!$A$3:$A$130,0),MATCH(K258,'G-8 Condition Look up'!$A$3:$H$3,0)),"") | N258: =IF(M258="","",IF(VLOOKUP(M258,'G-3 Multipliers'!$L$3:$N$6,2,FALSE)=0,"Spatial Data Missing",VLOOKUP(M258,'G-3 Multipliers'!$L$3:$N$6,2,FALSE))) | O258: =IF(M258="","",IF(VLOOKUP(M258,'G-3 Multipliers'!$L$3:$N$6,3,FALSE)=0,"Spatial Data Missing",VLOOKUP(M258,'G-3 Multipliers'!$L$3:$N$6,3,FALSE))) | P258: =IFERROR(VLOOKUP(G258,'G-1 All Habitats'!$B$2:$M$129,12,FALSE),"") | Q258: =IFERROR(IF(P258="","",IF(AND(P258='G-1 All Habitats'!$X$3,T258>0),U258+V258,IF(AND(P258='G-1 All Habitats'!$X$3,S258>0),U258+V258,IF(AND(P258='G-1 All Habitats'!$X$3,AC258>0),"Any Loss Unacceptable ▲",IF(AND(P258='G-1 All Habitats'!$X$3,W258>0),"Any Loss Unacceptable ▲",H258*J258*L258*O258))))),"Check Data ▲") | U258: =IFERROR(S258*J258*L258*O258,"") | V258: =IFERROR(T258*J258*L258*O258,"") | W258: =IF(E258="","",IF(H258<S258+T258,"Error in Areas ▲",IF(P258<>'G-1 All Habitats'!$X$3,H258-S258-T258,IF(AND(P258='G-1 All Habitats'!$X$3,Y258="Yes"),"Unacceptable Loss",IF(AND(P258='G-1 All Habitats'!$X$3,Y258="No"),AC258,IF(AND(P258='G-1 All Habitats'!$X$3,Y258=""),AC258,IF(AND(P258='G-1 All Habitats'!$X$3,AC258="None",AC258),IF(AND(P258='G-1 All Habitats'!$X$3,AC258>0),H258-S258-T258)))))))) | X258: =IFERROR(IF(H258="","",IF(H258-S258-T258=0<0,"Error in Areas ▲",IF(S258+T258>H258,"Error in Areas ▲",IF(AND(P258='G-1 All Habitats'!$X$3,Y258="Yes"),"Alternative Compensation ✓",IF(W258=0,0,IF(P258='G-1 All Habitats'!$X$3,"Unacceptable Loss ▲",Q258-U258-V258)))))),"Check Data ▲") | AC258: =IF(P258="","",IF(P258='G-1 All Habitats'!$X$3,H258-S258-T258,"None")) | AD258: =IFERROR(AC258*J258*L258*#REF!*O258,IF(P258="","","None")) | AF258: =IF(G258="","",IF(S258>0,TRUE,FALSE)) | AG258: =IF(H258="","",IF(T258>0,TRUE,FALSE)) | AH258: =IF(I258="","",IF(#REF!>0,TRUE,FALSE)) | AI258: 248 | AK258: {=IFERROR(INDEX($AI$11:$AI$259, MATCH(0, IF(TRUE=$AF$11:$AF$259, COUNTIF($AK$10:$AK257, $AI$11:$AI$259), ""), 0)),"")} | AL258: {=IFERROR(INDEX($AI$11:$AI$259, MATCH(0, IF(TRUE=$AG$11:$AG$259, COUNTIF($AL$10:$AL257, $AI$11:$AI$259), ""), 0)),"")} | AM258: {=IFERROR(INDEX($AI$11:$AI$259, MATCH(0, IF(TRUE=$AH$11:$AH$259, COUNTIF($AM$10:$AM257, $AI$11:$AI$259), ""), 0)),"")} | AQ258: =IF(X258="Unacceptable Loss",1,0) -> 0
F259: Total habitat area | H259: =SUM(H9:H256) -> 0.4485 | Q259: =IF('Detailed Results'!$K$40>0,"Error",SUM(Q11:Q258)) -> 0.0162 | S259: =IF('Detailed Results'!$K$40>0,"Error",SUM(S11:S258)) -> 0.0052 | T259: =IF('Detailed Results'!$K$40>0,"Error",SUM(T11:T258)) -> 0 | U259: =IF('Detailed Results'!$K$40>0,"Error",SUM(U11:U258)) -> 0.0104 | V259: =IF('Detailed Results'!$K$40>0,"Error",SUM(V11:V258)) -> 0 | W259: =IF('Detailed Results'!$K$40>0,"Error",SUM(W11:W258)) -> 0.4433 | X259: =IF('Detailed Results'!$K$40>0,"Error",SUM(X11:X258)) -> 0.0058 | AQ259: =SUM(AQ11:AQ258) -> 0
S261: Total area lost (excluding area of Urban trees and Green walls) | W261: =IF('Detailed Results'!$K$40>0,"Error",SUMIFS($W$11:$W$258,$G$11:$G$258,"<>"&'G-1 All Habitats'!B65,$G$11:$G$258,"<>"&'G-1 All Habitats'!B66,$G$11:$G$258,"<>"&'G-1 All Habitats'!B73)) -> 0.4433

Sheet A-2 Site Habitat Creation
D2: =IF(Start!$F$12="","",Start!$F$12) | P2: =IF(OR(COUNTIF($O$11:O256,"*30+*")>0,COUNTIF($S$11:S256,"*30+*")>0),"Note; Habitat selected has a time to target condition greater than 30 years. Non standard agreement may be required.","")
D3: =MID(CELL("filename",D1),FIND("]",CELL("filename",D1))+1,256) -> A-2 Site Habitat Creation
P5: =IFERROR(IF(OR((G259-'A-1 Site Habitat Baseline'!W261)>0.01,(G259-'A-1 Site Habitat Baseline'!W261)<-0.01),"Check Areas - Area cross check failed (Baseline habitat lost does not match development footprint plus area of new habitat creation)",""),"")
D8: Post development/ post intervention habitats | AE8: Time to Poor cond
D9: Broad Habitat | E9: Proposed habitat | F9: Proposed habitat | G9: Area (hectares) | H9: Distinctiveness | J9: Condition | L9: Strategic significance | O9: Temporal multiplier | U9: Difficulty multipliers | Y9: Habitat units delivered | Z9: Comments
A10: Condition Group | H10: Distinctiveness | I10: Score | J10: Condition | K10: Score | L10: Strategic significance | M10: Strategic significance | N10: Strategic position multiplier | O10: Standard time to target condition/years | P10: Habitat created in advance/years | Q10: Delay in starting habitat creation/years | R10: Standard or adjusted time to target condition | S10: Final time to target condition/years | T10: Final time to target multiplier | U10: Standard difficulty of creation | V10: Applied difficulty multiplier | W10: Final difficulty of creation | X10: Difficulty multiplier applied | Z10: Assessor comments | AA10: Reviewer comments | AE10: Poor
A11: =IFERROR(INDEX('G-8 Condition Look up'!$I$4:$I$130,MATCH(F11,'G-8 Condition Look up'!$A$4:$A$130,0)),"") -> Cond2 | C11: =IFERROR(INDEX('G-1 All Habitats'!$AG$3:$AG$15,MATCH(D11,'G-1 All Habitats'!$AF$3:$AF$15,0)),"") -> Urban | D11: Urban | E11: Developed land; sealed surface | F11: =IFERROR(INDEX('G-1 All Habitats'!$B$3:$B$129,MATCH(E11,'G-1 All Habitats'!$A$3:$A$129,0)),"") -> Urban - Developed land; sealed surface | G11: 0.376 | H11: =IF(F11="","",VLOOKUP(F11,'G-1 All Habitats'!$B$2:$M$129,10,FALSE)) -> V.Low | I11: =IFERROR(VLOOKUP(H11,'G-1 All Habitats'!$V$3:$W$7,2,FALSE),"") -> 0 | J11: N/A - Other | K11: =IFERROR(INDEX('G-8 Condition Look up'!$A$3:$H$130,MATCH(F11,'G-8 Condition Look up'!$A$3:$A$130,0),MATCH(J11,'G-8 Condition Look up'!$A$3:$H$3,0)),"") -> 0 | L11: Area/compensation not in local strategy/ no local strategy | M11: =IF(L11="","",IF(VLOOKUP(L11,'G-3 Multipliers'!$L$3:$N$6,2,FALSE)=0,"Spatial Data Missing",VLOOKUP(L11,'G-3 Multipliers'!$L$3:$N$6,2,FALSE))) -> Low Strategic Significance | N11: =IF(L11="","",IF(VLOOKUP(L11,'G-3 Multipliers'!$L$3:$N$6,3,FALSE)=0,"Spatial Data Missing",VLOOKUP(L11,'G-3 Multipliers'!$L$3:$N$6,3,FALSE))) -> 1 | O11: =IFERROR(INDEX(TemporalData,MATCH(F11,TemporalHabitats,0),MATCH(J11,TemporalConditions,0)),"") -> 0 | P11: 0 | Q11: 1 | R11: =IF(E11="","",IF(AND(P11>0,Q11>0),"Error -both advance and delayed habitat creation ▲",IF(I11=0,"Standard time to target condition applied",IF(AND(J11="N/A -Agricultural",O11<=P11),"Check details - Is there evidence habitat creation in place? ⚠",IF(AND(O11<=P11,Q11=0),"Check details - Is there evidence that habitat has reached target condition? ⚠",IF(O11="","",IF(AND(P11>=AE11,P11>0),"Check details - Is there evidence habitat creation started and the threshold for Poor condition reached? ⚠",IF(Q11>0,"Check details- Delay in starting habitat in required condition? ⚠",IF(P11>0,"Check details - Is there evidence habitat creation started/in place? ⚠","Standard time to target condition applied"))))))))) -> Standard time to target condition applied | S11: =IF(R11="Error -both advance and delayed habitat creation ▲","Check Data ⚠",IF(O11="Not Possible","Check Data ⚠",IF(O11="","",IF(AND(O11="30+",P11=0),"30+",IF(AND(O11="30+",P11="30+"),0,IF(AND(O11="30+",P11<32),30-P11,IF(O11="30+",30-P11,IF(P11>O11,0,IF(Q11="30+","30+",IF(O11+Q11>30,"30+",IF(O11+Q11>30,"30+",IF(O11-P11>30,"30+",IF(O11+Q11-P11>0,O11+Q11-P11,IF(O11-P11>0,O11-P11,O11+Q11-P11)))))))))))))) -> 1 | T11: =IFERROR(IF(S11="Check Data ⚠","Check Data ⚠",VLOOKUP(S11,'G-4 Temporal multipliers'!$A$4:$C$37,3,FALSE)),"") -> 0.965 | U11: =IF(F11="","",VLOOKUP(F11,'G-3 Multipliers'!$A$2:$E$129,2,FALSE)) -> Low | V11: =IF(F11="","",IF($R11="Check details - Is there evidence that habitat has reached target condition? ⚠","Low Difficulty - only applicable if all habitat created before losses",IF($R11="Check details - Is there evidence habitat creation started and the threshold for Poor condition reached? ⚠","Enhancement difficulty applied","Standard difficulty applied"))) -> Standard difficulty applied | W11: =IF(E11="","",IF(AND(V11="Standard difficulty applied",O11>P11),U11,IF(AND(V11="Low Difficulty - only applicable if all habitat created before losses",P11>=O11),"Low",VLOOKUP(F11,'G-3 Multipliers'!$A$2:$E$129,4,FALSE)))) -> Medium | X11: =IFERROR(IF(E11="","",VLOOKUP(W11, 'G-3 Multipliers'!$P$2:$Q$6,2,FALSE)),"") -> 0.67 | Y11: =IFERROR(G11*I11*K11*N11*T11*X11,"") -> 0 | AE11: =IFERROR(INDEX(TemporalData,MATCH(F11,TemporalHabitats,0),MATCH($AE$10,TemporalConditions,0)),"") -> Not Possible
A12: =IFERROR(INDEX('G-8 Condition Look up'!$I$4:$I$130,MATCH(F12,'G-8 Condition Look up'!$A$4:$A$130,0)),"") -> Cond1 | C12: =IFERROR(INDEX('G-1 All Habitats'!$AG$3:$AG$15,MATCH(D12,'G-1 All Habitats'!$AF$3:$AF$15,0)),"") -> Urban | D12: Urban | E12: Introduced shrub | F12: =IFERROR(INDEX('G-1 All Habitats'!$B$3:$B$129,MATCH(E12,'G-1 All Habitats'!$A$3:$A$129,0)),"") -> Urban - Introduced shrub | G12: 0.0673 | H12: =IF(F12="","",VLOOKUP(F12,'G-1 All Habitats'!$B$2:$M$129,10,FALSE)) -> Low | I12: =IFERROR(VLOOKUP(H12,'G-1 All Habitats'!$V$3:$W$7,2,FALSE),"") -> 2 | J12: Condition Assessment N/A | K12: =IFERROR(INDEX('G-8 Condition Look up'!$A$3:$H$130,MATCH(F12,'G-8 Condition Look up'!$A$3:$A$130,0),MATCH(J12,'G-8 Condition Look up'!$A$3:$H$3,0)),"") -> 1 | L12: Area/compensation not in local strategy/ no local strategy | M12: =IF(L12="","",IF(VLOOKUP(L12,'G-3 Multipliers'!$L$3:$N$6,2,FALSE)=0,"Spatial Data Missing",VLOOKUP(L12,'G-3 Multipliers'!$L$3:$N$6,2,FALSE))) -> Low Strategic Significance | N12: =IF(L12="","",IF(VLOOKUP(L12,'G-3 Multipliers'!$L$3:$N$6,3,FALSE)=0,"Spatial Data Missing",VLOOKUP(L12,'G-3 Multipliers'!$L$3:$N$6,3,FALSE))) -> 1 | O12: =IFERROR(INDEX(TemporalData,MATCH(F12,TemporalHabitats,0),MATCH(J12,TemporalConditions,0)),"") -> 1 | P12: 0 | Q12: 1 | R12: =IF(E12="","",IF(AND(P12>0,Q12>0),"Error -both advance and delayed habitat creation ▲",IF(I12=0,"Standard time to target condition applied",IF(AND(J12="N/A -Agricultural",O12<=P12),"Check details - Is there evidence habitat creation in place? ⚠",IF(AND(O12<=P12,Q12=0),"Check details - Is there evidence that habitat has reached target condition? ⚠",IF(O12="","",IF(AND(P12>=AE12,P12>0),"Check details - Is there evidence habitat creation started and the threshold for Poor condition reached? ⚠",IF(Q12>0,"Check details- Delay in starting habitat in required condition? ⚠",IF(P12>0,"Check details - Is there evidence habitat creation started/in place? ⚠","Standard time to target condition applied"))))))))) -> Check details- Delay in starting habitat in required condition? ⚠ | S12: =IF(R12="Error -both advance and delayed habitat creation ▲","Check Data ⚠",IF(O12="Not Possible","Check Data ⚠",IF(O12="","",IF(AND(O12="30+",P12=0),"30+",IF(AND(O12="30+",P12="30+"),0,IF(AND(O12="30+",P12<32),30-P12,IF(O12="30+",30-P12,IF(P12>O12,0,IF(Q12="30+","30+",IF(O12+Q12>30,"30+",IF(O12+Q12>30,"30+",IF(O12-P12>30,"30+",IF(O12+Q12-P12>0,O12+Q12-P12,IF(O12-P12>0,O12-P12,O12+Q12-P12)))))))))))))) -> 2 | T12: =IFERROR(IF(S12="Check Data ⚠","Check Data ⚠",VLOOKUP(S12,'G-4 Temporal multipliers'!$A$4:$C$37,3,FALSE)),"") -> 0.931225 | U12: =IF(F12="","",VLOOKUP(F12,'G-3 Multipliers'!$A$2:$E$129,2,FALSE)) -> Low | V12: =IF(F12="","",IF($R12="Check details - Is there evidence that habitat has reached target condition? ⚠","Low Difficulty - only applicable if all habitat created before losses",IF($R12="Check details - Is there evidence habitat creation started and the threshold for Poor condition reached? ⚠","Enhancement difficulty applied","Standard difficulty applied"))) -> Standard difficulty applied | W12: =IF(E12="","",IF(AND(V12="Standard difficulty applied",O12>P12),U12,IF(AND(V12="Low Difficulty - only applicable if all habitat created before losses",P12>=O12),"Low",VLOOKUP(F12,'G-3 Multipliers'!$A$2:$E$129,4,FALSE)))) -> Low | X12: =IFERROR(IF(E12="","",VLOOKUP(W12, 'G-3 Multipliers'!$P$2:$Q$6,2,FALSE)),"") -> 1 | Y12: =IFERROR(G12*I12*K12*N12*T12*X12,"") -> 0.12534288 | AE12: =IFERROR(INDEX(TemporalData,MATCH(F12,TemporalHabitats,0),MATCH($AE$10,TemporalConditions,0)),"") -> Not Possible
A13: =IFERROR(INDEX('G-8 Condition Look up'!$I$4:$I$130,MATCH(F13,'G-8 Condition Look up'!$A$4:$A$130,0)),"") -> Cond4 | C13: =IFERROR(INDEX('G-1 All Habitats'!$AG$3:$AG$15,MATCH(D13,'G-1 All Habitats'!$AF$3:$AF$15,0)),"") -> Urban | D13: Urban | E13: Urban Tree | F13: =IFERROR(INDEX('G-1 All Habitats'!$B$3:$B$129,MATCH(E13,'G-1 All Habitats'!$A$3:$A$129,0)),"") -> Urban - Urban Tree | G13: 0.1831248 | H13: =IF(F13="","",VLOOKUP(F13,'G-1 All Habitats'!$B$2:$M$129,10,FALSE)) -> Medium | I13: =IFERROR(VLOOKUP(H13,'G-1 All Habitats'!$V$3:$W$7,2,FALSE),"") -> 4 | J13: Moderate | K13: =IFERROR(INDEX('G-8 Condition Look up'!$A$3:$H$130,MATCH(F13,'G-8 Condition Look up'!$A$3:$A$130,0),MATCH(J13,'G-8 Condition Look up'!$A$3:$H$3,0)),"") -> 2 | L13: Area/compensation not in local strategy/ no local strategy | M13: =IF(L13="","",IF(VLOOKUP(L13,'G-3 Multipliers'!$L$3:$N$6,2,FALSE)=0,"Spatial Data Missing",VLOOKUP(L13,'G-3 Multipliers'!$L$3:$N$6,2,FALSE))) -> Low Strategic Significance | N13: =IF(L13="","",IF(VLOOKUP(L13,'G-3 Multipliers'!$L$3:$N$6,3,FALSE)=0,"Spatial Data Missing",VLOOKUP(L13,'G-3 Multipliers'!$L$3:$N$6,3,FALSE))) -> 1 | O13: =IFERROR(INDEX(TemporalData,MATCH(F13,TemporalHabitats,0),MATCH(J13,TemporalConditions,0)),"") -> 27 | P13: 0 | Q13: 1 | R13: =IF(E13="","",IF(AND(P13>0,Q13>0),"Error -both advance and delayed habitat creation ▲",IF(I13=0,"Standard time to target condition applied",IF(AND(J13="N/A -Agricultural",O13<=P13),"Check details - Is there evidence habitat creation in place? ⚠",IF(AND(O13<=P13,Q13=0),"Check details - Is there evidence that habitat has reached target condition? ⚠",IF(O13="","",IF(AND(P13>=AE13,P13>0),"Check details - Is there evidence habitat creation started and the threshold for Poor condition reached? ⚠",IF(Q13>0,"Check details- Delay in starting habitat in required condition? ⚠",IF(P13>0,"Check details - Is there evidence habitat creation started/in place? ⚠","Standard time to target condition applied"))))))))) -> Check details- Delay in starting habitat in required condition? ⚠ | S13: =IF(R13="Error -both advance and delayed habitat creation ▲","Check Data ⚠",IF(O13="Not Possible","Check Data ⚠",IF(O13="","",IF(AND(O13="30+",P13=0),"30+",IF(AND(O13="30+",P13="30+"),0,IF(AND(O13="30+",P13<32),30-P13,IF(O13="30+",30-P13,IF(P13>O13,0,IF(Q13="30+","30+",IF(O13+Q13>30,"30+",IF(O13+Q13>30,"30+",IF(O13-P13>30,"30+",IF(O13+Q13-P13>0,O13+Q13-P13,IF(O13-P13>0,O13-P13,O13+Q13-P13)))))))))))))) -> 28 | T13: =IFERROR(IF(S13="Check Data ⚠","Check Data ⚠",VLOOKUP(S13,'G-4 Temporal multipliers'!$A$4:$C$37,3,FALSE)),"") -> 0.3687778 | U13: =IF(F13="","",VLOOKUP(F13,'G-3 Multipliers'!$A$2:$E$129,2,FALSE)) -> Low | V13: =IF(F13="","",IF($R13="Check details - Is there evidence that habitat has reached target condition? ⚠","Low Difficulty - only applicable if all habitat created before losses",IF($R13="Check details - Is there evidence habitat creation started and the threshold for Poor condition reached? ⚠","Enhancement difficulty applied","Standard difficulty applied"))) -> Standard difficulty applied | W13: =IF(E13="","",IF(AND(V13="Standard difficulty applied",O13>P13),U13,IF(AND(V13="Low Difficulty - only applicable if all habitat created before losses",P13>=O13),"Low",VLOOKUP(F13,'G-3 Multipliers'!$A$2:$E$129,4,FALSE)))) -> Low | X13: =IFERROR(IF(E13="","",VLOOKUP(W13, 'G-3 Multipliers'!$P$2:$Q$6,2,FALSE)),"") -> 1 | Y13: =IFERROR(G13*I13*K13*N13*T13*X13,"") -> 0.54025889 | AE13: =IFERROR(INDEX(TemporalData,MATCH(F13,TemporalHabitats,0),MATCH($AE$10,TemporalConditions,0)),"") -> 10
A14: =IFERROR(INDEX('G-8 Condition Look up'!$I$4:$I$130,MATCH(F14,'G-8 Condition Look up'!$A$4:$A$130,0)),"") | C14: =IFERROR(INDEX('G-1 All Habitats'!$AG$3:$AG$15,MATCH(D14,'G-1 All Habitats'!$AF$3:$AF$15,0)),"") | F14: =IFERROR(INDEX('G-1 All Habitats'!$B$3:$B$129,MATCH(E14,'G-1 All Habitats'!$A$3:$A$129,0)),"") | H14: =IF(F14="","",VLOOKUP(F14,'G-1 All Habitats'!$B$2:$M$129,10,FALSE)) | I14: =IFERROR(VLOOKUP(H14,'G-1 All Habitats'!$V$3:$W$7,2,FALSE),"") | K14: =IFERROR(INDEX('G-8 Condition Look up'!$A$3:$H$130,MATCH(F14,'G-8 Condition Look up'!$A$3:$A$130,0),MATCH(J14,'G-8 Condition Look up'!$A$3:$H$3,0)),"") | M14: =IF(L14="","",IF(VLOOKUP(L14,'G-3 Multipliers'!$L$3:$N$6,2,FALSE)=0,"Spatial Data Missing",VLOOKUP(L14,'G-3 Multipliers'!$L$3:$N$6,2,FALSE))) | N14: =IF(L14="","",IF(VLOOKUP(L14,'G-3 Multipliers'!$L$3:$N$6,3,FALSE)=0,"Spatial Data Missing",VLOOKUP(L14,'G-3 Multipliers'!$L$3:$N$6,3,FALSE))) | O14: =IFERROR(INDEX(TemporalData,MATCH(F14,TemporalHabitats,0),MATCH(J14,TemporalConditions,0)),"") | R14: =IF(E14="","",IF(AND(P14>0,Q14>0),"Error -both advance and delayed habitat creation ▲",IF(I14=0,"Standard time to target condition applied",IF(AND(J14="N/A -Agricultural",O14<=P14),"Check details - Is there evidence habitat creation in place? ⚠",IF(AND(O14<=P14,Q14=0),"Check details - Is there evidence that habitat has reached target condition? ⚠",IF(O14="","",IF(AND(P14>=AE14,P14>0),"Check details - Is there evidence habitat creation started and the threshold for Poor condition reached? ⚠",IF(Q14>0,"Check details- Delay in starting habitat in required condition? ⚠",IF(P14>0,"Check details - Is there evidence habitat creation started/in place? ⚠","Standard time to target condition applied"))))))))) | S14: =IF(R14="Error -both advance and delayed habitat creation ▲","Check Data ⚠",IF(O14="Not Possible","Check Data ⚠",IF(O14="","",IF(AND(O14="30+",P14=0),"30+",IF(AND(O14="30+",P14="30+"),0,IF(AND(O14="30+",P14<32),30-P14,IF(O14="30+",30-P14,IF(P14>O14,0,IF(Q14="30+","30+",IF(O14+Q14>30,"30+",IF(O14+Q14>30,"30+",IF(O14-P14>30,"30+",IF(O14+Q14-P14>0,O14+Q14-P14,IF(O14-P14>0,O14-P14,O14+Q14-P14)))))))))))))) | T14: =IFERROR(IF(S14="Check Data ⚠","Check Data ⚠",VLOOKUP(S14,'G-4 Temporal multipliers'!$A$4:$C$37,3,FALSE)),"") | U14: =IF(F14="","",VLOOKUP(F14,'G-3 Multipliers'!$A$2:$E$129,2,FALSE)) | V14: =IF(F14="","",IF($R14="Check details - Is there evidence that habitat has reached target condition? ⚠","Low Difficulty - only applicable if all habitat created before losses",IF($R14="Check details - Is there evidence habitat creation started and the threshold for Poor condition reached? ⚠","Enhancement difficulty applied","Standard difficulty applied"))) | W14: =IF(E14="","",IF(AND(V14="Standard difficulty applied",O14>P14),U14,IF(AND(V14="Low Difficulty - only applicable if all habitat created before losses",P14>=O14),"Low",VLOOKUP(F14,'G-3 Multipliers'!$A$2:$E$129,4,FALSE)))) | X14: =IFERROR(IF(E14="","",VLOOKUP(W14, 'G-3 Multipliers'!$P$2:$Q$6,2,FALSE)),"") | Y14: =IFERROR(G14*I14*K14*N14*T14*X14,"") | AE14: =IFERROR(INDEX(TemporalData,MATCH(F14,TemporalHabitats,0),MATCH($AE$10,TemporalConditions,0)),"")
A15: =IFERROR(INDEX('G-8 Condition Look up'!$I$4:$I$130,MATCH(F15,'G-8 Condition Look up'!$A$4:$A$130,0)),"") | C15: =IFERROR(INDEX('G-1 All Habitats'!$AG$3:$AG$15,MATCH(D15,'G-1 All Habitats'!$AF$3:$AF$15,0)),"") | F15: =IFERROR(INDEX('G-1 All Habitats'!$B$3:$B$129,MATCH(E15,'G-1 All Habitats'!$A$3:$A$129,0)),"") | H15: =IF(F15="","",VLOOKUP(F15,'G-1 All Habitats'!$B$2:$M$129,10,FALSE)) | I15: =IFERROR(VLOOKUP(H15,'G-1 All Habitats'!$V$3:$W$7,2,FALSE),"") | K15: =IFERROR(INDEX('G-8 Condition Look up'!$A$3:$H$130,MATCH(F15,'G-8 Condition Look up'!$A$3:$A$130,0),MATCH(J15,'G-8 Condition Look up'!$A$3:$H$3,0)),"") | M15: =IF(L15="","",IF(VLOOKUP(L15,'G-3 Multipliers'!$L$3:$N$6,2,FALSE)=0,"Spatial Data Missing",VLOOKUP(L15,'G-3 Multipliers'!$L$3:$N$6,2,FALSE))) | N15: =IF(L15="","",IF(VLOOKUP(L15,'G-3 Multipliers'!$L$3:$N$6,3,FALSE)=0,"Spatial Data Missing",VLOOKUP(L15,'G-3 Multipliers'!$L$3:$N$6,3,FALSE))) | O15: =IFERROR(INDEX(TemporalData,MATCH(F15,TemporalHabitats,0),MATCH(J15,TemporalConditions,0)),"") | R15: =IF(E15="","",IF(AND(P15>0,Q15>0),"Error -both advance and delayed habitat creation ▲",IF(I15=0,"Standard time to target condition applied",IF(AND(J15="N/A -Agricultural",O15<=P15),"Check details - Is there evidence habitat creation in place? ⚠",IF(AND(O15<=P15,Q15=0),"Check details - Is there evidence that habitat has reached target condition? ⚠",IF(O15="","",IF(AND(P15>=AE15,P15>0),"Check details - Is there evidence habitat creation started and the threshold for Poor condition reached? ⚠",IF(Q15>0,"Check details- Delay in starting habitat in required condition? ⚠",IF(P15>0,"Check details - Is there evidence habitat creation started/in place? ⚠","Standard time to target condition applied"))))))))) | S15: =IF(R15="Error -both advance and delayed habitat creation ▲","Check Data ⚠",IF(O15="Not Possible","Check Data ⚠",IF(O15="","",IF(AND(O15="30+",P15=0),"30+",IF(AND(O15="30+",P15="30+"),0,IF(AND(O15="30+",P15<32),30-P15,IF(O15="30+",30-P15,IF(P15>O15,0,IF(Q15="30+","30+",IF(O15+Q15>30,"30+",IF(O15+Q15>30,"30+",IF(O15-P15>30,"30+",IF(O15+Q15-P15>0,O15+Q15-P15,IF(O15-P15>0,O15-P15,O15+Q15-P15)))))))))))))) | T15: =IFERROR(IF(S15="Check Data ⚠","Check Data ⚠",VLOOKUP(S15,'G-4 Temporal multipliers'!$A$4:$C$37,3,FALSE)),"") | U15: =IF(F15="","",VLOOKUP(F15,'G-3 Multipliers'!$A$2:$E$129,2,FALSE)) | V15: =IF(F15="","",IF($R15="Check details - Is there evidence that habitat has reached target condition? ⚠","Low Difficulty - only applicable if all habitat created before losses",IF($R15="Check details - Is there evidence habitat creation started and the threshold for Poor condition reached? ⚠","Enhancement difficulty applied","Standard difficulty applied"))) | W15: =IF(E15="","",IF(AND(V15="Standard difficulty applied",O15>P15),U15,IF(AND(V15="Low Difficulty - only applicable if all habitat created before losses",P15>=O15),"Low",VLOOKUP(F15,'G-3 Multipliers'!$A$2:$E$129,4,FALSE)))) | X15: =IFERROR(IF(E15="","",VLOOKUP(W15, 'G-3 Multipliers'!$P$2:$Q$6,2,FALSE)),"") | Y15: =IFERROR(G15*I15*K15*N15*T15*X15,"") | AE15: =IFERROR(INDEX(TemporalData,MATCH(F15,TemporalHabitats,0),MATCH($AE$10,TemporalConditions,0)),"")
A16: =IFERROR(INDEX('G-8 Condition Look up'!$I$4:$I$130,MATCH(F16,'G-8 Condition Look up'!$A$4:$A$130,0)),"") | C16: =IFERROR(INDEX('G-1 All Habitats'!$AG$3:$AG$15,MATCH(D16,'G-1 All Habitats'!$AF$3:$AF$15,0)),"") | F16: =IFERROR(INDEX('G-1 All Habitats'!$B$3:$B$129,MATCH(E16,'G-1 All Habitats'!$A$3:$A$129,0)),"") | H16: =IF(F16="","",VLOOKUP(F16,'G-1 All Habitats'!$B$2:$M$129,10,FALSE)) | I16: =IFERROR(VLOOKUP(H16,'G-1 All Habitats'!$V$3:$W$7,2,FALSE),"") | K16: =IFERROR(INDEX('G-8 Condition Look up'!$A$3:$H$130,MATCH(F16,'G-8 Condition Look up'!$A$3:$A$130,0),MATCH(J16,'G-8 Condition Look up'!$A$3:$H$3,0)),"") | M16: =IF(L16="","",IF(VLOOKUP(L16,'G-3 Multipliers'!$L$3:$N$6,2,FALSE)=0,"Spatial Data Missing",VLOOKUP(L16,'G-3 Multipliers'!$L$3:$N$6,2,FALSE))) | N16: =IF(L16="","",IF(VLOOKUP(L16,'G-3 Multipliers'!$L$3:$N$6,3,FALSE)=0,"Spatial Data Missing",VLOOKUP(L16,'G-3 Multipliers'!$L$3:$N$6,3,FALSE))) | O16: =IFERROR(INDEX(TemporalData,MATCH(F16,TemporalHabitats,0),MATCH(J16,TemporalConditions,0)),"") | R16: =IF(E16="","",IF(AND(P16>0,Q16>0),"Error -both advance and delayed habitat creation ▲",IF(I16=0,"Standard time to target condition applied",IF(AND(J16="N/A -Agricultural",O16<=P16),"Check details - Is there evidence habitat creation in place? ⚠",IF(AND(O16<=P16,Q16=0),"Check details - Is there evidence that habitat has reached target condition? ⚠",IF(O16="","",IF(AND(P16>=AE16,P16>0),"Check details - Is there evidence habitat creation started and the threshold for Poor condition reached? ⚠",IF(Q16>0,"Check details- Delay in starting habitat in required condition? ⚠",IF(P16>0,"Check details - Is there evidence habitat creation started/in place? ⚠","Standard time to target condition applied"))))))))) | S16: =IF(R16="Error -both advance and delayed habitat creation ▲","Check Data ⚠",IF(O16="Not Possible","Check Data ⚠",IF(O16="","",IF(AND(O16="30+",P16=0),"30+",IF(AND(O16="30+",P16="30+"),0,IF(AND(O16="30+",P16<32),30-P16,IF(O16="30+",30-P16,IF(P16>O16,0,IF(Q16="30+","30+",IF(O16+Q16>30,"30+",IF(O16+Q16>30,"30+",IF(O16-P16>30,"30+",IF(O16+Q16-P16>0,O16+Q16-P16,IF(O16-P16>0,O16-P16,O16+Q16-P16)))))))))))))) | T16: =IFERROR(IF(S16="Check Data ⚠","Check Data ⚠",VLOOKUP(S16,'G-4 Temporal multipliers'!$A$4:$C$37,3,FALSE)),"") | U16: =IF(F16="","",VLOOKUP(F16,'G-3 Multipliers'!$A$2:$E$129,2,FALSE)) | V16: =IF(F16="","",IF($R16="Check details - Is there evidence that habitat has reached target condition? ⚠","Low Difficulty - only applicable if all habitat created before losses",IF($R16="Check details - Is there evidence habitat creation started and the threshold for Poor condition reached? ⚠","Enhancement difficulty applied","Standard difficulty applied"))) | W16: =IF(E16="","",IF(AND(V16="Standard difficulty applied",O16>P16),U16,IF(AND(V16="Low Difficulty - only applicable if all habitat created before losses",P16>=O16),"Low",VLOOKUP(F16,'G-3 Multipliers'!$A$2:$E$129,4,FALSE)))) | X16: =IFERROR(IF(E16="","",VLOOKUP(W16, 'G-3 Multipliers'!$P$2:$Q$6,2,FALSE)),"") | Y16: =IFERROR(G16*I16*K16*N16*T16*X16,"") | AE16: =IFERROR(INDEX(TemporalData,MATCH(F16,TemporalHabitats,0),MATCH($AE$10,TemporalConditions,0)),"")
A17: =IFERROR(INDEX('G-8 Condition Look up'!$I$4:$I$130,MATCH(F17,'G-8 Condition Look up'!$A$4:$A$130,0)),"") | C17: =IFERROR(INDEX('G-1 All Habitats'!$AG$3:$AG$15,MATCH(D17,'G-1 All Habitats'!$AF$3:$AF$15,0)),"") | F17: =IFERROR(INDEX('G-1 All Habitats'!$B$3:$B$129,MATCH(E17,'G-1 All Habitats'!$A$3:$A$129,0)),"") | H17: =IF(F17="","",VLOOKUP(F17,'G-1 All Habitats'!$B$2:$M$129,10,FALSE)) | I17: =IFERROR(VLOOKUP(H17,'G-1 All Habitats'!$V$3:$W$7,2,FALSE),"") | K17: =IFERROR(INDEX('G-8 Condition Look up'!$A$3:$H$130,MATCH(F17,'G-8 Condition Look up'!$A$3:$A$130,0),MATCH(J17,'G-8 Condition Look up'!$A$3:$H$3,0)),"") | M17: =IF(L17="","",IF(VLOOKUP(L17,'G-3 Multipliers'!$L$3:$N$6,2,FALSE)=0,"Spatial Data Missing",VLOOKUP(L17,'G-3 Multipliers'!$L$3:$N$6,2,FALSE))) | N17: =IF(L17="","",IF(VLOOKUP(L17,'G-3 Multipliers'!$L$3:$N$6,3,FALSE)=0,"Spatial Data Missing",VLOOKUP(L17,'G-3 Multipliers'!$L$3:$N$6,3,FALSE))) | O17: =IFERROR(INDEX(TemporalData,MATCH(F17,TemporalHabitats,0),MATCH(J17,TemporalConditions,0)),"") | R17: =IF(E17="","",IF(AND(P17>0,Q17>0),"Error -both advance and delayed habitat creation ▲",IF(I17=0,"Standard time to target condition applied",IF(AND(J17="N/A -Agricultural",O17<=P17),"Check details - Is there evidence habitat creation in place? ⚠",IF(AND(O17<=P17,Q17=0),"Check details - Is there evidence that habitat has reached target condition? ⚠",IF(O17="","",IF(AND(P17>=AE17,P17>0),"Check details - Is there evidence habitat creation started and the threshold for Poor condition reached? ⚠",IF(Q17>0,"Check details- Delay in starting habitat in required condition? ⚠",IF(P17>0,"Check details - Is there evidence habitat creation started/in place? ⚠","Standard time to target condition applied"))))))))) | S17: =IF(R17="Error -both advance and delayed habitat creation ▲","Check Data ⚠",IF(O17="Not Possible","Check Data ⚠",IF(O17="","",IF(AND(O17="30+",P17=0),"30+",IF(AND(O17="30+",P17="30+"),0,IF(AND(O17="30+",P17<32),30-P17,IF(O17="30+",30-P17,IF(P17>O17,0,IF(Q17="30+","30+",IF(O17+Q17>30,"30+",IF(O17+Q17>30,"30+",IF(O17-P17>30,"30+",IF(O17+Q17-P17>0,O17+Q17-P17,IF(O17-P17>0,O17-P17,O17+Q17-P17)))))))))))))) | T17: =IFERROR(IF(S17="Check Data ⚠","Check Data ⚠",VLOOKUP(S17,'G-4 Temporal multipliers'!$A$4:$C$37,3,FALSE)),"") | U17: =IF(F17="","",VLOOKUP(F17,'G-3 Multipliers'!$A$2:$E$129,2,FALSE)) | V17: =IF(F17="","",IF($R17="Check details - Is there evidence that habitat has reached target condition? ⚠","Low Difficulty - only applicable if all habitat created before losses",IF($R17="Check details - Is there evidence habitat creation started and the threshold for Poor condition reached? ⚠","Enhancement difficulty applied","Standard difficulty applied"))) | W17: =IF(E17="","",IF(AND(V17="Standard difficulty applied",O17>P17),U17,IF(AND(V17="Low Difficulty - only applicable if all habitat created before losses",P17>=O17),"Low",VLOOKUP(F17,'G-3 Multipliers'!$A$2:$E$129,4,FALSE)))) | X17: =IFERROR(IF(E17="","",VLOOKUP(W17, 'G-3 Multipliers'!$P$2:$Q$6,2,FALSE)),"") | Y17: =IFERROR(G17*I17*K17*N17*T17*X17,"") | AE17: =IFERROR(INDEX(TemporalData,MATCH(F17,TemporalHabitats,0),MATCH($AE$10,TemporalConditions,0)),"")
A18: =IFERROR(INDEX('G-8 Condition Look up'!$I$4:$I$130,MATCH(F18,'G-8 Condition Look up'!$A$4:$A$130,0)),"") | C18: =IFERROR(INDEX('G-1 All Habitats'!$AG$3:$AG$15,MATCH(D18,'G-1 All Habitats'!$AF$3:$AF$15,0)),"") | F18: =IFERROR(INDEX('G-1 All Habitats'!$B$3:$B$129,MATCH(E18,'G-1 All Habitats'!$A$3:$A$129,0)),"") | H18: =IF(F18="","",VLOOKUP(F18,'G-1 All Habitats'!$B$2:$M$129,10,FALSE)) | I18: =IFERROR(VLOOKUP(H18,'G-1 All Habitats'!$V$3:$W$7,2,FALSE),"") | K18: =IFERROR(INDEX('G-8 Condition Look up'!$A$3:$H$130,MATCH(F18,'G-8 Condition Look up'!$A$3:$A$130,0),MATCH(J18,'G-8 Condition Look up'!$A$3:$H$3,0)),"") | M18: =IF(L18="","",IF(VLOOKUP(L18,'G-3 Multipliers'!$L$3:$N$6,2,FALSE)=0,"Spatial Data Missing",VLOOKUP(L18,'G-3 Multipliers'!$L$3:$N$6,2,FALSE))) | N18: =IF(L18="","",IF(VLOOKUP(L18,'G-3 Multipliers'!$L$3:$N$6,3,FALSE)=0,"Spatial Data Missing",VLOOKUP(L18,'G-3 Multipliers'!$L$3:$N$6,3,FALSE))) | O18: =IFERROR(INDEX(TemporalData,MATCH(F18,TemporalHabitats,0),MATCH(J18,TemporalConditions,0)),"") | R18: =IF(E18="","",IF(AND(P18>0,Q18>0),"Error -both advance and delayed habitat creation ▲",IF(I18=0,"Standard time to target condition applied",IF(AND(J18="N/A -Agricultural",O18<=P18),"Check details - Is there evidence habitat creation in place? ⚠",IF(AND(O18<=P18,Q18=0),"Check details - Is there evidence that habitat has reached target condition? ⚠",IF(O18="","",IF(AND(P18>=AE18,P18>0),"Check details - Is there evidence habitat creation started and the threshold for Poor condition reached? ⚠",IF(Q18>0,"Check details- Delay in starting habitat in required condition? ⚠",IF(P18>0,"Check details - Is there evidence habitat creation started/in place? ⚠","Standard time to target condition applied"))))))))) | S18: =IF(R18="Error -both advance and delayed habitat creation ▲","Check Data ⚠",IF(O18="Not Possible","Check Data ⚠",IF(O18="","",IF(AND(O18="30+",P18=0),"30+",IF(AND(O18="30+",P18="30+"),0,IF(AND(O18="30+",P18<32),30-P18,IF(O18="30+",30-P18,IF(P18>O18,0,IF(Q18="30+","30+",IF(O18+Q18>30,"30+",IF(O18+Q18>30,"30+",IF(O18-P18>30,"30+",IF(O18+Q18-P18>0,O18+Q18-P18,IF(O18-P18>0,O18-P18,O18+Q18-P18)))))))))))))) | T18: =IFERROR(IF(S18="Check Data ⚠","Check Data ⚠",VLOOKUP(S18,'G-4 Temporal multipliers'!$A$4:$C$37,3,FALSE)),"") | U18: =IF(F18="","",VLOOKUP(F18,'G-3 Multipliers'!$A$2:$E$129,2,FALSE)) | V18: =IF(F18="","",IF($R18="Check details - Is there evidence that habitat has reached target condition? ⚠","Low Difficulty - only applicable if all habitat created before losses",IF($R18="Check details - Is there evidence habitat creation started and the threshold for Poor condition reached? ⚠","Enhancement difficulty applied","Standard difficulty applied"))) | W18: =IF(E18="","",IF(AND(V18="Standard difficulty applied",O18>P18),U18,IF(AND(V18="Low Difficulty - only applicable if all habitat created before losses",P18>=O18),"Low",VLOOKUP(F18,'G-3 Multipliers'!$A$2:$E$129,4,FALSE)))) | X18: =IFERROR(IF(E18="","",VLOOKUP(W18, 'G-3 Multipliers'!$P$2:$Q$6,2,FALSE)),"") | Y18: =IFERROR(G18*I18*K18*N18*T18*X18,"") | AE18: =IFERROR(INDEX(TemporalData,MATCH(F18,TemporalHabitats,0),MATCH($AE$10,TemporalConditions,0)),"")
A19: =IFERROR(INDEX('G-8 Condition Look up'!$I$4:$I$130,MATCH(F19,'G-8 Condition Look up'!$A$4:$A$130,0)),"") | C19: =IFERROR(INDEX('G-1 All Habitats'!$AG$3:$AG$15,MATCH(D19,'G-1 All Habitats'!$AF$3:$AF$15,0)),"") | F19: =IFERROR(INDEX('G-1 All Habitats'!$B$3:$B$129,MATCH(E19,'G-1 All Habitats'!$A$3:$A$129,0)),"") | H19: =IF(F19="","",VLOOKUP(F19,'G-1 All Habitats'!$B$2:$M$129,10,FALSE)) | I19: =IFERROR(VLOOKUP(H19,'G-1 All Habitats'!$V$3:$W$7,2,FALSE),"") | K19: =IFERROR(INDEX('G-8 Condition Look up'!$A$3:$H$130,MATCH(F19,'G-8 Condition Look up'!$A$3:$A$130,0),MATCH(J19,'G-8 Condition Look up'!$A$3:$H$3,0)),"") | M19: =IF(L19="","",IF(VLOOKUP(L19,'G-3 Multipliers'!$L$3:$N$6,2,FALSE)=0,"Spatial Data Missing",VLOOKUP(L19,'G-3 Multipliers'!$L$3:$N$6,2,FALSE))) | N19: =IF(L19="","",IF(VLOOKUP(L19,'G-3 Multipliers'!$L$3:$N$6,3,FALSE)=0,"Spatial Data Missing",VLOOKUP(L19,'G-3 Multipliers'!$L$3:$N$6,3,FALSE))) | O19: =IFERROR(INDEX(TemporalData,MATCH(F19,TemporalHabitats,0),MATCH(J19,TemporalConditions,0)),"") | R19: =IF(E19="","",IF(AND(P19>0,Q19>0),"Error -both advance and delayed habitat creation ▲",IF(I19=0,"Standard time to target condition applied",IF(AND(J19="N/A -Agricultural",O19<=P19),"Check details - Is there evidence habitat creation in place? ⚠",IF(AND(O19<=P19,Q19=0),"Check details - Is there evidence that habitat has reached target condition? ⚠",IF(O19="","",IF(AND(P19>=AE19,P19>0),"Check details - Is there evidence habitat creation started and the threshold for Poor condition reached? ⚠",IF(Q19>0,"Check details- Delay in starting habitat in required condition? ⚠",IF(P19>0,"Check details - Is there evidence habitat creation started/in place? ⚠","Standard time to target condition applied"))))))))) | S19: =IF(R19="Error -both advance and delayed habitat creation ▲","Check Data ⚠",IF(O19="Not Possible","Check Data ⚠",IF(O19="","",IF(AND(O19="30+",P19=0),"30+",IF(AND(O19="30+",P19="30+"),0,IF(AND(O19="30+",P19<32),30-P19,IF(O19="30+",30-P19,IF(P19>O19,0,IF(Q19="30+","30+",IF(O19+Q19>30,"30+",IF(O19+Q19>30,"30+",IF(O19-P19>30,"30+",IF(O19+Q19-P19>0,O19+Q19-P19,IF(O19-P19>0,O19-P19,O19+Q19-P19)))))))))))))) | T19: =IFERROR(IF(S19="Check Data ⚠","Check Data ⚠",VLOOKUP(S19,'G-4 Temporal multipliers'!$A$4:$C$37,3,FALSE)),"") | U19: =IF(F19="","",VLOOKUP(F19,'G-3 Multipliers'!$A$2:$E$129,2,FALSE)) | V19: =IF(F19="","",IF($R19="Check details - Is there evidence that habitat has reached target condition? ⚠","Low Difficulty - only applicable if all habitat created before losses",IF($R19="Check details - Is there evidence habitat creation started and the threshold for Poor condition reached? ⚠","Enhancement difficulty applied","Standard difficulty applied"))) | W19: =IF(E19="","",IF(AND(V19="Standard difficulty applied",O19>P19),U19,IF(AND(V19="Low Difficulty - only applicable if all habitat created before losses",P19>=O19),"Low",VLOOKUP(F19,'G-3 Multipliers'!$A$2:$E$129,4,FALSE)))) | X19: =IFERROR(IF(E19="","",VLOOKUP(W19, 'G-3 Multipliers'!$P$2:$Q$6,2,FALSE)),"") | Y19: =IFERROR(G19*I19*K19*N19*T19*X19,"") | AE19: =IFERROR(INDEX(TemporalData,MATCH(F19,TemporalHabitats,0),MATCH($AE$10,TemporalConditions,0)),"")
A20: =IFERROR(INDEX('G-8 Condition Look up'!$I$4:$I$130,MATCH(F20,'G-8 Condition Look up'!$A$4:$A$130,0)),"") | C20: =IFERROR(INDEX('G-1 All Habitats'!$AG$3:$AG$15,MATCH(D20,'G-1 All Habitats'!$AF$3:$AF$15,0)),"") | F20: =IFERROR(INDEX('G-1 All Habitats'!$B$3:$B$129,MATCH(E20,'G-1 All Habitats'!$A$3:$A$129,0)),"") | H20: =IF(F20="","",VLOOKUP(F20,'G-1 All Habitats'!$B$2:$M$129,10,FALSE)) | I20: =IFERROR(VLOOKUP(H20,'G-1 All Habitats'!$V$3:$W$7,2,FALSE),"") | K20: =IFERROR(INDEX('G-8 Condition Look up'!$A$3:$H$130,MATCH(F20,'G-8 Condition Look up'!$A$3:$A$130,0),MATCH(J20,'G-8 Condition Look up'!$A$3:$H$3,0)),"") | M20: =IF(L20="","",IF(VLOOKUP(L20,'G-3 Multipliers'!$L$3:$N$6,2,FALSE)=0,"Spatial Data Missing",VLOOKUP(L20,'G-3 Multipliers'!$L$3:$N$6,2,FALSE))) | N20: =IF(L20="","",IF(VLOOKUP(L20,'G-3 Multipliers'!$L$3:$N$6,3,FALSE)=0,"Spatial Data Missing",VLOOKUP(L20,'G-3 Multipliers'!$L$3:$N$6,3,FALSE))) | O20: =IFERROR(INDEX(TemporalData,MATCH(F20,TemporalHabitats,0),MATCH(J20,TemporalConditions,0)),"") | R20: =IF(E20="","",IF(AND(P20>0,Q20>0),"Error -both advance and delayed habitat creation ▲",IF(I20=0,"Standard time to target condition applied",IF(AND(J20="N/A -Agricultural",O20<=P20),"Check details - Is there evidence habitat creation in place? ⚠",IF(AND(O20<=P20,Q20=0),"Check details - Is there evidence that habitat has reached target condition? ⚠",IF(O20="","",IF(AND(P20>=AE20,P20>0),"Check details - Is there evidence habitat creation started and the threshold for Poor condition reached? ⚠",IF(Q20>0,"Check details- Delay in starting habitat in required condition? ⚠",IF(P20>0,"Check details - Is there evidence habitat creation started/in place? ⚠","Standard time to target condition applied"))))))))) | S20: =IF(R20="Error -both advance and delayed habitat creation ▲","Check Data ⚠",IF(O20="Not Possible","Check Data ⚠",IF(O20="","",IF(AND(O20="30+",P20=0),"30+",IF(AND(O20="30+",P20="30+"),0,IF(AND(O20="30+",P20<32),30-P20,IF(O20="30+",30-P20,IF(P20>O20,0,IF(Q20="30+","30+",IF(O20+Q20>30,"30+",IF(O20+Q20>30,"30+",IF(O20-P20>30,"30+",IF(O20+Q20-P20>0,O20+Q20-P20,IF(O20-P20>0,O20-P20,O20+Q20-P20)))))))))))))) | T20: =IFERROR(IF(S20="Check Data ⚠","Check Data ⚠",VLOOKUP(S20,'G-4 Temporal multipliers'!$A$4:$C$37,3,FALSE)),"") | U20: =IF(F20="","",VLOOKUP(F20,'G-3 Multipliers'!$A$2:$E$129,2,FALSE)) | V20: =IF(F20="","",IF($R20="Check details - Is there evidence that habitat has reached target condition? ⚠","Low Difficulty - only applicable if all habitat created before losses",IF($R20="Check details - Is there evidence habitat creation started and the threshold for Poor condition reached? ⚠","Enhancement difficulty applied","Standard difficulty applied"))) | W20: =IF(E20="","",IF(AND(V20="Standard difficulty applied",O20>P20),U20,IF(AND(V20="Low Difficulty - only applicable if all habitat created before losses",P20>=O20),"Low",VLOOKUP(F20,'G-3 Multipliers'!$A$2:$E$129,4,FALSE)))) | X20: =IFERROR(IF(E20="","",VLOOKUP(W20, 'G-3 Multipliers'!$P$2:$Q$6,2,FALSE)),"") | Y20: =IFERROR(G20*I20*K20*N20*T20*X20,"") | AE20: =IFERROR(INDEX(TemporalData,MATCH(F20,TemporalHabitats,0),MATCH($AE$10,TemporalConditions,0)),"")
A21: =IFERROR(INDEX('G-8 Condition Look up'!$I$4:$I$130,MATCH(F21,'G-8 Condition Look up'!$A$4:$A$130,0)),"") | C21: =IFERROR(INDEX('G-1 All Habitats'!$AG$3:$AG$15,MATCH(D21,'G-1 All Habitats'!$AF$3:$AF$15,0)),"") | F21: =IFERROR(INDEX('G-1 All Habitats'!$B$3:$B$129,MATCH(E21,'G-1 All Habitats'!$A$3:$A$129,0)),"") | H21: =IF(F21="","",VLOOKUP(F21,'G-1 All Habitats'!$B$2:$M$129,10,FALSE)) | I21: =IFERROR(VLOOKUP(H21,'G-1 All Habitats'!$V$3:$W$7,2,FALSE),"") | K21: =IFERROR(INDEX('G-8 Condition Look up'!$A$3:$H$130,MATCH(F21,'G-8 Condition Look up'!$A$3:$A$130,0),MATCH(J21,'G-8 Condition Look up'!$A$3:$H$3,0)),"") | M21: =IF(L21="","",IF(VLOOKUP(L21,'G-3 Multipliers'!$L$3:$N$6,2,FALSE)=0,"Spatial Data Missing",VLOOKUP(L21,'G-3 Multipliers'!$L$3:$N$6,2,FALSE))) | N21: =IF(L21="","",IF(VLOOKUP(L21,'G-3 Multipliers'!$L$3:$N$6,3,FALSE)=0,"Spatial Data Missing",VLOOKUP(L21,'G-3 Multipliers'!$L$3:$N$6,3,FALSE))) | O21: =IFERROR(INDEX(TemporalData,MATCH(F21,TemporalHabitats,0),MATCH(J21,TemporalConditions,0)),"") | R21: =IF(E21="","",IF(AND(P21>0,Q21>0),"Error -both advance and delayed habitat creation ▲",IF(I21=0,"Standard time to target condition applied",IF(AND(J21="N/A -Agricultural",O21<=P21),"Check details - Is there evidence habitat creation in place? ⚠",IF(AND(O21<=P21,Q21=0),"Check details - Is there evidence that habitat has reached target condition? ⚠",IF(O21="","",IF(AND(P21>=AE21,P21>0),"Check details - Is there evidence habitat creation started and the threshold for Poor condition reached? ⚠",IF(Q21>0,"Check details- Delay in starting habitat in required condition? ⚠",IF(P21>0,"Check details - Is there evidence habitat creation started/in place? ⚠","Standard time to target condition applied"))))))))) | S21: =IF(R21="Error -both advance and delayed habitat creation ▲","Check Data ⚠",IF(O21="Not Possible","Check Data ⚠",IF(O21="","",IF(AND(O21="30+",P21=0),"30+",IF(AND(O21="30+",P21="30+"),0,IF(AND(O21="30+",P21<32),30-P21,IF(O21="30+",30-P21,IF(P21>O21,0,IF(Q21="30+","30+",IF(O21+Q21>30,"30+",IF(O21+Q21>30,"30+",IF(O21-P21>30,"30+",IF(O21+Q21-P21>0,O21+Q21-P21,IF(O21-P21>0,O21-P21,O21+Q21-P21)))))))))))))) | T21: =IFERROR(IF(S21="Check Data ⚠","Check Data ⚠",VLOOKUP(S21,'G-4 Temporal multipliers'!$A$4:$C$37,3,FALSE)),"") | U21: =IF(F21="","",VLOOKUP(F21,'G-3 Multipliers'!$A$2:$E$129,2,FALSE)) | V21: =IF(F21="","",IF($R21="Check details - Is there evidence that habitat has reached target condition? ⚠","Low Difficulty - only applicable if all habitat created before losses",IF($R21="Check details - Is there evidence habitat creation started and the threshold for Poor condition reached? ⚠","Enhancement difficulty applied","Standard difficulty applied"))) | W21: =IF(E21="","",IF(AND(V21="Standard difficulty applied",O21>P21),U21,IF(AND(V21="Low Difficulty - only applicable if all habitat created before losses",P21>=O21),"Low",VLOOKUP(F21,'G-3 Multipliers'!$A$2:$E$129,4,FALSE)))) | X21: =IFERROR(IF(E21="","",VLOOKUP(W21, 'G-3 Multipliers'!$P$2:$Q$6,2,FALSE)),"") | Y21: =IFERROR(G21*I21*K21*N21*T21*X21,"") | AE21: =IFERROR(INDEX(TemporalData,MATCH(F21,TemporalHabitats,0),MATCH($AE$10,TemporalConditions,0)),"")
A22: =IFERROR(INDEX('G-8 Condition Look up'!$I$4:$I$130,MATCH(F22,'G-8 Condition Look up'!$A$4:$A$130,0)),"") | C22: =IFERROR(INDEX('G-1 All Habitats'!$AG$3:$AG$15,MATCH(D22,'G-1 All Habitats'!$AF$3:$AF$15,0)),"") | F22: =IFERROR(INDEX('G-1 All Habitats'!$B$3:$B$129,MATCH(E22,'G-1 All Habitats'!$A$3:$A$129,0)),"") | H22: =IF(F22="","",VLOOKUP(F22,'G-1 All Habitats'!$B$2:$M$129,10,FALSE)) | I22: =IFERROR(VLOOKUP(H22,'G-1 All Habitats'!$V$3:$W$7,2,FALSE),"") | K22: =IFERROR(INDEX('G-8 Condition Look up'!$A$3:$H$130,MATCH(F22,'G-8 Condition Look up'!$A$3:$A$130,0),MATCH(J22,'G-8 Condition Look up'!$A$3:$H$3,0)),"") | M22: =IF(L22="","",IF(VLOOKUP(L22,'G-3 Multipliers'!$L$3:$N$6,2,FALSE)=0,"Spatial Data Missing",VLOOKUP(L22,'G-3 Multipliers'!$L$3:$N$6,2,FALSE))) | N22: =IF(L22="","",IF(VLOOKUP(L22,'G-3 Multipliers'!$L$3:$N$6,3,FALSE)=0,"Spatial Data Missing",VLOOKUP(L22,'G-3 Multipliers'!$L$3:$N$6,3,FALSE))) | O22: =IFERROR(INDEX(TemporalData,MATCH(F22,TemporalHabitats,0),MATCH(J22,TemporalConditions,0)),"") | R22: =IF(E22="","",IF(AND(P22>0,Q22>0),"Error -both advance and delayed habitat creation ▲",IF(I22=0,"Standard time to target condition applied",IF(AND(J22="N/A -Agricultural",O22<=P22),"Check details - Is there evidence habitat creation in place? ⚠",IF(AND(O22<=P22,Q22=0),"Check details - Is there evidence that habitat has reached target condition? ⚠",IF(O22="","",IF(AND(P22>=AE22,P22>0),"Check details - Is there evidence habitat creation started and the threshold for Poor condition reached? ⚠",IF(Q22>0,"Check details- Delay in starting habitat in required condition? ⚠",IF(P22>0,"Check details - Is there evidence habitat creation started/in place? ⚠","Standard time to target condition applied"))))))))) | S22: =IF(R22="Error -both advance and delayed habitat creation ▲","Check Data ⚠",IF(O22="Not Possible","Check Data ⚠",IF(O22="","",IF(AND(O22="30+",P22=0),"30+",IF(AND(O22="30+",P22="30+"),0,IF(AND(O22="30+",P22<32),30-P22,IF(O22="30+",30-P22,IF(P22>O22,0,IF(Q22="30+","30+",IF(O22+Q22>30,"30+",IF(O22+Q22>30,"30+",IF(O22-P22>30,"30+",IF(O22+Q22-P22>0,O22+Q22-P22,IF(O22-P22>0,O22-P22,O22+Q22-P22)))))))))))))) | T22: =IFERROR(IF(S22="Check Data ⚠","Check Data ⚠",VLOOKUP(S22,'G-4 Temporal multipliers'!$A$4:$C$37,3,FALSE)),"") | U22: =IF(F22="","",VLOOKUP(F22,'G-3 Multipliers'!$A$2:$E$129,2,FALSE)) | V22: =IF(F22="","",IF($R22="Check details - Is there evidence that habitat has reached target condition? ⚠","Low Difficulty - only applicable if all habitat created before losses",IF($R22="Check details - Is there evidence habitat creation started and the threshold for Poor condition reached? ⚠","Enhancement difficulty applied","Standard difficulty applied"))) | W22: =IF(E22="","",IF(AND(V22="Standard difficulty applied",O22>P22),U22,IF(AND(V22="Low Difficulty - only applicable if all habitat created before losses",P22>=O22),"Low",VLOOKUP(F22,'G-3 Multipliers'!$A$2:$E$129,4,FALSE)))) | X22: =IFERROR(IF(E22="","",VLOOKUP(W22, 'G-3 Multipliers'!$P$2:$Q$6,2,FALSE)),"") | Y22: =IFERROR(G22*I22*K22*N22*T22*X22,"") | AE22: =IFERROR(INDEX(TemporalData,MATCH(F22,TemporalHabitats,0),MATCH($AE$10,TemporalConditions,0)),"")
A23: =IFERROR(INDEX('G-8 Condition Look up'!$I$4:$I$130,MATCH(F23,'G-8 Condition Look up'!$A$4:$A$130,0)),"") | C23: =IFERROR(INDEX('G-1 All Habitats'!$AG$3:$AG$15,MATCH(D23,'G-1 All Habitats'!$AF$3:$AF$15,0)),"") | F23: =IFERROR(INDEX('G-1 All Habitats'!$B$3:$B$129,MATCH(E23,'G-1 All Habitats'!$A$3:$A$129,0)),"") | H23: =IF(F23="","",VLOOKUP(F23,'G-1 All Habitats'!$B$2:$M$129,10,FALSE)) | I23: =IFERROR(VLOOKUP(H23,'G-1 All Habitats'!$V$3:$W$7,2,FALSE),"") | K23: =IFERROR(INDEX('G-8 Condition Look up'!$A$3:$H$130,MATCH(F23,'G-8 Condition Look up'!$A$3:$A$130,0),MATCH(J23,'G-8 Condition Look up'!$A$3:$H$3,0)),"") | M23: =IF(L23="","",IF(VLOOKUP(L23,'G-3 Multipliers'!$L$3:$N$6,2,FALSE)=0,"Spatial Data Missing",VLOOKUP(L23,'G-3 Multipliers'!$L$3:$N$6,2,FALSE))) | N23: =IF(L23="","",IF(VLOOKUP(L23,'G-3 Multipliers'!$L$3:$N$6,3,FALSE)=0,"Spatial Data Missing",VLOOKUP(L23,'G-3 Multipliers'!$L$3:$N$6,3,FALSE))) | O23: =IFERROR(INDEX(TemporalData,MATCH(F23,TemporalHabitats,0),MATCH(J23,TemporalConditions,0)),"") | R23: =IF(E23="","",IF(AND(P23>0,Q23>0),"Error -both advance and delayed habitat creation ▲",IF(I23=0,"Standard time to target condition applied",IF(AND(J23="N/A -Agricultural",O23<=P23),"Check details - Is there evidence habitat creation in place? ⚠",IF(AND(O23<=P23,Q23=0),"Check details - Is there evidence that habitat has reached target condition? ⚠",IF(O23="","",IF(AND(P23>=AE23,P23>0),"Check details - Is there evidence habitat creation started and the threshold for Poor condition reached? ⚠",IF(Q23>0,"Check details- Delay in starting habitat in required condition? ⚠",IF(P23>0,"Check details - Is there evidence habitat creation started/in place? ⚠","Standard time to target condition applied"))))))))) | S23: =IF(R23="Error -both advance and delayed habitat creation ▲","Check Data ⚠",IF(O23="Not Possible","Check Data ⚠",IF(O23="","",IF(AND(O23="30+",P23=0),"30+",IF(AND(O23="30+",P23="30+"),0,IF(AND(O23="30+",P23<32),30-P23,IF(O23="30+",30-P23,IF(P23>O23,0,IF(Q23="30+","30+",IF(O23+Q23>30,"30+",IF(O23+Q23>30,"30+",IF(O23-P23>30,"30+",IF(O23+Q23-P23>0,O23+Q23-P23,IF(O23-P23>0,O23-P23,O23+Q23-P23)))))))))))))) | T23: =IFERROR(IF(S23="Check Data ⚠","Check Data ⚠",VLOOKUP(S23,'G-4 Temporal multipliers'!$A$4:$C$37,3,FALSE)),"") | U23: =IF(F23="","",VLOOKUP(F23,'G-3 Multipliers'!$A$2:$E$129,2,FALSE)) | V23: =IF(F23="","",IF($R23="Check details - Is there evidence that habitat has reached target condition? ⚠","Low Difficulty - only applicable if all habitat created before losses",IF($R23="Check details - Is there evidence habitat creation started and the threshold for Poor condition reached? ⚠","Enhancement difficulty applied","Standard difficulty applied"))) | W23: =IF(E23="","",IF(AND(V23="Standard difficulty applied",O23>P23),U23,IF(AND(V23="Low Difficulty - only applicable if all habitat created before losses",P23>=O23),"Low",VLOOKUP(F23,'G-3 Multipliers'!$A$2:$E$129,4,FALSE)))) | X23: =IFERROR(IF(E23="","",VLOOKUP(W23, 'G-3 Multipliers'!$P$2:$Q$6,2,FALSE)),"") | Y23: =IFERROR(G23*I23*K23*N23*T23*X23,"") | AE23: =IFERROR(INDEX(TemporalData,MATCH(F23,TemporalHabitats,0),MATCH($AE$10,TemporalConditions,0)),"")
A24: =IFERROR(INDEX('G-8 Condition Look up'!$I$4:$I$130,MATCH(F24,'G-8 Condition Look up'!$A$4:$A$130,0)),"") | C24: =IFERROR(INDEX('G-1 All Habitats'!$AG$3:$AG$15,MATCH(D24,'G-1 All Habitats'!$AF$3:$AF$15,0)),"") | F24: =IFERROR(INDEX('G-1 All Habitats'!$B$3:$B$129,MATCH(E24,'G-1 All Habitats'!$A$3:$A$129,0)),"") | H24: =IF(F24="","",VLOOKUP(F24,'G-1 All Habitats'!$B$2:$M$129,10,FALSE)) | I24: =IFERROR(VLOOKUP(H24,'G-1 All Habitats'!$V$3:$W$7,2,FALSE),"") | K24: =IFERROR(INDEX('G-8 Condition Look up'!$A$3:$H$130,MATCH(F24,'G-8 Condition Look up'!$A$3:$A$130,0),MATCH(J24,'G-8 Condition Look up'!$A$3:$H$3,0)),"") | M24: =IF(L24="","",IF(VLOOKUP(L24,'G-3 Multipliers'!$L$3:$N$6,2,FALSE)=0,"Spatial Data Missing",VLOOKUP(L24,'G-3 Multipliers'!$L$3:$N$6,2,FALSE))) | N24: =IF(L24="","",IF(VLOOKUP(L24,'G-3 Multipliers'!$L$3:$N$6,3,FALSE)=0,"Spatial Data Missing",VLOOKUP(L24,'G-3 Multipliers'!$L$3:$N$6,3,FALSE))) | O24: =IFERROR(INDEX(TemporalData,MATCH(F24,TemporalHabitats,0),MATCH(J24,TemporalConditions,0)),"") | R24: =IF(E24="","",IF(AND(P24>0,Q24>0),"Error -both advance and delayed habitat creation ▲",IF(I24=0,"Standard time to target condition applied",IF(AND(J24="N/A -Agricultural",O24<=P24),"Check details - Is there evidence habitat creation in place? ⚠",IF(AND(O24<=P24,Q24=0),"Check details - Is there evidence that habitat has reached target condition? ⚠",IF(O24="","",IF(AND(P24>=AE24,P24>0),"Check details - Is there evidence habitat creation started and the threshold for Poor condition reached? ⚠",IF(Q24>0,"Check details- Delay in starting habitat in required condition? ⚠",IF(P24>0,"Check details - Is there evidence habitat creation started/in place? ⚠","Standard time to target condition applied"))))))))) | S24: =IF(R24="Error -both advance and delayed habitat creation ▲","Check Data ⚠",IF(O24="Not Possible","Check Data ⚠",IF(O24="","",IF(AND(O24="30+",P24=0),"30+",IF(AND(O24="30+",P24="30+"),0,IF(AND(O24="30+",P24<32),30-P24,IF(O24="30+",30-P24,IF(P24>O24,0,IF(Q24="30+","30+",IF(O24+Q24>30,"30+",IF(O24+Q24>30,"30+",IF(O24-P24>30,"30+",IF(O24+Q24-P24>0,O24+Q24-P24,IF(O24-P24>0,O24-P24,O24+Q24-P24)))))))))))))) | T24: =IFERROR(IF(S24="Check Data ⚠","Check Data ⚠",VLOOKUP(S24,'G-4 Temporal multipliers'!$A$4:$C$37,3,FALSE)),"") | U24: =IF(F24="","",VLOOKUP(F24,'G-3 Multipliers'!$A$2:$E$129,2,FALSE)) | V24: =IF(F24="","",IF($R24="Check details - Is there evidence that habitat has reached target condition? ⚠","Low Difficulty - only applicable if all habitat created before losses",IF($R24="Check details - Is there evidence habitat creation started and the threshold for Poor condition reached? ⚠","Enhancement difficulty applied","Standard difficulty applied"))) | W24: =IF(E24="","",IF(AND(V24="Standard difficulty applied",O24>P24),U24,IF(AND(V24="Low Difficulty - only applicable if all habitat created before losses",P24>=O24),"Low",VLOOKUP(F24,'G-3 Multipliers'!$A$2:$E$129,4,FALSE)))) | X24: =IFERROR(IF(E24="","",VLOOKUP(W24, 'G-3 Multipliers'!$P$2:$Q$6,2,FALSE)),"") | Y24: =IFERROR(G24*I24*K24*N24*T24*X24,"") | AE24: =IFERROR(INDEX(TemporalData,MATCH(F24,TemporalHabitats,0),MATCH($AE$10,TemporalConditions,0)),"")
A25: =IFERROR(INDEX('G-8 Condition Look up'!$I$4:$I$130,MATCH(F25,'G-8 Condition Look up'!$A$4:$A$130,0)),"") | C25: =IFERROR(INDEX('G-1 All Habitats'!$AG$3:$AG$15,MATCH(D25,'G-1 All Habitats'!$AF$3:$AF$15,0)),"") | F25: =IFERROR(INDEX('G-1 All Habitats'!$B$3:$B$129,MATCH(E25,'G-1 All Habitats'!$A$3:$A$129,0)),"") | H25: =IF(F25="","",VLOOKUP(F25,'G-1 All Habitats'!$B$2:$M$129,10,FALSE)) | I25: =IFERROR(VLOOKUP(H25,'G-1 All Habitats'!$V$3:$W$7,2,FALSE),"") | K25: =IFERROR(INDEX('G-8 Condition Look up'!$A$3:$H$130,MATCH(F25,'G-8 Condition Look up'!$A$3:$A$130,0),MATCH(J25,'G-8 Condition Look up'!$A$3:$H$3,0)),"") | M25: =IF(L25="","",IF(VLOOKUP(L25,'G-3 Multipliers'!$L$3:$N$6,2,FALSE)=0,"Spatial Data Missing",VLOOKUP(L25,'G-3 Multipliers'!$L$3:$N$6,2,FALSE))) | N25: =IF(L25="","",IF(VLOOKUP(L25,'G-3 Multipliers'!$L$3:$N$6,3,FALSE)=0,"Spatial Data Missing",VLOOKUP(L25,'G-3 Multipliers'!$L$3:$N$6,3,FALSE))) | O25: =IFERROR(INDEX(TemporalData,MATCH(F25,TemporalHabitats,0),MATCH(J25,TemporalConditions,0)),"") | R25: =IF(E25="","",IF(AND(P25>0,Q25>0),"Error -both advance and delayed habitat creation ▲",IF(I25=0,"Standard time to target condition applied",IF(AND(J25="N/A -Agricultural",O25<=P25),"Check details - Is there evidence habitat creation in place? ⚠",IF(AND(O25<=P25,Q25=0),"Check details - Is there evidence that habitat has reached target condition? ⚠",IF(O25="","",IF(AND(P25>=AE25,P25>0),"Check details - Is there evidence habitat creation started and the threshold for Poor condition reached? ⚠",IF(Q25>0,"Check details- Delay in starting habitat in required condition? ⚠",IF(P25>0,"Check details - Is there evidence habitat creation started/in place? ⚠","Standard time to target condition applied"))))))))) | S25: =IF(R25="Error -both advance and delayed habitat creation ▲","Check Data ⚠",IF(O25="Not Possible","Check Data ⚠",IF(O25="","",IF(AND(O25="30+",P25=0),"30+",IF(AND(O25="30+",P25="30+"),0,IF(AND(O25="30+",P25<32),30-P25,IF(O25="30+",30-P25,IF(P25>O25,0,IF(Q25="30+","30+",IF(O25+Q25>30,"30+",IF(O25+Q25>30,"30+",IF(O25-P25>30,"30+",IF(O25+Q25-P25>0,O25+Q25-P25,IF(O25-P25>0,O25-P25,O25+Q25-P25)))))))))))))) | T25: =IFERROR(IF(S25="Check Data ⚠","Check Data ⚠",VLOOKUP(S25,'G-4 Temporal multipliers'!$A$4:$C$37,3,FALSE)),"") | U25: =IF(F25="","",VLOOKUP(F25,'G-3 Multipliers'!$A$2:$E$129,2,FALSE)) | V25: =IF(F25="","",IF($R25="Check details - Is there evidence that habitat has reached target condition? ⚠","Low Difficulty - only applicable if all habitat created before losses",IF($R25="Check details - Is there evidence habitat creation started and the threshold for Poor condition reached? ⚠","Enhancement difficulty applied","Standard difficulty applied"))) | W25: =IF(E25="","",IF(AND(V25="Standard difficulty applied",O25>P25),U25,IF(AND(V25="Low Difficulty - only applicable if all habitat created before losses",P25>=O25),"Low",VLOOKUP(F25,'G-3 Multipliers'!$A$2:$E$129,4,FALSE)))) | X25: =IFERROR(IF(E25="","",VLOOKUP(W25, 'G-3 Multipliers'!$P$2:$Q$6,2,FALSE)),"") | Y25: =IFERROR(G25*I25*K25*N25*T25*X25,"") | AE25: =IFERROR(INDEX(TemporalData,MATCH(F25,TemporalHabitats,0),MATCH($AE$10,TemporalConditions,0)),"")
... A256: =IFERROR(INDEX('G-8 Condition Look up'!$I$4:$I$130,MATCH(F256,'G-8 Condition Look up'!$A$4:$A$130,0)),"") | C256: =IFERROR(INDEX('G-1 All Habitats'!$AG$3:$AG$15,MATCH(D256,'G-1 All Habitats'!$AF$3:$AF$15,0)),"") | F256: =IFERROR(INDEX('G-1 All Habitats'!$B$3:$B$129,MATCH(E256,'G-1 All Habitats'!$A$3:$A$129,0)),"") | H256: =IF(F256="","",VLOOKUP(F256,'G-1 All Habitats'!$B$2:$M$129,10,FALSE)) | I256: =IFERROR(VLOOKUP(H256,'G-1 All Habitats'!$V$3:$W$7,2,FALSE),"") | K256: =IFERROR(INDEX('G-8 Condition Look up'!$A$3:$H$130,MATCH(F256,'G-8 Condition Look up'!$A$3:$A$130,0),MATCH(J256,'G-8 Condition Look up'!$A$3:$H$3,0)),"") | M256: =IF(L256="","",IF(VLOOKUP(L256,'G-3 Multipliers'!$L$3:$N$6,2,FALSE)=0,"Spatial Data Missing",VLOOKUP(L256,'G-3 Multipliers'!$L$3:$N$6,2,FALSE))) | N256: =IF(L256="","",IF(VLOOKUP(L256,'G-3 Multipliers'!$L$3:$N$6,3,FALSE)=0,"Spatial Data Missing",VLOOKUP(L256,'G-3 Multipliers'!$L$3:$N$6,3,FALSE))) | O256: =IFERROR(INDEX(TemporalData,MATCH(F256,TemporalHabitats,0),MATCH(J256,TemporalConditions,0)),"") | R256: =IF(E256="","",IF(AND(P256>0,Q256>0),"Error -both advance and delayed habitat creation ▲",IF(I256=0,"Standard time to target condition applied",IF(AND(J256="N/A -Agricultural",O256<=P256),"Check details - Is there evidence habitat creation in place? ⚠",IF(AND(O256<=P256,Q256=0),"Check details - Is there evidence that habitat has reached target condition? ⚠",IF(O256="","",IF(AND(P256>=AE256,P256>0),"Check details - Is there evidence habitat creation started and the threshold for Poor condition reached? ⚠",IF(Q256>0,"Check details- Delay in starting habitat in required condition? ⚠",IF(P256>0,"Check details - Is there evidence habitat creation started/in place? ⚠","Standard time to target condition applied"))))))))) | S256: =IF(R256="Error -both advance and delayed habitat creation ▲","Check Data ⚠",IF(O256="Not Possible","Check Data ⚠",IF(O256="","",IF(AND(O256="30+",P256=0),"30+",IF(AND(O256="30+",P256="30+"),0,IF(AND(O256="30+",P256<32),30-P256,IF(O256="30+",30-P256,IF(P256>O256,0,IF(Q256="30+","30+",IF(O256+Q256>30,"30+",IF(O256+Q256>30,"30+",IF(O256-P256>30,"30+",IF(O256+Q256-P256>0,O256+Q256-P256,IF(O256-P256>0,O256-P256,O256+Q256-P256)))))))))))))) | T256: =IFERROR(IF(S256="Check Data ⚠","Check Data ⚠",VLOOKUP(S256,'G-4 Temporal multipliers'!$A$4:$C$37,3,FALSE)),"") | U256: =IF(F256="","",VLOOKUP(F256,'G-3 Multipliers'!$A$2:$E$129,2,FALSE)) | V256: =IF(F256="","",IF($R256="Check details - Is there evidence that habitat has reached target condition? ⚠","Low Difficulty - only applicable if all habitat created before losses",IF($R256="Check details - Is there evidence habitat creation started and the threshold for Poor condition reached? ⚠","Enhancement difficulty applied","Standard difficulty applied"))) | W256: =IF(E256="","",IF(AND(V256="Standard difficulty applied",O256>P256),U256,IF(AND(V256="Low Difficulty - only applicable if all habitat created before losses",P256>=O256),"Low",VLOOKUP(F256,'G-3 Multipliers'!$A$2:$E$129,4,FALSE)))) | X256: =IFERROR(IF(E256="","",VLOOKUP(W256, 'G-3 Multipliers'!$P$2:$Q$6,2,FALSE)),"") | Y256: =IFERROR(G256*I256*K256*N256*T256*X256,"") | AE256: =IFERROR(INDEX(TemporalData,MATCH(F256,TemporalHabitats,0),MATCH($AE$10,TemporalConditions,0)),"")
E257: Total habitat area | F257: Totals | G257: =SUM(G11:G256) -> 0.6264248 | X257: Total Units | Y257: =SUM(Y11:Y256) -> 0.66560178
E259: Site Area (Excluding area of Urban trees and Green walls) | G259: =IF('Detailed Results'!$K$40>0,"Error",SUMIFS($G$11:$G$256,$F$11:$F$256,"<>"&'G-1 All Habitats'!B73,$F$11:$F$256,"<>"&'G-1 All Habitats'!B65,$F$11:$F$256,"<>"&'G-1 All Habitats'!B66)) -> 0.4433

Sheet A-3 Site Habitat Enhancement
E2: =IF(Start!$F$12="","",Start!$F$12) | AD2: =IF(OR(COUNTIF($AD$12:AD257,"*30+*")>0,COUNTIF(AH12:AH257,"*30+*")>0),"Note; Habitat selected has a time to target condition greater than 30 years. Non standard agreement may be required.","")
E3: =MID(CELL("filename",D1),FIND("]",CELL("filename",D1))+1,256) -> A-3 Site Habitat Enhancement
H4: =IF(G4="","",IF(ISNA(VLOOKUP($E4,'A-1 Site Habitat Baseline'!$D$1:$O$258,3,FALSE)),"",(VLOOKUP($E4,'A-1 Site Habitat Baseline'!$D$1:$O$258,3,FALSE))))
AD5: =IF(Q12<>A12,"Change in broad habitat type detected. Check compliance with guidance.","")
Q9: Post development/ post intervention habitats
F10: Baseline habitats | Q10: Proposed Habitat (Pre-populated but can be overridden) | T10: Change in distinctiveness and condition | V10: Area (hectares) | W10: Distinctiveness | X10: Score | Y10: Condition | Z10: Score | AA10: Strategic significance | AD10: Temporal risk multiplier | AJ10: Difficulty risk multipliers | AN10: Habitat units delivered | AO10: Comments
A11: Broad Habitat | B11: Habitat | C11: Condition Group | E11: Baseline ref | F11: Baseline habitat | G11: Total habitat area (hectares) | H11: Baseline distinctiveness band | I11: Baseline distinctiveness score | J11: Baseline condition category | K11: Baseline condition score | L11: Baseline strategic significance category | M11: Baseline strategic significance score | N11: Baseline habitat units | O11: Suggested action to address habitat losses | P11: Conditional Data Validation lookup | Q11: Proposed Broad Habitat | R11: Proposed habitat | S11: Proposed habitat | T11: Distinctiveness change | U11: Condition change | AA11: Strategic significance | AB11: Strategic significance | AC11: Strategic position multiplier | AD11: Standard time to target condition/years | AE11: Habitat enhanced in advance/years | AF11: Delay in starting habitat enhancement/years | AG11: Standard or adjusted time to target condition | AH11: Final time to target condition/years | AI11: Final time to target multiplier | AJ11: Standard difficulty of enhancement | AK11: Applied difficulty multiplier | AL11: Final difficulty of enhancement | AM11: Difficulty multiplier applied | AO11: Assessor comments | AP11: Reviewer comments
