Workbook

Sheet Cover Sheet
D1: Highways PMO
A4: Introduction
A5: This document is based on Manchester City Council's PEP process and is designed to manage the establishment, development and approval of Highways schemes to ensure the identified objectives at inception are monitored through delivery and achieved at completion.
A8: How to use this document:
A9: The spreadsheet contains various tabs: PEP 1 - Agreed Brief - to provide sufficient information to enable the scheme to be progressed PEP 2 - Design and Delivery - to provide sufficient information to enable the scheme to be designed and delivered Customer Satisfaction - To be completed by the client at the handover of the project
A16: Version Control
A18: Author and comments | K18: Version No. | M18: Status | O18: Date
A19: Ben Walker - Final version | K19: 2 | M19: Issued
A23: Document Control
A24: The controlled copy of this document is maintained by the Project Manager and Highways PMO. Any copies of this document held outside that area, in whatever format (e.g. Email attachment, paper) are considered to have passed out of control and should be checked for currency and validity.

Sheet PEP 1 - Agreed Brief
A1: Project Management Plan - Stage 1
A2: Minor Works Client Brief & Project Parameters
A4: Client Team Officer | B4: Emma Todd
A6: SRO Name & Contact
A8: Requestee name, address and contact details | B8: Regina Khanum Senior Project Manager Housing and Residential Growth Growth and Development Directorate Mobile: 07966382267 Email: r.khanum@manchester.gov.uk
A10: Project Name / Reference | B10: Smallwood Street Parking Bays
A12: SAP Code if identified
A14: 1. Commission Assessment
A16: If this commission is for Feasibility please complete section 1A. If this commission if for Works please complete section 1B.
A17: 1A. Feasibility
A18: Please identify any surveys needed to inform this feasibility assessment | B18: Yes
A20: 1B. Works
A21: Is a programme required for the works? | B21: Yes
A22: Is a cost plan required for the works? | B22: Yes
A24: 2. Background
A26: Background to project
A27: This scheme is part of a project to bring back into use a long-term brownfield site to build residential houses and apartments. One of the planning conditions is to develop a car parking strategy for the nearby District Centre to ensure there is sufficient parking for shoppers. There will be 100% parking for all the houses and 50% parking for the apartments as approved by Planning. The current parking bays on Smallwood Street will be removed as a result of the development and the developer widening the footway to cover the existing parking. The existing parking is not part of the adopted highway so in essence although it is owned by the council, it is not owned by Highways. A S247 (stopping up of highway) has been made (see Appendix Two) A S278 agreement is also to be agreed and the scope of the works has not yet been agreed with Rowlinson Constructions Limited. 10.05.22: S278 scope of works now agreed - see S278 folder. Neither schemes should impact each other.
A29: Objectives of or reasons for project
A30: To provide disabled parking and loading bays for the shops on Smallwood Street and parking bays on the MCC owned piece of land
A32: Project Scope and Exclusions
A33: Design Team to design and carry out the delegated power reports necessary to implement 7 short stay parking bays consisting of 2 disabled parking bays and 5 loading bays for the shops on Smallwood Street and the associated TRO (see Appendix One) Also to design and carry out the delegated power reports necessary to implement parking bays on the highlighted piece of MCC owned land that runs parallel to Great Newton Street and behind Newton Heath Working Men's Club (on the sandy coloured section above and to the right of F7622 highlighted in yellow - see Appendix Three) Design to advise how many bays are achievable. Also to advise if introducing a one way system on Smallwood Street as per Appendix One would be necessary.
A36: 3. Project Parameters
A39: Budget and how this is accessed | B39: Internal capital funding -CP4 approved for the overall project. Costings are needed to understand if the contingency/ provisional sum will cover the works, or if a further request is required.
A41: Specific benefits/ outcomes | B41: As above.
A43: Environmental targets (inc low Carbon) | B43: NA
A45: Social value targets (see Social Value process Map) | B45: 1. Highways have made significant improvements with embedding social value into the service and ensuring that all active contracts now have social value commitments within them. 2. Social Value opportunities are to be identified via the Neighbourhood priority list and delivered once the supplier is appointed - Jess Conley in Highways can support with this. 3. Having a Social Value agreement in place is a formal requirement and it is up to the supplier to decide what activities they will endeavour to deliver, however they should adhere to the MCC and GMCA priorities listed below: · Provide the best employment you can · Keep the clean air in Manchester · Create the employment and skills opportunities that we need to build back better · Be part of a strong local community · Make your organisation greener · Develop a local GM based and resilient supply chain
A47: 4. Project Risks
A49: RISKS | B49: Commentary/ cost/ time/ mitigation/ project effect
B50: The Client may ask the Contractor leading on the overall development to deliver the works Client wishes to understand costs to support with relase of Planning condition.
A52: 5. Reports
A54: Confirm which approval reports will be required (white, green etc) | B54: White Report Green Report Yellow Report (if applicable) TMU Report
A56: 6 Agreement of brief
A58: Client Team Officer | B58: =+B4 -> Emma Todd
A60: SRO Name & Contact | B60: =+B6 -> 0
A62: Highways Team Leader
A64: Project Name/ Reference | B64: =+B10 -> Smallwood Street Parking Bays
A66: I agree that the above brief has been presented and agreed as appropriate for the development of this project.
A69: Head of Network Management signature & date *Clare Palmer to approve schemes under £50k* | B69: C. A. Palmer 16.05.22.

Sheet PEP 2 -Design + Delivery
A1: Project Management Plan - Stage 2
A2: Minor Works Design and Delivery
A3: Client Team Officer | C3: =+'PEP 1 - Agreed Brief'!B4 -> Emma Todd
A5: SRO Name & Contact | C5: =+'PEP 1 - Agreed Brief'!B6 -> 0
A7: Requestee name, address and contact details | C7: 0
A9: Project Name / Reference | C9: =+'PEP 1 - Agreed Brief'!B10 -> Smallwood Street Parking Bays
A11: SAP Code if identified | C11: =+'PEP 1 - Agreed Brief'!B12 -> 0
A13: Highways Project Manager
A15: Cost Manager
A17: Design Lead | C17: Yogeshwari Patel
A19: P6 Code
A21: 1. Strategy & Brief - (summary from agreed brief)
A23: 1.1 Background to project (imported from previous sheet)
A24: ='PEP 1 - Agreed Brief'!A27:B27 -> This scheme is part of a project to bring back into use a long-term brownfield site to build residential houses and apartments. One of the planning conditions is to develop a car parking strategy for the nearby District Centre to ensure there is sufficient parking for shoppers. There will be 100% parking for all the houses and 50% parking for the apartments as approved by Planning. The current parking bays on Smallwood Street will be removed as a result of the development and the developer widening the footway to cover the existing parking. The existing parking is not part of the adopted highway so in essence although it is owned by the council, it is not owned by Highways. A S247 (stopping up of highway) has been made (see Appendix Two) A S278 agreement is also to be agreed and the scope of the works has not yet been agreed with Rowlinson Constructions Limited. 10.05.22: S278 scope of works now agreed - see S278 folder. Neither schemes should impact each other.
A26: 1.2 Site considerations
A27: Description of site, any necessary plans, any site constraints etc
A29: 1.3 Project objectives (imported from previous sheet)
A30: ='PEP 1 - Agreed Brief'!A30:B30 -> To provide disabled parking and loading bays for the shops on Smallwood Street and parking bays on the MCC owned piece of land
A32: 2. Financial Position
A34: 2.1 Project Budget
A38: 3. Schedule
A39: Activity Name | D39: Start Date | E39: Finish Date | H39: Keep (Y/N)
A40: Initiate Project | D40: 44655 | E40: =D40+7 -> 44662 | H40: Y
A41: Outline Design / Design Check | D41: =D40+60 -> 44715 | E41: =D41+14 -> 44729 | H41: Y
A42: Checkpoint Business Case | H42: N
A43: Checkpoint 1 and 2 | H43: N
A44: White Report - Approval to Consult | D44: =D41+3 -> 44718 | E44: =D44+21 -> 44739 | H44: Y
A45: Consultations | D45: =D44+3 -> 44721 | E45: =D45+21 -> 44742 | H45: Y
A46: Detailed Design | D46: =E45+3 -> 44745 | E46: =D46+28 -> 44773 | H46: Y
A47: Green Report | D47: =D46 -> 44745 | E47: =D47+42 -> 44787 | H47: Y
A48: Checkpoint 4 | H48: N
A49: Design Complete & Issued as Final / Design Approved | E49: =E47 -> 44787 | H49: Y
A50: Legal | D50: =E47 -> 44787 | E50: =D50+60 -> 44847 | H50: Y
A51: Yellow Report - If Objections | H51: N
A52: Purchase Order Raised / Contract Award | H52: N
A53: Mobilisation | H53: N | J53: Auto-populated by Contract Award and Start on Site dates.
A54: Permit Application - 3 month | H54: N | J54: Auto-populated by Start on Site date.
A55: Permit Application - 10 days | H55: N | J55: Auto-populated by Start on Site date.
A56: Start On Site | H56: N
A57: Construction / Surveys / Studies | H57: N | J57: Auto-populated by Start on Site and Handover dates.
...

Sheet Customer Survey
A1: Highways
A3: Client Satisfaction Survey
A5: We appreciate your time in giving feedback on how Highways have provided support to you as a client and implemented your project. Please could you give some simple feedback below on your recent project.
A7: Project
A8: Client contact name
A9: Date of survey
A11: Please rate on a scale of 0 to 5 - where 0 is POOR and 5 is EXCEPTIONAL - the service provided at different phases of the project.
A14: Project delivery - how did Highways perform in the delivery of this project?
C15: N/a | D15: 0 | E15: 1 | F15: 2 | G15: 3 | H15: 4 | I15: 5
A16: Please tick as appropriate
A17: Positive feedback
A18: Negative feedback
A20: Handover and close - how well did the Highways manage the completion and handover to you?
C21: N/a | D21: 0 | E21: 1 | F21: 2 | G21: 3 | H21: 4 | I21: 5
A22: Please tick as appropriate
A23: Positive feedback
A24: Negative feedback
A27: Please provide any additional feedback below:
